{"text_format":"3","workbook":"xlsx","n_sheets":34,"sheets":["EF","Validacion","Balanza","F3","F7","F9-IDP","F9-EDP","F9-IAO","F10","F11","F13","F18","F18A","F19A","F21","F22","F23","F1","F1A","F1LDF","F6","F6A","F2","F4A1","F4A2","F5","F7A","F7B","F8","F8B","F12","F16","F17","F19"],"not_rendered":{"macros":1,"external_links":1,"defined_names":23},"read":"whole","date_system":"1900"}

{"sheet":"EF","index":0,"n_rows":112,"n_cols":9,"rows_kept":112,"hidden":true}
["Fin","Función","Sub-función","Dimención del indicador","Tipo","Tipo de programa","Frecuencia","Tipo de indicador","Nivel de MIR"]
["1. Gobierno","1.1. Legislación","1.1.1 Legislación","Eficacia","Estatégico","MIR","Mensual","Cantidad","FIN"]
["1. Gobierno","1.1. Legislación","1.1.2 Fiscalización","Eficiencia","Gestión","Indicador de gestión","Bimestral","Porcentaje","PROPÓSITO"]
["1. Gobierno","1.2. Justicia","1.2.1 Impartición de justicia","Econocmía",null,null,"Trimestral","Tasa","COMPONENTE"]
["1. Gobierno","1.2. Justicia","1.2.2 Procuración de justicia","Calidad",null,null,"Cuatrimestral","Razón","ACTIVIDAD"]
["1. Gobierno","1.2. Justicia","1.2.3 Reclusión y readaptación social",{"$nulls":3},"Semestral","Promedio","INDICADOR DE GESTIÓN"]
["1. Gobierno","1.2. Justicia","1.2.4 Derechos humanos",{"$nulls":3},"Anual","Tasa de variación"]
["1. Gobierno","1.3. Coordinación política de gobierno","1.3.1 Presidencia / Gubernatura",{"$nulls":3},"Bienal"]
["1. Gobierno","1.3. Coordinación política de gobierno","1.3.2 Política interior"]
["1. Gobierno","1.3. Coordinación política de gobierno","1.3.3 Preservación y cuidado del patrimonio público"]
["1. Gobierno","1.3. Coordinación política de gobierno","1.3.4 Función pública"]
["1. Gobierno","1.3. Coordinación política de gobierno","1.3.5 Asuntos jurídicos"]
["1. Gobierno","1.3. Coordinación política de gobierno","1.3.6 Organización de procesos electorales"]
["1. Gobierno","1.3. Coordinación política de gobierno","1.3.7 Población"]
["1. Gobierno","1.3. Coordinación política de gobierno","1.3.8 Territorio"]
["1. Gobierno","1.3. Coordinación política de gobierno","1.3.9 Otros"]
["1. Gobierno","1.4. Relaciones exteriores","1.4.1 Relaciones exteriores"]
["1. Gobierno","1.5. Asuntos financieros y hacendarios","1.5.1 Asuntos financieros"]
["1. Gobierno","1.5. Asuntos financieros y hacendarios","1.5.2 Asuntos hacendarios"]
["1. Gobierno","1.6 Seguridad nacional","1.6.1 Defensa"]
["1. Gobierno","1.6 Seguridad nacional","1.6.2 Marina"]
["1. Gobierno","1.6 Seguridad nacional","1.6.3 Inteligencia para la preservación de la seguridad nacional"]
["1. Gobierno","1.7. Asuntos de orden público y seguridad interior","1.7.1 Policía"]
["1. Gobierno","1.7. Asuntos de orden público y seguridad interior","1.7.2 Protección civil"]
["1. Gobierno","1.7. Asuntos de orden público y seguridad interior","1.7.3 Otros asuntos de orden público y seguridad"]
["1. Gobierno","1.7. Asuntos de orden público y seguridad interior","1.7.4 Sistema nacional de seguridad pública"]
["1. Gobierno","1.8. Otros servicios generales","1.8.1 Servicios registrales, administrativos y patrimoniales"]
["1. Gobierno","1.8. Otros servicios generales","1.8.2 Servicios estadísticos"]
["1. Gobierno","1.8. Otros servicios generales","1.8.3 Servicios de comunicación y medios"]
["1. Gobierno","1.8. Otros servicios generales","1.8.4 Acceso a la información pública gubernamental"]
["1. Gobierno","1.8. Otros servicios generales","1.8.5 Otros"]
["2. Desarrollo social","2.1. Protección ambiental","2.1.1 Ordenación de desechos"]
["2. Desarrollo social","2.1. Protección ambiental","2.1.2 Administración del agua"]
["2. Desarrollo social","2.1. Protección ambiental","2.1.3 Ordenación de aguas residuales, drenaje y alcantarillado"]
["2. Desarrollo social","2.1. Protección ambiental","2.1.4 Reducción de la contaminación"]
["2. Desarrollo social","2.1. Protección ambiental","2.1.5 Protección de la diversidad biológica y del paisaje"]
["2. Desarrollo social","2.1. Protección ambiental","2.1.6 Otros de protección ambiental"]
["2. Desarrollo social","2.2. Vivienda y servicios a la comunidad","2.2.1 Urbanización"]
["2. Desarrollo social","2.2. Vivienda y servicios a la comunidad","2.2.2 Desarrollo comunitario"]
["2. Desarrollo social","2.2. Vivienda y servicios a la comunidad","2.2.3 Abastecimiento de agua"]
["2. Desarrollo social","2.2. Vivienda y servicios a la comunidad","2.2.4 Alumbrado público"]
["2. Desarrollo social","2.2. Vivienda y servicios a la comunidad","2.2.5 Vivienda"]
["2. Desarrollo social","2.2. Vivienda y servicios a la comunidad","2.2.6 Servicios comunales"]
["2. Desarrollo social","2.2. Vivienda y servicios a la comunidad","2.2.7 Desarrollo regional"]
["2. Desarrollo social","2.3. Salud","2.3.1 Prestación de servicios de aalud a la comunidad"]
["2. Desarrollo social","2.3. Salud","2.3.2 Prestación de servicios de salud a la persona"]
["2. Desarrollo social","2.3. Salud","2.3.3 Generación de recursos para la salud"]
["2. Desarrollo social","2.3. Salud","2.3.4 Rectoría del sistema de salud"]
["2. Desarrollo social","2.3. Salud","2.3.5 Protección social en salud"]
["2. Desarrollo social","2.4. Recreación cultura y otras manifestaciones sociales","2.4.1 Deporte y recreación"]
["2. Desarrollo social","2.4. Recreación cultura y otras manifestaciones sociales","2.4.2 Cultura"]
["2. Desarrollo social","2.4. Recreación cultura y otras manifestaciones sociales","2.4.3 Radio, televisión y editoriales"]
["2. Desarrollo social","2.4. Recreación cultura y otras manifestaciones sociales","2.4.4 Asuntos religiosos y otras manifestaciones sociales"]
["2. Desarrollo social","2.5. Educación","2.5.1 Educación básica"]
["2. Desarrollo social","2.5. Educación","2.5.2 Educación media superior"]
["2. Desarrollo social","2.5. Educación","2.5.3 Educación superior"]
["2. Desarrollo social","2.5. Educación","2.5.4 Posgrado"]
["2. Desarrollo social","2.5. Educación","2.5.5 Educación para adultos"]
["2. Desarrollo social","2.5. Educación","2.5.6 Otros servicios educativos y actividades inherentes"]
["2. Desarrollo social","2.6. Protección social","2.6.1 Enfermedad e incapacidad"]
["2. Desarrollo social","2.6. Protección social","2.6.2 Edad avanzada"]
["2. Desarrollo social","2.6. Protección social","2.6.3 Familia e hijos"]
["2. Desarrollo social","2.6. Protección social","2.6.4 Desempleo"]
["2. Desarrollo social","2.6. Protección social","2.6.5 Alimentación y nutrición"]
["2. Desarrollo social","2.6. Protección social","2.6.6 Apoyo social para la vivienda"]
["2. Desarrollo social","2.6. Protección social","2.6.7 Indígenas"]
["2. Desarrollo social","2.6. Protección social","2.6.8 Otros grupos vulnerables"]
["2. Desarrollo social","2.6. Protección social","2.6.9 Otros de seguridad social y asistencia social"]
["2. Desarrollo social","2.7. Otros asuntos sociales","2.7.1 Otros asuntos sociales"]
["3. Desarrollo económico","3.1. Asuntos económicos comerciales y laborales generales","3.1.1 Asuntos económicos y comerciales en general"]
["3. Desarrollo económico","3.1. Asuntos económicos comerciales y laborales generales","3.1.2 Asuntos laborales generales"]
["3. Desarrollo económico","3.2. Agropecuaria silvicultura pesca y caza","3.2.1 Agropecuaria"]
["3. Desarrollo económico","3.2. Agropecuaria silvicultura pesca y caza","3.2.2 Silvicultura"]
["3. Desarrollo económico","3.2. Agropecuaria silvicultura pesca y caza","3.2.3 Acuacultura, pesca y caza"]
["3. Desarrollo económico","3.2. Agropecuaria silvicultura pesca y caza","3.2.4 Agroindustrial"]
["3. Desarrollo económico","3.2. Agropecuaria silvicultura pesca y caza","3.2.5 Hidroagrícola"]
["3. Desarrollo económico","3.2. Agropecuaria silvicultura pesca y caza","3.2.6 Apoyo financiero a la banca y seguro agropecuario"]
["3. Desarrollo económico","3.3. Combustibles y energía","3.3.1 Carbón y otros combustibles minerales sólidos"]
["3. Desarrollo económico","3.3. Combustibles y energía","3.3.2 Petróleo y gas natural (Hidrocarburos)"]
["3. Desarrollo económico","3.3. Combustibles y energía","3.3.3 Combustibles nucleares"]
["3. Desarrollo económico","3.3. Combustibles y energía","3.3.4 Otros combustibles"]
["3. Desarrollo económico","3.3. Combustibles y energía","3.3.5 Electricidad"]
["3. Desarrollo económico","3.3. Combustibles y energía","3.3.6 Energía no eléctrica"]
["3. Desarrollo económico","3.4. Minería manufacturas y construcción","3.4.1 Extracción de recursos minerales excepto los combustibles minerales"]
["3. Desarrollo económico","3.4. Minería manufacturas y construcción","3.4.2 Manufacturas"]
["3. Desarrollo económico","3.4. Minería manufacturas y construcción","3.4.3 Construcción"]
["3. Desarrollo económico","3.5. Transporte","3.5.1 Transporte por carretera"]
["3. Desarrollo económico","3.5. Transporte","3.5.2 Transporte por agua y puertos"]
["3. Desarrollo económico","3.5. Transporte","3.5.3 Transporte por ferrocarril"]
["3. Desarrollo económico","3.5. Transporte","3.5.4 Transporte aéreo"]
["3. Desarrollo económico","3.5. Transporte","3.5.5 Transporte por oleoductos y gasoductos y otros sistemas de transporte"]
["3. Desarrollo económico","3.5. Transporte","3.5.6 Otros relacionados con transporte"]
["3. Desarrollo económico","3.6. Comunicaciones","3.6.1 Comunicaciones"]
["3. Desarrollo económico","3.7. Turismo","3.7.1 Turismo"]
["3. Desarrollo económico","3.7. Turismo","3.7.2 Hoteles y restaurantes"]
["3. Desarrollo económico","3.8. Ciencia tecnología e innovación","3.8.1 Investigación científica"]
["3. Desarrollo económico","3.8. Ciencia tecnología e innovación","3.8.2 Desarrollo tecnológico"]
["3. Desarrollo económico","3.8. Ciencia tecnología e innovación","3.8.3 Servicios científicos y tecnológicos"]
["3. Desarrollo económico","3.8. Ciencia tecnología e innovación","3.8.4 Innovación"]
["3. Desarrollo económico","3.9. Otras industrias y otros asuntos económicos","3.9.1 Comercio, distribución, almacenamiento y depósito"]
["3. Desarrollo económico","3.9. Otras industrias y otros asuntos económicos","3.9.2 Otras industrias"]
["3. Desarrollo económico","3.9. Otras industrias y otros asuntos económicos","3.9.3 Otros asuntos económicos"]
["4. Otros no clasificadas en funciones anteriores","4.1. Transacciones de la deuda financiera y costo financiero deuda","4.1.1 Deuda pública interna"]
["4. Otros no clasificadas en funciones anteriores","4.1. Transacciones de la deuda financiera y costo financiero deuda","4.1.2 Deuda pública externa"]
["4. Otros no clasificadas en funciones anteriores","4.2. Transferencias, participaciones y aportaciones entre diferentes niveles y ordenes de gobierno","4.2.1 Transferencias entre diferentes niveles y ordenes de gobierno"]
["4. Otros no clasificadas en funciones anteriores","4.2. Transferencias, participaciones y aportaciones entre diferentes niveles y ordenes de gobierno","4.2.2 Participaciones entre diferentes niveles y ordenes de gobierno"]
["4. Otros no clasificadas en funciones anteriores","4.2. Transferencias, participaciones y aportaciones entre diferentes niveles y ordenes de gobierno","4.2.3 Aportaciones entre diferentes niveles y ordenes de gobierno"]
["4. Otros no clasificadas en funciones anteriores","4.3. Saneamiento del sistema financiero","4.3.1 Saneamiento del sistema financiero"]
["4. Otros no clasificadas en funciones anteriores","4.3. Saneamiento del sistema financiero","4.3.2 Apoyos IPAB"]
["4. Otros no clasificadas en funciones anteriores","4.3. Saneamiento del sistema financiero","4.3.3 Banca de desarrollo"]
["4. Otros no clasificadas en funciones anteriores","4.3. Saneamiento del sistema financiero","4.3.4 Apoyo a los programas de reestructura en unidades de inversión (UDIS)"]
["4. Otros no clasificadas en funciones anteriores","4.4. Adeudos de ejercicios fiscales anteriores","4.4.1 Adeudos de ejercicios fiscales anteriores"]

{"sheet":"Validacion","index":1,"n_rows":567,"n_cols":39,"rows_kept":567,"hidden":true,"merged":[[0,0,0,31],[0,32,0,39],[1,0,3,39],[4,0,4,39],[5,0,5,39],[6,0,6,39],[7,0,7,39],[8,0,8,39],[9,0,9,39],[10,0,10,37],[10,38,10,39],[11,0,11,39],[47,0,47,39],[48,0,48,11],[48,12,48,23],[48,24,48,39],[49,0,49,11],[49,12,49,23],[49,24,49,39],[50,0,50,11],[50,12,50,23],[50,24,50,39],[51,0,51,11],[51,12,51,23],[51,24,51,39],[52,0,52,11],[52,12,52,23],[52,24,52,39],[53,0,53,11],[53,12,53,23],[53,24,53,39],[54,0,54,11],[54,12,54,23],[54,24,54,39],[55,0,55,5],[55,6,55,11],[55,12,55,17],[55,18,55,23],[55,24,55,39],[56,0,56,5],[56,6,56,11],[56,12,57,17],[56,18,56,23],[56,24,56,39],[57,0,57,5],[57,6,57,11],[57,18,57,23],[57,24,57,39],[58,0,58,5],[58,6,58,11],[58,12,59,17],[58,18,58,23],[58,24,58,39],[59,0,59,5],[59,6,59,11],[59,18,59,23],[59,24,59,39],[60,0,60,5],[60,6,60,11],[60,12,61,17],[60,18,60,23],[60,24,60,39],[61,0,61,5],[61,6,61,11],[61,18,61,23],[61,24,61,39],[62,0,62,39],[63,0,65,1],[63,2,63,39],[64,2,64,39],[65,2,65,39],[66,0,68,1],[66,2,66,39],[67,2,67,39],[68,2,68,39],[69,0,71,1],[69,2,69,39],[70,2,70,39],[71,2,71,39],[72,0,75,1],[72,2,72,39],[73,2,73,39],[74,2,74,39],[75,2,75,39],[76,0,80,1],[76,2,76,39],[77,2,77,39],[78,2,78,39],[79,2,79,39],[80,2,80,39],[81,0,90,1],[81,2,81,39],[82,2,82,39],[83,2,83,39],[84,2,84,39],[85,2,85,39],[86,2,86,39],[87,2,87,39],[88,2,88,39],[89,2,89,39],[90,2,90,39],[91,0,95,1],[91,2,91,39],[92,2,92,39],[93,2,93,39],[94,2,94,39],[95,2,95,39],[96,0,99,1],[96,2,96,39],[97,2,97,39],[98,2,98,39],[99,2,99,39],[100,0,102,1],[100,2,100,39],[101,2,101,39],[102,2,102,39],[103,0,105,1],[103,2,103,39],[104,2,104,39],[105,2,105,39],[106,0,116,1],[106,2,106,39],[107,2,107,39],[108,2,108,39],[109,2,109,39],[110,2,110,39],[111,2,111,39],[112,2,112,39],[113,2,113,39],[114,2,114,39],[115,2,115,39],[116,2,116,39],[117,0,122,1],[117,2,117,39],[118,2,118,39],[119,2,119,39],[120,2,120,39],[121,2,121,39],[122,2,122,39],[123,0,130,1],[123,2,123,39],[124,2,124,39],[125,2,125,39],[126,2,126,39],[127,2,127,39],[128,2,128,39],[129,2,129,39],[130,2,130,39],[131,0,134,1],[131,2,131,39],[132,2,132,39],[133,2,133,39],[134,2,134,39],[135,0,146,1],[135,2,135,39],[136,2,136,39],[137,2,137,39],[138,2,138,39],[139,2,139,39],[140,2,140,39],[141,2,141,39],[142,2,142,39],[143,2,143,39],[144,2,144,39],[145,2,145,39],[146,2,146,39],[147,0,158,1],[147,2,147,39],[148,2,148,39],[149,2,149,39],[150,2,150,39],[151,2,151,39],[152,2,152,39],[153,2,153,39],[154,2,154,39],[155,2,155,39],[156,2,156,39],[157,2,157,39],[158,2,158,39],[159,0,164,1],[159,2,159,39],[160,2,160,39],[161,2,161,39],[162,2,162,39],[163,2,163,39],[164,2,164,39],[165,0,182,1],[165,2,165,39],[166,2,166,39],[167,2,167,39],[168,2,168,39],[169,2,169,39],[170,2,170,39],[171,2,171,39],[172,2,172,39],[173,2,173,39],[174,2,174,39],[175,2,175,39],[176,2,176,39],[177,2,177,39],[178,2,178,39],[179,2,179,39],[180,2,180,39],[181,2,181,39],[182,2,182,39]]}
["NOMBRE DEL ENTE PÚBLICO",{"$nulls":31},{"$f":"\"Versión \"&F185&\".01\"","v":"Versión 2026.01"}]
["Ixtlahuacán de los Membrillos"]
[]
[]
["INFORMACIÓN"]
["Nombre del presidente municipal o titular de la entidad pública"]
["LIC. JOSE HERIBERTO GARCIA MURILLO"]
["Nombre del encargado de la hacienda pública o finanzas de la entidad pública"]
["LAE BRUNO GERMAN ENCISO GUILLEN"]
["Mes o corte a informar"]
["ENERO",{"$nulls":37},{"$f":"IF(A11=\"ENERO\",1,IF(A11=\"FEBRERO\",2,IF(A11=\"MARZO\",3,IF(A11=\"ABRIL\",4,IF(A11=\"MAYO\",5,IF(A11=\"JUNIO, 1er. Informe de Avance de Gestión Financiera y Corte Semestral\",6,IF(A11=\"JULIO\",7,IF(A11=\"AGOSTO\",8,IF(A11=\"SEPTIEMBRE\",9,IF(A11=\"OCTUBRE\",10,IF(A11=\"NOVIEMBRE\",11,IF(A11=\"DICIEMBRE, 2do. Informe de Avance de Gestión Financiera y Corte Anual\",12,\"\"))))))))))))","v":1}]
["VERIFICACIÓN DE ESTADOS E INFORMES FINANCIEROS"]
["Estados e informes contables:"]
[{"$f":"IF(AM14=1,\"\",IF(ROUND(SUM($A$50:$L$52),2)>0,IF(ROUND(($M$50),2)=ROUND(($M$51+$M$52),2),IF(ROUND($A$50,2)=ROUND(($A$51+$A$52),2),\"X\",\"\"),\"\"),\"\"))","v":"X"},"Estado de situación financiera (F1A)",{"$nulls":36},{"$f":"IF(AND($C$64=\"\", $C$65=\"\", $C$66=\"\",$C$67=\"\",$C$68=\"\",$C$69=\"\",$C$73=\"\", $C$74=\"\", $C$75=\"\",$C$76=\"\"),\"\",1)","v":""}]
[{"$f":"IF(AM15=1,\"\",IF(ROUND('F2'!$G$33,2)=0,\"\",\"X\"))","v":"X"},"Estado de variación de la hacienda pública (F2)",{"$nulls":36},{"$f":"IF(AND($C$64=\"\", $C$65=\"\", $C$66=\"\",$C$67=\"\",$C$68=\"\",$C$69=\"\",$C$77=\"\", $C$78=\"\", $C$79=\"\",$C$80=\"\",$C$81=\"\"),\"\",1)","v":""}]
[{"$f":"IF(AM16=1,\"\",IF(ROUND('F3'!$F$60,2)<>0,\"X\",\"\"))","v":""},"Estado de flujo de efectivo (F3)",{"$nulls":36},{"$f":"IF(AND($C$64=\"\", $C$65=\"\", $C$66=\"\",$C$67=\"\",$C$68=\"\",$C$69=\"\",$C$101=\"\", $C$102=\"\", $C$103=\"\"),\"\",1)","v":1}]
[{"$f":"IF(AM17=1,\"\",IF(ROUND(F4A1!$C$18,2)>0,\"X\",\"\"))","v":""},"Conciliación entre los ingresos presupuestarios y contables (F4A1)",{"$nulls":36},{"$f":"IF(AND($C$64=\"\", $C$65=\"\", $C$66=\"\",$C$67=\"\",$C$68=\"\",$C$69=\"\",$C$70=\"\", $C$71=\"\", $C$72=\"\",$C$82=\"\",$C$83=\"\",$C$84=\"\",$C$85=\"\",$C$86=\"\",$C$87=\"\", $C$88=\"\", $C$89=\"\",$C$90=\"\",$C$91=\"\"),\"\",1)","v":1}]
[{"$f":"IF(AM18=1,\"\",IF(ROUND(F4A2!$C$37,2)>0,\"X\",\"\"))","v":""},"Conciliación entre los egresos presupuestarios y los gastos contables (F4A2)",{"$nulls":36},{"$f":"IF(AND($C$64=\"\", $C$65=\"\", $C$66=\"\",$C$67=\"\",$C$68=\"\",$C$69=\"\",$C$70=\"\", $C$71=\"\", $C$72=\"\",$C$92=\"\",$C$93=\"\",$C$94=\"\",$C$95=\"\",$C$96=\"\"),\"\",1)","v":1}]
[{"$f":"IF(AM19=1,\"\",IF(ROUND('F5'!$H$6,2)>0,\"X\",\"\"))","v":"X"},"Estado analítico del activo (F5)",{"$nulls":36},{"$f":"IF(AND($C$64=\"\", $C$65=\"\", $C$66=\"\",$C$67=\"\",$C$68=\"\",$C$69=\"\",$C$104=\"\", $C$105=\"\", $C$106=\"\"),\"\",1)","v":""}]
[{"$f":"IF(AM20=1,\"\",IF(ROUND(SUM($A$53:$L$54),2)>0,IF(ROUND(SUM($M$53:$X$54),2)>0,\"X\",\"\"),\"\"))","v":"X"},"Estado de actividades (F6A)",{"$nulls":36},{"$f":"IF(AND($C$64=\"\", $C$65=\"\", $C$66=\"\",$C$67=\"\",$C$68=\"\",$C$69=\"\"),\"\",1)","v":""}]
[{"$f":"IF(AM21=1,\"\",IF(ROUND('F16'!$E$4,2)-ROUND('F16'!$F$4,2)=0,IF('F16'!$E$4+'F16'!$F$4>0,\"X\",\"\"),\"\"))","v":"X"},"Estado de cambios en la situación financiera (F16)",{"$nulls":36},{"$f":"IF(AND($C$64=\"\", $C$65=\"\", $C$66=\"\",$C$67=\"\",$C$68=\"\",$C$69=\"\",$C$97=\"\", $C$98=\"\", $C$99=\"\",$C$100=\"\"),\"\",1)","v":""}]
[{"$f":"IF('F11'!$A$6>0,\"X\",\"\")","v":"X"},"Informe sobre pasivos contingentes (F11)"]
["Estados e informes presupuestarios:"]
[{"$f":"IF(AM24=1,\"\",IF(ROUND(SUM('F7'!$E$17:$F$17),2)>0,\"X\",\"\"))","v":""},"Estado analítico de ingresos por clasificación por rubro de ingresos/fuente de financiamiento (F7)",{"$nulls":36},{"$f":"IF(AND($C$124=\"\", $C$125=\"\", $C$126=\"\", $C$127=\"\"),\"\",1)","v":""}]
[{"$f":"IF(AM25=1,\"\",IF(ROUND(SUM('F8'!$E$80:$F$80),2)>0,\"X\",\"\"))","v":""},"Estado analítico del ejercicio del presupuesto de egresos por clasificación por objeto del gasto (F8)",{"$nulls":36},{"$f":"IF(AND($C$70=\"\", $C$71=\"\", $C$72=\"\"),\"\",1)","v":""}]
[{"$f":"IF(AM26=1,\"\",IF(ROUND(SUM('F17'!$E$13:$F$13),2)>0,\"X\",\"\"))","v":""},"Estado analítico del ejercicio del presupuesto de egresos por clasificación por tipo de gasto (F17)",{"$nulls":36},{"$f":"IF(AND($C$70=\"\", $C$71=\"\", $C$72=\"\"),\"\",1)","v":""}]
[{"$f":"IF(ROUND(SUM('F18'!$D$58:$E$58),2)>0,\"X\",\"\")","v":""},"Estado analítico del ejercicio del presupuesto de egresos por clasificación administrativa (F18)"]
[{"$f":"IF(ROUND(SUM('F19'!$E$40:$F$40),2)>0,\"X\",\"\")","v":""},"Estado analítico del ejercicio del presupuesto de egresos por clasificación funcional (F19)"]
["Estados e informes de la Ley de Disciplina Financiera:"]
[{"$f":"IF(AM30=1,\"\",IF(ROUND(SUM($A$50:$L$52),2)>0,IF(ROUND($M$50,2)=ROUND(($M$51+$M$52),2),IF(ROUND($A$50,2)=ROUND(($A$51+$A$52),2),\"X\",\"\"),\"\"),\"\"))","v":"X"},"Estado de situación financiera detallado - LDF (F1LDF)",{"$nulls":36},{"$f":"IF(AND($C$64=\"\", $C$65=\"\", $C$66=\"\",$C$67=\"\",$C$68=\"\",$C$69=\"\",$C$73=\"\", $C$74=\"\", $C$75=\"\",$C$76=\"\"),\"\",1)","v":""}]
[{"$f":"IF(AM31=1,\"\",IF('F9-IDP'!$J$3>0,\"X\",\"\"))","v":"X"},"Informe analítico de la deuda pública y otros pasivos (F9-EDP)",{"$nulls":36},{"$f":"IF(AND($C$64=\"\", $C$65=\"\", $C$66=\"\",$C$67=\"\",$C$68=\"\",$C$69=\"\",$C$107=\"\", $C$108=\"\", $C$109=\"\",$C$110=\"\",$C$111=\"\",$C$112=\"\",$C$113=\"\",$C$114=\"\",$C$115=\"\", $C$116=\"\", $C$117=\"\"),\"\",1)","v":""}]
[{"$f":"IF(AM32=1,\"\",IF('F9-IAO'!$C$12>0,\"X\",\"\"))","v":"X"},"Informe analítico de obligaciones diferentes de financiamiento (F9-IAO)",{"$nulls":36},{"$f":"IF(AND($C$64=\"\", $C$65=\"\", $C$66=\"\",$C$67=\"\",$C$68=\"\",$C$69=\"\"),\"\",1)","v":""}]
[{"$f":"IF(AM33=1,\"\",IF(ROUND(SUM('F22'!$F$10:$G$10),2)>0,\"X\",\"\"))","v":""},"Balance presupuestario - LDF (F22)",{"$nulls":36},{"$f":"IF(AND($C$70=\"\", $C$71=\"\", $C$72=\"\",$C$160=\"\",$C$161=\"\",$C$162=\"\",$C$163=\"\", $C$164=\"\", $C$165=\"\"),\"\",1)","v":""}]
[{"$f":"IF(AM34=1,\"\",IF(ROUND(SUM(F7B!$E$64:$F$64),2)>0,\"X\",\"\"))","v":""},"Estado analítico de ingresos detallados - LDF (F7B)",{"$nulls":36},{"$f":"IF(AND($C$70=\"\", $C$71=\"\", $C$72=\"\",$C$124=\"\",$C$125=\"\",$C$126=\"\",$C$127=\"\", $C$128=\"\", $C$129=\"\",$C$130=\"\",$C$131=\"\"),\"\",1)","v":""}]
[{"$f":"IF(AM35=1,\"\",IF(ROUND(SUM(F8B!$F$155:$G$155),2)>0,\"X\",\"\"))","v":""},"Estado analítico del ejercicio del presupuesto de egresos detallado - LDF por clasificación por objeto del gasto (F8B)",{"$nulls":36},{"$f":"IF(AND($C$70=\"\", $C$71=\"\", $C$72=\"\",$C$132=\"\",$C$133=\"\",$C$134=\"\",$C$135=\"\"),\"\",1)","v":""}]
[{"$f":"IF(AM36=1,\"\",IF(ROUND(SUM(F18A!$D$62:$E$62),2)>0,\"X\",\"\"))","v":""},"Estado analítico del ejercicio del presupuesto de egresos detallado - LDF por clasificación administrativa (F18A)",{"$nulls":36},{"$f":"IF(AND($C$148=\"\", $C$149=\"\", $C$150=\"\",$C$151=\"\",$C$152=\"\",$C$153=\"\",$C$154=\"\", $C$155=\"\", $C$156=\"\",$C$157=\"\",$C$158=\"\",$C$159=\"\"),\"\",1)","v":""}]
[{"$f":"IF(AM37=1,\"\",IF(ROUND(SUM(F19A!$F$76:$G$76),2)>0,\"X\",\"\"))","v":""},"Estado analítico del ejercicio del presupuesto de egresos detallado - LDF por clasificación funcional (F19A)",{"$nulls":36},{"$f":"IF(AND($C$136=\"\", $C$137=\"\", $C$138=\"\",$C$139=\"\",$C$140=\"\",$C$141=\"\",$C$142=\"\", $C$143=\"\", $C$144=\"\",$C$145=\"\",$C$146=\"\",$C$147=\"\"),\"\",1)","v":""}]
[{"$f":"IF(ROUND(SUM('F21'!$F$32:$G$32),2)>0,\"X\",\"\")","v":""},"Estado analítico del ejercicio del presupuesto de egresos detallado - LDF por servicios personales por categoría (F21)"]
["Informes complementarios:"]
[{"$f":"IF(AM40=1,\"\",IF(ROUND(SUM($A$50:$L$52),2)>0,IF(ROUND(($M$50),2)=ROUND(($M$51+$M$52),2),IF(ROUND($A$50,2)=ROUND(($A$51+$A$52),2),\"X\",\"\"),\"\"),\"\"))","v":"X"},"Estado analítico de situación financiera (F1)",{"$nulls":36},{"$f":"IF(AND($C$64=\"\", $C$65=\"\", $C$66=\"\",$C$67=\"\",$C$68=\"\",$C$69=\"\",$C$73=\"\", $C$74=\"\", $C$75=\"\",$C$76=\"\"),\"\",1)","v":""}]
[{"$f":"IF(AM41=1,\"\",IF(ROUND(SUM($A$53:$L$54),2)>0,IF(ROUND($M$53,2)>0,\"X\",\"\"),\"\"))","v":"X"},"Estado analítico de actividades (F6)",{"$nulls":36},{"$f":"IF(AND($C$64=\"\", $C$65=\"\", $C$66=\"\",$C$67=\"\",$C$68=\"\",$C$69=\"\"),\"\",1)","v":""}]
[{"$f":"IF(AM42=1,\"\",IF(ROUND(SUM(F7A!$E$70:$F$70),2)>0,\"X\",\"\"))","v":""},"Informe analítico del clasificación por rubro de ingresos (F7A)",{"$nulls":36},{"$f":"IF(AND($C$70=\"\", $C$71=\"\", $C$72=\"\"),\"\",1)","v":""}]
[{"$f":"IF('F10'!$B$6>0,\"X\",\"\")","v":"X"},"Informativa de proveedores (F10)"]
[{"$f":"IF('F23'!$A$9>0,\"X\",\"\")","v":""},"Informativa de obra pública (F23)"]
["Informe de Avances de Gestión Financiera"]
[{"$f":"IF(AM46=1,\"\",IF(ROUND(SUM('F12'!$E$30:$F$30),2)>0,\"X\",\"\"))","v":""},"Flujo contable de ingresos y egresos (F12)",{"$nulls":36},{"$f":"IF(AND($C$70=\"\", $C$71=\"\",$C$72=\"\",$C$118=\"\",$C$119=\"\",$C$120=\"\", $C$121=\"\", $C$122=\"\",$C$123=\"\"),\"\",1)","v":""}]
[{"$f":"IF(AM47=1,\"\",IF(ROUND(SUM('F13'!$AA$6:$AI$6),2)>0,\"X\",\"\"))","v":""},"Avance de programas y/o procesos concluidos (F13)",{"$nulls":36},{"$f":"IF(AND($C$70=\"\", $C$71=\"\", $C$72=\"\",$C$166=\"\",$C$167=\"\",$C$168=\"\",$C$169=\"\", $C$170=\"\", $C$171=\"\",$C$172=\"\",$C$173=\"\",$C$174=\"\",$C$175=\"\",$C$176=\"\",$C$177=\"\", $C$178=\"\", $C$179=\"\",$C$180=\"\",$C$181=\"\",$C$182=\"\",$C$183=\"\"),\"\",1)","v":""}]
["INFORMACIÓN FINANCIERA GENERAL"]
[{"$f":"\"EJERCICIO \"&F185","v":"EJERCICIO 2026"},{"$nulls":11},{"$f":"\"EJERCICIO \"&F186","v":"EJERCICIO 2025"},{"$nulls":11},"CONCEPTO"]
[{"$f":"ROUND('F1'!AF106,2)","v":{"v":427872040.95,"d":"427,872,040.95"}},{"$nulls":11},{"$f":"ROUND('F1'!AG106,2)","v":{"v":417980303.08,"d":"417,980,303.08"}},{"$nulls":11},"Activo"]
[{"$f":"ROUND('F1'!BM80,2)","v":{"v":35659863.23,"d":"35,659,863.23"}},{"$nulls":11},{"$f":"ROUND('F1'!BN80,2)","v":{"v":35946274.61,"d":"35,946,274.61"}},{"$nulls":11},"Pasivo"]
[{"$f":"ROUND('F1'!BM105,2)","v":{"v":392212177.72,"d":"392,212,177.72"}},{"$nulls":11},{"$f":"ROUND('F1'!BN105,2)","v":{"v":382034028.47,"d":"382,034,028.47"}},{"$nulls":11},"Hacienda pública/patrimonio"]
[{"$f":"ROUND('F6'!AX184,2)","v":{"v":30065163.59,"d":"30,065,163.59"}},{"$nulls":11},{"$f":"ROUND('F6'!AY184,2)","v":{"v":332246498.5,"d":"332,246,498.50"}},{"$nulls":11},"Ingresos"]
[{"$f":"ROUND('F6'!AX539,2)","v":{"v":19887014.34,"d":"19,887,014.34"}},{"$nulls":11},{"$f":"ROUND('F6'!AY539,2)","v":{"v":357868330.62,"d":"357,868,330.62"}},{"$nulls":11},"Egresos"]
[{"$f":"ROUND('F6'!AX540,2)","v":{"v":10178149.25,"d":"10,178,149.25"}},{"$nulls":11},{"$f":"ROUND('F6'!AY540,2)","v":{"v":-25621832.12,"d":"-25,621,832.12"}},{"$nulls":11},"Ahorro/desahorro"]
["F1",{"$nulls":5},"F9-EDP",{"$nulls":5},"F1",{"$nulls":5},"F9-EDP",{"$nulls":5},"CONCEPTO"]
[{"$f":"ROUND('F1'!BM23,2)","v":{"v":849023.57,"d":"849,023.57"}},{"$nulls":5},{"$f":"ROUND('F9-EDP'!AP12,2)","v":{"v":849023.57,"d":"849,023.57"}},{"$nulls":5},{"$f":"ROUND('F1'!BN23+'F1'!BN60,2)","v":{"v":28533916.26,"d":"28,533,916.26"}},{"$nulls":5},{"$f":"ROUND('F9-EDP'!N12,2)","v":{"v":920608.54,"d":"920,608.54"}},{"$nulls":5},"Deuda pública instituciones de crédito C/P"]
[{"$f":"ROUND('F1'!BM60,2)","v":{"v":27613307.72,"d":"27,613,307.72"}},{"$nulls":5},{"$f":"ROUND('F9-EDP'!AP16,2)","v":{"v":27613307.72,"d":"27,613,307.72"}},{"$nulls":11},{"$f":"ROUND('F9-EDP'!N16,2)","v":{"v":27613307.72,"d":"27,613,307.72"}},{"$nulls":5},"Deuda pública instituciones de crédito L/P"]
[{"$f":"ROUND('F1'!BM27,2)","v":{"v":0,"d":"0.00"}},{"$nulls":5},{"$f":"ROUND('F9-EDP'!AP13,2)","v":{"v":0,"d":"0.00"}},{"$nulls":5},{"$f":"ROUND('F1'!BN27+'F1'!BN58,2)","v":{"v":0,"d":"0.00"}},{"$nulls":5},{"$f":"ROUND('F9-EDP'!N13,2)","v":{"v":0,"d":"0.00"}},{"$nulls":5},"Deuda pública títulos y valores C/P"]
[{"$f":"ROUND('F1'!BM58,2)","v":{"v":0,"d":"0.00"}},{"$nulls":5},{"$f":"ROUND('F9-EDP'!AP17,2)","v":{"v":0,"d":"0.00"}},{"$nulls":11},{"$f":"ROUND('F9-EDP'!N17,2)","v":{"v":0,"d":"0.00"}},{"$nulls":5},"Deuda pública títulos y valores L/P"]
[{"$f":"ROUND('F1'!BM25,2)","v":{"v":0,"d":"0.00"}},{"$nulls":5},{"$f":"ROUND('F9-EDP'!AP14,2)","v":{"v":0,"d":"0.00"}},{"$nulls":5},{"$f":"ROUND('F1'!BN25+'F1'!BN62,2)","v":{"v":0,"d":"0.00"}},{"$nulls":5},{"$f":"ROUND('F9-EDP'!N14,2)","v":{"v":0,"d":"0.00"}},{"$nulls":5},"Deuda pública arrendamiento financiero C/P"]
[{"$f":"ROUND('F1'!BM62,2)","v":{"v":0,"d":"0.00"}},{"$nulls":5},{"$f":"ROUND('F9-EDP'!AP18,2)","v":{"v":0,"d":"0.00"}},{"$nulls":11},{"$f":"ROUND('F9-EDP'!N18,2)","v":{"v":0,"d":"0.00"}},{"$nulls":5},"Deuda pública arrendamiento financiero L/P"]
["INCONSISTENCIAS"]
["1. Validación a la balanza de comprobación (contable)",null,{"$f":"IF(ROUND(Balanza!$C$754,2)=ROUND(Balanza!$D$754,2),\"\",\"1.1. BALANZA DE COMPROBACIÓN (contable) descuadrada en el SALDO INICIAL.\")","v":""}]
[null,null,{"$f":"IF(ROUND(Balanza!$E$754,2)=ROUND(Balanza!$F$754,2),\"\",\"1.2. BALANZA DE COMPROBACIÓN (contable) descuadrada en los MOVIMIENTOS DE CARGO y ABONO.\")","v":""}]
[null,null,{"$f":"IF(ROUND(Balanza!$G$754,2)=ROUND(Balanza!$H$754,2),\"\",\"1.3. BALANZA DE COMPROBACIÓN (contable) descuadrada en el SALDO FINAL.\")","v":""}]
["2. Validación a la balanza de comprobación (orden género 7)",null,{"$f":"IF(ROUND(Balanza!$C$793,2)=ROUND(Balanza!$D$793,2),\"\",\"2.1. BALANZA DE COMPROBACIÓN (cuentas de orden) descuadrada en el SALDO INICIAL.\")","v":""}]
[null,null,{"$f":"IF(ROUND(Balanza!$E$793,2)=ROUND(Balanza!$F$793,2),\"\",\"2.2. BALANZA DE COMPROBACIÓN (cuentas de orden) descuadrada en los MOVIMIENTOS DE CARGO y ABONO.\")","v":""}]
[null,null,{"$f":"IF(ROUND(Balanza!$G$793,2)=ROUND(Balanza!$H$793,2),\"\",\"2.3. BALANZA DE COMPRBACIÓN (cuentas de orden) descuadrada en el SALDO FINAL.\")","v":""}]
["3. Validación a la balanza de comprobación (orden presupuestal)",null,{"$f":"IF(ROUND(Balanza!$C$2223,2)=ROUND(Balanza!$D$2223,2),\"\",\"3.1. BALANZA DE COMPROBACIÓN (cuentas de orden presupuestal) descuadrada en el SALDO INICIAL.\")","v":""}]
[null,null,{"$f":"IF(ROUND(Balanza!$E$2223,2)=ROUND(Balanza!$F$2223,2),\"\",\"3.2. BALANZA DE COMPROBACIÓN (cuentas de orden presupuestal) descuadrada en los MOVIMIENTOS DE CARGO y ABONO.\")","v":""}]
[null,null,{"$f":"IF(ROUND(Balanza!$G$2223,2)=ROUND(Balanza!$H$2223,2),\"\",\"3.3. BALANZA DE COMPROBACIÓN (cuentas de orden presupuestal) descuadrada en el SALDO FINAL.\")","v":""}]
["4. Validación al estado de situación financiera\n(F1, F1A y F1LDF)",null,{"$f":"IF(ROUND($M$50,2)=ROUND(($M$51+$M$52),2),\"\",\"4.1. En el ESTADO DE SITUACIÓN FINANCIERA (FI, F1A, F1LDF) columna ejercicio \"&F186&\", no es igual el TOTAL DEL ACTIVO y el TOTAL DEL PASIVO MÁS LA HACIENDA PÚBLICA/PATRIMONIO.\")","v":""}]
[null,null,{"$f":"IF(ROUND($A$50,2)=ROUND(($A$51+$A$52),2),\"\",\"4.2. En el ESTADO DE SITUACIÓN FINANCIERA (F1, F1A, F1LDF) columna ejercicio \"&F185&\", no es igual el TOTAL DEL ACTIVO y el TOTAL DEL PASIVO MÁS LA HACIENDA PÚBLICA/PATRIMONIO.\")","v":""}]
[null,null,{"$f":"IF(ROUND('F6'!$AY$540,2)=ROUND('F1'!$BN$87,2),\"\",\"4.3. El RESULTADO DEL EJERCICIO (AHORRO/DESAHORRO) del ESTADO DE ACTIVIDADES (F6, F6A) no es igual al RESULTADO DEL EJERCICIO del ESTADO DE SITUACIÓN FINANCIERA (F1, F1A, F1LDF) ejercicio \"&F186&\".\")","v":""}]
[null,null,{"$f":"IF(ROUND('F6'!$AX$540,2)=ROUND('F1'!$BM$87,2),\"\",\"4.4. El RESULTADO DEL EJERCICIO (AHORRO/DESAHORRO) del ESTADO DE ACTIVIDADES (F6, F6A) no es igual al RESULTADO DEL EJERCICIO del ESTADO DE SITUACIÓN FINANCIERA (F1, F1A, F1LDF) ejercicio \"&F185&\".\")","v":""}]
["5. Validación al estado de variación en la hacienda pública (F2)",null,{"$f":"IF(ROUND('F2'!C6,2)=ROUND(F1A!BN27,2),\"\",\"5.1. El saldo de la HACIENDA PÚBLICA/PATRIMONIO CONTRIBUIDO NETO de \"&F186&\" en el ESTADO DE VARIACIÓN EN LA HACIENDA PÚBLICA (F2), no es igual a la HACIENDA PÚBLICA/PATRIMONIO CONTRIBUIDO del ESTADO DE SITUACIÓN FINANCIERA (F1A) en la columna ejercicio \"&F186&\".\")","v":""}]
[null,null,{"$f":"IF(ROUND('F2'!G10,2)=ROUND(F1A!BN31,2),\"\",\"5.2. El saldo de la HACIENDA PÚBLICA/PATRIMONIO GENERADO NETO del \"&F186&\" de la columna total en el ESTADO DE VARIACIÓN EN LA HACIENDA PÚBLICA (F2), no es igual a la HACIENDA PÚBLICA/PATRIMONIO GENERADO \"&\"del ESTADO DE SITUACIÓN FINANCIERA (F1A) en la columna ejercicio \"&F186&\".\")","v":""}]
[null,null,{"$f":"IF(ROUND('F2'!G16,2)=ROUND(F1A!BN37,2),\"\",\"5.3. El saldo del EXCESO O INSUFICIENCIA EN LA ACTUALIZACIÓN EN LA HACIENDA PÚBLICA/PATRIMONIO NETO de \"&F186&\" de la columna TOTAL en el ESTADO DE VARIACIÓN EN LA HACIENDA PÚBLICA (F2),\"&\" no es igual al EXCESO O INSUFICIENCIA EN LA ACTUALIZACIÓN DE LA HACIENDA PÚBLICA/PATRIMONIO del ESTADO DE SITUACIÓN FINANCIERA (F1A) en la columna ejercicio \"&F186&\".\")","v":""}]
[null,null,{"$f":"IF(ROUND('F2'!G19,2)=ROUND(F1A!BN40,2),\"\",\"5.4. El saldo de la HACIENDA PÚBLICA/PATRIMONIO NETO FINAL DE \"&F186&\" de la columna TOTAL en el ESTADO DE VARIACIÓN EN LA HACIENDA PÚBLICA (F2),\"&\" no es igual al TOTAL DE LA HACIENDA PÚBLICA/PATRIMONIO del ESTADO DE SITUACIÓN FINANCIERA (F1A) en la columna ejercicio \"&F186&\".\")","v":""}]
[null,null,{"$f":"IF(ROUND('F2'!G33,2)=ROUND(F1A!BM40,2),\"\",\"5.5. El saldo de la HACIENDA PÚBLICA/PATRIMONIO NETO FINAL DE \"&F185&\" de la columna TOTAL en el ESTADO DE VARIACIÓN EN LA HACIENDA PÚBLICA (F2),\"&\" no es igual al TOTAL DE LA HACIENDA PÚBLICA/PATRIMONIO del ESTADO DE SITUACIÓN FINANCIERA (F1A) en la columna ejercicio \"&F185&\".\")","v":""}]
["6A. Validación de conciliaciones prespu. vs conta. (F4A1)",null,{"$f":"IF(ROUND(F4A1!C18,2)=ROUND(F6A!AX24,2),\"\",\"6A.1. El TOTAL DE INGRESO CONTABLES de la CONCILIACIÓN ENTRE LOS INGRESOS PRESUPUESTAL Y CONTABLE (F4A1),\"&\" no es igual al TOTAL DE INGRESOS del ESTADO DE ACTIVIDADES (F6A) en la columna ejercicio \"&F185&\".\")","v":"6A.1. El TOTAL DE INGRESO CONTABLES de la CONCILIACIÓN ENTRE LOS INGRESOS PRESUPUESTAL Y CONTABLE (F4A1), no es igual al TOTAL DE INGRESOS del ESTADO DE ACTIVIDADES (F6A) en la columna ejercicio 2026."}]
[null,null,{"$f":"IF(ROUND('F7'!$F$7,2)=ROUND(F6A!$AX$8,2),\"\",\"6A.2. El total de IMPUESTOS en su momento devengado del ESTADO ANALÍTICO DE INGRESOS (F7),\"&\" no es igual a los IMPUESTOS del ESTADO DE ACTIVIDADES (F6A) en la columna ejercicio \"&F185&\".\")","v":"6A.2. El total de IMPUESTOS en su momento devengado del ESTADO ANALÍTICO DE INGRESOS (F7), no es igual a los IMPUESTOS del ESTADO DE ACTIVIDADES (F6A) en la columna ejercicio 2026."}]
[null,null,{"$f":"IF(ROUND('F7'!$F$8,2)=ROUND(F6A!$AX$9,2),\"\",\"6A.3. El total de CUOTAS Y APORTACIONES DE SEGURIDAD SOCIAL en su momento devengado del ESTADO ANALÍTICO DE INGRESOS (F7),\"&\" no es igual a las CUOTAS Y APORTACIONES DE SEGURIDAD SOCIAL del ESTADO DE ACTIVIDADES (F6A) en la columna ejercicio \"&F185&\".\")","v":""}]
[null,null,{"$f":"IF(ROUND('F7'!$F$9,2)=ROUND(F6A!$AX$10,2),\"\",\"6A.4. El total de CONTRIBUCIONES DE MEJORAS en su momento devengado del ESTADO ANALÍTICO DE INGRESOS (F7),\"&\" no es igual a las CONTRIBUCIONES DE MEJORAS del ESTADO DE ACTIVIDADES (F6A) en la columna ejercicio \"&F185&\".\")","v":""}]
[null,null,{"$f":"IF(ROUND('F7'!$F$10,2)=ROUND(F6A!$AX$11,2),\"\",\"6A.5. El total de DERECHOS en su momento devengado del ESTADO ANALÍTICO DE INGRESOS (F7),\"&\" no es igual a los DERECHOS del ESTADO DE ACTIVIDADES (F6A) en la columna ejercicio \"&F185&\".\")","v":"6A.5. El total de DERECHOS en su momento devengado del ESTADO ANALÍTICO DE INGRESOS (F7), no es igual a los DERECHOS del ESTADO DE ACTIVIDADES (F6A) en la columna ejercicio 2026."}]
[null,null,{"$f":"IF(ROUND('F7'!$F$11,2)=ROUND(F6A!$AX$12,2),\"\",\"6A.6. El total de PRODUCTOS en su momento devengado del ESTADO ANALÍTICO DE INGRESOS (F7),\"&\" no es igual a los PRODUCTOS del ESTADO DE ACTIVIDADES (F6A) en la columna ejercicio \"&F185&\".\")","v":"6A.6. El total de PRODUCTOS en su momento devengado del ESTADO ANALÍTICO DE INGRESOS (F7), no es igual a los PRODUCTOS del ESTADO DE ACTIVIDADES (F6A) en la columna ejercicio 2026."}]
[null,null,{"$f":"IF(ROUND('F7'!$F$12,2)=ROUND(F6A!$AX$13+F4A1!$C$15+F4A1!C17,2),\"\",\"6A.7. El total de APROVECHAMIENTOS en su momento devengado del ESTADO ANALÍTICO DE INGRESOS (F7),\"&\" no es igual a los APROVECHAMIENTOS del ESTADO DE ACTIVIDADES (F6A) en la columna ejercicio \"&F185&\".\")","v":"6A.7. El total de APROVECHAMIENTOS en su momento devengado del ESTADO ANALÍTICO DE INGRESOS (F7), no es igual a los APROVECHAMIENTOS del ESTADO DE ACTIVIDADES (F6A) en la columna ejercicio 2026."}]
[null,null,{"$f":"IF(ROUND('F7'!$F$13,2)=ROUND(F6A!$AX$14,2),\"\",\"6A.8. El total de INGRESOS POR VENTA DE BIENES Y PRESTACIÓN DE SERVICIOS en su momento devengado del ESTADO ANALÍTICO DE INGRESOS (F7),\"&\" no es igual a los INGRESOS POR VENTA DE BIENES Y PRESTACIÓN DE SERVICIOS del ESTADO DE ACTIVIDADES (F6A) en la columna ejercicio \"&F185&\".\")","v":""}]
[null,null,{"$f":"IF(ROUND('F7'!$F$14,2)=ROUND(F6A!$AX$16,2),\"\",\"6A.9. El total de PARTICIPACIONES, APORTACIONES, CONVENIOS, INCENTIVOS DERIVADOS DE LA COLABORACIÓN FISCAL, FONDOS DISTINTOS DE APORTACIONES en su momento devengado del ESTADO ANALÍTICO DE INGRESOS (F7),\"&\" no es igual a las PARTICIPACIONES, APORTACIONES, CONVENIOS, INCENTIVOS DERIVADOS DE LA COLABORACIÓN FISCAL, FONDOS DISTINTOS DE APORTACIONES del ESTADO DE ACTIVIDADES (F6A) en la columna ejercicio \"&F185&\".\")","v":"6A.9. El total de PARTICIPACIONES, APORTACIONES, CONVENIOS, INCENTIVOS DERIVADOS DE LA COLABORACIÓN FISCAL, FONDOS DISTINTOS DE APORTACIONES en su momento devengado del ESTADO ANALÍTICO DE INGRESOS (F7), no es igual a las PARTICIPACIONES, APORTACIONES, CONVENIOS, INCENTIVOS DERIVADOS DE LA COLABORACIÓN FISCAL, FONDOS DISTINTOS DE APORTACIONES del ESTADO DE ACTIVIDADES (F6A) en la columna ejercicio 2026."}]
[null,null,{"$f":"IF(ROUND('F7'!$F$15,2)=ROUND(F6A!$AX$17,2),\"\",\"6A.10. El total de TRANSFERENCIAS, ASIGNACIONES, SUBSIDIOS Y SUBVENCIONES, PENSIONES Y JUBILACIONES en su momento devengado del ESTADO ANALÍTICO DE INGRESOS (F7),\"&\" no es igual a las TRANSFERENCIAS, ASIGNACIONES, SUBSIDIOS Y SUBVENCIONES, PENSIONES Y JUBILACIONES del ESTADO DE ACTIVIDADES (F6A) en la columna ejercicio \"&F185&\".\")","v":""}]
["6B. Validación de conciliaciones prespu. vs conta. (F4A2)",null,{"$f":"IF(ROUND(F4A2!$C$37,2)=ROUND(F6A!$AX$57,2),\"\",\"6B.1. El TOTAL DE GASTOS CONTABLES de la CONCILIACIÓN ENTRE LOS EGRESOS PRESUPUESTARIOS Y LOS GASTOS CONTABLES (F4A2),\"&\" no es igual al TOTAL DE GASTOS Y OTRAS PERDIDAS del ESTADO DE ACTIVIDADES (F6A) en la columna ejercicio \"&F185&\".\")","v":"6B.1. El TOTAL DE GASTOS CONTABLES de la CONCILIACIÓN ENTRE LOS EGRESOS PRESUPUESTARIOS Y LOS GASTOS CONTABLES (F4A2), no es igual al TOTAL DE GASTOS Y OTRAS PERDIDAS del ESTADO DE ACTIVIDADES (F6A) en la columna ejercicio 2026."}]
[null,null,{"$f":"IF(ROUND('F8'!$F$8,2)=ROUND(F6A!$AX$27,2),\"\",\"6B.2. El total de SERVICIOS PERSONALES en su momento devengado del ESTADO ANALÍTICO DEL EJERCICIO DEL PRESUPUESTO DE EGRESOS (F8),\"&\" no es igual en SERVICIOS PERSONALES del ESTADO DE ACTIVIDADES (F6A) en la columna ejercicio \"&F185&\".\")","v":"6B.2. El total de SERVICIOS PERSONALES en su momento devengado del ESTADO ANALÍTICO DEL EJERCICIO DEL PRESUPUESTO DE EGRESOS (F8), no es igual en SERVICIOS PERSONALES del ESTADO DE ACTIVIDADES (F6A) en la columna ejercicio 2026."}]
[null,null,{"$f":"IF(ROUND('F8'!$F$16,2)=ROUND(F6A!$AX$28,2),\"\",\"6B.3. El total de MATERIALES Y SUMINISTROS en su momento devengado del ESTADO ANALÍTICO DEL EJERCICIO DEL PRESUPUESTO DE EGRESOS (F8),\"&\" no es igual en MATERIALES Y SUMINISTROS del ESTADO DE ACTIVIDADES (F6A) en la columna ejercicio \"&F185&\".\")","v":"6B.3. El total de MATERIALES Y SUMINISTROS en su momento devengado del ESTADO ANALÍTICO DEL EJERCICIO DEL PRESUPUESTO DE EGRESOS (F8), no es igual en MATERIALES Y SUMINISTROS del ESTADO DE ACTIVIDADES (F6A) en la columna ejercicio 2026."}]
[null,null,{"$f":"IF(ROUND('F8'!$F$26,2)=ROUND(F6A!$AX$29,2),\"\",\"6B.4. El total de SERVICIOS GENERALES en su momento devengado del ESTADO ANALÍTICO DEL EJERCICIO DEL PRESUPUESTO DE EGRESOS (F8),\"&\" no es igual en SERVICIOS GENERALES del ESTADO DE ACTIVIDADES (F6A) en la columna ejercicio \"&F185&\".\")","v":"6B.4. El total de SERVICIOS GENERALES en su momento devengado del ESTADO ANALÍTICO DEL EJERCICIO DEL PRESUPUESTO DE EGRESOS (F8), no es igual en SERVICIOS GENERALES del ESTADO DE ACTIVIDADES (F6A) en la columna ejercicio 2026."}]
[null,null,{"$f":"IF(ROUND('F8'!$F$36,2)=ROUND(F6A!$AX$30,2),\"\",\"6B.5. El total de TRANSFERENCIAS, ASIGNACIONES, SUBSIDIOS Y OTRAS AYUDAS en su momento devengado del ESTADO ANALÍTICO DEL EJERCICIO DEL PRESUPUESTO DE EGRESOS (F8),\"&\" no es igual en TRANSFERENCIAS, ASIGNACIONES, SUBSIDIOS Y OTRAS AYUDAS del ESTADO DE ACTIVIDADES (F6A) en la columna ejercicio \"&F185&\".\")","v":"6B.5. El total de TRANSFERENCIAS, ASIGNACIONES, SUBSIDIOS Y OTRAS AYUDAS en su momento devengado del ESTADO ANALÍTICO DEL EJERCICIO DEL PRESUPUESTO DE EGRESOS (F8), no es igual en TRANSFERENCIAS, ASIGNACIONES, SUBSIDIOS Y OTRAS AYUDAS del ESTADO DE ACTIVIDADES (F6A) en la columna ejercicio 2026."}]
["7. Validación al estado de cambios de la situación financiera (F16)",null,{"$f":"IF(ROUND(ABS('F16'!E43-'F16'!F43),2)=ROUND(ABS('F2'!C20),2),\"\",\"7.1. El saldo de la HACIENDA PÚBLICA/PATRIMONIO CONTRIBUIDO NETO DEL \"&F186&\" del ESTADO DE VARIACIÓN EN LA HACIENDA PÚBLICA (F2), \"&\"es diferente a la HACIENDA PÚBLICA/PATRIMONIO CONTRIBUIDO del ESTADO DE CAMBIOS DE LA SITUACIÓN FINANCIERA (F16) en la columna ejercicio \"&F185&\".\")","v":""}]
[null,null,{"$f":"IF(ROUND(ABS(SUM('F16'!E50:E52)-SUM('F16'!F50:F52)),2)=ROUND(ABS(SUM('F2'!E27:E29)),2),\"\",\"7.2. La suma de las filas de REVALÚOS, RESERVAS Y RECLASIFICACIONES DE RESULTADOS DE EJERCICIOS ANTERIORES \"&F186&\", del ESTADO DE VARIACIÓN EN LA HACIENDA PÚBLICA (F2), \"&\"es diferente a la que se muestra en estos rubros del ESTADO DE CAMBIOS DE LA SITUACIÓN FINANCIERA (F16) en la columna ejercicio \"&F185&\".\")","v":""}]
[null,null,{"$f":"IF(ROUND(ABS('F16'!E49+'F16'!F49),2)=ROUND(ABS('F2'!D24),2),\"\",\"7.3. El saldo del RESULTADO DE EJERCICIOS ANTERIORES del apartado VARIACIONES DE LA HACIENDA PÚBLICA/PATRIMONIO CONTRIBUIDO NETO DE \"&F185&\" del ESTADO DE VARIACIÓN EN LA HACIENDA PÚBLICA (F2), \"&\"es diferente al apartado de EJERCICIOS ANTERIORES del ESTADO DE CAMBIOS DE LA SITUACIÓN FINANCIERA (F16) en la columna ejercicio \"&F185&\".\")","v":""}]
[null,null,{"$f":"IF(ROUND(ABS('F16'!E53-'F16'!F53),2)=ROUND(ABS('F2'!F30),2),\"\",\"7.4. El saldo del EXCESO O INSUFICIENCIA EN LA ACTUALIZACIÓN DE LA HACIENDA PÚBLICA/PATRIMONIO NETO \"&F185&\", del ESTADO DE VARIACIÓN EN LA HACIENDA PÚBLICA (F2), \"&\"es diferente al apartado del EXCESO O INSUFICIENCIA EN LA ACTUALIZACIÓN DE LA HACIENDA PÚBLICA/PATRIMONIO del ESTADO DE CAMBIOS DE LA SITUACIÓN FINANCIERA (F16) en la columna ejercicio \"&F185&\".\")","v":""}]
["8. Validación al estado de flujo de efectivo (F3)",null,{"$f":"IF(ROUND(ABS('F3'!F58),2)=ROUND(ABS('F16'!E8+'F16'!F8),2),\"\",\"8.1. El INCREMENTO/DISMINUCIÓN NETA EN EL EFECTIVO Y EQUIVALENTES del FLUJO DE EFECTIVO (F3) de la columna \"&F185&\", no es igual al que se muestra en el ESTADO DE \"&\"CAMBIOS EN LA SITUACIÓN FINANCIERA (F16) en la fila de EFECTIVO Y EQUIVALENTES de la columna de origen o aplicación.\")","v":"8.1. El INCREMENTO/DISMINUCIÓN NETA EN EL EFECTIVO Y EQUIVALENTES del FLUJO DE EFECTIVO (F3) de la columna 2026, no es igual al que se muestra en el ESTADO DE CAMBIOS EN LA SITUACIÓN FINANCIERA (F16) en la fila de EFECTIVO Y EQUIVALENTES de la columna de origen o aplicación."}]
[null,null,{"$f":"IF(ROUND('F3'!G60,2)=ROUND(F1A!AG8,2),\"\",\"8.2. El EFECTIVO Y EQUIVALENTES AL EFECTIVO AL FINAL DEL EJERCICIO columna \"&F186&\", del ESTADO DE FLUJO DE EFECTIVO (F3), es diferente al saldo del\"&\" rubro de EFECTIVO Y EQUIVALENTES de la columna \"&F185&\" del ESTADO DE SITUACIÓN FINANCIERA (F1A).\")","v":"8.2. El EFECTIVO Y EQUIVALENTES AL EFECTIVO AL FINAL DEL EJERCICIO columna 2025, del ESTADO DE FLUJO DE EFECTIVO (F3), es diferente al saldo del rubro de EFECTIVO Y EQUIVALENTES de la columna 2026 del ESTADO DE SITUACIÓN FINANCIERA (F1A)."}]
[null,null,{"$f":"IF(ROUND('F3'!F60,2)=ROUND(F1A!AF8,2),\"\",\"8.3. El EFECTIVO Y EQUIVALENTES AL EFECTIVO AL FINAL DEL EJERCICIO columna \"&F185&\", del ESTADO DE FLUJO DE EFECTIVO (F3), es diferente al saldo del\"&\" rubro de EFECTIVO Y EQUIVALENTES de la columna \"&F185&\" del ESTADO DE SITUACIÓN FINANCIERA (F1A).\")","v":"8.3. El EFECTIVO Y EQUIVALENTES AL EFECTIVO AL FINAL DEL EJERCICIO columna 2026, del ESTADO DE FLUJO DE EFECTIVO (F3), es diferente al saldo del rubro de EFECTIVO Y EQUIVALENTES de la columna 2026 del ESTADO DE SITUACIÓN FINANCIERA (F1A)."}]
["9. Validación al estado analítico del activo (F5)",null,{"$f":"IF(ROUND('F5'!E6,2)=ROUND(F1A!AG27,2),\"\",\"9.1. El TOTAL DEL ACTIVO del ESTADO ANALÍTICO DEL ACTIVO (F5) en la columna de SALDO INICIAL, es diferente al TOTAL DEL ACTIVO en el ESTADO DE SITUACIÓN FINANCIERA (F1A), en la columna correspondiente al ejercicio \"&F186)","v":""}]
[null,null,{"$f":"IF(ROUND('F5'!H6,2)=ROUND(F1A!AF27,2),\"\",\"9.2. El TOTAL DEL ACTIVO del ESTADO ANALÍTICO DEL ACTIVO (F5) en la columna de SALDO FINAL, es diferente al TOTAL DEL ACTIVO en el ESTADO DE SITUACIÓN FINANCIERA (F1A), en la columna correspondiente al ejercicio \"&F185)","v":""}]
[null,null,{"$f":"IF(ROUND(ABS('F5'!I6),2)=ROUND(ABS('F16'!E6-'F16'!F6),2),\"\",\"9.3. La cifra de la fila del rubro de ACTIVO de la columna de VARIACIÓN DEL PERIODO del ESTADO ANALÍTICO DEL ACTIVO (F5), es diferente a los rubros del ACTIVO en las columnas de ORIGEN O APLICACIÓN del ESTADO DE CAMBIOS EN LA SITUACIÓN FINANCIERA (F16)\")","v":""}]
["10. Validación al estado analítico de la deuda y otros pasivos (F9)",null,{"$f":"IF(ROUND((S57+S58),2)=ROUND(M57,2),\"\",\"10.1. El SALDO AL 1° DE ENERO DE \"&F185&\" con INSTITUCIONES DE CRÉDITO a corto y largo plazo del ESTADO E INFORME ANALÍTICO DE LA DEUDA PÚBLICA Y \"&\"OTROS PASIVOS (F9-EDP), no es igual a la suma de los rubros 2131 y 2233 de la DEUDA PÚBLICA INTERNA POR PAGAR a corto y largo plazo columna ejercicio \"&F186&\" del ESTADO ANALÍTICO DE SITUACIÓN FINANCIERA (F1).\")","v":""}]
[null,null,{"$f":"IF(ROUND((S59+S60),2)=ROUND(M59,2),\"\",\"10.2. El SALDO AL 1° DE ENERO DE \"&F185&\" en TÍTULOS Y VALORES de corto y largo plazo, del ESTADO E INFORME ANALÍTICO DE LA DEUDA PÚBLICA Y OTROS \"&\"PASIVOS (F9-EDP), no es igual a la suma de los rubro 2141 y 2231 TÍTULOS Y VALORES por pagar a corto y largo plazo columna ejercicio \"&F185&\" del ESTADO ANALÍTICO DE SITUACIÓN FINANCIERA (F1).\")","v":""}]
[null,null,{"$f":"IF(ROUND((S61+S62),2)=ROUND(M61,2),\"\",\"10.3. El SALDO AL 1° DE ENERO DE \"&F185&\" en ARRENDAMIENTO FINANCIERO de corto y largo plazo, del ESTADO E INFORME ANALÍTICO DE LA DEUDA PÚBLICA Y \"&\"OTROS PASIVOS (F9-EDP), no es igual a los rubro de2133 Y 2235 ARRENDAMIENTO FINANCIERO por pagar a corto y largo plazo columna ejercicio \"&F186&\" del ESTADO ANALÍTICO DE SITUACIÓN FINANCIERA (F1).\")","v":""}]
[null,null,{"$f":"IF(ROUND(A57,2)=ROUND(G57,2),\"\",\"10.4. El SALDO DEL PERIODO con INSTITUCIONES DE CRÉDITO a corto plazo, del ESTADO E INFORME ANALÍTICO DE LA DEUDA PÚBLICA Y OTROS PASIVOS (F9-EDP), \"&\"no es igual al rubro 2131 PORCIÓN DE LA DEUDA PÚBLICA INTERNA POR PAGAR A CORTO PLAZO columna ejercicio \"&F185&\" del ESTADO ANALÍTICO DE SITUACIÓN FINANCIERA (F1).\")","v":""}]
[null,null,{"$f":"IF(ROUND(A58,2)=ROUND(G58,2),\"\",\"10.5. El SALDO DEL PERIODO con INSTITUCIONES DE CRÉDITO a largo plazo, del ESTADO ANALÍTICO DE LA DEUDA PÚBLICA Y OTROS PASIVOS (F9-EDP), \"&\"no es igual al rubro 2233 de PRÉSTAMOS DE LA DEUDA PÚBLICA INTERNA POR PAGAR A LARGO PLAZO columna ejercicio \"&F185&\" del ESTADO ANALÍTICO DE SITUACIÓN FINANCIERA (F1).\")","v":""}]
[null,null,{"$f":"IF(ROUND(A59,2)=ROUND(G59,2),\"\",\"10.6. El SALDO DEL PERIODO en TÍTULOS Y VALORES a corto plazo, del ESTADO E INFORME ANALÍTICO DE LA DEUDA PÚBLICA Y OTROS PASIVOS (F9-EDP), no es \"&\"igual al rubro 2141 de TÍTULOS Y VALORES DE LA EUDA PÚBLICA INTERNA POR PAGAR A CORTO PLAZO columna ejercicio \"&F185&\" del ESTADO ANALÍTICO DE SITUACIÓN FINANCIERA (F1).\")","v":""}]
[null,null,{"$f":"IF(ROUND(A60,2)=ROUND(G60,2),\"\",\"10.7. El SALDO DEL PERIODO en TÍTULOS Y VALORES a largo plazo, del ESTADO E INFORME ANALÍTICO DE LA DEUDA PÚBLICA Y OTROS PASIVOS (F9-EDP), no es \"&\"igual al rubro 2231 de TÍTULOS Y VALORES DE LA DEUDA PÚBLICA INTERNA POR PAGAR A LARGO PLAZO columna ejercicio \"&F185&\" del ESTADO ANALÍTICO DE SITUACIÓN FINANCIERA (F1).\")","v":""}]
[null,null,{"$f":"IF(ROUND(A61,2)=ROUND(G61,2),\"\",\"10.8. El SALDO DEL PERIODO en ARRENDAMIENTO FINANCIERO a corto plazo, del ESTADO E INFORME ANALÍTICO DE LA DEUDA PÚBLICA Y OTROS PASIVOS\"&\" (F9-EDP), no es igual al rubro 2133 de la PORCIÓN DE ARRENDAMIENTO FINANCIERO DE LA DEUDA PÚBLICA INTERGA POR PAGAR A CORTO PLAZO columna ejercicio \"&F185&\" del ESTADO ANALÍTICO DE SITUACIÓN FINANCIERA (F1).\")","v":""}]
[null,null,{"$f":"IF(ROUND(A62,2)=ROUND(G62,2),\"\",\"10.9. El SALDO DEL PERIODO en ARRENDAMIENTO FINANCIERO A LARGO PLAZO del ESTADO E INFORME ANALÍTICO DE LA DEUDA PÚBLICA Y OTROS PASIVOS (F9-EDP), \"&\"no es igual al rubro 2235 de ARRENDAMIENTO FINANCIERO DE LA DEUDA PÚBLICA INTERNA POR PAGAR A LARGO PLAZO columna ejercicio \"&F185&\" del ESTADO DE SITUACIÓN FINANCIERA (F1).\")","v":""}]
[null,null,{"$f":"IF(ROUND('F9-EDP'!N20,2)=ROUND('F1'!BN80,2),\"\",\"10.10. El TOTAL DE LA DEUDA PÚBLICA Y OTROS PASIVOS al inicio del ejercicio \"&F185&\" del ESTADO E INFORME ANALÍTICO DE LA DEUDA PÚBLICA Y OTROS PASIVOS (F9-EDP), \"&\"no es igua al TOTAL DEL PASIVO columna del ejercicio \"&F186&\" del ESTADO DE SITUACIÓN FINANCIERA (F1).\")","v":""}]
[null,null,{"$f":"IF(ROUND('F9-EDP'!AP20,2)=ROUND('F1'!BM80,2),\"\",\"10.11. El TOTAL DE LA DEUDA PÚBLICA Y OTROS PASIVOS del ejercicio \"&F185&\" del ESTADO E INFORME ANALÍTICO DE LA DEUDA PÚLICA Y OTROS PASIVOS (F9-EDP), no es igua al TOTAL DEL PASIVO columna del ejercicio \"&F185&\" en el ESTADO DE SITUACIÓN FINANCIERA (F1).\")","v":""}]
["11. Validación flujo contable de ingresos y egresos (F12)",null,{"$f":"IF(ROUND('F7'!C17,2)=ROUND('F12'!C17,2),\"\",\"11.1. El TOTAL DE INGRESOS momento ESTIMADO del ESTADO ANALÍTICO DE INGRESOS (F7),\"&\" no es igual al TOTAL INGRESOS del FLUJO CONTABLE DE INGRESOS Y EGRESOS (F12) columna ESTIMADO.\")","v":""}]
[null,null,{"$f":"IF(ROUND('F7'!D17,2)=ROUND('F12'!D17,2),\"\",\"11.2. El TOTAL DE INGRESOS de la AMPLIACIONES Y REDUCCIONES del ESTADO ANALÍTICO DE INGRESOS (F7),\"&\" no es igual al TOTAL INGRESOS del FLUJO CONTABLE DE INGRESOS Y EGRESOS (F12) columna AMPLIACIÓN Y REDUCCIÓN.\")","v":""}]
[null,null,{"$f":"IF(ROUND('F7'!F17,2)=ROUND('F12'!F17,2),\"\",\"11.3. El TOTAL DE INGRESOS del momento DEVENGADO del ESTADO ANALÍTICO DE INGRESOS (F7),\"&\" no es igual al TOTAL INGRESOS del FLUJO CONTABLE DE INGRESOS Y EGRESOS (F12) columna DEVENGADO.\")","v":""}]
[null,null,{"$f":"IF(ROUND('F8'!C80,2)=ROUND('F12'!C30,2),\"\",\"11.4. El TOTAL DE EGRESOS del momento APROBADO del ESTADO ANALÍTICO DEL EJERCICIO DEL PRESUPUESTO DE EGRESOS (F8),\"&\" no es igual al TOTAL DE EGRESOS del FLUJO CONTABLE DE INGRESOS Y EGRESOS (F12) columna APROBADO.\")","v":""}]
[null,null,{"$f":"IF(ROUND('F8'!D80,2)=ROUND('F12'!D30,2),\"\",\"11.5. El TOTAL DE EGRESOS de las AMPLIACIONES Y REDUCCIONES del ESTADO ANALÍTICO DEL EJERCICIO DEL PRESUPUESTO DE EGRESOS (F8),\"&\" no es igual al TOTAL EGRESOS del FLUJO CONTABLE DE INGRESOS Y EGRESOS (F12) columna AMPLIACIÓN Y REDUCCIÓN.\")","v":""}]
[null,null,{"$f":"IF(ROUND('F8'!F80,2)=ROUND('F12'!F30,2),\"\",\"11.6. El TOTAL DE EGRESOS del momento DEVENGADO del ESTADO ANALÍTICO DEL EJERCICIO DEL PRESUPUESTO DE EGRESOS (F8),\"&\" no es igual al TOTAL EGRESOS del FLUJO CONTABLE DE INGRESOS Y EGRESOS (F12) columna DEVENGADO.\")","v":""}]
["12. Validación Estado Analítico del Ingreso - LDF (F7B)",null,{"$f":"IF(ROUND('F7'!C17,2)=ROUND(F7B!C64,2),\"\",\"12.1. El TOTAL DE INGRESOS del momento ESTIMADO del ESTADO ANALÍTICO DE INGRESOS DETALLADO - LDF (F7B),\"&\" no es igual al ESTADO ANALÍTICO DE INGRESOS (F7) columna ESTIMADO.\")","v":""}]
[null,null,{"$f":"IF(ROUND('F7'!D17,2)=ROUND(F7B!D64,2),\"\",\"12.2. El TOTAL DE INGRESOS del momento MODIFICADO del ESTADO ANALÍTICO DE INGRESOS DETALLADO - LDF (F7B),\"&\" no es igual al ESTADO ANALÍTICO DE INGRESOS (F7) columna MODIFICADO.\")","v":""}]
[null,null,{"$f":"IF(ROUND('F7'!F17,2)=ROUND(F7B!F64,2),\"\",\"12.3. El TOTAL DE INGRESOS del momento DEVENGADO del ESTADO ANALÍTICO DE INGRESOS DETALLADO - LDF (F7B),\"&\" no es igual al ESTADO ANALÍTICO DE INGRESOS (F7) columna DEVENGADO.\")","v":""}]
[null,null,{"$f":"IF(ROUND('F7'!G17,2)=ROUND(F7B!G64,2),\"\",\"12.4. El TOTAL DE INGRESOS del momento RECAUDADO del ESTADO ANALÍTICO DE INGRESOS DETALLADO - LDF (F7B),\"&\" no es igual al ESTADO ANALÍTICO DE INGRESOS (F7) columna RECAUDADO.\")","v":""}]
[null,null,{"$f":"IF(ROUND(F7B!C39,2)+ROUND(F7B!C68,2)=ROUND(F8B!D7,2),\"\",\"12.5. No existe equilibro entre los ingresos ESTIMADO de recursos no etiquetados del ESTADO ANALÍTICO DE INGRESOS DETALLADO - LDF (F7B),\"&\" y el ESTADO ANALÍTICO DEL EJERCICIO DEL PRESUPUESTO DE EGRESOS DETALLADO - LDF (F8B) columna APROBADO de recurso no etiquetado.\")","v":""}]
[null,null,{"$f":"IF(ROUND(F7B!C61,2)=ROUND(F8B!D81,2),\"\",\"12.6. No existe equilibrio entre los ingresos ESTIMADO de recursos etiquetados del ESTADO ANALÍTICO DE INGRESOS DETALLADO - LDF (F7B),\"&\" y el ESTADO ANALÍTICO DEL EJERCICIO DEL PRESUPUESTO DE EGRESOS DETALLADO - LDF (F8B) columna APROBADO de recurso etiquetado.\")","v":""}]
[null,null,{"$f":"IF(ROUND(F7B!F39,2)>0,IF(ROUND(F8B!G7,2)>0,\"\",\"12.7. Se tiene ingresos DEVENGADO de recursos no etiquetados en el ESTADO ANALÍTICO DE INGRESOS DETALLADO - LDF (F7B),\"&\" y en el ESTADO ANALÍTICO DEL EJERCICIO DEL PRESUPUESTO DE EGRESOS DETALLADO - LDF (F8B) columna DEVENGADO no existen erogaciones con recursos no etiquetados.\"),\"\")","v":""}]
[null,null,{"$f":"IF(ROUND(F7B!F61,2)>0,IF(ROUND(F8B!G81,2)>0,\"\",\"12.8. Se tiene ingresos DEVENGADO de recursos etiquetados en el ESTADO ANALÍTICO DE INGRESOS DETALLADO - LDF (F7B),\"&\" y en el ESTADO ANALÍTICO DEL EJERCICIO DEL PRESUPUESTO DE EGRESOS DETALLADO - LDF (F8B) columna DEVENGADO no existe erogaciones con recursos etiquetados.\"),\"\")","v":""}]
["13. Validación Estado Analítico del Egreso (COG) - LDF (F8B)",null,{"$f":"IF(ROUND(F8B!D155,2)=ROUND('F8'!C80,2),\"\",\"13.1. El TOTAL DEL GASTO en lo correspondiente al APROBADO del ESTADO ANALÍTICO DEL EJERCICIO DEL PRESUPUESTO DE EGRESOS DETALLADO - LDF (F8B),\"&\" no es igual al ESTADO ANALÍTICO DEL EJERCICIO DEL PRESUPUESTO DE EGRESOS (F8) columna APROBADO.\")","v":""}]
[null,null,{"$f":"IF(ROUND(F8B!F155,2)=ROUND('F8'!E80,2),\"\",\"13.2. El TOTAL DEL GASTO en lo correspondiente al MODIFICADO del ESTADO ANALÍTICO DEL EJERCICIO DEL PRESUPUESTO DE EGRESOS DETALLADO - LDF (F8B),\"&\" no es igual al ESTADO ANALÍTICO DEL EJERCICIO DEL PRESUPUESTO DE EGRESOS (F8) columna MODIFICADO.\")","v":""}]
[null,null,{"$f":"IF(ROUND(F8B!G155,2)=ROUND('F8'!F80,2),\"\",\"13.3. El TOTAL DEL GASTO en lo correspondiente al DEVENGADO del ESTADO ANALÍTICO DEL EJERCICIO DEL PRESUPUESTO DE EGRESOS DETALLADO - LDF (F8B),\"&\" no es igual al ESTADO ANALÍTICO DEL EJERCICIO DEL PRESUPUESTO DE EGRESOS (F8) columna DEVENGADO.\")","v":""}]
[null,null,{"$f":"IF(ROUND(F8B!H155,2)=ROUND('F8'!G80,2),\"\",\"13.4. El TOTAL DEL GASTO en lo correspondiente al PAGADO del ESTADO ANALÍTICO DEL EJERCICIO DEL PRESPUESTO DE EGRESOS DETALLADO - LDF (F8B),\"&\" no es igual al ESTADO ANALÍTICO DEL EJERCICIO DEL PRESPUESTO DE EGRESOS (F8) columna PAGADO.\")","v":""}]
["14. Validación Estado Analítico del Egreso (CF) -  (F19A)",null,{"$f":"IF(ROUND(F19A!D76,2)=ROUND('F19'!C40,2),\"\",\"14.1. El TOTAL DEL GASTO en lo correspondiente al APROBADO del ESTADO ANALÍTICO DEL EJERCICIO DEL PRESUPUESTO DE EGRESOS DETALLADO - LDF (F19A),\"&\" no es igual al ESTADO ANALÍTICO DEL EJERCICIO DEL PRESUPUESTO DE EGRESOS (F19) columna APROBADO.\")","v":""}]
[null,null,{"$f":"IF(ROUND(F19A!F76,2)=ROUND('F19'!E40,2),\"\",\"14.2. El TOTAL DEL GASTO en lo correspondiente al MODIFICADO del ESTADO ANALÍTICO DEL EJERCICIO DEL PRESUPUESTO DE EGRESOS DETALLADO - LDF (F19A),\"&\" no es igual al ESTADO ANALÍTICO DEL EJERCICIO DEL PRESUPUESTO DE EGRESOS (F19) columna MODIFICADO.\")","v":""}]
[null,null,{"$f":"IF(ROUND(F19A!G76,2)=ROUND('F19'!F40,2),\"\",\"14.3. El TOTAL DEL GASTO en lo correspondiente al DEVENGADO del ESTADO ANALÍTICO DEL EJERCICIO DEL PRESUPUESTO DE EGRESOS DETALLADO - LDF (F19A),\"&\" no es igual al ESTADO ANALÍTICO DEL EJERCICIO DEL PRESUPUESTO DE EGRESOS (F19) columna DEVENGADO.\")","v":""}]
[null,null,{"$f":"IF(ROUND(F19A!H76,2)=ROUND('F19'!G40,2),\"\",\"14.4. El TOTAL DEL GASTO en lo correspondiente al PAGADO del ESTADO ANALÍTICO DEL EJERCICIO DEL PRESUPUESTO DE EGRESO DETALLADO - LDF (F19A),\"&\" no es igual al ESTADO ANALÍTICO DEL EJERCICIO DEL PRESUPUESTO DE EGRESOS (F19) columna PAGADO.\")","v":""}]
[null,null,{"$f":"IF(ROUND(F19A!$D$8,2)=ROUND(F8B!$D$7,2),\"\",\"14.5. El TOTAL DEL GASTO NO ETIQUETADO en lo correspondiente al APROBADO del ESTADO ANALÍTICO DEL EJERCICIO DEL PRESUPUESTO DE EGRESO DETALLADO - LDF (F19A),\"&\" no es igual al TOTAL DEL GASTO NO ETIQUETADO en el momento APROBADO del ESTADO ANALÍTICO DEL EJERCICIO DEL PRESUPUESTO DE EGRESOS (F8B).\")","v":""}]
[null,null,{"$f":"IF(ROUND(F19A!$F$8,2)=ROUND(F8B!$F$7,2),\"\",\"14.6. El TOTAL DEL GASTO NO ETIQUETADO en lo correspondiente al MODIFICADO del ESTADO ANALÍTICO DEL EJERCICIO DEL PRESUPUESTO DE EGRESO DETALLADO - LDF (F19A),\"&\" no es igual al TOTAL DEL GASTO NO ETIQUETADO en el momento MODIFICADO del ESTADO ANALÍTICO DEL EJERCICIO DEL PRESUPUESTO DE EGRESOS (F8B).\")","v":""}]
[null,null,{"$f":"IF(ROUND(F19A!$G$8,2)=ROUND(F8B!$G$7,2),\"\",\"14.7. El TOTAL DEL GASTO NO ETIQUETADO en lo correspondiente al DEVENGADO del ESTADO ANALÍTICO DEL EJERCICIO DEL PRESUPUESTO DE EGRESO DETALLADO - LDF (F19A),\"&\" no es igual al TOTAL DEL GASTO NO ETIQUETADO en el momento DEVENGADO del ESTADO ANALÍTICO DEL EJERCICIO DEL PRESUPUESTO DE EGRESOS (F8B).\")","v":""}]
[null,null,{"$f":"IF(ROUND(F19A!$H$8,2)=ROUND(F8B!$H$7,2),\"\",\"14.8. El TOTAL DEL GASTO NO ETIQUETADO en lo correspondiente al PAGADO del ESTADO ANALÍTICO DEL EJERCICIO DEL PRESUPUESTO DE EGRESO DETALLADO - LDF (F19A),\"&\" no es igual al TOTAL DEL GASTO NO ETIQUETADO en el momento PAGADO del ESTADO ANALÍTICO DEL EJERCICIO DEL PRESUPUESTO DE EGRESOS (F8B).\")","v":""}]
[null,null,{"$f":"IF(ROUND(F19A!$D$42,2)=ROUND(F8B!$D$81,2),\"\",\"14.9. El TOTAL DEL GASTO ETIQUETADO en lo correspondiente al APROBADO del ESTADO ANALÍTICO DEL EJERCICIO DEL PRESUPUESTO DE EGRESO DETALLADO - LDF (F19A),\"&\" no es igual al TOTAL DEL GASTO ETIQUETADO en el momento APROBADO del ESTADO ANALÍTICO DEL EJERCICIO DEL PRESUPUESTO DE EGRESOS (F8B).\")","v":""}]
[null,null,{"$f":"IF(ROUND(F19A!$F$42,2)=ROUND(F8B!$F$81,2),\"\",\"14.10. El TOTAL DEL GASTO ETIQUETADO en lo correspondiente al MODIFICADO del ESTADO ANALÍTICO DEL EJERCICIO DEL PRESUPUESTO DE EGRESO DETALLADO - LDF (F19A),\"&\" no es igual al TOTAL DEL GASTO ETIQUETADO en el momento MODIFICADO del ESTADO ANALÍTICO DEL EJERCICIO DEL PRESUPUESTO DE EGRESOS (F8B).\")","v":""}]
[null,null,{"$f":"IF(ROUND(F19A!$G$42,2)=ROUND(F8B!$G$81,2),\"\",\"14.11. El TOTAL DEL GASTO ETIQUETADO en lo correspondiente al DEVENGADO del ESTADO ANALÍTICO DEL EJERCICIO DEL PRESUPUESTO DE EGRESO DETALLADO - LDF (F19A),\"&\" no es igual al TOTAL DEL GASTO ETIQUETADO en el momento DEVENGADO del ESTADO ANALÍTICO DEL EJERCICIO DEL PRESUPUESTO DE EGRESOS (F8B).\")","v":""}]
[null,null,{"$f":"IF(ROUND(F19A!$H$42,2)=ROUND(F8B!$H$81,2),\"\",\"14.12. El TOTAL DEL GASTO ETIQUETADO en lo correspondiente al PAGADO del ESTADO ANALÍTICO DEL EJERCICIO DEL PRESUPUESTO DE EGRESO DETALLADO - LDF (F19A),\"&\" no es igual al TOTAL DEL GASTO ETIQUETADO en el momento PAGADO del ESTADO ANALÍTICO DEL EJERCICIO DEL PRESUPUESTO DE EGRESOS (F8B).\")","v":""}]
["15. Validación Estado Analítico del Egreso (CA) - LDF (F18A)",null,{"$f":"IF(ROUND(F18A!B62,2)=ROUND('F18'!B58,2),\"\",\"15.1. El TOTAL DEL GASTO del momento APROBADO del ESTADO ANALÍTICO DEL EJERCICIO DEL PRESUPUESTO DE EGRESOS DETALLADO - LDF (F18A),\"&\" no es igual al ESTADO ANALÍTICO DEL EJERCICIO DEL PRESUPUESTO DE EGRESOS (F18) columna APROBADO.\")","v":""}]
[null,null,{"$f":"IF(ROUND(F18A!C62,2)=ROUND('F18'!C58,2),\"\",\"15.2. El  TOTAL DEL GASTO del momento MODIFICADO del ESTADO ANALÍTICO DEL EJERCICIO DEL PRESUPUESTO DE EGRESOS DETALLADO - LDF (F18A),\"&\" no es igual al ESTADO ANALÍTICO DEL EJERCICIO DEL PRESUPUESTO DE EGRESOS (F18) columna MODIFICADO.\")","v":""}]
[null,null,{"$f":"IF(ROUND(F18A!E62,2)=ROUND('F18'!E58,2),\"\",\"15.3. El TOTAL DEL GASTO del momento DEVENGADO del ESTADO ANALÍTICO DEL EJERCICIO DEL PRESUPUESTO DE EGRESOS DETALLADO - LDF (F18A),\"&\" no es igual al ESTADO ANALÍTICO DEL EJERCICIO DEL PRESUPUESTO DE EGRESOS (F18) columna DEVENGADO.\")","v":""}]
[null,null,{"$f":"IF(ROUND(F18A!F62,2)=ROUND('F18'!F58,2),\"\",\"15.4. El TOTAL DEL GASTO del momento PAGADO del ESTADO ANALÍTICO DEL EJERCICIO DEL PRESUPUESTO DE EGRESOS DETALLADO - LDF (F18A),\"&\" no es igual al ESTADO ANALÍTICO DEL EJERCICIO DEL PRESUPUESTO DE EGRESOS (F18) columna PAGADO.\")","v":""}]
[null,null,{"$f":"IF(ROUND(F18A!$B$8,2)=ROUND(F8B!$D$7,2),\"\",\"15.5. El TOTAL DEL GASTO NO ETIQUETADO en lo correspondiente al APROBADO del ESTADO ANALÍTICO DEL EJERCICIO DEL PRESUPUESTO DE EGRESO DETALLADO - LDF (F18A),\"&\" no es igual al TOTAL DEL GASTO NO ETIQUETADO en el momento APROBADO del ESTADO ANALÍTICO DEL EJERCICIO DEL PRESUPUESTO DE EGRESOS (F8B).\")","v":""}]
[null,null,{"$f":"IF(ROUND(F18A!$D$8,2)=ROUND(F8B!$F$7,2),\"\",\"15.6. El TOTAL DEL GASTO NO ETIQUETADO en lo correspondiente al MODIFICADO del ESTADO ANALÍTICO DEL EJERCICIO DEL PRESUPUESTO DE EGRESO DETALLADO - LDF (F18A),\"&\" no es igual al TOTAL DEL GASTO NO ETIQUETADO en el momento MODIFICADO del ESTADO ANALÍTICO DEL EJERCICIO DEL PRESUPUESTO DE EGRESOS (F8B).\")","v":""}]
[null,null,{"$f":"IF(ROUND(F18A!$E$8,2)=ROUND(F8B!$G$7,2),\"\",\"15.7. El TOTAL DEL GASTO NO ETIQUETADO en lo correspondiente al DEVENGADO del ESTADO ANALÍTICO DEL EJERCICIO DEL PRESUPUESTO DE EGRESO DETALLADO - LDF (F18A),\"&\" no es igual al TOTAL DEL GASTO NO ETIQUETADO en el momento DEVENGADO del ESTADO ANALÍTICO DEL EJERCICIO DEL PRESUPUESTO DE EGRESOS (F8B).\")","v":""}]
[null,null,{"$f":"IF(ROUND(F18A!$F8,2)=ROUND(F8B!$H$7,2),\"\",\"15.8. El TOTAL DEL GASTO NO ETIQUETADO en lo correspondiente al PAGADO del ESTADO ANALÍTICO DEL EJERCICIO DEL PRESUPUESTO DE EGRESO DETALLADO - LDF (F18A),\"&\" no es igual al TOTAL DEL GASTO NO ETIQUETADO en el momento PAGADO del ESTADO ANALÍTICO DEL EJERCICIO DEL PRESUPUESTO DE EGRESOS (F8B).\")","v":""}]
[null,null,{"$f":"IF(ROUND(F18A!$B$35,2)=ROUND(F8B!$D$81,2),\"\",\"15.9. El TOTAL DEL GASTO ETIQUETADO en lo correspondiente al APROBADO del ESTADO ANALÍTICO DEL EJERCICIO DEL PRESUPUESTO DE EGRESO DETALLADO - LDF (F18A),\"&\" no es igual al TOTAL DEL GASTO ETIQUETADO en el momento APROBADO del ESTADO ANALÍTICO DEL EJERCICIO DEL PRESUPUESTO DE EGRESOS (F8B).\")","v":""}]
[null,null,{"$f":"IF(ROUND(F18A!$D$35,2)=ROUND(F8B!$F$81,2),\"\",\"15.10. El TOTAL DEL GASTO ETIQUETADO en lo correspondiente al MODIFICADO del ESTADO ANALÍTICO DEL EJERCICIO DEL PRESUPUESTO DE EGRESO DETALLADO - LDF (F18A),\"&\" no es igual al TOTAL DEL GASTO ETIQUETADO en el momento MODIFICADO del ESTADO ANALÍTICO DEL EJERCICIO DEL PRESUPUESTO DE EGRESOS (F8B).\")","v":""}]
[null,null,{"$f":"IF(ROUND(F18A!$E$35,2)=ROUND(F8B!$G$81,2),\"\",\"15.11. El TOTAL DEL GASTO ETIQUETADO en lo correspondiente al DEVENGADO del ESTADO ANALÍTICO DEL EJERCICIO DEL PRESUPUESTO DE EGRESO DETALLADO - LDF (F18A),\"&\" no es igual al TOTAL DEL GASTO ETIQUETADO en el momento DEVENGADO del ESTADO ANALÍTICO DEL EJERCICIO DEL PRESUPUESTO DE EGRESOS (F8B).\")","v":""}]
[null,null,{"$f":"IF(ROUND(F18A!$F$35,2)=ROUND(F8B!$H$81,2),\"\",\"15.12. El TOTAL DEL GASTO ETIQUETADO en lo correspondiente al PAGADO del ESTADO ANALÍTICO DEL EJERCICIO DEL PRESUPUESTO DE EGRESO DETALLADO - LDF (F18A),\"&\" no es igual al TOTAL DEL GASTO ETIQUETADO en el momento PAGADO del ESTADO ANALÍTICO DEL EJERCICIO DEL PRESUPUESTO DE EGRESOS (F8B).\")","v":""}]
["16. Validación Balance Presupuestario - LDF (F22)",null,{"$f":"IF(ROUND(SUM('F22'!E7:E8)+('F22'!E27),2)=ROUND('F7'!C17,2),\"\",\"16.1. El importe de INGRESOS TOTALES del momento ESTIMADO del BALANCE PRESUPUESTARIO - LDF (F22),\"&\" no es igual al ESTADO ANALÍTICO DE INGRESOS (F7) columna ESTIMADO.\")","v":""}]
[null,null,{"$f":"IF(ROUND(SUM('F22'!F7:F8)+('F22'!F27),2)=ROUND('F7'!F17,2),\"\",\"16.2. El importe de INGRESOS TOTALES del momento DEVENGADO del BALANCE PRESUPUESTARIO - LDF (F22),\"&\" no es igual al ESTADO ANALÍTICO DE INGRESOS (F7) columna DEVENGADO.\")","v":""}]
[null,null,{"$f":"IF(ROUND(SUM('F22'!G7:G8)+('F22'!G27),2)=ROUND('F7'!G17,2),\"\",\"16.3. El importe de INGRESOS TOTALES del momento RECAUDADO del BALANCE PRESUPUESTARIO - LDF (F22),\"&\" no es igual al ESTADO ANALÍTICO DE INGRESOS (F7) columna RECAUDADO.\")","v":""}]
[null,null,{"$f":"IF(ROUND(('F22'!E10+'F22'!E30),2)=ROUND('F8'!C80,2),\"\",\"16.4. El importe de EGRESOS PRESUPUESTARIOS del momento APROBADO del BALANCE PRESUPUESTARIO - LDF (F22),\"&\" no es igual al ESTADO ANALÍTICO DEL EJERCICIO DEL PRESUPUESTO DE EGRESOS (F8) columna APROBADO.\")","v":""}]
[null,null,{"$f":"IF(ROUND(('F22'!F10+'F22'!F30),2)=ROUND('F8'!F80,2),\"\",\"16.5. El importe de EGRESOS PRESUPUESTARIOS del momento DEVENGADO del BALANCE PRESUPUESTARIO - LDF (F22),\"&\" no es igual al ESTADO ANALÍTICO DEL EJERCICIO DEL PRESUPUESTO DE EGRESOS (F8) columna DEVENGADO.\")","v":""}]
[null,null,{"$f":"IF(ROUND(('F22'!G10+'F22'!G30),2)=ROUND('F8'!G80,2),\"\",\"16.6. El importe de EGRESOS PRESUPUESTARIOS del momento PAGADO del BALANCE PRESUPUESTARIO - LDF (F22),\"&\" no es igual al ESTADO ANALÍTICO DEL EJERCICIO DEL PRESUPUESTO DE EGRESOS (F8) columna PAGADO.\")","v":""}]
["17. Validación Avance de programas y/o procesos concluidos (F13)",null,{"$f":"IF(ROUND('F13'!$P$6,2)=ROUND('F12'!$E$21,2),\"\",\"17.1. El total del CAPÍTULO 1000 del AVANCE DE PROGRAMAS Y/O PROCESOS CONCLUIDOS (F13),\"&\" no es igual al informado en el FLUJO CONTABLE DE INGRESOS Y EGRESOS (F12) columna MODIFICADO.\")","v":""}]
[null,null,{"$f":"IF(ROUND('F13'!$Q$6,2)=ROUND('F12'!$E$22,2),\"\",\"17.2. El total del CAPÍTULO 2000 del AVANCE DE PROGRAMAS Y/O PROCESOS CONCLUIDOS (F13),\"&\" no es igual al informado en el FLUJO CONTABLE DE INGRESOS Y EGRESOS (F12) columna MODIFICADO.\")","v":""}]
[null,null,{"$f":"IF(ROUND('F13'!$R$6,2)=ROUND('F12'!$E$23,2),\"\",\"17.3. El total del CAPÍTULO 3000 del AVANCE DE PROGRAMAS Y/O PROCESOS CONCLUIDOS (F13),\"&\" no es igual al informado en el FLUJO CONTABLE DE INGRESOS Y EGRESOS (F12) columna MODIFICADO.\")","v":""}]
[null,null,{"$f":"IF(ROUND('F13'!$S$6,2)=ROUND('F12'!$E$24,2),\"\",\"17.4. El total del CAPÍTULO 4000 del AVANCE DE PROGRAMAS Y/O PROCESOS CONCLUIDOS (F13),\"&\" no es igual al informado en el FLUJO CONTABLE DE INGRESOS Y EGRESOS (F12) columna MODIFICADO.\")","v":""}]
[null,null,{"$f":"IF(ROUND('F13'!$T$6,2)=ROUND('F12'!$E$25,2),\"\",\"17.5. El total del CAPÍTULO 5000 del AVANCE DE PROGRAMAS Y/O PROCESOS CONCLUIDOS (F13),\"&\" no es igual al informado en el FLUJO CONTABLE DE INGRESOS Y EGRESOS (F12) columna MODIFICADO.\")","v":""}]
[null,null,{"$f":"IF(ROUND('F13'!$U$6,2)=ROUND('F12'!$E$26,2),\"\",\"17.6. El total del CAPÍTULO 6000 del AVANCE DE PROGRAMAS Y/O PROCESOS CONCLUIDOS (F13),\"&\" no es igual al informado en el FLUJO CONTABLE DE INGRESOS Y EGRESOS (F12) columna MODIFICADO.\")","v":""}]
[null,null,{"$f":"IF(ROUND('F13'!$V$6,2)=ROUND('F12'!$E$27,2),\"\",\"17.7. El total del CAPÍTULO 7000 del AVANCE DE PROGRAMAS Y/O PROCESOS CONCLUIDOS (F13),\"&\" no es igual al informado en el FLUJO CONTABLE DE INGRESOS Y EGRESOS (F12) columna MODIFICADO.\")","v":""}]
[null,null,{"$f":"IF(ROUND('F13'!$W$6,2)=ROUND('F12'!$E$28,2),\"\",\"17.8. El total del CAPÍTULO 8000 del AVANCE DE PROGRAMAS Y/O PROCESOS CONCLUIDOS (F13),\"&\" no es igual al informado en el FLUJO CONTABLE DE INGRESOS Y EGRESOS (F12) columna MODIFICADO.\")","v":""}]
[null,null,{"$f":"IF(ROUND('F13'!$X$6,2)=ROUND('F12'!$E$29,2),\"\",\"17.9. El total del CAPÍTULO 9000 del AVANCE DE PROGRAMAS Y/O PROCESOS CONCLUIDOS (F13),\"&\" no es igual al informado en el FLUJO CONTABLE DE INGRESOS Y EGRESOS (F12) columna MODIFICADO.\")","v":""}]
[null,null,{"$f":"IF(ROUND('F13'!$AA$6,2)=ROUND('F12'!$F$21,2),\"\",\"17.10. El total del CAPÍTULO 1000 del AVANCE DE PROGRAMAS Y/O PROCESOS CONCLUIDOS (F13),\"&\" no es igual al informado en el FLUJO CONTABLE DE INGRESOS Y EGRESOS (F12) columna DEVENGADO.\")","v":""}]
[null,null,{"$f":"IF(ROUND('F13'!$AB$6,2)=ROUND('F12'!$F$22,2),\"\",\"17.11. El total del CAPÍTULO 2000 del AVANCE DE PROGRAMAS Y/O PROCESOS CONCLUIDOS (F13),\"&\" no es igual al informado en el FLUJO CONTABLE DE INGRESOS Y EGRESOS (F12) columna DEVENGADO.\")","v":""}]
[null,null,{"$f":"IF(ROUND('F13'!$AC$6,2)=ROUND('F12'!$F$23,2),\"\",\"17.12. El total del CAPÍTULO 3000 del AVANCE DE PROGRAMAS Y/O PROCESOS CONCLUIDOS (F13),\"&\" no es igual al informado en el FLUJO CONTABLE DE INGRESOS Y EGRESOS (F12) columna DEVENGADO.\")","v":""}]
[null,null,{"$f":"IF(ROUND('F13'!$AD$6,2)=ROUND('F12'!$F$24,2),\"\",\"17.13. El total del CAPÍTULO 4000 del AVANCE DE PROGRAMAS Y/O PROCESOS CONCLUIDOS (F13),\"&\" no es igual al informado en el FLUJO CONTABLE DE INGRESOS Y EGRESOS (F12) columna DEVENGADO.\")","v":""}]
[null,null,{"$f":"IF(ROUND('F13'!$AE$6,2)=ROUND('F12'!$F$25,2),\"\",\"17.14. El total del CAPÍTULO 5000 del AVANCE DE PROGRAMAS Y/O PROCESOS CONCLUIDOS (F13),\"&\" no es igual al informado en el FLUJO CONTABLE DE INGRESOS Y EGRESOS (F12) columna DEVENGADO.\")","v":""}]
[null,null,{"$f":"IF(ROUND('F13'!$AF$6,2)=ROUND('F12'!$F$26,2),\"\",\"17.15. El total del CAPÍTULO 6000 del AVANCE DE PROGRAMAS Y/O PROCESOS CONCLUIDOS (F13),\"&\" no es igual al informado en el FLUJO CONTABLE DE INGRESOS Y EGRESOS (F12) columna DEVENGADO.\")","v":""}]
[null,null,{"$f":"IF(ROUND('F13'!$AG$6,2)=ROUND('F12'!$F$27,2),\"\",\"17.16. El total del CAPÍTULO 7000 del AVANCE DE PROGRAMAS Y/O PROCESOS CONCLUIDOS (F13),\"&\" no es igual al informado en el FLUJO CONTABLE DE INGRESOS Y EGRESOS (F12) columna DEVENGADO.\")","v":""}]
[null,null,{"$f":"IF(ROUND('F13'!$AH$6,2)=ROUND('F12'!$F$28,2),\"\",\"17.17. El total del CAPÍTULO 8000 del AVANCE DE PROGRAMAS Y/O PROCESOS CONCLUIDOS (F13),\"&\" no es igual al informado en el FLUJO CONTABLE DE INGRESOS Y EGRESOS (F12) columna DEVENGADO.\")","v":""}]
[null,null,{"$f":"IF(ROUND('F13'!$AI$6,2)=ROUND('F12'!$F$29,2),\"\",\"17.18. El total del CAPÍTULO 9000 del AVANCE DE PROGRAMAS Y/O PROCESOS CONCLUIDOS (F13),\"&\" no es igual al informado en el FLUJO CONTABLE DE INGRESOS Y EGRESOS (F12) columna DEVENGADO.\")","v":""}]
[]
[null,"Acatic","ENERO",{"$f":"\"31 de Enero de \"&F185","v":"31 de Enero de 2026"},{"$f":"\"Del 1° al 31 de Enero de \"&F185","v":"Del 1° al 31 de Enero de 2026"},2026,{"$nulls":13},"Indicaciones para actualizar el archivo de importar de cada año:"]
[null,"Acatlán de Juárez","FEBRERO",{"$f":"\"28 de Febrero de \"&F185","v":"28 de Febrero de 2026"},{"$f":"\"Del 1° al 28 de Febrero de \"&F185","v":"Del 1° al 28 de Febrero de 2026"},2025,{"$nulls":14},"Actualizar el catálogo de entidades"]
[null,"Administración de Estacionómetros para la Asistencia Social del Municipio de Zapotlán el Grande","MARZO",{"$f":"\"31 de Marzo de \"&F185","v":"31 de Marzo de 2026"},{"$f":"\"Del 1° al 31 de Marzo de \"&F185","v":"Del 1° al 31 de Marzo de 2026"},{"$nulls":15},"Cambiar conforme a los días de febrero"]
[null,"Agencia Metropolitana de Bosques Urbanos del Área Metropolitana de Guadalajara ","ABRIL",{"$f":"\"30 de Abril de \"&F185","v":"30 de Abril de 2026"},{"$f":"\"Del 1° al 30 de Abril de \"&F185","v":"Del 1° al 30 de Abril de 2026"},{"$nulls":15},"Corresponde el primero al año de la cuenta y el segundo al anterior"]
[null,"Agencia Metropolitana de Servicios de Infraestructura para la Movilidad del Área Metropolitana de Guadalajara ","MAYO",{"$f":"\"31 de Mayo de \"&F185","v":"31 de Mayo de 2026"},{"$f":"\"Del 1° al 31 de Mayo de \"&F185","v":"Del 1° al 31 de Mayo de 2026"}]
[null,"Agua y Saneamiento del Municipio de Tepatitlán (ASTEPA)","JUNIO, 1er. Informe de Avance de Gestión Financiera y Corte Semestral",{"$f":"\"30 de Junio de \"&F185","v":"30 de Junio de 2026"},{"$f":"\"Del 1° al 30 de Junio de \"&F185","v":"Del 1° al 30 de Junio de 2026"}]
[null,"Ahualulco de Mercado","JULIO",{"$f":"\"31 de Julio de \"&F185","v":"31 de Julio de 2026"},{"$f":"\"Del 1° al 31 de Julio de \"&F185","v":"Del 1° al 31 de Julio de 2026"}]
[null,"Albergue Las Cuadritas \"Fray Antonio Alcalde\"","AGOSTO",{"$f":"\"31 de Agosto de \"&F185","v":"31 de Agosto de 2026"},{"$f":"\"Del 1° al 31 de Agosto de \"&F185","v":"Del 1° al 31 de Agosto de 2026"}]
[null,"Amacueca","SEPTIEMBRE",{"$f":"\"30 de Septiembre de \"&F185","v":"30 de Septiembre de 2026"},{"$f":"\"Del 1° al 30 de Septiembre de \"&F185","v":"Del 1° al 30 de Septiembre de 2026"}]
[null,"Amatitán","OCTUBRE",{"$f":"\"31 de Octubre de \"&F185","v":"31 de Octubre de 2026"},{"$f":"\"Del 1° al 31 de Octubre de \"&F185","v":"Del 1° al 31 de Octubre de 2026"}]
[null,"Ameca","NOVIEMBRE",{"$f":"\"30 de Noviembre de \"&F185","v":"30 de Noviembre de 2026"},{"$f":"\"Del 1° al 30 de Noviembre de \"&F185","v":"Del 1° al 30 de Noviembre de 2026"}]
[null,"Arandas","DICIEMBRE, 2do. Informe de Avance de Gestión Financiera y Corte Anual",{"$f":"\"31 de Diciembre de \"&F185","v":"31 de Diciembre de 2026"},{"$f":"\"Del 1° al 31 de Diciembre de \"&F185","v":"Del 1° al 31 de Diciembre de 2026"}]
[null,"Asociación Intermunicipal para la Protección del Medio Ambiente y el Desarrollo Sustentable del Lago de Chapala"]
[null,"Atemajac de Brizuela"]
[null,"Atengo"]
[null,"Atenguillo"]
[null,"Atotonilco el Alto"]
[null,"Atoyac"]
[null,"Autlán de Navarro"]
[null,"Ayotlán"]
[null,"Ayutla"]
[null,"Bolaños"]
[null,"Cabo Corrientes"]
[null,"Cañadas de Obregón"]
[null,"Casimiro Castillo"]
[null,"Centro de Estimulación para Personas con Discapacidad Intelectual de Tlajomulco de Zúñiga"]
[null,"Centro Ferial de Guadalajara"]
[null,"Chapala"]
[null,"Chimaltitán"]
[null,"Chiquilistlán"]
[null,"Cihuatlán"]
[null,"Cocula"]
[null,"Colotlán"]
[null,"Comité de Feria de Zapotlán el Grande, Jalisco"]
[null,"Comité del Carnaval Sayula"]
[null,"Concepción de Buenos Aires"]
[null,"Consejo Municipal contra las Adicciones en San Pedro Tlaquepaque"]
[null,"Consejo Municipal del Deporte de Ahualulco de Mercado"]
[null,"Consejo Municipal del Deporte de Ayutla"]
[null,"Consejo Municipal del Deporte de Degollado, Jalisco"]
[null,"Consejo Municipal del Deporte de Guadalajara"]
[null,"Consejo Municipal del Deporte de Jocotepec"]
[null,"Consejo Municipal del Deporte de La Barca"]
[null,"Consejo Municipal del Deporte de Ocotlán, Jalisco"]
[null,"Consejo Municipal del Deporte de Puerto Vallarta"]
[null,"Consejo Municipal del Deporte de San Pedro Tlaquepaque"]
[null,"Consejo Municipal del Deporte de Tonalá"]
[null,"Consejo Municipal del Deporte de Yahualica"]
[null,"Consejo Municipal del Deporte de Zapopan, Jalisco"]
[null,"Consejo Social de Cooperación para el Desarrollo Urbano de Guadalajara"]
[null,"Cuautitlán de García Barragán"]
[null,"Cuautla"]
[null,"Cuquío"]
[null,"Degollado"]
[null,"DIF Municipal de Amacueca"]
[null,"DIF Municipal de Chimaltitán"]
[null,"DIF Municipal de Guachinango"]
[null,"DIF Municipal de Mexticacán"]
[null,"DIF Municipal de Pihuamo"]
[null,"DIF Municipal de San Marcos"]
[null,"DIF Municipal de San Martín de Bolaños"]
[null,"DIF Municipal de Techaluta de Montenegro"]
[null,"DIF Municipal de Tepatitlán de Morelos"]
[null,"DIF Municipal de Villa Purificación"]
[null,"Ejutla"]
[null,"El Arenal"]
[null,"El Grullo"]
[null,"El Limón"]
[null,"El Salto"]
[null,"Encarnación de Díaz"]
[null,"Etzatlán"]
[null,"Fideicomiso Coeficiente de Utilización del Suelo"]
[null,"Fideicomiso de Equipamiento e Infraestructura Urbana y Vial en la Zona del Bajío"]
[null,"Fideicomiso de Turismo de Puerto Vallarta"]
[null,"Fideicomiso Hecho por Mujeres de Zapopan"]
[null,"Fideicomiso Irrevocable de Garantía, Administración y Fuente de Pago (Zapopan)"]
[null,"Fideicomiso Maestro de Fomento Económico para el Municipio de Zapopan (FIMAFEZ)"]
[null,"Fideicomiso Público de Administración, Garantía y Fuente de Pago para la Concesión de Alumbrado Público del Municipio de Zapopan, Jalisco"]
[null,"Fideicomiso Revocable de Administración, Inversión y Fuente de Pago \"Av. Juan Palomar Arias\""]
[null,"Gómez Farías"]
[null,"Guachinango"]
[null,"Guadalajara"]
[null,"Hostotipaquillo"]
[null,"Huejúcar"]
[null,"Huejuquilla el Alto"]
[null,"Instituto de Alternativas para los Jóvenes de Tlajomulco de Zúñiga"]
[null,"Instituto de Alternativas para los Jóvenes de Tonalá"]
[null,"Instituto de Atención a la Juventud Teocaltichense"]
[null,"Instituto de Cultura, Recreación y Deporte del Municipio de Tlajomulco de Zúñiga"]
[null,"Instituto de la Juventud de La Barca"]
[null,"Instituto de la Juventud San Gabriel"]
[null,"Instituto de la Mujer Tenamaxtlán"]
[null,"Instituto de las Mujeres de Cuquío"]
[null,"Instituto de las Mujeres y para la Igualdad Sustantiva del Municipio de San Pedro Tlaquepaque"]
[null,"Instituto de Planeación y Gestión del Desarrollo"]
[null,"Instituto Municipal de Atención a la Juventud de Guadalajara"]
[null,"Instituto Municipal de Atención a la Juventud de Jocotepec, Jalisco"]
[null,"Instituto Municipal de la Juventud en San Pedro Tlaquepaque"]
[null,"Instituto Municipal de la Juventud Mazamitla"]
[null,"Instituto Municipal de la Mujer de Tonalá"]
[null,"Instituto Municipal de la Mujer de Zapotitlán de Vadillo"]
[null,"Instituto Municipal de la Mujer del Municipio de Autlán de Navarro"]
[null,"Instituto Municipal de la Mujer en La Barca"]
[null,"Instituto Municipal de la Mujer en San Diego de Alejandría"]
[null,"Instituto Municipal de la Mujer Pihuamense"]
[null,"Instituto Municipal de la Mujer Tlajomulquense de Tlajomulco de Zúñiga"]
[null,"Instituto Municipal de la Mujer Yahualicense de Yahualica de González Gallo"]
[null,"Instituto Municipal de la Mujer Zapotlense en Zapotlán el Grande"]
[null,"Instituto Municipal de la Vivienda de Guadalajara"]
[null,"Instituto Municipal de las Mujeres de El Grullo"]
[null,"Instituto Municipal de las Mujeres de Ixtlahuacán de los Membrillos"]
[null,"Instituto Municipal de las Mujeres de Jilotlán"]
[null,"Instituto Municipal de las Mujeres de Mazamitla"]
[null,"Instituto Municipal de las Mujeres de San Ignacio Cerro Gordo"]
[null,"Instituto Municipal de las Mujeres de San Julián"]
[null,"Instituto Municipal de las Mujeres de Teocaltiche"]
[null,"Instituto Municipal de las Mujeres en Guadalajara"]
[null,"Instituto Municipal de las Mujeres en Jamay, Jalisco"]
[null,"Instituto Municipal de las Mujeres Tamazulenses"]
[null,"Instituto Municipal de las Mujeres Tonayenses"]
[null,"Instituto Municipal de las Mujeres Zapopanas para la Igualdad Sustantiva"]
[null,"Instituto Municipal de Planeación de Lagos de Moreno"]
[null,"Instituto Para la Igualdad Sustantiva entre Hombres y Mujeres de Jocotepec"]
[null,"Instituto Tecalitlense de la Juventud"]
[null,"Instituto Tecalitlense de la Mujer"]
[null,"Instituto Vallartense de Cultura"]
[null,"Instituto Zapotlense de la Juventud del municipio de Zapotlán el Grande, Jalisco "]
[null,"Ixtlahuacán de los Membrillos"]
[null,"Ixtlahuacán del Río"]
[null,"Jalostotitlán"]
[null,"Jamay"]
[null,"Jesús María"]
[null,"Jilotlán de los Dolores"]
[null,"Jocotepec"]
[null,"Juanacatlán"]
[null,"Juchitlán"]
[null,"Junta Intermunicipal de Medio Ambiente Altos Sur"]
[null,"Junta Intermunicipal de Medio Ambiente de Altos Norte (JIAN)"]
[null,"Junta Intermunicipal de Medio Ambiente de la Costa Sur"]
[null,"Junta Intermunicipal de Medio Ambiente de Sierra Occidental y Costa"]
[null,"Junta Intermunicipal de Medio Ambiente del Ayuquila Alto (JIMA Ayuquila Alto)"]
[null,"Junta Intermunicipal de Medio Ambiente Lagunas"]
[null,"Junta Intermunicipal de Medio Ambiente para la Gestión Integral de la Cuenca del Río Coahuayana (JIRCO)"]
[null,"Junta Intermunicipal de Medio Ambiente para la Gestión Integral de la Región Norte del Estado de Jalisco (JINOR)"]
[null,"Junta Intermunicipal de Medio Ambiente para la Gestión Integral de la Región Valles (JIMAV)"]
[null,"Junta Intermunicipal del Medio Ambiente para la Gestión Integral de la Cuenca Baja del Río Ayuquila "]
[null,"La Barca"]
[null,"La Huerta"]
[null,"La Manzanilla de la Paz"]
[null,"Lagos de Moreno"]
[null,"Magdalena"]
[null,"Mascota"]
[null,"Mazamitla"]
[null,"Mexticacán"]
[null,"Mezquitic"]
[null,"Mixtlán"]
[null,"Ocotlán"]
[null,"Ojuelos de Jalisco"]
[null,"Organismo Municipal del Agua y Saneamiento de Tala (OMAST)"]
[null,"Organismo Público Descentralizado Servicios de Salud del Municipio de Zapopan"]
[null,"Organismo Público Descentralizado Sierra de Quila (OPD Sierra de Quila) "]
[null,"Organismo Público Descentralizado Zoológico Guadalajara"]
[null,"Patronato de las Instalaciones de la Feria de Lagos de Moreno"]
[null,"Patronato del Centro Histórico y Barrios Tradicionales de Tonalá, Jalisco \"Tonalá Mágico\""]
[null,"Patronato del Centro Histórico y Franja Turística de Puerto Vallarta"]
[null,"Patronato del Centro Histórico, Barrios y Zonas Tradicionales de la ciudad de Guadalajara"]
[null,"Patronato del Museo de Periodismo y Artes Gráficas"]
[null,"Patronato Nacional de la Cerámica"]
[null,"Pihuamo"]
[null,"Policía Metropolitana de Guadalajara"]
[null,"Poncitlán"]
[null,"Puerto Vallarta"]
[null,"Quitupan"]
[null,"San Cristóbal de la Barranca"]
[null,"San Diego de Alejandría"]
[null,"San Gabriel"]
[null,"San Ignacio Cerro Gordo"]
[null,"San Juan de los Lagos"]
[null,"San Juanito de Escobedo"]
[null,"San Julián"]
[null,"San Marcos"]
[null,"San Martín de Bolaños"]
[null,"San Martín Hidalgo"]
[null,"San Miguel el Alto"]
[null,"San Pedro Tlaquepaque"]
[null,"San Sebastián del Oeste"]
[null,"Santa María de los Ángeles"]
[null,"Santa María del Oro"]
[null,"Sayula"]
[null,"Sistema Administrativo Municipal de Agua Potable y Alcantarillado de Ixtlahuacán de los Membrillos"]
[null,"Sistema Barquense de Agua Potable, Alcantarillado y Saneamiento (SIBAPAS) "]
[null,"Sistema de Agua Potable y Alcantarillado de Mascota"]
[null,"Sistema de Agua Potable y Alcantarillado de Tamazula de Gordiano"]
[null,"Sistema de Agua Potable y Alcantarillado de Zapotlanejo, Jalisco"]
[null,"Sistema de Agua Potable y Alcantarillado del Municipio de Unión de Tula"]
[null,"Sistema de Agua Potable, Alcantarillado y Saneamiento de Magdalena"]
[null,"Sistema de Agua Potable, Alcantarillado y Saneamiento del Municipio de Amacueca, Jalisco (SAPASA)"]
[null,"Sistema de Agua Potable, Alcantarillado y Saneamiento del Municipio de Ameca"]
[null,"Sistema de Agua Potable, Alcantarillado y Saneamiento del Municipio de Arandas Jalisco (SIMAPAAJAJ)"]
[null,"Sistema de Agua Potable, Alcantarillado y Saneamiento del Municipio de Atotonilco el Alto (SAPAMA)"]
[null,"Sistema de Agua Potable, Alcantarillado y Saneamiento del Municipio de Chapala, Jalisco (SIMAPA)"]
[null,"Sistema de Agua Potable, Alcantarillado y Saneamiento del Municipio de Colotlán, Jalisco (SAPASCO)"]
[null,"Sistema de Agua Potable, Alcantarillado y Saneamiento del Municipio de Degollado (SIAPADEG)"]
[null,"Sistema de Agua Potable, Alcantarillado y Saneamiento del Municipio de Jamay (SIMAPAS)"]
[null,"Sistema de Agua Potable, Alcantarillado y Saneamiento del Municipio de La Huerta"]
[null,"Sistema de Agua Potable, Alcantarillado y Saneamiento del Municipio de Mazamitla Jalisco"]
[null,"Sistema de Agua Potable, Alcantarillado y Saneamiento del Municipio de San Ignacio Cerro Gordo"]
[null,"Sistema de Agua Potable, Alcantarillado y Saneamiento del Municipio de San Julián (SAPAJ)"]
[null,"Sistema de Agua Potable, Alcantarillado y Saneamiento del Municipio de San Martín de Hidalgo, Jalisco"]
[null,"Sistema de Agua Potable, Alcantarillado y Saneamiento del Municipio de San Miguel el Alto, Jalisco (SAPASMA)"]
[null,"Sistema de Agua Potable, Alcantarillado y Saneamiento del Municipio de Talpa de Allende (SIAPAS-TALPA)"]
[null,"Sistema de Agua Potable, Alcantarillado y Saneamiento del Municipio de Tototlán"]
[null,"Sistema de Agua Potable, Alcantarillado y Saneamiento del Municipio de Villa Hidalgo, Jalisco"]
[null,"Sistema de Agua Potable, Alcantarillado y Saneamiento del Municipio de Zapotlán el Grande"]
[null,"Sistema de Agua Potable, Alcantarillados y Saneamiento del Municipio de Mezquitic"]
[null,"Sistema de los Servicios de Agua Potable, Drenaje y Alcantarillado de Puerto Vallarta, Jalisco"]
[null,"Sistema Integral de Agua de Tapalpa"]
[null,"Sistema Integral del Agua de Ayotlán (SIAA)"]
[null,"Sistema Intermunicipal de los Servicios de Agua Potable y Alcantarillado (SIAPA)"]
[null,"Sistema Intermunicipal de Manejo de Residuos Ayuquila - Llano (SIMAR Ayuquila - Llano)"]
[null,"Sistema Intermunicipal de Manejo de Residuos Ayuquila Valles (SIMAR Ayuquila Valles)"]
[null,"Sistema Intermunicipal de Manejo de Residuos Lagunas (SIMAR Lagunas)"]
[null,"Sistema Intermunicipal de Manejo de Residuos Sierra de Amula (SIMAR Sierra de Amula)"]
[null,"Sistema Intermunicipal de Manejo de Residuos sólidos urbanos Sierra Sur (SIMAR Sierra Sur)"]
[null,"Sistema Intermunicipal de Manejo de Residuos Sureste (SIMAR Sureste)"]
[null,"Sistema Intermunicipal de Manejo de Residuos Sur-Sureste (SIMAR Sur-Sureste)"]
[null,"Sistema Municipal de Agua El Arenal (SIMAARE)"]
[null,"Sistema para el Desarrollo Integral de la Familia de San Martín Hidalgo, Jalisco "]
[null,"Sistema para el Desarrollo Integral de la Familia del municipio Ahualulco de Mercado"]
[null,"Sistema para el Desarrollo Integral de la Familia del municipio de Acatic"]
[null,"Sistema para el Desarrollo Integral de la Familia del municipio de Acatlán de Juárez"]
[null,"Sistema para el Desarrollo Integral de la Familia del municipio de Amatitán, Jalisco"]
[null,"Sistema para el Desarrollo Integral de la Familia del municipio de Ameca, Jalisco "]
[null,"Sistema para el Desarrollo Integral de la Familia del municipio de Arandas, Jalisco"]
[null,"Sistema para el Desarrollo Integral de la Familia del municipio de Atemajac de Brizuela"]
[null,"Sistema para el Desarrollo Integral de la Familia del municipio de Atengo"]
[null,"Sistema para el Desarrollo Integral de la Familia del municipio de Atenguillo"]
[null,"Sistema para el Desarrollo Integral de la Familia del municipio de Atotonilco el Alto, Jalisco"]
[null,"Sistema para el Desarrollo Integral de la Familia del municipio de Atoyac, Jalisco"]
[null,"Sistema para el Desarrollo Integral de la Familia del municipio de Autlán de Navarro, Jal. "]
[null,"Sistema para el Desarrollo Integral de la Familia del municipio de Ayotlán, Jalisco"]
[null,"Sistema para el Desarrollo Integral de la Familia del municipio de Ayutla, Jalisco"]
[null,"Sistema para el Desarrollo Integral de la Familia del municipio de Bolaños"]
[null,"Sistema para el Desarrollo Integral de la Familia del municipio de Cabo Corrientes"]
[null,"Sistema para el Desarrollo Integral de la Familia del municipio de Cañadas de Obregón, Jalisco"]
[null,"Sistema para el Desarrollo Integral de la Familia del municipio de Casimiro Castillo"]
[null,"Sistema para el Desarrollo Integral de la Familia del municipio de Chapala"]
[null,"Sistema para el Desarrollo Integral de la Familia del municipio de Chiquilistlán"]
[null,"Sistema para el Desarrollo Integral de la Familia del municipio de Cihuatlán"]
[null,"Sistema para el Desarrollo Integral de la Familia del municipio de Ciudad Guzmán, Jalisco"]
[null,"Sistema para el Desarrollo Integral de la Familia del municipio de Cocula"]
[null,"Sistema para el Desarrollo Integral de la Familia del municipio de Colotlán, Jalisco"]
[null,"Sistema para el Desarrollo Integral de la Familia del municipio de Concepción de Buenos Aires"]
[null,"Sistema para el Desarrollo Integral de la Familia del municipio de Cuautitlán de García Barragán"]
[null,"Sistema para el Desarrollo Integral de la Familia del municipio de Cuautla"]
[null,"Sistema para el Desarrollo Integral de la Familia del municipio de Cuquío"]
[null,"Sistema para el Desarrollo Integral de la Familia del municipio de Degollado"]
[null,"Sistema para el Desarrollo Integral de la Familia del municipio de Ejutla"]
[null,"Sistema para el Desarrollo Integral de la Familia del municipio de El Arenal"]
[null,"Sistema para el Desarrollo Integral de la Familia del municipio de El Grullo"]
[null,"Sistema para el Desarrollo Integral de la Familia del municipio de El Limón"]
[null,"Sistema para el Desarrollo Integral de la Familia del municipio de El Salto"]
[null,"Sistema para el Desarrollo Integral de la Familia del municipio de Encarnación de Díaz"]
[null,"Sistema para el Desarrollo Integral de la Familia del municipio de Etzatlán"]
[null,"Sistema para el Desarrollo Integral de la Familia del municipio de Gómez Farías"]
[null,"Sistema para el Desarrollo Integral de la Familia del Municipio de Guadalajara"]
[null,"Sistema para el Desarrollo Integral de la Familia del municipio de Hostotipaquillo"]
[null,"Sistema para el Desarrollo Integral de la Familia del municipio de Huejúcar"]
[null,"Sistema para el Desarrollo Integral de la Familia del municipio de Huejuquilla el Alto"]
[null,"Sistema para el Desarrollo Integral de la Familia del municipio de Ixtlahuacán de los Membrillos"]
[null,"Sistema para el Desarrollo Integral de la Familia del municipio de Ixtlahuacán del Río"]
[null,"Sistema para el Desarrollo Integral de la Familia del municipio de Jalostotitlán"]
[null,"Sistema para el Desarrollo Integral de la Familia del municipio de Jamay"]
[null,"Sistema para el Desarrollo Integral de la Familia del municipio de Jesús María"]
[null,"Sistema para el Desarrollo Integral de la Familia del municipio de Jilotlán de los Dolores"]
[null,"Sistema para el Desarrollo Integral de la Familia del municipio de Jocotepec"]
[null,"Sistema para el Desarrollo Integral de la Familia del municipio de Juanacatlán"]
[null,"Sistema para el Desarrollo Integral de la Familia del municipio de Juchitlán"]
[null,"Sistema para el Desarrollo Integral de la Familia del municipio de La Barca, Jalisco"]
[null,"Sistema para el Desarrollo Integral de la Familia del municipio de La Huerta"]
[null,"Sistema para el Desarrollo Integral de la Familia del municipio de La Manzanilla de la Paz"]
[null,"Sistema para el Desarrollo Integral de la Familia del municipio de Lagos de Moreno"]
[null,"Sistema para el Desarrollo Integral de la Familia del municipio de Magdalena"]
[null,"Sistema para el Desarrollo Integral de la Familia del municipio de Mascota, Jalisco"]
[null,"Sistema para el Desarrollo Integral de la Familia del municipio de Mazamitla"]
[null,"Sistema para el Desarrollo Integral de la Familia del municipio de Mezquitic"]
[null,"Sistema para el Desarrollo Integral de la Familia del municipio de Mixtlán, Jalisco"]
[null,"Sistema para el Desarrollo Integral de la Familia del municipio de Ocotlán, Jalisco"]
[null,"Sistema para el Desarrollo Integral de la Familia del municipio de Ojuelos de Jalisco"]
[null,"Sistema para el Desarrollo Integral de la Familia del municipio de Poncitlán"]
[null,"Sistema para el Desarrollo Integral de la Familia del municipio de Puerto Vallarta"]
[null,"Sistema para el Desarrollo Integral de la Familia del municipio de Quitupan"]
[null,"Sistema para el Desarrollo Integral de la Familia del municipio de San Cristóbal de la Barranca"]
[null,"Sistema para el Desarrollo Integral de la Familia del municipio de San Diego de Alejandría"]
[null,"Sistema para el Desarrollo Integral de la Familia del municipio de San Gabriel"]
[null,"Sistema para el Desarrollo Integral de la Familia del municipio de San Ignacio Cerro Gordo"]
[null,"Sistema para el Desarrollo Integral de la Familia del municipio de San Juan de los Lagos"]
[null,"Sistema para el Desarrollo Integral de la Familia del municipio de San Juanito de Escobedo"]
[null,"Sistema para el Desarrollo Integral de la Familia del municipio de San Julián"]
[null,"Sistema para el Desarrollo Integral de la Familia del municipio de San Miguel el Alto, Jalisco"]
[null,"Sistema para el Desarrollo Integral de la Familia del municipio de San Pedro Tlaquepaque"]
[null,"Sistema para el Desarrollo Integral de la Familia del municipio de San Sebastián del Oeste, Jalisco"]
[null,"Sistema para el Desarrollo Integral de la Familia del municipio de Santa María de los Ángeles"]
[null,"Sistema para el Desarrollo Integral de la Familia del municipio de Santa María del Oro"]
[null,"Sistema para el Desarrollo Integral de la Familia del municipio de Sayula"]
[null,"Sistema para el Desarrollo Integral de la Familia del municipio de Tala"]
[null,"Sistema para el Desarrollo Integral de la Familia del municipio de Talpa de Allende"]
[null,"Sistema para el Desarrollo Integral de la Familia del municipio de Tamazula de Gordiano"]
[null,"Sistema para el Desarrollo Integral de la Familia del municipio de Tapalpa"]
[null,"Sistema para el Desarrollo Integral de la Familia del municipio de Tecalitlán"]
[null,"Sistema para el Desarrollo Integral de la Familia del municipio de Tecolotlán"]
[null,"Sistema para el Desarrollo Integral de la Familia del municipio de Tenamaxtlán"]
[null,"Sistema para el Desarrollo Integral de la Familia del municipio de Teocaltiche"]
[null,"Sistema para el Desarrollo Integral de la Familia del municipio de Teocuitatlán de Corona"]
[null,"Sistema para el Desarrollo Integral de la Familia del municipio de Tequila, Jalisco"]
[null,"Sistema para el Desarrollo Integral de la Familia del municipio de Teuchitlán"]
[null,"Sistema para el Desarrollo Integral de la Familia del municipio de Tizapán el Alto, Jalisco"]
[null,"Sistema para el Desarrollo Integral de la Familia del municipio de Tlajomulco de Zúñiga"]
[null,"Sistema para el Desarrollo Integral de la Familia del municipio de Tolimán"]
[null,"Sistema para el Desarrollo Integral de la Familia del municipio de Tomatlán"]
[null,"Sistema para el Desarrollo Integral de la Familia del municipio de Tonalá"]
[null,"Sistema para el Desarrollo Integral de la Familia del municipio de Tonaya"]
[null,"Sistema para el Desarrollo Integral de la Familia del municipio de Tonila"]
[null,"Sistema para el Desarrollo Integral de la Familia del municipio de Totatiche"]
[null,"Sistema para el Desarrollo Integral de la Familia del municipio de Tototlán"]
[null,"Sistema para el Desarrollo Integral de la Familia del municipio de Tuxcacuesco"]
[null,"Sistema para el Desarrollo Integral de la Familia del municipio de Tuxcueca"]
[null,"Sistema para el Desarrollo Integral de la Familia del municipio de Tuxpan"]
[null,"Sistema para el Desarrollo Integral de la Familia del municipio de Unión de San Antonio"]
[null,"Sistema para el Desarrollo Integral de la Familia del municipio de Unión de Tula"]
[null,"Sistema para el Desarrollo Integral de la Familia del municipio de Valle de Guadalupe"]
[null,"Sistema para el Desarrollo Integral de la Familia del municipio de Valle de Juárez"]
[null,"Sistema para el Desarrollo Integral de la Familia del municipio de Villa Corona"]
[null,"Sistema para el Desarrollo Integral de la Familia del municipio de Villa Guerrero"]
[null,"Sistema para el Desarrollo Integral de la Familia del municipio de Villa Hidalgo"]
[null,"Sistema para el Desarrollo Integral de la Familia del municipio de Yahualica de González Gallo"]
[null,"Sistema para el Desarrollo Integral de la Familia del municipio de Zacoalco de Torres"]
[null,"Sistema para el Desarrollo Integral de la Familia del municipio de Zapopan"]
[null,"Sistema para el Desarrollo Integral de la Familia del municipio de Zapotiltic"]
[null,"Sistema para el Desarrollo Integral de la Familia del municipio de Zapotitlán de Vadillo"]
[null,"Sistema para el desarrollo Integral de la Familia del municipio de Zapotlán del Rey, Jalisco"]
[null,"Sistema para el Desarrollo Integral de la Familia del municipio de Zapotlanejo"]
[null,"Tala"]
[null,"Talpa de Allende"]
[null,"Tamazula de Gordiano"]
[null,"Tapalpa"]
[null,"Tecalitlán"]
[null,"Techaluta de Montenegro"]
[null,"Tecolotlán"]
[null,"Tenamaxtlán"]
[null,"Teocaltiche"]
[null,"Teocuitatlán de Corona"]
[null,"Tepatitlán de Morelos"]
[null,"Tequila"]
[null,"Teuchitlán"]
[null,"Tizapán el Alto"]
[null,"Tlajomulco de Zúñiga"]
[null,"Tolimán"]
[null,"Tomatlán"]
[null,"Tonalá"]
[null,"Tonaya"]
[null,"Tonila"]
[null,"Totatiche"]
[null,"Tototlán"]
[null,"Tuxcacuesco"]
[null,"Tuxcueca"]
[null,"Tuxpan"]
[null,"Unión de San Antonio"]
[null,"Unión de Tula"]
[null,"Valle de Guadalupe"]
[null,"Valle de Juárez"]
[null,"Villa Corona"]
[null,"Villa Guerrero"]
[null,"Villa Hidalgo"]
[null,"Villa Purificación"]
[null,"Yahualica de González Gallo"]
[null,"Zacoalco de Torres"]
[null,"Zapopan"]
[null,"Zapotiltic"]
[null,"Zapotitlán de Vadillo"]
[null,"Zapotlán del Rey"]
[null,"Zapotlán el Grande"]
[null,"Zapotlanejo"]

{"sheet":"Balanza","index":2,"n_rows":2223,"n_cols":8,"rows_kept":2223,"hidden":true,"merged":[[0,0,1,0],[0,1,1,1],[0,2,0,3],[0,4,0,5],[0,6,0,7]]}
["No. DE CUENTA","NOMBRE DE LA CUENTA",{"$f":"\"SALDO AL 31 DE\n DICIEMBRE DE \"&Validacion!F186","v":"SALDO AL 31 DE\n DICIEMBRE DE 2025"},null,"MOVIMIENTO",null,{"$f":"\"SALDO FINAL DEL PERIODO A INFORMAR EJERCICIO \"&Validacion!F185","v":"SALDO FINAL DEL PERIODO A INFORMAR EJERCICIO 2026"}]
[null,null,"DEUDOR","ACREEDOR","DEUDOR","ACREEDOR","DEUDOR","ACREEDOR"]
[10000,"ACTIVO ",{"$f":"C4+C43","v":{"v":417980303.08,"d":"417,980,303.08"}},null,{"$f":"E4+E43","v":{"v":37480969.76,"d":"37,480,969.76"}},{"$f":"F4+F43","v":{"v":27589231.89,"d":"27,589,231.89"}},{"$f":"G4+G43","v":{"v":427872040.95,"d":"427,872,040.95"}}]
[11000,"ACTIVO CIRCULANTE",{"$f":"C5+C13+C21+C27+C33+C35+C38","v":{"v":12633909.97,"d":"12,633,909.97"}},null,{"$f":"E5+E13+E21+E27+E33+E35+E38","v":{"v":35828635.26,"d":"35,828,635.26"}},{"$f":"F5+F13+F21+F27+F33+F35+F38","v":{"v":26304763.240000002,"d":"26,304,763.24"}},{"$f":"G5+G13+G21+G27+G33+G35+G38","v":{"v":22157781.99,"d":"22,157,781.99"}}]
[11100,"EFECTIVO Y EQUIVALENTES",{"$f":"SUM(C6:C12)","v":{"v":2739418.71,"d":"2,739,418.71"}},null,{"$f":"SUM(E6:E12)","v":{"v":33436784.6,"d":"33,436,784.60"}},{"$f":"SUM(F6:F12)","v":{"v":24735095.76,"d":"24,735,095.76"}},{"$f":"SUM(G6:G12)","v":{"v":11441107.55,"d":"11,441,107.55"}}]
[11110,"Efectivo",{"v":297939.06,"d":"297,939.06"},{"$nulls":3},{"$f":"ROUND(C6+E6-F6,2)","v":{"v":297939.06,"d":"297,939.06"}}]
[11120,"Bancos/Tesorería",{"v":-2393120.35,"d":"-2,393,120.35"},null,{"v":33436784.6,"d":"33,436,784.60"},{"v":24735095.76,"d":"24,735,095.76"},{"$f":"ROUND(C7+E7-F7,2)","v":{"v":6308568.49,"d":"6,308,568.49"}}]
[11130,"Bancos/Dependencias y otros",{"$nulls":4},{"v":0,"d":"0.00"}]
[11140,"Inversiones temporales (hasta 3 meses)",{"$nulls":4},{"v":0,"d":"0.00"}]
[11150,"Fondos con afectación específica",{"$nulls":4},{"v":0,"d":"0.00"}]
[11160,"Depósitos de fondos de terceros en garantía y/o administración",{"$nulls":4},{"v":0,"d":"0.00"}]
[11190,"Otros efectivos y equivalentes",{"v":4834600,"d":"4,834,600.00"},{"$nulls":3},{"v":4834600,"d":"4,834,600.00"}]
[11200,"DERECHOS A RECIBIR EFECTIVO O EQUIVALENTES",{"$f":"SUM(C14:C20)","v":{"v":4312934.560000001,"d":"4,312,934.56"}},null,{"$f":"SUM(E14:E20)","v":{"v":1831530.4,"d":"1,831,530.40"}},{"$f":"SUM(F14:F20)","v":{"v":1388447.48,"d":"1,388,447.48"}},{"$f":"SUM(G14:G20)","v":{"v":4756017.479999999,"d":"4,756,017.48"}}]
[11210,"Inversiones financieras de corto plazo",{"$nulls":4},{"$f":"ROUND(C14+E14-F14,2)","v":{"v":0,"d":"0.00"}}]
[11220,"Cuentas por cobrar a corto plazo",{"$nulls":4},{"v":0,"d":"0.00"}]
["11230","Deudores diversos por cobrar a corto plazo",{"v":12728163.46,"d":"12,728,163.46"},null,{"v":1543530.4,"d":"1,543,530.40"},{"v":76050,"d":"76,050.00"},{"v":14195643.86,"d":"14,195,643.86"}]
["11240","Ingresos por recuperar a corto plazo",{"$nulls":4},{"v":0,"d":"0.00"}]
["11250","Deudores por anticipos de la tesorería a corto plazo",{"v":-9888799.43,"d":"-9,888,799.43"},null,null,{"v":1167530.89,"d":"1,167,530.89"},{"v":-11056330.32,"d":"-11,056,330.32"}]
["11260","Préstamos otorgados a corto plazo",{"v":1473570.53,"d":"1,473,570.53"},null,{"v":288000,"d":"288,000.00"},{"v":144866.59,"d":"144,866.59"},{"v":1616703.94,"d":"1,616,703.94"}]
["11290","Otros derechos a recibir efectivo o equivalentes a corto plazo",{"$nulls":4},{"v":0,"d":"0.00"}]
["11300","DERECHOS A RECIBIR BIENES O SERVICIOS",{"$f":"SUM(C22:C26)","v":{"v":5581556.699999999,"d":"5,581,556.70"}},null,{"$f":"SUM(E22:E26)","v":{"v":560320.26,"d":"560,320.26"}},{"$f":"SUM(F22:F26)","v":{"v":181220,"d":"181,220.00"}},{"$f":"SUM(G22:G26)","v":{"v":5960656.96,"d":"5,960,656.96"}}]
["11310","Anticipo a proveedores por adquisición de bienes y prestación de servicios a corto plazo",{"v":5581556.89,"d":"5,581,556.89"},null,{"v":74500,"d":"74,500.00"},{"v":181220,"d":"181,220.00"},{"$f":"ROUND(C22+E22-F22,2)","v":{"v":5474836.89,"d":"5,474,836.89"}}]
["11320","Anticipo a proveedores por adquisición de bienes inmuebles y muebles a corto plazo",{"$nulls":4},{"v":0,"d":"0.00"}]
["11330","Anticipo a proveedores por adquisición de bienes intangibles a corto plazo",{"$nulls":4},{"v":0,"d":"0.00"}]
["11340","Anticipo a contratistas por obras públicas a corto plazo",-0.19,null,{"v":485820.26,"d":"485,820.26"},null,{"v":485820.07,"d":"485,820.07"}]
["11390","Otros derechos a recibir bienes o servicios a corto plazo",{"$nulls":4},{"v":0,"d":"0.00"}]
["11400","INVENTARIOS",{"$f":"SUM(C28:C32)","v":{"v":0,"d":"0.00"}},null,{"$f":"SUM(E28:E32)","v":{"v":0,"d":"0.00"}},{"$f":"SUM(F28:F32)","v":{"v":0,"d":"0.00"}},{"$f":"SUM(G28:G32)","v":{"v":0,"d":"0.00"}}]
["11410","Inventario de mercancías para venta"]
["11420","Inventario de mercancías terminadas"]
["11430","Inventario de mercancías en proceso de elaboración"]
["11440","Inventario de materias primas, materiales y suministros para producción"]
["11450","Bienes en tránsito"]
["11500","ALMACENES",{"$f":"SUM(C34)","v":{"v":0,"d":"0.00"}},null,{"$f":"SUM(E34)","v":{"v":0,"d":"0.00"}},{"$f":"SUM(F34)","v":{"v":0,"d":"0.00"}},{"$f":"SUM(G34)","v":{"v":0,"d":"0.00"}}]
["11510","Almacén de materiales y suministros de consumo",{"$nulls":4},{"$f":"ROUND(C34+E34-F34,2)","v":{"v":0,"d":"0.00"}}]
["11600","ESTIMACIÓN POR PÉRDIDA O DETERIORO DE ACTIVOS CIRCULANTES",{"$f":"SUM(C36:C37)","v":{"v":0,"d":"0.00"}},null,{"$f":"SUM(E36:E37)","v":{"v":0,"d":"0.00"}},{"$f":"SUM(F36:F37)","v":{"v":0,"d":"0.00"}},{"$f":"SUM(G36:G37)","v":{"v":0,"d":"0.00"}}]
["11610","Estimaciones para cuentas incobrables por derechos a recibir efectivo o equivalentes",{"$nulls":4},{"$f":"ROUND(C36+E36-F36,2)","v":{"v":0,"d":"0.00"}}]
["11620","Estimación por deterioro de inventarios",{"$nulls":4},{"v":0,"d":"0.00"}]
["11900","OTROS ACTIVOS CIRCULANTES",{"$f":"SUM(C39:C42)","v":{"v":0,"d":"0.00"}},null,{"$f":"SUM(E39:E42)","v":{"v":0,"d":"0.00"}},{"$f":"SUM(F39:F42)","v":{"v":0,"d":"0.00"}},{"$f":"SUM(G39:G42)","v":{"v":0,"d":"0.00"}}]
["11910","Valores en garantía",{"$nulls":4},{"$f":"ROUND(C39+E39-F39,2)","v":{"v":0,"d":"0.00"}}]
["11920","Bienes en garantía (excluye depósitos de fondos)",{"$nulls":4},{"v":0,"d":"0.00"}]
["11930","Bienes derivados de embargos,  decomisos, aseguramientos y dación en pago",{"$nulls":4},{"v":0,"d":"0.00"}]
["11940","Adquisición con fondos de terceros",{"$nulls":4},{"v":0,"d":"0.00"}]
["12000","ACTIVO NO CIRCULANTE",{"$f":"C44+C49+C55+C63+C72+C78+C84+C91+C97-D43","v":{"v":405346393.10999995,"d":"405,346,393.11"}},{"$f":"D44+D49+D55+D63+D72+D78+D84+D91+D97","v":{"v":18350457.8,"d":"18,350,457.80"}},{"$f":"E44+E49+E55+E63+E72+E78+E84+E91+E97","v":{"v":1652334.5,"d":"1,652,334.50"}},{"$f":"F44+F49+F55+F63+F72+F78+F84+F91+F97","v":{"v":1284468.65,"d":"1,284,468.65"}},{"$f":"G44+G49+G55+G63+G72+G78+G84+G91+G97-H43","v":{"v":405714258.96,"d":"405,714,258.96"}},{"$f":"H44+H49+H55+H63+H72+H78+H84+H91+H97","v":{"v":18350457.8,"d":"18,350,457.80"}}]
["12100","INVERSIONES FINANCIERAS A LARGO PLAZO",{"$f":"SUM(C45:C48)","v":{"v":0,"d":"0.00"}},null,{"$f":"SUM(E45:E48)","v":{"v":1325031,"d":"1,325,031.00"}},{"$f":"SUM(F45:F48)","v":{"v":1284468.65,"d":"1,284,468.65"}},{"$f":"SUM(G45:G48)","v":{"v":40562.35,"d":"40,562.35"}}]
["12110","Inversiones a largo plazo",{"v":0,"d":"0.00"},null,{"v":1325031,"d":"1,325,031.00"},{"v":1284468.65,"d":"1,284,468.65"},{"$f":"ROUND(C45+E45-F45,2)","v":{"v":40562.35,"d":"40,562.35"}}]
["12120","Títulos y valores a largo plazo",{"$nulls":4},{"v":0,"d":"0.00"}]
["12130","Fideicomisos, mandatos y contratos análogos",{"$nulls":4},{"v":0,"d":"0.00"}]
["12140","Participaciones y aportaciones de capital",{"$nulls":4},{"v":0,"d":"0.00"}]
["12200","DERECHOS A RECIBIR EFECTIVO O EQUIVALENTES A LARGO PLAZO",{"$f":"SUM(C50:C54)","v":{"v":0,"d":"0.00"}},null,{"$f":"SUM(E50:E54)","v":{"v":0,"d":"0.00"}},{"$f":"SUM(F50:F54)","v":{"v":0,"d":"0.00"}},{"$f":"SUM(G50:G54)","v":{"v":0,"d":"0.00"}}]
["12210","Documentos por cobrar a largo plazo",{"$nulls":4},{"$f":"ROUND(C50+E50-F50,2)","v":{"v":0,"d":"0.00"}}]
["12220","Deudores diversos a largo plazo",{"$nulls":4},{"v":0,"d":"0.00"}]
["12230","Ingresos por recuperar a largo plazo",{"$nulls":4},{"v":0,"d":"0.00"}]
["12240","Préstamos otorgados a largo plazo",{"$nulls":4},{"v":0,"d":"0.00"}]
["12290","Otros derechos a recibir efectivo o equivalentes a largo plazo",{"$nulls":4},{"v":0,"d":"0.00"}]
["12300","BIENES INMUEBLES, INFRAESTRUCTURA Y CONSTRUCCIONES EN PROCESO",{"$f":"SUM(C56:C62)","v":{"v":366636307.45,"d":"366,636,307.45"}},null,{"$f":"SUM(E56:E62)","v":{"v":279743.5,"d":"279,743.50"}},{"$f":"SUM(F56:F62)","v":{"v":0,"d":"0.00"}},{"$f":"SUM(G56:G62)","v":{"v":366916050.95,"d":"366,916,050.95"}}]
["12310","Terrenos",{"v":55647301.01,"d":"55,647,301.01"},{"$nulls":3},{"$f":"ROUND(C56+E56-F56,2)","v":{"v":55647301.01,"d":"55,647,301.01"}}]
["12320","Viviendas",{"$nulls":4},{"v":0,"d":"0.00"}]
["12330","Edificios no habitacionales",{"v":33513320.53,"d":"33,513,320.53"},{"$nulls":3},{"v":33513320.53,"d":"33,513,320.53"}]
["12340","Infraestructura",{"v":56560545,"d":"56,560,545.00"},{"$nulls":3},{"v":56560545,"d":"56,560,545.00"}]
["12350","Construcciones en proceso en bienes de dominio público",{"v":220915140.91,"d":"220,915,140.91"},null,{"v":279743.5,"d":"279,743.50"},null,{"v":221194884.41,"d":"221,194,884.41"}]
["12360","Construcciones en proceso en bienes propios",{"$nulls":4},{"v":0,"d":"0.00"}]
["12390","Otros bienes inmuebles",{"$nulls":4},{"v":0,"d":"0.00"}]
["12400","BIENES MUEBLES",{"$f":"SUM(C64:C71)","v":{"v":54303320.760000005,"d":"54,303,320.76"}},null,{"$f":"SUM(E64:E71)","v":{"v":47560,"d":"47,560.00"}},{"$f":"SUM(F64:F71)","v":{"v":0,"d":"0.00"}},{"$f":"SUM(G64:G71)","v":{"v":54350880.760000005,"d":"54,350,880.76"}}]
["12410","Mobiliario y equipo de administración",{"v":6840960.68,"d":"6,840,960.68"},{"$nulls":3},{"$f":"ROUND(C64+E64-F64,2)","v":{"v":6840960.68,"d":"6,840,960.68"}}]
["12420","Mobiliario y equipo educacional y recreativo",{"v":1250481.82,"d":"1,250,481.82"},{"$nulls":3},{"v":1250481.82,"d":"1,250,481.82"}]
["12430","Equipo e instrumental médico y de laboratorio",{"v":2063418.2,"d":"2,063,418.20"},{"$nulls":3},{"v":2063418.2,"d":"2,063,418.20"}]
["12440","Vehículos y equipo de transporte",{"v":34915759.02,"d":"34,915,759.02"},{"$nulls":3},{"v":34915759.02,"d":"34,915,759.02"}]
["12450","Equipo de defensa y seguridad",{"v":867562.13,"d":"867,562.13"},{"$nulls":3},{"v":867562.13,"d":"867,562.13"}]
["12460","Maquinaria, otros equipos y herramientas",{"v":7779470.45,"d":"7,779,470.45"},{"$nulls":3},{"v":7779470.45,"d":"7,779,470.45"}]
["12470","Colecciones, obras de arte y objetos valiosos",{"v":407118.46,"d":"407,118.46"},null,{"v":47560,"d":"47,560.00"},null,{"v":454678.46,"d":"454,678.46"}]
["12480","Activos biológicos",{"v":178550,"d":"178,550.00"},{"$nulls":3},{"v":178550,"d":"178,550.00"}]
["12500","ACTIVOS INTANGIBLES",{"$f":"SUM(C73:C77)","v":{"v":2757222.7,"d":"2,757,222.70"}},null,{"$f":"SUM(E73:E77)","v":{"v":0,"d":"0.00"}},{"$f":"SUM(F73:F77)","v":{"v":0,"d":"0.00"}},{"$f":"SUM(G73:G77)","v":{"v":2757222.7,"d":"2,757,222.70"}}]
["12510","Software",{"v":34678.2,"d":"34,678.20"},{"$nulls":3},{"$f":"ROUND(C73+E73-F73,2)","v":{"v":34678.2,"d":"34,678.20"}}]
["12520","Patentes, marcas y derechos",{"$nulls":4},{"v":0,"d":"0.00"}]
["12530","Concesiones y franquicias",{"$nulls":4},{"v":0,"d":"0.00"}]
["12540","Licencias",{"v":2722544.5,"d":"2,722,544.50"},{"$nulls":3},{"v":2722544.5,"d":"2,722,544.50"}]
["12590","Otros activos intangibles",{"$nulls":4},{"v":0,"d":"0.00"}]
["12600","DEPRECIACIÓN, DETERIORO Y AMORTIZACIÓN ACUMULADA DE BIENES",null,{"$f":"SUM(D79:D83)","v":{"v":18350457.8,"d":"18,350,457.80"}},{"$f":"SUM(E79:E83)","v":{"v":0,"d":"0.00"}},{"$f":"SUM(F79:F83)","v":{"v":0,"d":"0.00"}},null,{"$f":"D78+F78-E78","v":{"v":18350457.8,"d":"18,350,457.80"}}]
["12610","Depreciación acumulada de bienes inmuebles",null,{"v":120623.78,"d":"120,623.78"},{"$nulls":3},{"$f":"ROUND(D79+F79-E79,2)","v":{"v":120623.78,"d":"120,623.78"}}]
["12620","Depreciación acumulada de infraestructura",{"$nulls":5},{"$f":"ROUND(D80+F80-E80,2)","v":{"v":0,"d":"0.00"}}]
["12630","Depreciación acumulada de bienes muebles",null,{"v":17893932.55,"d":"17,893,932.55"},{"$nulls":3},{"v":17893932.55,"d":"17,893,932.55"}]
["12640","Deterioro acumulado de bienes",{"$nulls":5},{"v":0,"d":"0.00"}]
["12650","Amortización acumulada de activos intangibles",null,{"v":335901.47,"d":"335,901.47"},{"$nulls":3},{"v":335901.47,"d":"335,901.47"}]
["12700","ACTIVOS DIFERIDOS",{"$f":"SUM(C85:C90)","v":{"v":0,"d":"0.00"}},null,{"$f":"SUM(E85:E90)","v":{"v":0,"d":"0.00"}},{"$f":"SUM(F85:F90)","v":{"v":0,"d":"0.00"}},{"$f":"SUM(G85:G90)","v":{"v":0,"d":"0.00"}}]
["12710","Estudios, formulación y evaluación de proyectos",{"$nulls":4},{"$f":"ROUND(C85+E85-F85,2)","v":{"v":0,"d":"0.00"}}]
["12720","Derechos sobre bienes en régimen de arrendamiento financiero",{"$nulls":4},{"v":0,"d":"0.00"}]
["12730","Gastos pagados por adelantado a largo plazo",{"$nulls":4},{"v":0,"d":"0.00"}]
["12740","Anticipos a largo plazo",{"$nulls":4},{"v":0,"d":"0.00"}]
["12750","Beneficios al retiro de empleados pagados por adelantado",{"$nulls":4},{"v":0,"d":"0.00"}]
["12790","Otros activos diferidos",{"$nulls":4},{"v":0,"d":"0.00"}]
["12800","ESTIMACIÓN POR PÉRDIDA O DETERIORO DE ACTIVOS NO CIRCULANTES",null,{"$f":"SUM(D92:D96)","v":{"v":0,"d":"0.00"}},{"$f":"SUM(E92:E96)","v":{"v":0,"d":"0.00"}},{"$f":"SUM(F92:F96)","v":{"v":0,"d":"0.00"}},null,{"$f":"D91+F91-E91","v":{"v":0,"d":"0.00"}}]
["12810","Estimaciones por pérdida de cuentas incobrables de documentos por cobrar a largo plazo",{"$nulls":5},{"$f":"ROUND(D92+F92-E92,2)","v":{"v":0,"d":"0.00"}}]
["12820","Estimaciones por pérdida de cuentas incobrables de deudores diversos por cobrar a largo plazo",{"$nulls":5},{"v":0,"d":"0.00"}]
["12830","Estimaciones por pérdida de cuentas incobrables de ingresos por cobrar a largo plazo",{"$nulls":5},{"v":0,"d":"0.00"}]
["12840","Estimaciones por pérdida de cuentas incobrables de préstamos otorgados a largo plazo",{"$nulls":5},{"v":0,"d":"0.00"}]
["12890","Estimaciones por pérdida de otras cuentas incobrables a largo plazo",{"$nulls":5},{"$f":"ROUND(D96+F96-E96,2)","v":{"v":0,"d":"0.00"}}]
["12900","OTROS ACTIVOS NO CIRCULANTES",{"$f":"SUM(C98:C100)","v":{"v":0,"d":"0.00"}},null,{"$f":"SUM(E98:E100)","v":{"v":0,"d":"0.00"}},{"$f":"SUM(F98:F100)","v":{"v":0,"d":"0.00"}},{"$f":"SUM(G98:G100)","v":{"v":0,"d":"0.00"}}]
["12910","Bienes en concesión",{"$nulls":4},{"$f":"ROUND(C98+E98-F98,2)","v":{"v":0,"d":"0.00"}}]
["12920","Bienes en arrendamiento financiero",{"$nulls":4},{"v":0,"d":"0.00"}]
["12930","Bienes en comodato",{"$nulls":4},{"v":0,"d":"0.00"}]
["20000","PASIVO",null,{"$f":"D102+D143","v":{"v":35946274.61,"d":"35,946,274.61"}},{"$f":"E102+E143","v":{"v":18888946.889999997,"d":"18,888,946.89"}},{"$f":"F102+F143","v":{"v":18602535.509999998,"d":"18,602,535.51"}},null,{"$f":"H102+H143","v":{"v":35659863.23,"d":"35,659,863.23"}}]
["21000","PASIVO CIRCULANTE",null,{"$f":"D103+D113+D117+D121+D124+D128+D135+D139","v":{"v":7412358.35,"d":"7,412,358.35"}},{"$f":"E103+E113+E117+E121+E124+E128+E135+E139","v":{"v":17968338.349999998,"d":"17,968,338.35"}},{"$f":"F103+F113+F117+F121+F124+F128+F135+F139","v":{"v":18602535.509999998,"d":"18,602,535.51"}},null,{"$f":"H103+H113+H117+H121+H124+H128+H135+H139","v":{"v":8046555.51,"d":"8,046,555.51"}}]
["21100","CUENTAS POR PAGAR A CORTO PLAZO",null,{"$f":"SUM(D104:D112)","v":{"v":7039817.08,"d":"7,039,817.08"}},{"$f":"SUM(E104:E112)","v":{"v":17132395.41,"d":"17,132,395.41"}},{"$f":"SUM(F104:F112)","v":{"v":16917569,"d":"16,917,569.00"}},null,{"$f":"SUM(H104:H112)","v":{"v":6824990.67,"d":"6,824,990.67"}}]
["21110","Servicios personales por pagar a corto plazo",null,null,{"v":4869709.41,"d":"4,869,709.41"},{"v":4869854.41,"d":"4,869,854.41"},null,{"$f":"ROUND(D104+F104-E104,2)","v":{"v":145,"d":"145.00"}}]
["21120","Proveedores por pagar a corto plazo",null,{"v":7637422.77,"d":"7,637,422.77"},{"v":11747614.76,"d":"11,747,614.76"},{"v":11366630.34,"d":"11,366,630.34"},null,{"v":7256438.35,"d":"7,256,438.35"}]
["21130","Contratistas por obras públicas por pagar a corto plazo",{"$nulls":5},{"v":0,"d":"0.00"}]
["21140","Participaciones y aportaciones por pagar a corto plazo",{"$nulls":5},{"v":0,"d":"0.00"}]
["21150","Transferencias otorgadas por pagar a corto plazo",{"$nulls":5},{"v":0,"d":"0.00"}]
["21160","Intereses, comisiones y otros gastos de la deuda pública por pagar a corto plazo",{"$nulls":5},{"v":0,"d":"0.00"}]
["21170","Retenciones y contribuciones por pagar a corto plazo",null,{"v":-597605.69,"d":"-597,605.69"},{"v":515071.24,"d":"515,071.24"},{"v":681084.25,"d":"681,084.25"},null,{"v":-431592.68,"d":"-431,592.68"}]
["21180","Devoluciones de la ley de ingresos por pagar a corto plazo",{"$nulls":5},{"v":0,"d":"0.00"}]
["21190","Otras cuentas por pagar a corto plazo",{"$nulls":5},{"v":0,"d":"0.00"}]
["21200","DOCUMENTOS POR PAGAR A CORTO PLAZO",null,{"$f":"SUM(D114:D116)","v":{"v":372541.27,"d":"372,541.27"}},{"$f":"SUM(E114:E116)","v":{"v":764357.97,"d":"764,357.97"}},{"$f":"SUM(F114:F116)","v":{"v":764357.97,"d":"764,357.97"}},null,{"$f":"SUM(H114:H116)","v":{"v":372541.27,"d":"372,541.27"}}]
["21210","Documentos  comerciales por pagar a corto plazo",{"$nulls":5},{"$f":"ROUND(D114+F114-E114,2)","v":{"v":0,"d":"0.00"}}]
["21220","Documentos con contratistas por obras públicas por pagar a corto plazo",null,{"v":372541.27,"d":"372,541.27"},{"v":764357.97,"d":"764,357.97"},{"v":764357.97,"d":"764,357.97"},null,{"v":372541.27,"d":"372,541.27"}]
["21290","Otros documentos por pagar a corto plazo",{"$nulls":5},{"v":0,"d":"0.00"}]
["21300","PORCIÓN A CORTO PLAZO DE LA DEUDA PÚBLICA A LARGO PLAZO",null,{"$f":"SUM(D118+D120)","v":{"v":0,"d":"0.00"}},{"$f":"SUM(E118+E120)","v":{"v":71584.97,"d":"71,584.97"}},{"$f":"SUM(F118+F120)","v":{"v":920608.54,"d":"920,608.54"}},null,{"$f":"SUM(H118+H120)","v":{"v":849023.57,"d":"849,023.57"}}]
["21310","Porción a corto plazo de la deuda pública interna",null,{"v":0,"d":"0.00"},{"v":71584.97,"d":"71,584.97"},{"v":920608.54,"d":"920,608.54"},null,{"$f":"ROUND(D118+F118-E118,2)","v":{"v":849023.57,"d":"849,023.57"}}]
["21320","Porción a corto plazo de la deuda pública externa"]
["21330","Porción a corto plazo de arrendamiento financiero",{"$nulls":5},{"$f":"ROUND(D120+F120-E120,2)","v":{"v":0,"d":"0.00"}}]
["21400","TÍTULOS Y VALORES A CORTO PLAZO",null,{"$f":"SUM(D122)","v":{"v":0,"d":"0.00"}},{"$f":"SUM(E122)","v":{"v":0,"d":"0.00"}},{"$f":"SUM(F122)","v":{"v":0,"d":"0.00"}},null,{"$f":"SUM(H122)","v":{"v":0,"d":"0.00"}}]
["21410","Títulos y valores de la deuda pública interna a corto plazo",{"$nulls":5},{"$f":"ROUND(D122+F122-E122,2)","v":{"v":0,"d":"0.00"}}]
["21420","Títulos y valores de la deuda pública externa a corto plazo"]
["21500","PASIVOS DIFERIDOS A CORTO PLAZO",null,{"$f":"SUM(D125:D127)","v":{"v":0,"d":"0.00"}},{"$f":"SUM(E125:E127)","v":{"v":0,"d":"0.00"}},{"$f":"SUM(F125:F127)","v":{"v":0,"d":"0.00"}},null,{"$f":"SUM(H125:H127)","v":{"v":0,"d":"0.00"}}]
["21510","Ingresos cobrados por adelantado a corto plazo",{"$nulls":5},{"$f":"ROUND(D125+F125-E125,2)","v":{"v":0,"d":"0.00"}}]
["21520","Intereses cobrados por adelantado a corto plazo",{"$nulls":5},{"v":0,"d":"0.00"}]
["21590","Otros pasivos diferidos a corto plazo",{"$nulls":5},{"v":0,"d":"0.00"}]
["21600","FONDOS Y BIENES DE TERCEROS EN GARANTÍA Y/O ADMINISTRACIÓN A CORTO PLAZO",null,{"$f":"SUM(D129:D134)","v":{"v":0,"d":"0.00"}},{"$f":"SUM(E129:E134)","v":{"v":0,"d":"0.00"}},{"$f":"SUM(F129:F134)","v":{"v":0,"d":"0.00"}},null,{"$f":"SUM(H129:H134)","v":{"v":0,"d":"0.00"}}]
["21610","Fondos en garantía a corto plazo",{"$nulls":5},{"$f":"ROUND(D129+F129-E129,2)","v":{"v":0,"d":"0.00"}}]
["21620","Fondos en administración a corto plazo",{"$nulls":5},{"v":0,"d":"0.00"}]
["21630","Fondos contingentes a corto plazo",{"$nulls":5},{"v":0,"d":"0.00"}]
["21640","Fondos de fideicomisos, mandatos y contratos análogos a corto plazo",{"$nulls":5},{"v":0,"d":"0.00"}]
["21650","Otros fondos de terceros en garantía y/o administración a corto plazo",{"$nulls":5},{"v":0,"d":"0.00"}]
["21660","Valores y bienes en garantía a corto plazo",{"$nulls":5},{"v":0,"d":"0.00"}]
["21700","PROVISIONES A CORTO PLAZO",null,{"$f":"SUM(D136:D138)","v":{"v":0,"d":"0.00"}},{"$f":"SUM(E136:E138)","v":{"v":0,"d":"0.00"}},{"$f":"SUM(F136:F138)","v":{"v":0,"d":"0.00"}},null,{"$f":"SUM(H136:H138)","v":{"v":0,"d":"0.00"}}]
["21710","Provisión para demandas y juicios a corto plazo",{"$nulls":5},{"$f":"ROUND(D136+F136-E136,2)","v":{"v":0,"d":"0.00"}}]
["21720","Provisión para contingencias a corto plazo",{"$nulls":5},{"v":0,"d":"0.00"}]
["21790","Otras provisiones a corto plazo",{"$nulls":5},{"v":0,"d":"0.00"}]
["21900","OTROS PASIVOS A CORTO PLAZO",null,{"$f":"SUM(D140:D142)","v":{"v":0,"d":"0.00"}},{"$f":"SUM(E140:E142)","v":{"v":0,"d":"0.00"}},{"$f":"SUM(F140:F142)","v":{"v":0,"d":"0.00"}},null,{"$f":"SUM(H140:H142)","v":{"v":0,"d":"0.00"}}]
["21910","Ingresos por clasificar",{"$nulls":5},{"$f":"ROUND(D140+F140-E140,2)","v":{"v":0,"d":"0.00"}}]
["21920","Recaudación por participar",{"$nulls":5},{"v":0,"d":"0.00"}]
["21990","Otros pasivos circulantes",{"$nulls":5},{"v":0,"d":"0.00"}]
["22000","PASIVO NO CIRCULANTE",null,{"$f":"SUM(D144+D147+D151+D157+D161+D168)","v":{"v":28533916.26,"d":"28,533,916.26"}},{"$f":"SUM(E144+E147+E151+E157+E161+E168)","v":{"v":920608.54,"d":"920,608.54"}},{"$f":"SUM(F144+F147+F151+F157+F161+F168)","v":{"v":0,"d":"0.00"}},null,{"$f":"SUM(H144+H147+H151+H157+H161+H168)","v":{"v":27613307.72,"d":"27,613,307.72"}}]
["22100","CUENTAS POR PAGAR A LARGO PLAZO",null,{"$f":"SUM(D145:D146)","v":{"v":0,"d":"0.00"}},{"$f":"SUM(E145:E146)","v":{"v":0,"d":"0.00"}},{"$f":"SUM(F145:F146)","v":{"v":0,"d":"0.00"}},null,{"$f":"SUM(H145:H146)","v":{"v":0,"d":"0.00"}}]
["22110","Proveedores por pagar a largo plazo",{"$nulls":5},{"$f":"ROUND(D145+F145-E145,2)","v":{"v":0,"d":"0.00"}}]
["22120","Contratistas por obras públicas por pagar a largo plazo",{"$nulls":5},{"v":0,"d":"0.00"}]
["22200","DOCUMENTOS POR PAGAR A LARGO PLAZO",null,{"$f":"SUM(D148:D150)","v":{"v":0,"d":"0.00"}},{"$f":"SUM(E148:E150)","v":{"v":0,"d":"0.00"}},{"$f":"SUM(F148:F150)","v":{"v":0,"d":"0.00"}},null,{"$f":"SUM(H148:H150)","v":{"v":0,"d":"0.00"}}]
["22210","Documentos comerciales por pagar a largo plazo",{"$nulls":5},{"$f":"ROUND(D148+F148-E148,2)","v":{"v":0,"d":"0.00"}}]
["22220","Documentos con contratistas por obras públicas por pagar a largo plazo",{"$nulls":5},{"v":0,"d":"0.00"}]
["22290","Otros documentos por pagar a largo plazo",{"$nulls":5},{"v":0,"d":"0.00"}]
["22300","DEUDA PÚBLICA A LARGO PLAZO",null,{"$f":"SUM(D152:D156)","v":{"v":28533916.26,"d":"28,533,916.26"}},{"$f":"SUM(E152:E156)","v":{"v":920608.54,"d":"920,608.54"}},{"$f":"SUM(F152:F156)","v":{"v":0,"d":"0.00"}},null,{"$f":"SUM(H152:H156)","v":{"v":27613307.72,"d":"27,613,307.72"}}]
["22310","Títulos y valores de la deuda pública interna a largo plazo",{"$nulls":5},{"$f":"ROUND(D152+F152-E152,2)","v":{"v":0,"d":"0.00"}}]
["22320","Títulos y valores de la deuda pública externa a largo plazo"]
["22330","Préstamos de la deuda pública interna por pagar a largo plazo",null,{"v":28533916.26,"d":"28,533,916.26"},{"v":920608.54,"d":"920,608.54"},null,null,{"$f":"ROUND(D154+F154-E154,2)","v":{"v":27613307.72,"d":"27,613,307.72"}}]
["22340","Préstamos de la deuda pública externa por pagar a largo plazo"]
["22350","Arrendamiento financiero por pagar a largo plazo",{"$nulls":5},{"$f":"ROUND(D156+F156-E156,2)","v":{"v":0,"d":"0.00"}}]
["22400","PASIVOS DIFERIDOS A LARGO PLAZO",null,{"$f":"SUM(D158:D160)","v":{"v":0,"d":"0.00"}},{"$f":"SUM(E158:E160)","v":{"v":0,"d":"0.00"}},{"$f":"SUM(F158:F160)","v":{"v":0,"d":"0.00"}},null,{"$f":"SUM(H158:H160)","v":{"v":0,"d":"0.00"}}]
["22410","Créditos diferidos a largo plazo",{"$nulls":5},{"$f":"ROUND(D158+F158-E158,2)","v":{"v":0,"d":"0.00"}}]
["22420","Intereses cobrados por adelantado a largo plazo",{"$nulls":5},{"v":0,"d":"0.00"}]
["22490","Otros pasivos diferidos a largo plazo",{"$nulls":5},{"v":0,"d":"0.00"}]
["22500","FONDOS Y BIENES DE TERCEROS EN GARANTÍA Y/O ADMINISTRACIÓN A LARGO PLAZO",null,{"$f":"SUM(D162:D167)","v":{"v":0,"d":"0.00"}},{"$f":"SUM(E162:E167)","v":{"v":0,"d":"0.00"}},{"$f":"SUM(F162:F167)","v":{"v":0,"d":"0.00"}},null,{"$f":"SUM(H162:H167)","v":{"v":0,"d":"0.00"}}]
["22510","Fondos en garantía a largo plazo",{"$nulls":5},{"$f":"ROUND(D162+F162-E162,2)","v":{"v":0,"d":"0.00"}}]
["22520","Fondos en administración a largo plazo",{"$nulls":5},{"v":0,"d":"0.00"}]
["22530","Fondos contingentes a largo plazo",{"$nulls":5},{"v":0,"d":"0.00"}]
["22540","Fondos de fideicomisos, mandatos y contratos análogos a largo plazo",{"$nulls":5},{"v":0,"d":"0.00"}]
["22550","Otros fondos de terceros en garantía y/o administración a largo plazo",{"$nulls":5},{"v":0,"d":"0.00"}]
["22560","Valores y bienes en garantía a largo plazo",{"$nulls":5},{"v":0,"d":"0.00"}]
["22600","PROVISIONES A LARGO PLAZO",null,{"$f":"SUM(D169:D172)","v":{"v":0,"d":"0.00"}},{"$f":"SUM(E169:E172)","v":{"v":0,"d":"0.00"}},{"$f":"SUM(F169:F172)","v":{"v":0,"d":"0.00"}},null,{"$f":"SUM(H169:H172)","v":{"v":0,"d":"0.00"}}]
["22610","Provisión para demandas y juicios a largo plazo",{"$nulls":5},{"$f":"ROUND(D169+F169-E169,2)","v":{"v":0,"d":"0.00"}}]
["22620","Provisión para pensiones a largo plazo",{"$nulls":5},{"v":0,"d":"0.00"}]
["22630","Provisión para contingencias a largo plazo",{"$nulls":5},{"v":0,"d":"0.00"}]
["22690","Otras provisiones a largo plazo",{"$nulls":5},{"v":0,"d":"0.00"}]
["30000","HACIENDA PÚBLICA/PATRIMONIO",null,{"$f":"D174+D178+D194","v":{"v":382034028.46999997,"d":"382,034,028.47"}},{"$f":"E174+E178+E194","v":{"v":0,"d":"0.00"}},{"$f":"F174+F178+F194","v":{"v":10178149.249999993,"d":"10,178,149.25"}},null,{"$f":"H174+H178+H194","v":{"v":392212177.72,"d":"392,212,177.72"}}]
["31000","HACIENDA PÚBLICA/PATRIMONIO CONTRIBUIDO",null,{"$f":"SUM(D175:D177)","v":{"v":0,"d":"0.00"}},{"$f":"SUM(E175:E177)","v":{"v":0,"d":"0.00"}},{"$f":"SUM(F175:F177)","v":{"v":0,"d":"0.00"}},null,{"$f":"SUM(H175:H177)","v":{"v":0,"d":"0.00"}}]
["31100","APORTACIONES",{"$nulls":5},{"$f":"ROUND(D175+F175-E175,2)","v":{"v":0,"d":"0.00"}}]
["31200","DONACIONES DE CAPITAL",{"$nulls":5},{"v":0,"d":"0.00"}]
["31300","ACTUALIZACIÓN DE LA HACIENDA PÚBLICA/PATRIMONIO",{"$nulls":5},{"v":0,"d":"0.00"}]
["32000","HACIENDA PÚBLICA/PATRIMONIO GENERADO",null,{"$f":"D179+D180+D181+D186+D190","v":{"v":382034028.46999997,"d":"382,034,028.47"}},{"$f":"E179+E180+E181+E186+E190","v":{"v":0,"d":"0.00"}},{"$f":"F179+F180+F181+F186+F190","v":{"v":10178149.249999993,"d":"10,178,149.25"}},null,{"$f":"H179+H180+H181+H186+H190","v":{"v":392212177.72,"d":"392,212,177.72"}}]
["32100","RESULTADO DEL EJERCICIO (AHORRO/ DESAHORRO)",null,{"$f":"IF(C752>D753,C752,(D753)*-1)","v":{"v":-25621832.120000005,"d":"-25,621,832.12"}},{"$f":"F753","v":{"v":0,"d":"0.00"}},{"$f":"E752","v":{"v":10178149.249999993,"d":"10,178,149.25"}},null,{"$f":"ROUND(F179-E179,2)","v":{"v":10178149.25,"d":"10,178,149.25"}}]
["32200","RESULTADOS DE EJERCICIOS ANTERIORES",null,{"v":407655860.59,"d":"407,655,860.59"},{"$nulls":3},{"$f":"ROUND(D179+D180+F180-E180,2)","v":{"v":382034028.47,"d":"382,034,028.47"}}]
["32300","REVALÚOS",null,{"$f":"SUM(D182:D185)","v":{"v":0,"d":"0.00"}},{"$f":"SUM(E182:E185)","v":{"v":0,"d":"0.00"}},{"$f":"SUM(F182:F185)","v":{"v":0,"d":"0.00"}},null,{"$f":"SUM(H182:H185)","v":{"v":0,"d":"0.00"}}]
["32310","Revalúo de bienes inmuebles",{"$nulls":5},{"$f":"ROUND(D182+F182-E182,2)","v":{"v":0,"d":"0.00"}}]
["32320","Revalúo de bienes muebles",{"$nulls":5},{"v":0,"d":"0.00"}]
["32330","Revalúo de bienes intangibles",{"$nulls":5},{"v":0,"d":"0.00"}]
["32390","Otros revalúos",{"$nulls":5},{"v":0,"d":"0.00"}]
["32400","RESERVAS",null,{"$f":"SUM(D187:D189)","v":{"v":0,"d":"0.00"}},{"$f":"SUM(E187:E189)","v":{"v":0,"d":"0.00"}},{"$f":"SUM(F187:F189)","v":{"v":0,"d":"0.00"}},null,{"$f":"SUM(H187:H189)","v":{"v":0,"d":"0.00"}}]
["32410","Reservas de patrimonio",{"$nulls":5},{"$f":"ROUND(D187+F187-E187,2)","v":{"v":0,"d":"0.00"}}]
["32420","Reservas territoriales",{"$nulls":5},{"v":0,"d":"0.00"}]
["32430","Reservas por contingencias",{"$nulls":5},{"v":0,"d":"0.00"}]
["32500","RECTIFICACIONES DE RESULTADOS DE EJERCICIOS ANTERIORES",null,{"$f":"SUM(D191:D193)","v":{"v":0,"d":"0.00"}},{"$f":"SUM(E191:E193)","v":{"v":0,"d":"0.00"}},{"$f":"SUM(F191:F193)","v":{"v":0,"d":"0.00"}},null,{"$f":"SUM(H191:H193)","v":{"v":0,"d":"0.00"}}]
["32510","Cambios en políticas contables",{"$nulls":5},{"$f":"ROUND(D191+F191-E191,2)","v":{"v":0,"d":"0.00"}}]
["32520","Cambios por errores contables",{"$nulls":5},{"v":0,"d":"0.00"}]
[32530,"Cambios en estimaciones contables",{"$nulls":5},{"$f":"ROUND(D193+F193-E193,2)","v":{"v":0,"d":"0.00"}}]
["33000","EXCESO O INSUFICIENCIA EN LA ACTUALIZACIÓN  DE LA HACIENDA PÚBLICA/PATRIMONIO",null,{"$f":"SUM(D195:D196)","v":{"v":0,"d":"0.00"}},{"$f":"SUM(E195:E196)","v":{"v":0,"d":"0.00"}},{"$f":"SUM(F195:F196)","v":{"v":0,"d":"0.00"}},null,{"$f":"SUM(H195:H196)","v":{"v":0,"d":"0.00"}}]
["33100","RESULTADO POR POSICIÓN MONETARIA",{"$nulls":5},{"$f":"ROUND(D195+F195-E195,2)","v":{"v":0,"d":"0.00"}}]
["33200","RESULTADO POR TENENCIA DE ACTIVOS NO MONETARIOS",{"$nulls":5},{"v":0,"d":"0.00"}]
["40000","INGRESOS Y OTROS BENEFICIOS",null,{"$f":"D198+D308+D356","v":{"v":332246498.5,"d":"332,246,498.50"}},{"$f":"E198+E308+E356","v":{"v":884020.39,"d":"884,020.39"}},{"$f":"F198+F308+F356","v":{"v":30949183.979999997,"d":"30,949,183.98"}},null,{"$f":"H198+H308+H356","v":{"v":30065163.59,"d":"30,065,163.59"}}]
["41000","INGRESOS DE GESTIÓN",null,{"$f":"D199+D220+D226+D231+D263+D272+D293+D305","v":{"v":104942611.5,"d":"104,942,611.50"}},{"$f":"E199+E220+E226+E231+E263+E272+E293+E305","v":{"v":884020.39,"d":"884,020.39"}},{"$f":"F199+F220+F226+F231+F263+F272+F293+F305","v":{"v":12502963.03,"d":"12,502,963.03"}},null,{"$f":"H199+H220+H226+H231+H263+H272+H293+H305","v":{"v":11618942.64,"d":"11,618,942.64"}}]
["41100","IMPUESTOS",null,{"$f":"D200+D202+D206+D207+D208+D209+D210+D216+D218","v":{"v":51909718.15,"d":"51,909,718.15"}},{"$f":"E200+E202+E206+E207+E208+E209+E210+E216+E218","v":{"v":884020.39,"d":"884,020.39"}},{"$f":"F200+F202+F206+F207+F208+F209+F210+F216+F218","v":{"v":8803549.93,"d":"8,803,549.93"}},null,{"$f":"H200+H202+H206+H207+H208+H209+H210+H216+H218","v":{"v":7919529.54,"d":"7,919,529.54"}}]
[41110,"Impuestos sobre los ingresos",null,{"$f":"SUM(D201)","v":{"v":1500,"d":"1,500.00"}},{"$f":"SUM(E201)","v":{"v":0,"d":"0.00"}},{"$f":"SUM(F201)","v":{"v":0,"d":"0.00"}},null,{"$f":"SUM(H201)","v":{"v":0,"d":"0.00"}}]
["41110-1","Impuestos sobre espectáculos públicos",null,{"v":1500,"d":"1,500.00"},{"$nulls":3},{"$f":"ROUND(F201-E201,2)","v":{"v":0,"d":"0.00"}}]
[41120,"Impuestos sobre el patrimonio",null,{"$f":"SUM(D203:D205)","v":{"v":50092183.67,"d":"50,092,183.67"}},{"$f":"SUM(E203:E205)","v":{"v":884020.39,"d":"884,020.39"}},{"$f":"SUM(F203:F205)","v":{"v":8520012.14,"d":"8,520,012.14"}},null,{"$f":"SUM(H203:H205)","v":{"v":7635991.75,"d":"7,635,991.75"}}]
["41120-1","Impuesto predial ",null,{"v":22035419.36,"d":"22,035,419.36"},{"v":884020.39,"d":"884,020.39"},{"v":7198741.03,"d":"7,198,741.03"},null,{"v":6314720.64,"d":"6,314,720.64"}]
["41120-2","Impuestos sobre transmisiones patrimoniales",null,{"v":27818853,"d":"27,818,853.00"},null,{"v":1319887.11,"d":"1,319,887.11"},null,{"v":1319887.11,"d":"1,319,887.11"}]
["41120-3","Impuestos sobre negocios jurídicos",null,{"v":237911.31,"d":"237,911.31"},null,{"v":1384,"d":"1,384.00"},null,{"v":1384,"d":"1,384.00"}]
["41130","Impuesto sobre la producción, el consumo y las transacciones",{"$nulls":5},{"v":0,"d":"0.00"}]
["41140","Impuestos al comercio exterior",{"$nulls":5},{"v":0,"d":"0.00"}]
["41150","Impuestos sobre nóminas y asimilables",{"$nulls":5},{"v":0,"d":"0.00"}]
["41160","Impuestos ecológicos",{"$nulls":5},{"v":0,"d":"0.00"}]
["41170","Accesorios de impuestos",null,{"$f":"SUM(D211:D215)","v":{"v":1816034.48,"d":"1,816,034.48"}},{"$f":"SUM(E211:E215)","v":{"v":0,"d":"0.00"}},{"$f":"SUM(F211:F215)","v":{"v":283537.79000000004,"d":"283,537.79"}},null,{"$f":"SUM(H211:H215)","v":{"v":283537.79000000004,"d":"283,537.79"}}]
["41170-1","Recargos",null,{"v":987753.19,"d":"987,753.19"},null,{"v":166036.57,"d":"166,036.57"},null,{"v":166036.57,"d":"166,036.57"}]
["41170-2","Actualizaciones",{"$nulls":5},{"v":0,"d":"0.00"}]
["41170-3","Multas",null,{"v":827266.08,"d":"827,266.08"},null,{"v":117501.22,"d":"117,501.22"},null,{"v":117501.22,"d":"117,501.22"}]
["41170-4","Gastos de ejecución",null,{"v":1015.21,"d":"1,015.21"},{"$nulls":3},{"v":0,"d":"0.00"}]
["41170-5","Otros no especificados",{"$nulls":5},{"v":0,"d":"0.00"}]
["41180","Impuestos no comprendidos en la ley de ingresos vigente, causados en ejercicios fiscales anteriores pendientes de liquidar o pago",null,{"$f":"SUM(D217)","v":{"v":0,"d":"0.00"}},{"$f":"SUM(E217)","v":{"v":0,"d":"0.00"}},{"$f":"SUM(F217)","v":{"v":0,"d":"0.00"}},null,{"$f":"SUM(H217)","v":{"v":0,"d":"0.00"}}]
["41180-1","Impuestos no comprendidos en la ley de ingresos vigente, causados en ejercicios fiscales anteriores pendientes de liquidar o pago",{"$nulls":5},{"v":0,"d":"0.00"}]
["41190","Otros impuestos",null,{"$f":"SUM(D219)","v":{"v":0,"d":"0.00"}},{"$f":"SUM(E219)","v":{"v":0,"d":"0.00"}},{"$f":"SUM(F219)","v":{"v":0,"d":"0.00"}},null,{"$f":"SUM(H219)","v":{"v":0,"d":"0.00"}}]
["41190-1","Otros impuestos",{"$nulls":5},{"v":0,"d":"0.00"}]
["41200","CUOTAS Y APORTACIONES DE SEGURIDAD SOCIAL",null,{"$f":"SUM(D221:D225)","v":{"v":0,"d":"0.00"}},{"$f":"SUM(E221:E225)","v":{"v":0,"d":"0.00"}},{"$f":"SUM(F221:F225)","v":{"v":0,"d":"0.00"}},null,{"$f":"SUM(H221:H225)","v":{"v":0,"d":"0.00"}}]
["41210","Aportaciones para fondos de vivienda"]
["41220","Cuotas para la seguridad social "]
["41230","Cuotas de ahorro para el retiro"]
["41240","Accesorios de cuotas y aportaciones de seguridad social"]
["41290","Otras cuotas y aportaciones para la seguridad social"]
["41300","CONTRIBUCIONES DE MEJORAS",null,{"$f":"SUM(D227+D229)","v":{"v":0,"d":"0.00"}},{"$f":"SUM(E227+E229)","v":{"v":0,"d":"0.00"}},{"$f":"SUM(F227+F229)","v":{"v":0,"d":"0.00"}},null,{"$f":"SUM(H227+H229)","v":{"v":0,"d":"0.00"}}]
["41310","Contribución de mejoras por obras públicas",null,{"$f":"SUM(D228)","v":{"v":0,"d":"0.00"}},{"$f":"SUM(E228)","v":{"v":0,"d":"0.00"}},{"$f":"SUM(F228)","v":{"v":0,"d":"0.00"}},null,{"$f":"SUM(H228)","v":{"v":0,"d":"0.00"}}]
["41310-1","Contribuciones de mejoras por obras públicas",{"$nulls":5},{"$f":"ROUND(F228-E228,2)","v":{"v":0,"d":"0.00"}}]
["41320","Contribuciones de mejoras no comprendidas en la ley de ingresos vigente, causadas en ejercicios fiscales anteriores pendientes de liquidación o pago",null,{"$f":"SUM(D230)","v":{"v":0,"d":"0.00"}},{"$f":"SUM(E230)","v":{"v":0,"d":"0.00"}},{"$f":"SUM(F230)","v":{"v":0,"d":"0.00"}},null,{"$f":"SUM(H230)","v":{"v":0,"d":"0.00"}}]
["41320-1","Contribuciones de mejoras no comprendidas en la ley de ingresos vigente, causadas en ejercicios fiscales anteriores pendientes de liquidación o pago",{"$nulls":5},{"v":0,"d":"0.00"}]
["41400","DERECHOS",null,{"$f":"D232+D237+D238+D259+D261+D253","v":{"v":43986432.300000004,"d":"43,986,432.30"}},{"$f":"E232+E237+E238+E259+E261+E253","v":{"v":0,"d":"0.00"}},{"$f":"F232+F237+F238+F259+F261+F253","v":{"v":3506678.6100000003,"d":"3,506,678.61"}},null,{"$f":"H232+H237+H238+H259+H261+H253","v":{"v":3506678.6100000003,"d":"3,506,678.61"}}]
["41410","Derechos por el uso, goce, aprovechamiento o explotación de bienes de dominio público",null,{"$f":"SUM(D233:D236)","v":{"v":3450843.95,"d":"3,450,843.95"}},{"$f":"SUM(E233:E236)","v":{"v":0,"d":"0.00"}},{"$f":"SUM(F233:F236)","v":{"v":950460.4,"d":"950,460.40"}},null,{"$f":"SUM(H233:H236)","v":{"v":950460.4,"d":"950,460.40"}}]
["41410-1","Derechos por el uso del piso",null,{"v":1756428.42,"d":"1,756,428.42"},null,{"v":140000,"d":"140,000.00"},null,{"$f":"ROUND(F233-E233,2)","v":{"v":140000,"d":"140,000.00"}}]
["41410-2","Derechos por el uso de los estacionamientos",null,{"v":709922,"d":"709,922.00"},null,{"v":284542.4,"d":"284,542.40"},null,{"v":284542.4,"d":"284,542.40"}]
["41410-3","Derechos de uso de cementerios y panteones municipales",null,{"v":964443.53,"d":"964,443.53"},null,{"v":518768,"d":"518,768.00"},null,{"v":518768,"d":"518,768.00"}]
["41410-4","Derechos de concesiones y demás inmuebles de propiedad municipal",null,{"v":20050,"d":"20,050.00"},null,{"v":7150,"d":"7,150.00"},null,{"v":7150,"d":"7,150.00"}]
["41420","Derechos a los hidrocarburos (derogada)"]
["41430","Derechos por prestación de servicios",null,{"$f":"SUM(D239:D252)","v":{"v":34848579.13,"d":"34,848,579.13"}},{"$f":"SUM(E239:E252)","v":{"v":0,"d":"0.00"}},{"$f":"SUM(F239:F252)","v":{"v":2143318.2100000004,"d":"2,143,318.21"}},null,{"$f":"SUM(H239:H252)","v":{"v":2143318.2100000004,"d":"2,143,318.21"}}]
["41430-1","Derechos de licencias y permisos de giros",null,{"v":5060565.27,"d":"5,060,565.27"},null,{"v":804328,"d":"804,328.00"},null,{"$f":"ROUND(F239-E239,2)","v":{"v":804328,"d":"804,328.00"}}]
["41430-2","Derechos de licencias y permisos de anuncios",null,{"v":961943.22,"d":"961,943.22"},null,{"v":342740.35,"d":"342,740.35"},null,{"v":342740.35,"d":"342,740.35"}]
["41430-3","Derechos de licencias de construcción, reconstrucción, reparación o demolición de obras",null,{"v":11284653.88,"d":"11,284,653.88"},null,{"v":54980.84,"d":"54,980.84"},null,{"v":54980.84,"d":"54,980.84"}]
["41430-4","Derechos de regularizaciones de los registros de obra",null,{"v":1250,"d":"1,250.00"},{"$nulls":3},{"v":0,"d":"0.00"}]
["41430-5","Derechos de alineamiento, designación de número oficial e inspección",null,{"v":277496.2,"d":"277,496.20"},null,{"v":7686.28,"d":"7,686.28"},null,{"v":7686.28,"d":"7,686.28"}]
["41430-6","Derechos de licencias de cambio de régimen de propiedad y urbanización",null,{"v":12252574.68,"d":"12,252,574.68"},{"$nulls":3},{"v":0,"d":"0.00"}]
["41430-7","Derechos de servicios de obra",null,{"v":370,"d":"370.00"},{"$nulls":3},{"v":0,"d":"0.00"}]
["41430-8","Derechos de servicios de sanidad",null,{"v":45567.89,"d":"45,567.89"},null,{"v":3616,"d":"3,616.00"},null,{"v":3616,"d":"3,616.00"}]
["41430-9","Derechos de servicio de limpieza, recolección, traslado, tratamiento y disposición final de residuos",null,{"v":1113326.37,"d":"1,113,326.37"},null,{"v":264367,"d":"264,367.00"},null,{"v":264367,"d":"264,367.00"}]
["41430-10","Derechos de agua potable, drenaje, alcantarillado, tratamiento y disposición final de aguas residuales",{"$nulls":5},{"v":0,"d":"0.00"}]
["41430-11","Derechos del rastro",null,{"v":97407,"d":"97,407.00"},null,{"v":19376,"d":"19,376.00"},null,{"v":19376,"d":"19,376.00"}]
["41430-12","Derechos del registro civil",null,{"v":614129.74,"d":"614,129.74"},null,{"v":51998.5,"d":"51,998.50"},null,{"v":51998.5,"d":"51,998.50"}]
["41430-13","Derechos de las certificaciones",null,{"v":2436875.77,"d":"2,436,875.77"},null,{"v":559751.47,"d":"559,751.47"},null,{"v":559751.47,"d":"559,751.47"}]
["41430-14","Derechos de los servicios de catastro",null,{"v":702419.11,"d":"702,419.11"},null,{"v":34473.77,"d":"34,473.77"},null,{"v":34473.77,"d":"34,473.77"}]
["41440","Accesorios de derecho",null,{"$f":"SUM(D254:D258)","v":{"v":446793.22,"d":"446,793.22"}},{"$f":"SUM(E254:E258)","v":{"v":0,"d":"0.00"}},{"$f":"SUM(F254:F258)","v":{"v":412900,"d":"412,900.00"}},null,{"$f":"SUM(H254:H258)","v":{"v":412900,"d":"412,900.00"}}]
["41440-1","Recargos",null,{"v":38832,"d":"38,832.00"},null,{"v":6600,"d":"6,600.00"},null,{"v":6600,"d":"6,600.00"}]
["41440-2","Actualizaciones",{"$nulls":5},{"v":0,"d":"0.00"}]
["41440-3","Multas",null,{"v":407961.22,"d":"407,961.22"},null,{"v":1999,"d":"1,999.00"},null,{"v":1999,"d":"1,999.00"}]
["41440-4","Gastos de ejecución",{"$nulls":5},{"v":0,"d":"0.00"}]
["41440-5","Otros no especificados",{"$nulls":3},{"v":404301,"d":"404,301.00"},null,{"v":404301,"d":"404,301.00"}]
["41450","Derechos no comprendidos en la ley de ingresos vigente, causados en ejercicios fiscales anteriores pendientes de liquidación o pago",null,{"$f":"SUM(D260)","v":{"v":0,"d":"0.00"}},{"$f":"SUM(E260)","v":{"v":0,"d":"0.00"}},{"$f":"SUM(F260)","v":{"v":0,"d":"0.00"}},null,{"$f":"SUM(H260)","v":{"v":0,"d":"0.00"}}]
["41450-1","Derechos no comprendidos en la ley de ingresos vigente, causados en ejercicios fiscales anteriores pendientes de liquidación o pago",{"$nulls":5},{"v":0,"d":"0.00"}]
["41490","Otros derechos",null,{"$f":"SUM(D262)","v":{"v":5240216,"d":"5,240,216.00"}},{"$f":"SUM(E262)","v":{"v":0,"d":"0.00"}},{"$f":"SUM(F262)","v":{"v":0,"d":"0.00"}},null,{"$f":"SUM(H262)","v":{"v":0,"d":"0.00"}}]
["41490-1","Otros derechos",null,{"v":5240216,"d":"5,240,216.00"},{"$nulls":3},{"v":0,"d":"0.00"}]
["41500","PRODUCTOS",null,{"$f":"D264+D267+D268+D269+D271","v":{"v":563407.4600000001,"d":"563,407.46"}},{"$f":"E264+E267+E268+E269+E271","v":{"v":0,"d":"0.00"}},{"$f":"F264+F267+F268+F269+F271","v":{"v":72792.36,"d":"72,792.36"}},null,{"$f":"H264+H267+H268+H269+H271","v":{"v":72792.36,"d":"72,792.36"}}]
["41510","Productos",null,{"$f":"SUM(D265:D266)","v":{"v":563407.4600000001,"d":"563,407.46"}},{"$f":"SUM(E265:E266)","v":{"v":0,"d":"0.00"}},{"$f":"SUM(F265:F266)","v":{"v":72792.36,"d":"72,792.36"}},null,{"$f":"SUM(H265:H266)","v":{"v":72792.36,"d":"72,792.36"}}]
["41510-1","Uso, goce, aprovechamiento o explotación de bienes de dominio privado",null,{"v":12614.9,"d":"12,614.90"},{"$nulls":3},{"$f":"ROUND(F265-E265,2)","v":{"v":0,"d":"0.00"}}]
["41510-2","Productos diversos",null,{"v":550792.56,"d":"550,792.56"},null,{"v":72792.36,"d":"72,792.36"},null,{"v":72792.36,"d":"72,792.36"}]
["41520","Enajenación de bienes muebles no sujetos a ser inventariados (derogada)"]
["41530","Accesorios de productos (derogada)"]
["41540","Productos no comprendidos en la ley de ingresos vigente, causadas en ejercicios fiscales anteriores pendientes de liquidación o pago",null,{"$f":"SUM(D270)","v":{"v":0,"d":"0.00"}},{"$f":"SUM(E270)","v":{"v":0,"d":"0.00"}},{"$f":"SUM(F270)","v":{"v":0,"d":"0.00"}},null,{"$f":"SUM(H270)","v":{"v":0,"d":"0.00"}}]
["41540-1","Productos no comprendidos en la ley de ingresos vigente, causadas en ejercicios fiscales anteriores pendientes de liquidación o pago",{"$nulls":5},{"$f":"ROUND(F270-E270,2)","v":{"v":0,"d":"0.00"}}]
["41590","Otros productos que generan ingresos corrientes (derogada)"]
["41600","APROVECHAMIENTOS",null,{"$f":"SUM(D274+D276+D278+D280+D282+D291+D285)","v":{"v":8483053.59,"d":"8,483,053.59"}},{"$f":"SUM(E274+E276+E278+E280+E282+E291+E285)","v":{"v":0,"d":"0.00"}},{"$f":"SUM(F274+F276+F278+F280+F282+F291+F285)","v":{"v":119942.13,"d":"119,942.13"}},null,{"$f":"SUM(H274+H276+H278+H280+H282+H291+H285)","v":{"v":119942.13,"d":"119,942.13"}}]
["41610","Incentivos derivados de la colaboración fiscal (derogada)"]
["41620","Multas",null,{"$f":"SUM(D275)","v":{"v":488284.76,"d":"488,284.76"}},{"$f":"SUM(E275)","v":{"v":0,"d":"0.00"}},{"$f":"SUM(F275)","v":{"v":90615.84,"d":"90,615.84"}},null,{"$f":"SUM(H275)","v":{"v":90615.84,"d":"90,615.84"}}]
["41620-1","Multas",null,{"v":488284.76,"d":"488,284.76"},null,{"v":90615.84,"d":"90,615.84"},null,{"$f":"ROUND(F275-E275,2)","v":{"v":90615.84,"d":"90,615.84"}}]
["41630","Indemnizaciones",null,{"$f":"SUM(D277)","v":{"v":1999,"d":"1,999.00"}},{"$f":"SUM(E277)","v":{"v":0,"d":"0.00"}},{"$f":"SUM(F277)","v":{"v":0,"d":"0.00"}},null,{"$f":"SUM(H277)","v":{"v":0,"d":"0.00"}}]
["41630-1","Indemnizaciones",null,{"v":1999,"d":"1,999.00"},{"$nulls":3},{"v":0,"d":"0.00"}]
["41640","Reintegros",null,{"$f":"SUM(D279)","v":{"v":0,"d":"0.00"}},{"$f":"SUM(E279)","v":{"v":0,"d":"0.00"}},{"$f":"SUM(F279)","v":{"v":0,"d":"0.00"}},null,{"$f":"SUM(H279)","v":{"v":0,"d":"0.00"}}]
["41640-1","Reintegros",{"$nulls":5},{"v":0,"d":"0.00"}]
["41650","Aprovechamientos provenientes de obras públicas",null,{"$f":"SUM(D281)","v":{"v":6812903,"d":"6,812,903.00"}},{"$f":"SUM(E281)","v":{"v":0,"d":"0.00"}},{"$f":"SUM(F281)","v":{"v":0,"d":"0.00"}},null,{"$f":"SUM(H281)","v":{"v":0,"d":"0.00"}}]
["41650-1","Aprovechamientos provenientes de obras públicas",null,{"v":6812903,"d":"6,812,903.00"},{"$nulls":3},{"v":0,"d":"0.00"}]
["41660","Aprovechamientos no comprendidos en la ley de ingresos vigente, causados en ejercicios fiscales anteriores pendientes de liquidación o pago",null,{"$f":"SUM(D283)","v":474.27},{"$f":"SUM(E283)","v":{"v":0,"d":"0.00"}},{"$f":"SUM(F283)","v":{"v":0,"d":"0.00"}},null,{"$f":"SUM(H283)","v":{"v":0,"d":"0.00"}}]
["41660-1","Aprovechamientos no comprendidos en la ley de ingresos vigente, causados en ejercicios fiscales anteriores pendientes de liquidación o pago",null,474.27,{"$nulls":3},{"v":0,"d":"0.00"}]
["41670","Aprovechamientos por aportaciones y cooperaciones (derogada)"]
["41680","Accesorios de aprovechamiento",null,{"$f":"SUM(D286:D290)","v":{"v":1179392.56,"d":"1,179,392.56"}},{"$f":"SUM(E286:E290)","v":{"v":0,"d":"0.00"}},{"$f":"SUM(F286:F290)","v":{"v":29326.29,"d":"29,326.29"}},null,{"$f":"SUM(H286:H290)","v":{"v":29326.29,"d":"29,326.29"}}]
["41680-1","Recargos",{"$nulls":5},{"$f":"ROUND(F286-E286,2)","v":{"v":0,"d":"0.00"}}]
["41680-2","Actualizaciones",{"$nulls":5},{"v":0,"d":"0.00"}]
["41680-3","Multas",{"$nulls":5},{"v":0,"d":"0.00"}]
["41680-4","Gastos de ejecución",{"$nulls":5},{"v":0,"d":"0.00"}]
["41680-5","Otros no especificados",null,{"v":1179392.56,"d":"1,179,392.56"},null,{"v":29326.29,"d":"29,326.29"},null,{"v":29326.29,"d":"29,326.29"}]
["41690","Otros aprovechamientos",null,{"$f":"SUM(D292)","v":{"v":0,"d":"0.00"}},{"$f":"SUM(E292)","v":{"v":0,"d":"0.00"}},{"$f":"SUM(F292)","v":{"v":0,"d":"0.00"}},null,{"$f":"SUM(H292)","v":{"v":0,"d":"0.00"}}]
["41690-1","Otros aprovechamientos",{"$nulls":5},{"v":0,"d":"0.00"}]
["41700","INGRESOS POR VENTAS DE BIENES Y PRESTACIÓN DE SERVICIOS",null,{"$f":"D294+D296+D297+D299+D300+D301+D302+D304","v":{"v":0,"d":"0.00"}},{"$f":"E294+E296+E297+E299+E300+E301+E302+E304","v":{"v":0,"d":"0.00"}},{"$f":"F294+F296+F297+F299+F300+F301+F302+F304","v":{"v":0,"d":"0.00"}},null,{"$f":"H294+H296+H297+H299+H300+H301+H302+H304","v":{"v":0,"d":"0.00"}}]
["41710","Ingresos por venta de bienes y prestación de servicios de instituciones públicas de seguridad social",null,{"$f":"SUM(D295)","v":{"v":0,"d":"0.00"}},{"$f":"SUM(E295)","v":{"v":0,"d":"0.00"}},{"$f":"SUM(F295)","v":{"v":0,"d":"0.00"}},null,{"$f":"SUM(H295)","v":{"v":0,"d":"0.00"}}]
["41710-1","Ingresos por venta de bienes y prestación de servicios de instituciones públicas de seguridad social",{"$nulls":5},{"$f":"ROUND(F295-E295,2)","v":{"v":0,"d":"0.00"}}]
["41720","Ingresos por venta de bienes y prestación de servicios de empresas públicas del estado",{"$nulls":5},{"v":0,"d":"0.00"}]
["41730","Ingresos por venta de bienes y prestación de servicios de entidades paraestatales y fideicomisos no empresariales y no financieros",null,{"$f":"SUM(D298)","v":{"v":0,"d":"0.00"}},{"$f":"SUM(E298)","v":{"v":0,"d":"0.00"}},{"$f":"SUM(F298)","v":{"v":0,"d":"0.00"}},null,{"$f":"SUM(H298)","v":{"v":0,"d":"0.00"}}]
["41730-1","Ingresos por venta de bienes y prestación de servicios de entidades paraestatales y fideicomisos no empresariales y no financieros",{"$nulls":5},{"v":0,"d":"0.00"}]
["41740","Ingresos por venta de bienes y prestación de servicios de entidades paraestatales empresariales no financieras con participación estatal mayoritaria",{"$nulls":5},{"v":0,"d":"0.00"}]
["41750","Ingresos por venta de bienes y prestación de servicios de entidades paraestatales empresariales financieras monetarias con participación estatal mayoritaria",{"$nulls":5},{"v":0,"d":"0.00"}]
["41760","Ingresos por venta de bienes y prestación de servicios de entidades paraestatales empresariales financieras no monetarias con participación estatal mayoritaria",{"$nulls":5},{"v":0,"d":"0.00"}]
["41770","Ingresos por venta de bienes y prestación de servicios de fideicomisos financieros públicos con participación estatal mayoritaria",null,{"$f":"SUM(D303)","v":{"v":0,"d":"0.00"}},{"$f":"SUM(E303)","v":{"v":0,"d":"0.00"}},{"$f":"SUM(F303)","v":{"v":0,"d":"0.00"}},null,{"$f":"SUM(H303)","v":{"v":0,"d":"0.00"}}]
["41770-1","Ingresos por venta de bienes y prestación de servicios de fideicomisos financieros públicos con participación estatal mayoritaria",{"$nulls":5},{"v":0,"d":"0.00"}]
["41780","Ingresos por venta de bienes y prestación de servicios de los poderes legislativo y judicial, y de los órganismos autónomos",{"$nulls":5},{"v":0,"d":"0.00"}]
["41900","INGRESOS NO COMPRENDIDOS EN LAS FRACCIONES DE LA LEY DE INGRESOS CAUSADOS EN EJERCICIOS FISCALES ANTERIORES PENDIENTES DE LIQUIDACIÓN O PAGO (DEROGADA) ",null,{"$f":"SUM(D306:D307)","v":{"v":0,"d":"0.00"}},{"$f":"SUM(E306:E307)","v":{"v":0,"d":"0.00"}},{"$f":"SUM(F306:F307)","v":{"v":0,"d":"0.00"}},null,{"$f":"SUM(H306:H307)","v":{"v":0,"d":"0.00"}}]
["41910","Impuestos no comprendidos en las fracciones de la ley de ingresos causados en ejercicios fiscales anteriores pendientes de liquidación o pago (derogada)"]
["41920","Cont. de mejoras, derechos, productos y aprovechamientos no comprendidos en las frac. de ley de la ingresos causados en ejercicios fiscales anteriores pendientes de liquidación o pago (derogada)"]
["42000","PARTICIPACIONES, APORTACIONES, CONVENIOS, INCENTIVOS DERIVADOS DE LA COLABORACIÓN FISCAL, FONDOS DISTINTOS DE APORTACIONES, TRANSFERENCIAS, ASIGNACIONES, SUBSIDIOS Y SUBVENCIONES, Y PENSIONES Y JUBILACIONES",null,{"$f":"D309+D342","v":{"v":227303887,"d":"227,303,887.00"}},{"$f":"E309+E342","v":{"v":0,"d":"0.00"}},{"$f":"F309+F342","v":{"v":18446220.95,"d":"18,446,220.95"}},null,{"$f":"H309+H342","v":{"v":18446220.95,"d":"18,446,220.95"}}]
["42100","PARTICIPACIONES, APORTACIONES, CONVENIOS, INCENTIVOS DERIVADOS DE LA COLABORACIÓN FISCAL Y FONDOS DISTINTOS DE APORTACIONES",null,{"$f":"D310+D323+D326+D333+D339","v":{"v":227303887,"d":"227,303,887.00"}},{"$f":"E310+E323+E326+E333+E339","v":{"v":0,"d":"0.00"}},{"$f":"F310+F323+F326+F333+F339","v":{"v":18446220.95,"d":"18,446,220.95"}},null,{"$f":"H310+H323+H326+H333+H339","v":{"v":18446220.95,"d":"18,446,220.95"}}]
["42110","Participaciones",null,{"$f":"SUM(D311:D322)","v":{"v":138095306.82999998,"d":"138,095,306.83"}},{"$f":"SUM(E311:E322)","v":{"v":0,"d":"0.00"}},{"$f":"SUM(F311:F322)","v":{"v":10273028.82,"d":"10,273,028.82"}},null,{"$f":"SUM(H311:H322)","v":{"v":10273028.82,"d":"10,273,028.82"}}]
["42110-1","Fondo general de participaciones (federal)",null,{"v":84127019.49,"d":"84,127,019.49"},null,{"v":6286360.36,"d":"6,286,360.36"},null,{"$f":"ROUND(F311-E311,2)","v":{"v":6286360.36,"d":"6,286,360.36"}}]
["42110-2","Fondo de fomento municipal (federal)",null,{"v":25251370.23,"d":"25,251,370.23"},null,{"v":1682917.59,"d":"1,682,917.59"},null,{"v":1682917.59,"d":"1,682,917.59"}]
["42110-3","Fondo de fiscalización y recaudación (federal)",null,{"v":4153596.56,"d":"4,153,596.56"},null,{"v":675410.34,"d":"675,410.34"},null,{"v":675410.34,"d":"675,410.34"}]
["42110-4","Fondo de compensación (federal)",null,{"v":31913.15,"d":"31,913.15"},{"$nulls":3},{"v":0,"d":"0.00"}]
["42110-5","Fondo de extracción de hidrocarburos (federal)",{"$nulls":5},{"v":0,"d":"0.00"}]
["42110-6","Impuesto especial sobre producción y servicios (federal)",null,{"v":1793805.63,"d":"1,793,805.63"},null,{"v":124840.09,"d":"124,840.09"},null,{"v":124840.09,"d":"124,840.09"}]
["42110-7","0.136% de la recaudación federal participable (federal)",{"$nulls":5},{"v":0,"d":"0.00"}]
["42110-8","3.17% sobre extracción de petróleo (federal)",{"$nulls":5},{"v":0,"d":"0.00"}]
["42110-9","Gasolinas y diésel (federal)",null,{"v":2454172.1,"d":"2,454,172.10"},null,{"v":204179.27,"d":"204,179.27"},null,{"v":204179.27,"d":"204,179.27"}]
["42110-10","Fondo del impuesto sobre la renta (federal)",null,{"v":2699767.2,"d":"2,699,767.20"},{"$nulls":3},{"v":0,"d":"0.00"}]
["42110-11","Fondo de estabilización de los ingresos de las entidades federativas (federal)",{"$nulls":5},{"v":0,"d":"0.00"}]
["42110-12","Participaciones del estado",null,{"v":17583662.47,"d":"17,583,662.47"},null,{"v":1299321.17,"d":"1,299,321.17"},null,{"v":1299321.17,"d":"1,299,321.17"}]
["42120","Aportaciones",null,{"$f":"SUM(D324:D325)","v":{"v":78150188.25,"d":"78,150,188.25"}},{"$f":"SUM(E324:E325)","v":{"v":0,"d":"0.00"}},{"$f":"SUM(F324:F325)","v":{"v":7172677.180000001,"d":"7,172,677.18"}},null,{"$f":"SUM(H324:H325)","v":{"v":7172677.180000001,"d":"7,172,677.18"}}]
["42120-1","Fondo de aportaciones para la infraestructura social municipal",null,{"v":10609906.43,"d":"10,609,906.43"},null,{"v":1050202.7,"d":"1,050,202.70"},null,{"v":1050202.7,"d":"1,050,202.70"}]
["42120-2","Fondo de aportaciones para el fortalecimiento municipal",null,{"v":67540281.82,"d":"67,540,281.82"},null,{"v":6122474.48,"d":"6,122,474.48"},null,{"v":6122474.48,"d":"6,122,474.48"}]
["42130","Convenios",null,{"$f":"SUM(D327:D332)","v":{"v":7639059.27,"d":"7,639,059.27"}},{"$f":"SUM(E327:E332)","v":{"v":0,"d":"0.00"}},{"$f":"SUM(F327:F332)","v":{"v":602424.4,"d":"602,424.40"}},null,{"$f":"SUM(H327:H332)","v":{"v":602424.4,"d":"602,424.40"}}]
["42130-1","Convenios de protección social en salud",{"$nulls":5},{"v":0,"d":"0.00"}]
["42130-2","Convenios de descentralizados",{"$nulls":5},{"v":0,"d":"0.00"}]
["42130-3","Convenio de reasignación",{"$nulls":5},{"v":0,"d":"0.00"}]
["42130-4","Otros convenios y subsidios (Con ingresos de libre disposición)",{"$nulls":5},{"v":0,"d":"0.00"}]
["42130-5","Otros convenios y subsidios (Con ingresos etiquetados federales)",{"$nulls":5},{"v":0,"d":"0.00"}]
["42130-6","Otros convenios y subsidios (Con ingresos etiquetados estatales)",null,{"v":7639059.27,"d":"7,639,059.27"},null,{"v":602424.4,"d":"602,424.40"},null,{"v":602424.4,"d":"602,424.40"}]
["42140","Incentivos derivados de la colaboración fiscal",null,{"$f":"SUM(D334:D338)","v":{"v":3419332.65,"d":"3,419,332.65"}},{"$f":"SUM(E334:E338)","v":{"v":0,"d":"0.00"}},{"$f":"SUM(F334:F338)","v":{"v":398090.55000000005,"d":"398,090.55"}},null,{"$f":"SUM(H334:H338)","v":{"v":398090.55000000005,"d":"398,090.55"}}]
["42140-1","Tenencia o uso de vehículos",null,21.56,null,1.78,null,1.78]
["42140-2","Fondo de compensación ISAN",null,{"v":351044.65,"d":"351,044.65"},null,{"v":36336.17,"d":"36,336.17"},null,{"v":36336.17,"d":"36,336.17"}]
["42140-3","Impuesto sobre automóviles nuevos",null,{"v":2170582.19,"d":"2,170,582.19"},null,{"v":194679.06,"d":"194,679.06"},null,{"v":194679.06,"d":"194,679.06"}]
["42140-4","Fondo de compensación de repecos-intermedios",{"$nulls":5},{"v":0,"d":"0.00"}]
["42140-5","Otros incentivos económicos",null,{"v":897684.25,"d":"897,684.25"},null,{"v":167073.54,"d":"167,073.54"},null,{"v":167073.54,"d":"167,073.54"}]
["42150","Fondos distintos de aportaciones",null,{"$f":"SUM(D340:D341)","v":{"v":0,"d":"0.00"}},{"$f":"SUM(E340:E341)","v":{"v":0,"d":"0.00"}},{"$f":"SUM(F340:F341)","v":{"v":0,"d":"0.00"}},null,{"$f":"SUM(H340:H341)","v":{"v":0,"d":"0.00"}}]
["42150-1","Fondo para entidades federativas y municipios productores de hidrocarburos",{"$nulls":5},{"v":0,"d":"0.00"}]
["42150-2","Fondo minero",{"$nulls":5},{"v":0,"d":"0.00"}]
["42200","TRANSFERENCIAS, ASIGNACIONES, SUBSIDIOS Y SUBVENCIONES, Y PENSIONES Y JUBILACIONES",null,{"$f":"D343+D346+D347+D350+D351+D353+D354","v":{"v":0,"d":"0.00"}},{"$f":"E343+E346+E347+E350+E351+E353+E354","v":{"v":0,"d":"0.00"}},{"$f":"F343+F346+F347+F350+F351+F353+F354","v":{"v":0,"d":"0.00"}},null,{"$f":"H343+H346+H347+H350+H351+H353+H354","v":{"v":0,"d":"0.00"}}]
["42210","Transferencias y asignaciones",null,{"$f":"SUM(D344:D345)","v":{"v":0,"d":"0.00"}},{"$f":"SUM(E344:E345)","v":{"v":0,"d":"0.00"}},{"$f":"SUM(F344:F345)","v":{"v":0,"d":"0.00"}},null,{"$f":"SUM(H344:H345)","v":{"v":0,"d":"0.00"}}]
["42210-1","Transferencias y asignaciones (con ingresos de libre disposición)",{"$nulls":5},{"$f":"ROUND(F344-E344,2)","v":{"v":0,"d":"0.00"}}]
["42210-2","Transferencias y asignaciones (con ingresos etiquetados)",{"$nulls":5},{"v":0,"d":"0.00"}]
["42220","Transferencias del sector público (derogada)"]
["42230","Subsidios y subvenciones",null,{"$f":"SUM(D348:D349)","v":{"v":0,"d":"0.00"}},{"$f":"SUM(E348:E349)","v":{"v":0,"d":"0.00"}},{"$f":"SUM(F348:F349)","v":{"v":0,"d":"0.00"}},null,{"$f":"SUM(H348:H349)","v":{"v":0,"d":"0.00"}}]
["42230-1","Subsidios y subvenciones (con ingresos de libre disposición)",{"$nulls":5},{"$f":"ROUND(F348-E348,2)","v":{"v":0,"d":"0.00"}}]
["42230-2","Subsidios y subvenciones (con ingresos etiquetados)",{"$nulls":5},{"v":0,"d":"0.00"}]
["42240","Ayudas sociales (derogada)"]
["42250","Pensiones y jubilaciones",null,{"$f":"SUM(D352)","v":{"v":0,"d":"0.00"}},{"$f":"SUM(E352)","v":{"v":0,"d":"0.00"}},{"$f":"SUM(F352)","v":{"v":0,"d":"0.00"}},null,{"$f":"SUM(H352)","v":{"v":0,"d":"0.00"}}]
["42250-1","Pensiones y jubilaciones",{"$nulls":5},{"$f":"ROUND(F352-E352,2)","v":{"v":0,"d":"0.00"}}]
["42260","Transferencias del exterior (derogada)"]
["42270","Transferencias del fondo mexicano del petróleo para la estabilización y el desarrollo",null,{"$f":"SUM(D355)","v":{"v":0,"d":"0.00"}},{"$f":"SUM(E355)","v":{"v":0,"d":"0.00"}},{"$f":"SUM(F355)","v":{"v":0,"d":"0.00"}},null,{"$f":"SUM(H355)","v":{"v":0,"d":"0.00"}}]
["42270-1","Transferencias del fondo mexicano del petróleo para la estabilización y el desarrollo",{"$nulls":5},{"$f":"ROUND(F355-E355,2)","v":{"v":0,"d":"0.00"}}]
["43000","OTROS INGRESOS Y BENEFICIOS",null,{"$f":"D357+D362+D368+D371+D374","v":{"v":0,"d":"0.00"}},{"$f":"E357+E362+E368+E371+E374","v":{"v":0,"d":"0.00"}},{"$f":"F357+F362+F368+F371+F374","v":{"v":0,"d":"0.00"}},null,{"$f":"H357+H362+H368+H371+H374","v":{"v":0,"d":"0.00"}}]
["43100","INGRESOS FINANCIEROS",null,{"$f":"D358+D360","v":{"v":0,"d":"0.00"}},{"$f":"E358+E360","v":{"v":0,"d":"0.00"}},{"$f":"F358+F360","v":{"v":0,"d":"0.00"}},null,{"$f":"H358+H360","v":{"v":0,"d":"0.00"}}]
["43110","Intereses ganados de títulos, valores y demás instrumentos financieros",null,{"$f":"SUM(D359)","v":{"v":0,"d":"0.00"}},{"$f":"SUM(E359)","v":{"v":0,"d":"0.00"}},{"$f":"SUM(F359)","v":{"v":0,"d":"0.00"}},null,{"$f":"SUM(H359)","v":{"v":0,"d":"0.00"}}]
["43110-1","Intereses ganados de títulos, valores y demás instrumentos financieros",{"$nulls":5},{"$f":"ROUND(F359-E359,2)","v":{"v":0,"d":"0.00"}}]
["43190","Otros ingresos financieros",null,{"$f":"SUM(D361)","v":{"v":0,"d":"0.00"}},{"$f":"SUM(E361)","v":{"v":0,"d":"0.00"}},{"$f":"SUM(F361)","v":{"v":0,"d":"0.00"}},null,{"$f":"SUM(H361)","v":{"v":0,"d":"0.00"}}]
["43190-1","Otros ingresos financieros",{"$nulls":5},{"v":0,"d":"0.00"}]
["43200","INCREMENTO POR VARIACIÓN DE INVENTARIOS",null,{"$f":"SUM(D363:D367)","v":{"v":0,"d":"0.00"}},{"$f":"SUM(E363:E367)","v":{"v":0,"d":"0.00"}},{"$f":"SUM(F363:F367)","v":{"v":0,"d":"0.00"}},null,{"$f":"SUM(H363:H367)","v":{"v":0,"d":"0.00"}}]
["43210","Incremento por variación de inventarios de mercancías para venta"]
["43220","Incremento por variación de inventarios de mercancías terminadas"]
["43230","Incremento por variación de inventarios de mercancías en proceso de elaboración"]
["43240","Incremento por variación de inventarios de materias primas, materiales y suministros para producción"]
["43250","Incremento por variación de almacén de mercancías primas, materiales y suministros de consumo"]
["43300","DISMINUCIÓN DEL EXCESO DE ESTIMACIONES POR PÉRDIDA O DETERIORO U OBSOLESCENCIA",null,{"$f":"SUM(D369)","v":{"v":0,"d":"0.00"}},{"v":0,"d":"0.00"},{"v":0,"d":"0.00"},null,{"$f":"SUM(H369)","v":{"v":0,"d":"0.00"}}]
["43310","Disminución del exceso de estimaciones por pérdida o deterioro u obsolescencia",null,{"v":0,"d":"0.00"},{"v":0,"d":"0.00"},{"v":0,"d":"0.00"},null,{"v":0,"d":"0.00"}]
["43310-1","Disminución del exceso de estimaciones por pérdida o deterioro u obsolescencia",{"$nulls":5},{"$f":"ROUND(F370-E370,2)","v":{"v":0,"d":"0.00"}}]
["43400","DISMINUCIÓN DEL EXCESO DE PROVISIONES",null,{"$f":"SUM(D372)","v":{"v":0,"d":"0.00"}},{"v":0,"d":"0.00"},{"v":0,"d":"0.00"},null,{"$f":"SUM(H372)","v":{"v":0,"d":"0.00"}}]
["43410","Disminución del exceso de provisiones",null,{"v":0,"d":"0.00"},{"v":0,"d":"0.00"},{"v":0,"d":"0.00"},null,{"v":0,"d":"0.00"}]
["43410-1","Disminución del exceso de provisiones",{"$nulls":5},{"$f":"ROUND(F373-E373,2)","v":{"v":0,"d":"0.00"}}]
["43900","OTROS INGRESOS Y BENEFICIOS VARIOS",null,{"$f":"D376+D378+D380+D382+D384+D386+D388","v":{"v":0,"d":"0.00"}},{"$f":"E376+E378+E380+E382+E384+E386+E388","v":{"v":0,"d":"0.00"}},{"$f":"F376+F378+F380+F382+F384+F386+F388","v":{"v":0,"d":"0.00"}},null,{"$f":"H376+H378+H380+H382+H384+H386+H388","v":{"v":0,"d":"0.00"}}]
["43910","Otros ingresos de ejercicios anteriores (derogada)"]
["43920","Bonificaciones y descuentos obtenidos",null,{"$f":"SUM(D377)","v":{"v":0,"d":"0.00"}},{"$f":"SUM(E377)","v":{"v":0,"d":"0.00"}},{"$f":"SUM(F377)","v":{"v":0,"d":"0.00"}},null,{"$f":"SUM(H377)","v":{"v":0,"d":"0.00"}}]
["43920-1","Bonificaciones y descuentos obtenidos",{"$nulls":5},{"$f":"ROUND(F377-E377,2)","v":{"v":0,"d":"0.00"}}]
["43930","Diferencias por tipo de cambio a favor",null,{"$f":"SUM(D379)","v":{"v":0,"d":"0.00"}},{"$f":"SUM(E379)","v":{"v":0,"d":"0.00"}},{"$f":"SUM(F379)","v":{"v":0,"d":"0.00"}},null,{"$f":"SUM(H379)","v":{"v":0,"d":"0.00"}}]
["43930-1","Diferencias por tipo de cambio a favor",{"$nulls":5},{"v":0,"d":"0.00"}]
["43940","Diferencias de cotizaciones a favor en valores negociables",null,{"$f":"SUM(D381)","v":{"v":0,"d":"0.00"}},{"$f":"SUM(E381)","v":{"v":0,"d":"0.00"}},{"$f":"SUM(F381)","v":{"v":0,"d":"0.00"}},null,{"$f":"SUM(H381)","v":{"v":0,"d":"0.00"}}]
["43940-1","Diferencias de cotizaciones a favor en valores negociables",{"$nulls":5},{"v":0,"d":"0.00"}]
["43950","Resultado por posición monetaria",null,{"$f":"SUM(D383)","v":{"v":0,"d":"0.00"}},{"$f":"SUM(E383)","v":{"v":0,"d":"0.00"}},{"$f":"SUM(F383)","v":{"v":0,"d":"0.00"}},null,{"$f":"SUM(H383)","v":{"v":0,"d":"0.00"}}]
["43950-1","Resultado por posición monetaria",{"$nulls":5},{"v":0,"d":"0.00"}]
["43960","Utilidades por participación patrimonial",null,{"$f":"SUM(D385)","v":{"v":0,"d":"0.00"}},{"$f":"SUM(E385)","v":{"v":0,"d":"0.00"}},{"$f":"SUM(F385)","v":{"v":0,"d":"0.00"}},null,{"$f":"SUM(H385)","v":{"v":0,"d":"0.00"}}]
["43960-1","Utilidades por participación patrimonial",{"$nulls":5},{"v":0,"d":"0.00"}]
["43970","Diferencias por reestructuración de deuda pública a favor",null,{"$f":"SUM(D387)","v":{"v":0,"d":"0.00"}},{"$f":"SUM(E387)","v":{"v":0,"d":"0.00"}},{"$f":"SUM(F387)","v":{"v":0,"d":"0.00"}},null,{"$f":"SUM(H387)","v":{"v":0,"d":"0.00"}}]
["43970-1","Diferencias por reestructuración de deuda pública a favor",{"$nulls":5},{"v":0,"d":"0.00"}]
["43990","Otros ingresos y beneficios varios",null,{"$f":"SUM(D389)","v":{"v":0,"d":"0.00"}},{"$f":"SUM(E389)","v":{"v":0,"d":"0.00"}},{"$f":"SUM(F389)","v":{"v":0,"d":"0.00"}},null,{"$f":"SUM(H389)","v":{"v":0,"d":"0.00"}}]
["43990-1","Otros ingresos y beneficios varios",{"$nulls":5},{"v":0,"d":"0.00"}]
["50000","GASTOS Y OTRAS PÉRDIDAS",{"$f":"C391+C577+C660+C684+C714+C747","v":{"v":357868330.62,"d":"357,868,330.62"}},null,{"$f":"E391+E577+E660+E684+E714+E747","v":{"v":19959416.690000005,"d":"19,959,416.69"}},{"$f":"F391+F577+F660+F684+F714+F747","v":{"v":72402.35,"d":"72,402.35"}},{"$f":"G391+G577+G660+G684+G714+G747","v":{"v":19887014.340000004,"d":"19,887,014.34"}}]
["51000","GASTOS DE FUNCIONAMIENTO",{"$f":"C392+C427+C492","v":{"v":246352434.60999998,"d":"246,352,434.61"}},null,{"$f":"E392+E427+E492","v":{"v":18425579.980000004,"d":"18,425,579.98"}},{"$f":"F392+F427+F492","v":{"v":72402.35,"d":"72,402.35"}},{"$f":"G392+G427+G492","v":{"v":18353177.630000003,"d":"18,353,177.63"}}]
["51100","SERVICIOS PERSONALES",{"$f":"SUM(C393+C398+C403+C412+C417+C424)","v":{"v":88011042.47,"d":"88,011,042.47"}},null,{"$f":"SUM(E393+E398+E403+E412+E417+E424)","v":{"v":6852124.45,"d":"6,852,124.45"}},{"$f":"SUM(F393+F398+F403+F412+F417+F424)","v":{"v":0,"d":"0.00"}},{"$f":"SUM(G393+G398+G403+G412+G417+G424)","v":{"v":6852124.45,"d":"6,852,124.45"}}]
["51110","Remuneraciones al personal de carácter permanente",{"$f":"SUM(C394:C397)","v":{"v":45534947.480000004,"d":"45,534,947.48"}},null,{"$f":"SUM(E394:E397)","v":{"v":3723834.6399999997,"d":"3,723,834.64"}},{"$f":"SUM(F394:F397)","v":{"v":0,"d":"0.00"}},{"$f":"SUM(G394:G397)","v":{"v":3723834.6399999997,"d":"3,723,834.64"}}]
["51110-1","Dietas",{"v":6115199.21,"d":"6,115,199.21"},null,{"v":500786.26,"d":"500,786.26"},null,{"$f":"ROUND(E394-F394,2)","v":{"v":500786.26,"d":"500,786.26"}}]
["51110-2","Haberes"]
["51110-3","Sueldos base al personal permanente",{"v":39419748.27,"d":"39,419,748.27"},null,{"v":3223048.38,"d":"3,223,048.38"},null,{"v":3223048.38,"d":"3,223,048.38"}]
["51110-4","Remuneraciones por adscripción laboral en el extranjero"]
["51120","Remuneraciones al personal de carácter transitorio",{"$f":"SUM(C399:C402)","v":{"v":22675151.02,"d":"22,675,151.02"}},null,{"$f":"SUM(E399:E402)","v":{"v":2092896.04,"d":"2,092,896.04"}},{"$f":"SUM(F399:F402)","v":{"v":0,"d":"0.00"}},{"$f":"SUM(G399:G402)","v":{"v":2092896.04,"d":"2,092,896.04"}}]
["51120-1","Honorarios asimilables a salarios",{"$nulls":4},{"$f":"ROUND(E399-F399,2)","v":{"v":0,"d":"0.00"}}]
["51120-2","Sueldos base al personal eventual",{"v":22675151.02,"d":"22,675,151.02"},null,{"v":2092896.04,"d":"2,092,896.04"},null,{"v":2092896.04,"d":"2,092,896.04"}]
["51120-3","Retribuciones por servicios de carácter social",{"$nulls":4},{"v":0,"d":"0.00"}]
["51120-4","Retribución a los representantes de los trabajadores y de los patrones en la Junta de Conciliación y Arbitraje",{"$nulls":4},{"v":0,"d":"0.00"}]
["51130","Remuneraciones adicionales y especiales",{"$f":"SUM(C404:C411)","v":{"v":11448350.379999999,"d":"11,448,350.38"}},null,{"$f":"SUM(E404:E411)","v":{"v":69933.99,"d":"69,933.99"}},{"$f":"SUM(F404:F411)","v":{"v":0,"d":"0.00"}},{"$f":"SUM(G404:G411)","v":{"v":69933.99,"d":"69,933.99"}}]
["51130-1","Primas por años de servicios efectivos prestados",{"v":2080,"d":"2,080.00"},{"$nulls":3},{"v":0,"d":"0.00"}]
["51130-2","Primas de vacaciones, dominical y gratificación de fin de año",{"v":9851356.28,"d":"9,851,356.28"},null,{"v":2950.8,"d":"2,950.80"},null,{"v":2950.8,"d":"2,950.80"}]
["51130-3","Horas extraordinarias",{"v":1594914.1,"d":"1,594,914.10"},null,{"v":66983.19,"d":"66,983.19"},null,{"v":66983.19,"d":"66,983.19"}]
["51130-4","Compensaciones",{"$nulls":4},{"v":0,"d":"0.00"}]
["51130-5","Sobrehaberes",{"$nulls":4},{"v":0,"d":"0.00"}]
["51130-6","Asignaciones de técnico, de mando, por comisión, de vuelo y de técnico especial",{"$nulls":4},{"v":0,"d":"0.00"}]
["51130-7","Honorarios especiales",{"$nulls":4},{"v":0,"d":"0.00"}]
["51130-8","Participaciones por vigilancia en el cumplimiento de la leyes y custodia de valores",{"$nulls":4},{"v":0,"d":"0.00"}]
["51140","Seguridad social",{"$f":"SUM(C413:C416)","v":{"v":0,"d":"0.00"}},null,{"$f":"SUM(E413:E416)","v":{"v":0,"d":"0.00"}},{"$f":"SUM(F413:F416)","v":{"v":0,"d":"0.00"}},{"$f":"SUM(G413:G416)","v":{"v":0,"d":"0.00"}}]
["51140-1","Aportaciones de seguridad social",{"$nulls":4},{"v":0,"d":"0.00"}]
["51140-2","Aportaciones a fondos de vivienda",{"$nulls":4},{"v":0,"d":"0.00"}]
["51140-3","Aportaciones al sistema para el retiro",{"$nulls":4},{"v":0,"d":"0.00"}]
["51140-4","Aportaciones para seguros",{"$nulls":4},{"v":0,"d":"0.00"}]
["51150","Otras prestaciones sociales y económicas",{"$f":"SUM(C418:C423)","v":{"v":1749870.25,"d":"1,749,870.25"}},null,{"$f":"SUM(E418:E423)","v":{"v":315735.58,"d":"315,735.58"}},{"$f":"SUM(F418:F423)","v":{"v":0,"d":"0.00"}},{"$f":"SUM(G418:G423)","v":{"v":315735.58,"d":"315,735.58"}}]
["51150-1","Cuotas para el fondo de ahorro y fondo de trabajo",{"$nulls":4},{"v":0,"d":"0.00"}]
["51150-2","Indemnizaciones",{"v":1701870.25,"d":"1,701,870.25"},null,{"v":315735.58,"d":"315,735.58"},null,{"v":315735.58,"d":"315,735.58"}]
["51150-3","Prestaciones y haberes de retiro",{"$nulls":4},{"v":0,"d":"0.00"}]
["51150-4","Prestaciones contractuales",{"$nulls":4},{"v":0,"d":"0.00"}]
["51150-5","Apoyos a la capacitación de los servidores públicos",{"$nulls":4},{"v":0,"d":"0.00"}]
["51150-6","Otras prestaciones sociales y económicas",{"v":48000,"d":"48,000.00"},{"$nulls":3},{"v":0,"d":"0.00"}]
["51160","Pago de estímulos a servidores públicos",{"$f":"SUM(C425:C426)","v":{"v":6602723.34,"d":"6,602,723.34"}},null,{"$f":"SUM(E425:E426)","v":{"v":649724.2,"d":"649,724.20"}},{"$f":"SUM(F425:F426)","v":{"v":0,"d":"0.00"}},{"$f":"SUM(G425:G426)","v":{"v":649724.2,"d":"649,724.20"}}]
["51160-1","Estímulos",{"v":6602723.34,"d":"6,602,723.34"},null,{"v":649724.2,"d":"649,724.20"},null,{"v":649724.2,"d":"649,724.20"}]
["51160-2","Recompensas",{"$nulls":4},{"v":0,"d":"0.00"}]
["51200","MATERIALES Y SUMINISTROS",{"$f":"C428+C437+C441+C451+C461+C469+C472+C478+C482","v":{"v":70314648.38999999,"d":"70,314,648.39"}},null,{"$f":"E428+E437+E441+E451+E461+E469+E472+E478+E482","v":{"v":4229811.99,"d":"4,229,811.99"}},{"$f":"F428+F437+F441+F451+F461+F469+F472+F478+F482","v":{"v":72402.35,"d":"72,402.35"}},{"$f":"G428+G437+G441+G451+G461+G469+G472+G478+G482","v":{"v":4157409.64,"d":"4,157,409.64"}}]
["51210","Materiales de administración, emisión de documentos y artículos oficiales",{"$f":"SUM(C429:C436)","v":{"v":5592863.2299999995,"d":"5,592,863.23"}},null,{"$f":"SUM(E429:E436)","v":{"v":337020.87,"d":"337,020.87"}},{"$f":"SUM(F429:F436)","v":{"v":72402.35,"d":"72,402.35"}},{"$f":"SUM(G429:G436)","v":{"v":264618.52,"d":"264,618.52"}}]
["51210-1","Materiales, útiles y equipos menores de oficina",{"v":2226158.14,"d":"2,226,158.14"},null,{"v":113185.36,"d":"113,185.36"},{"v":72402.35,"d":"72,402.35"},{"$f":"ROUND(E429-F429,2)","v":{"v":40783.01,"d":"40,783.01"}}]
["51210-2","Materiales y útiles de impresión y reproducción",{"v":728640.47,"d":"728,640.47"},null,{"v":120186.67,"d":"120,186.67"},null,{"v":120186.67,"d":"120,186.67"}]
["51210-3","Material estadístico y geográfico",{"$nulls":4},{"v":0,"d":"0.00"}]
["51210-4","Materiales, útiles y equipos menores de tecnologías de la información y comunicaciones",{"v":954074.3,"d":"954,074.30"},null,{"v":77224.1,"d":"77,224.10"},null,{"v":77224.1,"d":"77,224.10"}]
["51210-5","Material impreso e información digital",{"v":1118507.75,"d":"1,118,507.75"},{"$nulls":3},{"v":0,"d":"0.00"}]
["51210-6","Material de limpieza",{"v":328053.77,"d":"328,053.77"},null,{"v":14744.74,"d":"14,744.74"},null,{"v":14744.74,"d":"14,744.74"}]
["51210-7","Materiales y útiles de enseñanza",{"$nulls":4},{"v":0,"d":"0.00"}]
["51210-8","Materiales para el registro e identificación de bienes y personas",{"v":237428.8,"d":"237,428.80"},null,{"v":11680,"d":"11,680.00"},null,{"v":11680,"d":"11,680.00"}]
["51220","Alimentos y utensilios",{"$f":"SUM(C438:C440)","v":{"v":813812.1499999999,"d":"813,812.15"}},null,{"$f":"SUM(E438:E440)","v":{"v":30228,"d":"30,228.00"}},{"$f":"SUM(F438:F440)","v":{"v":0,"d":"0.00"}},{"$f":"SUM(G438:G440)","v":{"v":30228,"d":"30,228.00"}}]
["51220-1","Productos alimenticios para personas",{"v":493628.37,"d":"493,628.37"},null,{"v":13198,"d":"13,198.00"},null,{"v":13198,"d":"13,198.00"}]
["51220-2","Productos alimenticios para animales",{"v":292150.58,"d":"292,150.58"},null,{"v":17030,"d":"17,030.00"},null,{"v":17030,"d":"17,030.00"}]
["51220-3","Utensilios para el servicio de alimentación",{"v":28033.2,"d":"28,033.20"},{"$nulls":3},{"v":0,"d":"0.00"}]
["51230","Materias primas y materiales de producción y comercialización",{"$f":"SUM(C442:C450)","v":{"v":0,"d":"0.00"}},null,{"$f":"SUM(E442:E450)","v":{"v":0,"d":"0.00"}},{"$f":"SUM(F442:F450)","v":{"v":0,"d":"0.00"}},{"$f":"SUM(G442:G450)","v":{"v":0,"d":"0.00"}}]
["51230-1","Productos alimenticios, agropecuarios y forestales adquiridos como materia prima"]
["51230-2","Insumos textiles adquiridos como materia prima"]
["51230-3","Productos de papel, cartón e impresos adquiridos como materia prima"]
["51230-4","Combustibles, lubricantes, aditivos, carbón y sus derivados adquiridos como materia prima"]
["51230-5","Productos químicos, farmacéuticos y de laboratorio adquiridos como materia prima"]
["51230-6","Productos metálicos y a base de minerales no metálicos adquiridos como materia prima"]
["51230-7","Productos de cuero, piel, plástico y hule adquiridos como materia prima"]
["51230-8","Mercancías adquiridas para su comercialización"]
["51230-9","Otros productos adquiridos como materia prima"]
["51240","Materiales y artículos de construcción y de reparación",{"$f":"SUM(C452:C460)","v":{"v":17234590.78,"d":"17,234,590.78"}},null,{"$f":"SUM(E452:E460)","v":{"v":1786978.07,"d":"1,786,978.07"}},{"$f":"SUM(F452:F460)","v":{"v":0,"d":"0.00"}},{"$f":"SUM(G452:G460)","v":{"v":1786978.07,"d":"1,786,978.07"}}]
["51240-1","Productos minerales no metálicos",{"v":2356524.64,"d":"2,356,524.64"},null,{"v":1196353.82,"d":"1,196,353.82"},null,{"$f":"ROUND(E452-F452,2)","v":{"v":1196353.82,"d":"1,196,353.82"}}]
["51240-2","Cemento y productos de concreto",{"v":1036837.98,"d":"1,036,837.98"},null,{"v":142965.74,"d":"142,965.74"},null,{"v":142965.74,"d":"142,965.74"}]
["51240-3","Cal, yeso y productos de yeso",{"v":75048.5,"d":"75,048.50"},{"$nulls":3},{"v":0,"d":"0.00"}]
["51240-4","Madera y productos de madera",{"v":38836.8,"d":"38,836.80"},{"$nulls":3},{"v":0,"d":"0.00"}]
["51240-5","Vidrio y productos de vidrio",{"$nulls":4},{"v":0,"d":"0.00"}]
["51240-6","Material eléctrico y electrónico",{"v":12768119.49,"d":"12,768,119.49"},null,{"v":365566.16,"d":"365,566.16"},null,{"v":365566.16,"d":"365,566.16"}]
["51240-7","Artículos metálicos para la construcción",{"v":56845.74,"d":"56,845.74"},{"$nulls":3},{"v":0,"d":"0.00"}]
["51240-8","Materiales complementarios",{"v":15917.4,"d":"15,917.40"},{"$nulls":3},{"v":0,"d":"0.00"}]
["51240-9","Otros materiales y artículos de construcción y reparación",{"v":886460.23,"d":"886,460.23"},null,{"v":82092.35,"d":"82,092.35"},null,{"v":82092.35,"d":"82,092.35"}]
["51250","Productos químicos, farmacéuticos y de laboratorio",{"$f":"SUM(C462:C468)","v":{"v":5962012.88,"d":"5,962,012.88"}},null,{"$f":"SUM(E462:E468)","v":{"v":428032.77,"d":"428,032.77"}},{"$f":"SUM(F462:F468)","v":{"v":0,"d":"0.00"}},{"$f":"SUM(G462:G468)","v":{"v":428032.77,"d":"428,032.77"}}]
["51250-1","Productos químicos básicos",{"$nulls":4},{"v":0,"d":"0.00"}]
["51250-2","Fertilizantes, pesticidas y otros agroquímicos",{"v":632672.59,"d":"632,672.59"},{"$nulls":3},{"v":0,"d":"0.00"}]
["51250-3","Medicinas y productos farmacéuticos",{"v":4813355.73,"d":"4,813,355.73"},null,{"v":428032.77,"d":"428,032.77"},null,{"v":428032.77,"d":"428,032.77"}]
["51250-4","Materiales, accesorios y suministros médicos",{"v":501507.76,"d":"501,507.76"},{"$nulls":3},{"v":0,"d":"0.00"}]
["51250-5","Materiales, accesorios y suministros de laboratorio",{"$nulls":4},{"v":0,"d":"0.00"}]
["51250-6","Fibras sintéticas, hules plásticos y derivados",{"v":14476.8,"d":"14,476.80"},{"$nulls":3},{"v":0,"d":"0.00"}]
["51250-7","Otros productos químicos",{"$nulls":4},{"v":0,"d":"0.00"}]
["51260","Combustibles, lubricantes y aditivos",{"$f":"SUM(C470:C471)","v":{"v":28100812.87,"d":"28,100,812.87"}},null,{"$f":"SUM(E470:E471)","v":{"v":1006908.84,"d":"1,006,908.84"}},{"$f":"SUM(F470:F471)","v":{"v":0,"d":"0.00"}},{"$f":"SUM(G470:G471)","v":{"v":1006908.84,"d":"1,006,908.84"}}]
["51260-1","Combustibles, lubricantes y aditivos",{"v":28100812.87,"d":"28,100,812.87"},null,{"v":1006908.84,"d":"1,006,908.84"},null,{"v":1006908.84,"d":"1,006,908.84"}]
["51260-2","Carbón y sus derivados",{"$nulls":4},{"v":0,"d":"0.00"}]
["51270","Vestuario, blancos, prendas de protección y artículos deportivos",{"$f":"SUM(C473:C477)","v":{"v":1965045.1199999999,"d":"1,965,045.12"}},null,{"$f":"SUM(E473:E477)","v":{"v":40158.98,"d":"40,158.98"}},{"$f":"SUM(F473:F477)","v":{"v":0,"d":"0.00"}},{"$f":"SUM(G473:G477)","v":{"v":40158.98,"d":"40,158.98"}}]
["51270-1","Vestuario y uniformes",{"v":1722984.65,"d":"1,722,984.65"},{"$nulls":3},{"v":0,"d":"0.00"}]
["51270-2","Prendas de seguridad y protección personal",{"v":212210.57,"d":"212,210.57"},null,{"v":40158.98,"d":"40,158.98"},null,{"v":40158.98,"d":"40,158.98"}]
["51270-3","Artículos deportivos",{"v":29849.9,"d":"29,849.90"},{"$nulls":3},{"v":0,"d":"0.00"}]
["51270-4","Productos textiles",{"$nulls":4},{"v":0,"d":"0.00"}]
["51270-5","Blancos y otros productos textiles, excepto prendas de vestir",{"$nulls":4},{"v":0,"d":"0.00"}]
["51280","Materiales y suministros para seguridad",{"$f":"SUM(C479:C481)","v":{"v":753065.1799999999,"d":"753,065.18"}},null,{"$f":"SUM(E479:E481)","v":{"v":0,"d":"0.00"}},{"$f":"SUM(F479:F481)","v":{"v":0,"d":"0.00"}},{"$f":"SUM(G479:G481)","v":{"v":0,"d":"0.00"}}]
["51280-1","Sustancias y materiales explosivos",{"$nulls":4},{"v":0,"d":"0.00"}]
["51280-2","Materiales de seguridad pública",{"v":68305.44,"d":"68,305.44"},{"$nulls":3},{"v":0,"d":"0.00"}]
["51280-3","Prendas de protección para seguridad pública y nacional",{"v":684759.74,"d":"684,759.74"},{"$nulls":3},{"v":0,"d":"0.00"}]
["51290","Herramientas, refacciones y accesorios menores",{"$f":"SUM(C483:C491)","v":{"v":9892446.18,"d":"9,892,446.18"}},null,{"$f":"SUM(E483:E491)","v":{"v":600484.46,"d":"600,484.46"}},{"$f":"SUM(F483:F491)","v":{"v":0,"d":"0.00"}},{"$f":"SUM(G483:G491)","v":{"v":600484.46,"d":"600,484.46"}}]
["51290-1","Herramientas menores",{"v":4728407.31,"d":"4,728,407.31"},null,{"v":237721.59,"d":"237,721.59"},null,{"v":237721.59,"d":"237,721.59"}]
["51290-2","Refacciones y accesorios menores de edificios",{"v":3113,"d":"3,113.00"},{"$nulls":3},{"v":0,"d":"0.00"}]
["51290-3","Refacciones y accesorios menores de mobiliario  y equipo de administración, educacional y recreativo",{"v":181678.81,"d":"181,678.81"},{"$nulls":3},{"v":0,"d":"0.00"}]
["51290-4","Refacciones y accesorios menores de equipo de cómputo y tecnologías de la información",{"v":158030.3,"d":"158,030.30"},null,{"v":11600.7,"d":"11,600.70"},null,{"v":11600.7,"d":"11,600.70"}]
["51290-5","Refacciones y accesorios menores de equipo e instrumental médico y de laboratorio",{"$nulls":4},{"v":0,"d":"0.00"}]
["51290-6","Refacciones y accesorios menores de equipo de transporte",{"v":3486773.81,"d":"3,486,773.81"},null,{"v":303262.17,"d":"303,262.17"},null,{"v":303262.17,"d":"303,262.17"}]
["51290-7","Refacciones y accesorios menores de equipo de defensa y seguridad",{"v":14000.05,"d":"14,000.05"},{"$nulls":3},{"v":0,"d":"0.00"}]
["51290-8","Refacciones y accesorios menores de maquinaria y otros equipos",{"v":1320442.9,"d":"1,320,442.90"},null,{"v":47900,"d":"47,900.00"},null,{"v":47900,"d":"47,900.00"}]
["51290-9","Refacciones y accesorios menores otros bienes muebles",{"$nulls":4},{"v":0,"d":"0.00"}]
["51300","SERVICIOS GENERALES",{"$f":"C493+C503+C513+C523+C533+C543+C561+C567+C551","v":{"v":88026743.75,"d":"88,026,743.75"}},null,{"$f":"E493+E503+E513+E523+E533+E543+E561+E567+E551","v":{"v":7343643.540000001,"d":"7,343,643.54"}},{"$f":"F493+F503+F513+F523+F533+F543+F561+F567+F551","v":{"v":0,"d":"0.00"}},{"$f":"G493+G503+G513+G523+G533+G543+G561+G567+G551","v":{"v":7343643.540000001,"d":"7,343,643.54"}}]
["51310","Servicios básicos",{"$f":"SUM(C494:C502)","v":{"v":15672859.469999999,"d":"15,672,859.47"}},null,{"$f":"SUM(E494:E502)","v":{"v":1369984.03,"d":"1,369,984.03"}},{"$f":"SUM(F494:F502)","v":{"v":0,"d":"0.00"}},{"$f":"SUM(G494:G502)","v":{"v":1369984.03,"d":"1,369,984.03"}}]
["51310-1","Energía eléctrica",{"v":14876629.9,"d":"14,876,629.90"},null,{"v":1301993.08,"d":"1,301,993.08"},null,{"$f":"ROUND(E494-F494,2)","v":{"v":1301993.08,"d":"1,301,993.08"}}]
["51310-2","Gas ",{"v":2994.2,"d":"2,994.20"},{"$nulls":3},{"v":0,"d":"0.00"}]
["51310-3","Agua",{"$nulls":4},{"v":0,"d":"0.00"}]
["51310-4","Telefonía tradicional",{"v":14015.53,"d":"14,015.53"},{"$nulls":3},{"v":0,"d":"0.00"}]
["51310-5","Telefonía celular",{"$nulls":4},{"v":0,"d":"0.00"}]
["51310-6","Servicios de telecomunicaciones y satélites",{"$nulls":4},{"v":0,"d":"0.00"}]
["51310-7","Servicios de acceso de Internet, redes y procesamiento de información",{"v":773869.37,"d":"773,869.37"},null,{"v":67990.95,"d":"67,990.95"},null,{"v":67990.95,"d":"67,990.95"}]
["51310-8","Servicios postales y telegráficos",{"v":5350.47,"d":"5,350.47"},{"$nulls":3},{"v":0,"d":"0.00"}]
["51310-9","Servicios integrales y otros servicios",{"$nulls":4},{"v":0,"d":"0.00"}]
["51320","Servicios de arrendamiento",{"$f":"SUM(C504:C512)","v":{"v":4313981.83,"d":"4,313,981.83"}},null,{"$f":"SUM(E504:E512)","v":{"v":816494.7,"d":"816,494.70"}},{"$f":"SUM(F504:F512)","v":{"v":0,"d":"0.00"}},{"$f":"SUM(G504:G512)","v":{"v":816494.7,"d":"816,494.70"}}]
["51320-1","Arrendamiento de terrenos",{"$nulls":4},{"v":0,"d":"0.00"}]
["51320-2","Arrendamiento de edificios",{"v":1774070.07,"d":"1,774,070.07"},null,{"v":135000,"d":"135,000.00"},null,{"v":135000,"d":"135,000.00"}]
["51320-3","Arrendamiento de mobiliario y equipo de administración, educacional y recreativo",{"v":222561.89,"d":"222,561.89"},null,{"v":31426.62,"d":"31,426.62"},null,{"v":31426.62,"d":"31,426.62"}]
["51320-4","Arrendamiento de equipo e instrumental médico y de laboratorio",{"$nulls":4},{"v":0,"d":"0.00"}]
["51320-5","Arrendamiento de equipo de transporte",{"v":181374.8,"d":"181,374.80"},{"$nulls":3},{"v":0,"d":"0.00"}]
["51320-6","Arrendamiento de maquinaria, otros equipos y herramientas",{"v":1065409,"d":"1,065,409.00"},null,{"v":620600,"d":"620,600.00"},null,{"v":620600,"d":"620,600.00"}]
["51320-7","Arrendamiento de activos intangibles",{"v":1070566.07,"d":"1,070,566.07"},null,{"v":29468.08,"d":"29,468.08"},null,{"v":29468.08,"d":"29,468.08"}]
["51320-8","Arrendamiento financiero",{"$nulls":4},{"v":0,"d":"0.00"}]
["51320-9","Otros arrendamientos",{"$nulls":4},{"v":0,"d":"0.00"}]
["51330","Servicios profesionales, científicos, técnicos y otros servicios",{"$f":"SUM(C514:C522)","v":{"v":7358962.369999999,"d":"7,358,962.37"}},null,{"$f":"SUM(E514:E522)","v":{"v":1732316.6,"d":"1,732,316.60"}},{"$f":"SUM(F514:F522)","v":{"v":0,"d":"0.00"}},{"$f":"SUM(G514:G522)","v":{"v":1732316.6,"d":"1,732,316.60"}}]
["51330-1","Servicios legales, de contabilidad, auditoría y relacionados",{"$nulls":4},{"v":0,"d":"0.00"}]
["51330-2","Servicios de diseño, arquitectura, ingeniería y actividades relacionadas",{"v":42355,"d":"42,355.00"},{"$nulls":3},{"v":0,"d":"0.00"}]
["51330-3","Servicios de consultoría administrativa, procesos, técnica y en tecnologías de la información",{"$nulls":4},{"v":0,"d":"0.00"}]
["51330-4","Servicios de capacitación",{"v":2646132,"d":"2,646,132.00"},null,{"v":1552080,"d":"1,552,080.00"},null,{"v":1552080,"d":"1,552,080.00"}]
["51330-5","Servicios de investigación científica y desarrollo",{"$nulls":4},{"v":0,"d":"0.00"}]
["51330-6","Servicios de apoyo administrativo, traducción, fotocopiado e impresión",{"v":7296.4,"d":"7,296.40"},{"$nulls":3},{"v":0,"d":"0.00"}]
["51330-7","Servicios de protección y seguridad",{"$nulls":4},{"v":0,"d":"0.00"}]
["51330-8","Servicios de vigilancia",{"$nulls":4},{"v":0,"d":"0.00"}]
["51330-9","Servicios profesionales, científicos y técnicos integrales",{"v":4663178.97,"d":"4,663,178.97"},null,{"v":180236.6,"d":"180,236.60"},null,{"v":180236.6,"d":"180,236.60"}]
["51340","Servicios financieros, bancarios y comerciales",{"$f":"SUM(C524:C532)","v":{"v":3778489.08,"d":"3,778,489.08"}},null,{"$f":"SUM(E524:E532)","v":{"v":366709.65,"d":"366,709.65"}},{"$f":"SUM(F524:F532)","v":{"v":0,"d":"0.00"}},{"$f":"SUM(G524:G532)","v":{"v":366709.65,"d":"366,709.65"}}]
["51340-1","Servicios financieros y bancarios",{"v":2064602.08,"d":"2,064,602.08"},null,{"v":34880.09,"d":"34,880.09"},null,{"v":34880.09,"d":"34,880.09"}]
["51340-2","Servicios de cobranza, investigación crediticia y similar",{"$nulls":4},{"v":0,"d":"0.00"}]
["51340-3","Servicios de recaudación, traslado y custodia de valores",{"$nulls":4},{"v":0,"d":"0.00"}]
["51340-4","Seguros de responsabilidad patrimonial y fianzas",{"v":113277.6,"d":"113,277.60"},null,{"v":100912.6,"d":"100,912.60"},null,{"v":100912.6,"d":"100,912.60"}]
["51340-5","Seguro de bienes patrimoniales",{"v":1519001.4,"d":"1,519,001.40"},null,{"v":230916.96,"d":"230,916.96"},null,{"v":230916.96,"d":"230,916.96"}]
["51340-6","Almacenaje, envase y embalaje",{"$nulls":4},{"v":0,"d":"0.00"}]
["51340-7","Fletes y maniobras",{"v":81608,"d":"81,608.00"},{"$nulls":3},{"v":0,"d":"0.00"}]
["51340-8","Comisiones por ventas",{"$nulls":4},{"v":0,"d":"0.00"}]
["51340-9","Servicios financieros, bancarios y comerciales integrales",{"$nulls":4},{"v":0,"d":"0.00"}]
["51350","Servicios de instalación, reparación, mantenimiento y conservación",{"$f":"SUM(C534:C542)","v":{"v":30461856.31,"d":"30,461,856.31"}},null,{"$f":"SUM(E534:E542)","v":{"v":2038375.15,"d":"2,038,375.15"}},{"$f":"SUM(F534:F542)","v":{"v":0,"d":"0.00"}},{"$f":"SUM(G534:G542)","v":{"v":2038375.15,"d":"2,038,375.15"}}]
["51350-1","Conservación y mantenimiento menor de inmuebles",{"v":10736281.36,"d":"10,736,281.36"},null,{"v":720860,"d":"720,860.00"},null,{"v":720860,"d":"720,860.00"}]
["51350-2","Instalación, reparación y mantenimiento de mobiliario y equipo de administración, educacional y recreativo",{"v":138329.24,"d":"138,329.24"},{"$nulls":3},{"v":0,"d":"0.00"}]
["51350-3","Instalación, reparación y mantenimiento de equipo de cómputo y tecnología de la información",{"v":861448.04,"d":"861,448.04"},null,{"v":7453,"d":"7,453.00"},null,{"v":7453,"d":"7,453.00"}]
["51350-4","Instalación, reparación y mantenimiento de equipo e instrumental médico y de laboratorio",{"v":16356,"d":"16,356.00"},{"$nulls":3},{"v":0,"d":"0.00"}]
["51350-5","Reparación y mantenimiento de equipo de transporte",{"v":6044927.59,"d":"6,044,927.59"},null,{"v":337786.59,"d":"337,786.59"},null,{"v":337786.59,"d":"337,786.59"}]
["51350-6","Reparación y mantenimiento de equipo de defensa y seguridad",{"v":80786.54,"d":"80,786.54"},{"$nulls":3},{"v":0,"d":"0.00"}]
["51350-7","Instalación, reparación y mantenimiento de maquinaria, otros equipos y herramienta",{"v":10233672.02,"d":"10,233,672.02"},null,{"v":830702.6,"d":"830,702.60"},null,{"v":830702.6,"d":"830,702.60"}]
["51350-8","Servicios de limpieza y manejo de desechos",{"v":2088472.8,"d":"2,088,472.80"},null,{"v":141572.96,"d":"141,572.96"},null,{"v":141572.96,"d":"141,572.96"}]
["51350-9","Servicios de jardinería y fumigación",{"v":261582.72,"d":"261,582.72"},{"$nulls":3},{"v":0,"d":"0.00"}]
["51360","Servicios de comunicación social y publicidad",{"$f":"SUM(C544:C550)","v":{"v":614955.8400000001,"d":"614,955.84"}},null,{"$f":"SUM(E544:E550)","v":{"v":5334.34,"d":"5,334.34"}},{"$f":"SUM(F544:F550)","v":{"v":0,"d":"0.00"}},{"$f":"SUM(G544:G550)","v":{"v":5334.34,"d":"5,334.34"}}]
["51360-1","Difusión por radio, televisión y otros medios de mensajes sobre programas y actividades gubernamentales",{"v":538814.8,"d":"538,814.80"},{"$nulls":3},{"v":0,"d":"0.00"}]
["51360-2","Difusión por radio, televisión y otros medios de mensajes comerciales para promover la venta de bienes o servicios",{"$nulls":4},{"v":0,"d":"0.00"}]
["51360-3","Servicios de creatividad, preproducción y producción de publicidad, excepto Internet",null,null,{"v":5334.34,"d":"5,334.34"},null,{"v":5334.34,"d":"5,334.34"}]
["51360-4","Servicios de revelado de  fotografías",{"$nulls":4},{"v":0,"d":"0.00"}]
["51360-5","Servicios de la industria fílmica, del sonido y del video",{"$nulls":4},{"v":0,"d":"0.00"}]
["51360-6","Servicio de creación y difusión de contenido exclusivamente a través de Internet",{"v":76141.04,"d":"76,141.04"},{"$nulls":3},{"v":0,"d":"0.00"}]
["51360-7","Otros servicios de información",{"$nulls":4},{"v":0,"d":"0.00"}]
["51370","Servicios de traslado y viáticos",{"$f":"SUM(C552:C560)","v":{"v":253797.12000000002,"d":"253,797.12"}},null,{"$f":"SUM(E552:E560)","v":{"v":11200,"d":"11,200.00"}},{"$f":"SUM(F552:F560)","v":{"v":0,"d":"0.00"}},{"$f":"SUM(G552:G560)","v":{"v":11200,"d":"11,200.00"}}]
["51370-1","Pasajes aéreos",204.57,{"$nulls":3},{"v":0,"d":"0.00"}]
["51370-2","Pasajes terrestres",{"$nulls":4},{"v":0,"d":"0.00"}]
["51370-3","Pasajes marítimos, lacustres y fluviales",{"$nulls":4},{"v":0,"d":"0.00"}]
["51370-4","Autotransporte",{"$nulls":4},{"v":0,"d":"0.00"}]
["51370-5","Viáticos en el país",{"v":180176.95,"d":"180,176.95"},{"$nulls":3},{"v":0,"d":"0.00"}]
["51370-6","Viáticos en el extranjero ",{"$nulls":4},{"$f":"ROUND(E557-F557,2)","v":{"v":0,"d":"0.00"}}]
["51370-7","Gastos de instalación y traslado de menaje",{"v":13085.6,"d":"13,085.60"},{"$nulls":3},{"v":0,"d":"0.00"}]
["51370-8","Servicios integrales de traslado y viáticos",{"$nulls":4},{"v":0,"d":"0.00"}]
["51370-9","Otros servicios de traslado y hospedaje",{"v":60330,"d":"60,330.00"},null,{"v":11200,"d":"11,200.00"},null,{"v":11200,"d":"11,200.00"}]
["51380","Servicios oficiales",{"$f":"SUM(C562:C566)","v":{"v":25173466.44,"d":"25,173,466.44"}},null,{"$f":"SUM(E562:E566)","v":{"v":876971.78,"d":"876,971.78"}},{"$f":"SUM(F562:F566)","v":{"v":0,"d":"0.00"}},{"$f":"SUM(G562:G566)","v":{"v":876971.78,"d":"876,971.78"}}]
["51380-1","Gastos de ceremonial",{"v":715281,"d":"715,281.00"},{"$nulls":3},{"v":0,"d":"0.00"}]
["51380-2","Gastos de orden  social y cultural",{"v":24458185.44,"d":"24,458,185.44"},null,{"v":876971.78,"d":"876,971.78"},null,{"v":876971.78,"d":"876,971.78"}]
["51380-3","Congresos y convenciones",{"$nulls":4},{"v":0,"d":"0.00"}]
["51380-4","Exposiciones",{"$nulls":4},{"v":0,"d":"0.00"}]
["51380-5","Gastos de representación",{"$nulls":4},{"v":0,"d":"0.00"}]
["51390","Otros servicios generales",{"$f":"SUM(C568:C576)","v":{"v":398375.29000000004,"d":"398,375.29"}},null,{"$f":"SUM(E568:E576)","v":{"v":126257.29,"d":"126,257.29"}},{"$f":"SUM(F568:F576)","v":{"v":0,"d":"0.00"}},{"$f":"SUM(G568:G576)","v":{"v":126257.29,"d":"126,257.29"}}]
["51390-1","Servicios funerarios y de cementerios",{"v":101840,"d":"101,840.00"},{"$nulls":3},{"v":0,"d":"0.00"}]
["51390-2","Impuestos y derechos",{"v":255660.28,"d":"255,660.28"},{"$nulls":3},{"v":0,"d":"0.00"}]
["51390-3","Impuestos y derechos de importación",{"$nulls":4},{"v":0,"d":"0.00"}]
["51390-4","Sentencias y resoluciones por autoridad competente",{"v":23975.01,"d":"23,975.01"},{"$nulls":3},{"v":0,"d":"0.00"}]
["51390-5","Penas, multas, accesorios y actualizaciones",{"v":16900,"d":"16,900.00"},{"$nulls":3},{"v":0,"d":"0.00"}]
["51390-6","Otros gastos por responsabilidades",{"$nulls":4},{"v":0,"d":"0.00"}]
["51390-7","Utilidades",{"$nulls":4},{"v":0,"d":"0.00"}]
["51390-8","Impuesto sobre nómina y otros que se deriven de una relación laboral",{"$nulls":4},{"v":0,"d":"0.00"}]
["51390-9","Otros servicios generales",null,null,{"v":126257.29,"d":"126,257.29"},null,{"v":126257.29,"d":"126,257.29"}]
["52000","TRANSFERENCIAS, ASIGNACIONES, SUBSIDIOS Y OTRAS  AYUDAS",{"$f":"C578+C590+C598+C610+C623+C630+C640+C643+C654","v":{"v":29835636.169999998,"d":"29,835,636.17"}},null,{"$f":"E578+E590+E598+E610+E623+E630+E640+E643+E654","v":{"v":1295370.3699999999,"d":"1,295,370.37"}},{"$f":"F578+F590+F598+F610+F623+F630+F640+F643+F654","v":{"v":0,"d":"0.00"}},{"$f":"G578+G590+G598+G610+G623+G630+G640+G643+G654","v":{"v":1295370.3699999999,"d":"1,295,370.37"}}]
["52100","TRANSFERENCIAS INTERNAS Y ASIGNACIONES AL SECTOR PÚBLICO",{"$f":"SUM(C579:C589)","v":{"v":0,"d":"0.00"}},null,{"$f":"SUM(E579:E589)","v":{"v":0,"d":"0.00"}},{"v":0,"d":"0.00"},{"v":0,"d":"0.00"}]
["52110","Asignaciones al sector público",{"$nulls":4},{"$f":"ROUND(E579-F579,2)","v":{"v":0,"d":"0.00"}}]
["52110-1","Asignaciones presupuestarias al Poder Ejecutivo",{"$nulls":4},{"v":0,"d":"0.00"}]
["52110-2","Asignaciones presupuestarias al Poder Legislativo",{"$nulls":4},{"v":0,"d":"0.00"}]
["52110-3","Asignaciones presupuestarias al Poder Judicial",{"$nulls":4},{"v":0,"d":"0.00"}]
["52110-4","Asignaciones presupuestarias a Órganos Autónomos",{"$nulls":4},{"v":0,"d":"0.00"}]
["52110-5","Transferencias internas otorgadas a entidades paraestatales no empresariales y no financieras",{"$nulls":4},{"v":0,"d":"0.00"}]
["52110-6","Transferencias internas otorgadas a entidades paraestatales empresariales y no financieras",{"$nulls":4},{"v":0,"d":"0.00"}]
["52110-7","Transferencias internas otorgadas a fideicomisos públicos empresariales y no financieros",{"$nulls":4},{"v":0,"d":"0.00"}]
["52110-8","Transferencias internas otorgadas a instituciones paraestatales públicas financieras",{"$nulls":4},{"v":0,"d":"0.00"}]
["52110-9","Transferencias internas otorgadas a fideicomisos públicos financieros",{"$nulls":4},{"v":0,"d":"0.00"}]
["52120","Transferencias internas al sector público",{"$nulls":4},{"v":0,"d":"0.00"}]
["52200","TRANSFERENCIAS AL RESTO DEL SECTOR PÚBLICO",{"$f":"C591+C595","v":{"v":1733957.61,"d":"1,733,957.61"}},null,{"$f":"E591+E595","v":{"v":101005.58,"d":"101,005.58"}},{"$f":"F591+F595","v":{"v":0,"d":"0.00"}},{"$f":"G591+G595","v":{"v":101005.58,"d":"101,005.58"}}]
[52210,"Transferencias a entidades paraestatales",{"$f":"SUM(C592:C594)","v":{"v":1733957.61,"d":"1,733,957.61"}},null,{"$f":"SUM(E592:E594)","v":{"v":101005.58,"d":"101,005.58"}},{"$f":"SUM(F592:F594)","v":{"v":0,"d":"0.00"}},{"$f":"SUM(G592:G594)","v":{"v":101005.58,"d":"101,005.58"}}]
["52210-1","Transferencias otorgadas a entidades paraestatales no empresariales y no financieras",{"v":1733957.61,"d":"1,733,957.61"},null,{"v":101005.58,"d":"101,005.58"},null,{"$f":"ROUND(E592-F592,2)","v":{"v":101005.58,"d":"101,005.58"}}]
["52210-2","Transferencias otorgadas para entidades paraestatales empresariales y no financieras",{"$nulls":4},{"v":0,"d":"0.00"}]
["52210-3","Transferencias otorgadas para instituciones paraestatales públicas financieras  ",{"$nulls":4},{"v":0,"d":"0.00"}]
[52220,"Transferencias a entidades federativas y municipios",{"$f":"SUM(C596:C597)","v":{"v":0,"d":"0.00"}},null,{"$f":"SUM(E596:E597)","v":{"v":0,"d":"0.00"}},{"$f":"SUM(F596:F597)","v":{"v":0,"d":"0.00"}},{"$f":"SUM(G596:G597)","v":{"v":0,"d":"0.00"}}]
["52220-1","Transferencias otorgadas a entidades federativas y municipios",{"$nulls":4},{"v":0,"d":"0.00"}]
["52220-2","Transferencias a fideicomisos de entidades federativas y municipios",{"$nulls":4},{"v":0,"d":"0.00"}]
["52300","SUBSIDIOS Y SUBVENCIONES",{"$f":"SUM(C599+C608)","v":{"v":14663614.36,"d":"14,663,614.36"}},null,{"$f":"SUM(E599+E608)","v":{"v":1083635.2,"d":"1,083,635.20"}},{"$f":"SUM(F599+F608)","v":{"v":0,"d":"0.00"}},{"$f":"SUM(G599+G608)","v":{"v":1083635.2,"d":"1,083,635.20"}}]
["52310","Subsidios",{"$f":"SUM(C600:C607)","v":{"v":14663614.36,"d":"14,663,614.36"}},null,{"$f":"SUM(E600:E607)","v":{"v":1083635.2,"d":"1,083,635.20"}},{"$f":"SUM(F600:F607)","v":{"v":0,"d":"0.00"}},{"$f":"SUM(G600:G607)","v":{"v":1083635.2,"d":"1,083,635.20"}}]
["52310-1","Subsidios a la producción",{"$nulls":4},{"$f":"ROUND(E600-F600,2)","v":{"v":0,"d":"0.00"}}]
["52310-2","Subsidios a la distribución",{"$nulls":4},{"v":0,"d":"0.00"}]
["52310-3","Subsidios a la inversión",{"$nulls":4},{"v":0,"d":"0.00"}]
["52310-4","Subsidios a la prestación de servicios públicos",{"$nulls":4},{"v":0,"d":"0.00"}]
["52310-5","Subsidios para cubrir diferenciales de tasas de interés",{"$nulls":4},{"v":0,"d":"0.00"}]
["52310-6","Subsidios a la vivienda ",{"$nulls":4},{"v":0,"d":"0.00"}]
["52310-7","Subsidios a entidades federativas y municipios",{"$nulls":4},{"v":0,"d":"0.00"}]
["52310-8","Otros subsidios",{"v":14663614.36,"d":"14,663,614.36"},null,{"v":1083635.2,"d":"1,083,635.20"},null,{"v":1083635.2,"d":"1,083,635.20"}]
["52320","Subvenciones",{"$f":"SUM(C609)","v":{"v":0,"d":"0.00"}},null,{"$f":"SUM(E609)","v":{"v":0,"d":"0.00"}},{"$f":"SUM(F609)","v":{"v":0,"d":"0.00"}},{"$f":"SUM(G609)","v":{"v":0,"d":"0.00"}}]
["52320-1","Subvenciones al consumo",{"$nulls":4},{"v":0,"d":"0.00"}]
["52400","AYUDAS SOCIALES",{"$f":"C611+C613+C615+C621","v":{"v":13352465.8,"d":"13,352,465.80"}},null,{"$f":"E611+E613+E615+E621","v":{"v":103596.39,"d":"103,596.39"}},{"$f":"F611+F613+F615+F621","v":{"v":0,"d":"0.00"}},{"$f":"G611+G613+G615+G621","v":{"v":103596.39,"d":"103,596.39"}}]
["52410","Ayudas sociales a personas",{"$f":"SUM(C612)","v":{"v":928726.24,"d":"928,726.24"}},null,{"$f":"SUM(E612)","v":{"v":71016.39,"d":"71,016.39"}},{"$f":"SUM(F612)","v":{"v":0,"d":"0.00"}},{"$f":"SUM(G612)","v":{"v":71016.39,"d":"71,016.39"}}]
["52410-1","Ayudas sociales a personas ",{"v":928726.24,"d":"928,726.24"},null,{"v":71016.39,"d":"71,016.39"},null,{"$f":"ROUND(E612-F612,2)","v":{"v":71016.39,"d":"71,016.39"}}]
["52420","Becas",{"$f":"SUM(C614)","v":{"v":0,"d":"0.00"}},null,{"$f":"SUM(E614)","v":{"v":0,"d":"0.00"}},{"$f":"SUM(F614)","v":{"v":0,"d":"0.00"}},{"$f":"SUM(G614)","v":{"v":0,"d":"0.00"}}]
["52420-1","Becas y otras ayudas para programas de capacitación",{"$nulls":4},{"v":0,"d":"0.00"}]
["52430","Ayudas sociales a instituciones",{"$f":"SUM(C616:C620)","v":{"v":12423739.56,"d":"12,423,739.56"}},null,{"$f":"SUM(E616:E620)","v":{"v":32580,"d":"32,580.00"}},{"$f":"SUM(F616:F620)","v":{"v":0,"d":"0.00"}},{"$f":"SUM(G616:G620)","v":{"v":32580,"d":"32,580.00"}}]
["52430-1","Ayudas sociales a instituciones de enseñanza",{"v":12423739.56,"d":"12,423,739.56"},null,{"v":32580,"d":"32,580.00"},null,{"v":32580,"d":"32,580.00"}]
["52430-2","Ayudas sociales a actividades científicas o académicas",{"$nulls":4},{"v":0,"d":"0.00"}]
["52430-3","Ayudas sociales a instituciones sin fines de lucro",{"$nulls":4},{"v":0,"d":"0.00"}]
["52430-4","Ayudas sociales a cooperativas",{"$nulls":4},{"v":0,"d":"0.00"}]
["52430-5","Ayudas sociales a entidades de interés público",{"$nulls":4},{"v":0,"d":"0.00"}]
["52440","Ayudas sociales por desastres naturales y otros siniestros",{"$f":"SUM(C622)","v":{"v":0,"d":"0.00"}},null,{"$f":"SUM(E622)","v":{"v":0,"d":"0.00"}},{"$f":"SUM(F622)","v":{"v":0,"d":"0.00"}},{"$f":"SUM(G622)","v":{"v":0,"d":"0.00"}}]
["52440-1","Ayudas por desastres naturales y otros siniestros",{"$nulls":4},{"v":0,"d":"0.00"}]
["52500","PENSIONES Y JUBILACIONES",{"$f":"C624+C626+C628","v":{"v":85598.4,"d":"85,598.40"}},null,{"$f":"E624+E626+E628","v":{"v":7133.2,"d":"7,133.20"}},{"$f":"F624+F626+F628","v":{"v":0,"d":"0.00"}},{"$f":"G624+G626+G628","v":{"v":7133.2,"d":"7,133.20"}}]
["52510","Pensiones",{"$f":"SUM(C625)","v":{"v":0,"d":"0.00"}},null,{"$f":"SUM(E625)","v":{"v":0,"d":"0.00"}},{"$f":"SUM(F625)","v":{"v":0,"d":"0.00"}},{"$f":"SUM(G625)","v":{"v":0,"d":"0.00"}}]
["52510-1","Pensiones",{"$nulls":4},{"$f":"ROUND(E625-F625,2)","v":{"v":0,"d":"0.00"}}]
["52520","Jubilaciones",{"$f":"SUM(C627)","v":{"v":85598.4,"d":"85,598.40"}},null,{"$f":"SUM(E627)","v":{"v":7133.2,"d":"7,133.20"}},{"$f":"SUM(F627)","v":{"v":0,"d":"0.00"}},{"$f":"SUM(G627)","v":{"v":7133.2,"d":"7,133.20"}}]
["52520-1","Jubilaciones",{"v":85598.4,"d":"85,598.40"},null,{"v":7133.2,"d":"7,133.20"},null,{"v":7133.2,"d":"7,133.20"}]
["52590","Otras pensiones y jubilaciones",{"$f":"SUM(C629)","v":{"v":0,"d":"0.00"}},null,{"$f":"SUM(E629)","v":{"v":0,"d":"0.00"}},{"$f":"SUM(F629)","v":{"v":0,"d":"0.00"}},{"$f":"SUM(G629)","v":{"v":0,"d":"0.00"}}]
["52590-1","Otras pensiones y jubilaciones",{"$nulls":4},{"v":0,"d":"0.00"}]
["52600","TRANSFERENCIAS A FIDEICOMISOS, MANDATOS Y CONTRATOS ANÁLOGOS",{"$f":"C631+C635","v":{"v":0,"d":"0.00"}},null,{"$f":"E631+E635","v":{"v":0,"d":"0.00"}},{"$f":"F631+F635","v":{"v":0,"d":"0.00"}},{"$f":"G631+G635","v":{"v":0,"d":"0.00"}}]
["52610","Transferencias a fideicomisos, mandatos y contratos análogos al gobierno",{"$f":"SUM(C632:C634)","v":{"v":0,"d":"0.00"}},null,{"$f":"SUM(E632:E634)","v":{"v":0,"d":"0.00"}},{"$f":"SUM(F632:F634)","v":{"v":0,"d":"0.00"}},{"$f":"SUM(G632:G634)","v":{"v":0,"d":"0.00"}}]
["52610-1","Transferencias a fideicomisos del Poder Ejecutivo",{"$nulls":4},{"$f":"ROUND(E632-F632,2)","v":{"v":0,"d":"0.00"}}]
["52610-2","Transferencias a fideicomisos del Poder Legislativo",{"$nulls":4},{"v":0,"d":"0.00"}]
["52610-3","Transferencias a fideicomisos del Poder Judicial",{"$nulls":4},{"v":0,"d":"0.00"}]
["52620","Transferencias a fideicomisos, mandatos y contratos análogos a entidades paraestatales",{"$f":"SUM(C636:C639)","v":{"v":0,"d":"0.00"}},null,{"$f":"SUM(E636:E639)","v":{"v":0,"d":"0.00"}},{"$f":"SUM(F636:F639)","v":{"v":0,"d":"0.00"}},{"$f":"SUM(G636:G639)","v":{"v":0,"d":"0.00"}}]
["52620-1","Transferencias a fideicomisos públicos de entidades paraestatales no empresariales y no financieras",{"$nulls":4},{"v":0,"d":"0.00"}]
["52620-2","Transferencias a fideicomisos públicos de entidades paraestatales empresariales y no financieras",{"$nulls":4},{"v":0,"d":"0.00"}]
["52620-3","Transferencias a fideicomisos de instituciones públicas financieras",{"$nulls":4},{"v":0,"d":"0.00"}]
["52620-4","Otras transferencias a fideicomisos   ",{"$nulls":4},{"v":0,"d":"0.00"}]
["52700","TRANSFERENCIAS A LA SEGURIDAD SOCIAL",{"$f":"SUM(C641)","v":{"v":0,"d":"0.00"}},null,{"$f":"SUM(E641)","v":{"v":0,"d":"0.00"}},{"v":0,"d":"0.00"},{"v":0,"d":"0.00"}]
["52710","Transferencias por obligaciones de ley",{"$f":"SUM(C642)","v":{"v":0,"d":"0.00"}},null,{"v":0,"d":"0.00"},{"v":0,"d":"0.00"},{"v":0,"d":"0.00"}]
["52710-1","Transferencias por obligación de ley",{"$nulls":4},{"$f":"ROUND(E642-F642,2)","v":{"v":0,"d":"0.00"}}]
["52800","DONATIVOS",{"$f":"C644+C646+C648+C650+C652","v":{"v":0,"d":"0.00"}},null,{"$f":"E644+E646+E648+E650+E652","v":{"v":0,"d":"0.00"}},{"$f":"F644+F646+F648+F650+F652","v":{"v":0,"d":"0.00"}},{"$f":"G644+G646+G648+G650+G652","v":{"v":0,"d":"0.00"}}]
["52810","Donativos a instituciones sin fines de lucro",{"$f":"SUM(C645)","v":{"v":0,"d":"0.00"}},null,{"$f":"SUM(E645)","v":{"v":0,"d":"0.00"}},{"$f":"SUM(F645)","v":{"v":0,"d":"0.00"}},{"$f":"SUM(G645)","v":{"v":0,"d":"0.00"}}]
["52810-1","Donativos a instituciones sin fines de lucro",{"$nulls":4},{"$f":"ROUND(E645-F645,2)","v":{"v":0,"d":"0.00"}}]
["52820","Donativos a entidades federativas y municipios",{"$f":"SUM(C647)","v":{"v":0,"d":"0.00"}},null,{"$f":"SUM(E647)","v":{"v":0,"d":"0.00"}},{"$f":"SUM(F647)","v":{"v":0,"d":"0.00"}},{"$f":"SUM(G647)","v":{"v":0,"d":"0.00"}}]
["52820-1","Donativos a entidades federativas ",{"$nulls":4},{"v":0,"d":"0.00"}]
["52830","Donativos a fideicomisos, mandatos y contratos análogos privados",{"$f":"SUM(C649)","v":{"v":0,"d":"0.00"}},null,{"$f":"SUM(E649)","v":{"v":0,"d":"0.00"}},{"$f":"SUM(F649)","v":{"v":0,"d":"0.00"}},{"$f":"SUM(G649)","v":{"v":0,"d":"0.00"}}]
["52830-1","Donativos a fideicomisos privados",{"$nulls":4},{"v":0,"d":"0.00"}]
["52840","Donativos a fideicomisos mandatos y contratos análogos estatales",{"$f":"SUM(C651)","v":{"v":0,"d":"0.00"}},null,{"$f":"SUM(E651)","v":{"v":0,"d":"0.00"}},{"$f":"SUM(F651)","v":{"v":0,"d":"0.00"}},{"$f":"SUM(G651)","v":{"v":0,"d":"0.00"}}]
["52840-1","Donativos a fideicomisos estatales",{"$nulls":4},{"v":0,"d":"0.00"}]
["52850","Donativos internacionales",{"$f":"SUM(C653)","v":{"v":0,"d":"0.00"}},null,{"$f":"SUM(E653)","v":{"v":0,"d":"0.00"}},{"$f":"SUM(F653)","v":{"v":0,"d":"0.00"}},{"$f":"SUM(G653)","v":{"v":0,"d":"0.00"}}]
["52850-1","Donativos internacionales",{"$nulls":4},{"v":0,"d":"0.00"}]
["52900","TRANSFERENCIAS AL EXTERIOR",{"$f":"C655+C658","v":{"v":0,"d":"0.00"}},null,{"$f":"E655+E658","v":{"v":0,"d":"0.00"}},{"$f":"F655+F658","v":{"v":0,"d":"0.00"}},{"$f":"G655+G658","v":{"v":0,"d":"0.00"}}]
["52910","Transferencias al exterior a gobiernos extranjeros y organismos internacionales",{"$f":"SUM(C656:C657)","v":{"v":0,"d":"0.00"}},null,{"$f":"SUM(E656:E657)","v":{"v":0,"d":"0.00"}},{"$f":"SUM(F656:F657)","v":{"v":0,"d":"0.00"}},{"$f":"SUM(G656:G657)","v":{"v":0,"d":"0.00"}}]
["52910-1","Transferencias para gobiernos extranjeros",{"$nulls":4},{"$f":"ROUND(E656-F656,2)","v":{"v":0,"d":"0.00"}}]
["52910-2","Transferencias para organismos internacionales",{"$nulls":4},{"v":0,"d":"0.00"}]
["52920","Transferencias al sector privado externo",{"$f":"SUM(C659)","v":{"v":0,"d":"0.00"}},null,{"$f":"SUM(E659)","v":{"v":0,"d":"0.00"}},{"$f":"SUM(F659)","v":{"v":0,"d":"0.00"}},{"$f":"SUM(G659)","v":{"v":0,"d":"0.00"}}]
["52920-1","Transferencias para el sector privado externo",{"$nulls":4},{"v":0,"d":"0.00"}]
["53000","PARTICIPACIONES Y APORTACIONES",{"$f":"C661+C670+C678","v":{"v":0,"d":"0.00"}},null,{"$f":"E661+E670+E678","v":{"v":0,"d":"0.00"}},{"$f":"F661+F670+F678","v":{"v":0,"d":"0.00"}},{"$f":"G661+G670+G678","v":{"v":0,"d":"0.00"}}]
["53100","PARTICIPACIONES",{"$f":"C662+C666","v":{"v":0,"d":"0.00"}},null,{"$f":"E662+E666","v":{"v":0,"d":"0.00"}},{"$f":"F662+F666","v":{"v":0,"d":"0.00"}},{"$f":"G662+G666","v":{"v":0,"d":"0.00"}}]
["53110","Participaciones de la federación a entidades federativas y municipios",{"$f":"SUM(C663:C665)","v":{"v":0,"d":"0.00"}},null,{"$f":"SUM(E663:E665)","v":{"v":0,"d":"0.00"}},{"$f":"SUM(F663:F665)","v":{"v":0,"d":"0.00"}},{"$f":"SUM(G663:G665)","v":{"v":0,"d":"0.00"}}]
["53110-1","Fondo general de participaciones",{"$nulls":4},{"$f":"ROUND(E663-F663,2)","v":{"v":0,"d":"0.00"}}]
["53110-2","Otros conceptos participables de la Federación a entidades federativas",{"$nulls":4},{"v":0,"d":"0.00"}]
["53110-3","Fondo de fomento municipal",{"$nulls":4},{"v":0,"d":"0.00"}]
["53120","Participaciones de las entidades federativas a los municipios",{"$f":"SUM(C667:C669)","v":{"v":0,"d":"0.00"}},null,{"$f":"SUM(E667:E669)","v":{"v":0,"d":"0.00"}},{"$f":"SUM(F667:F669)","v":{"v":0,"d":"0.00"}},{"$f":"SUM(G667:G669)","v":{"v":0,"d":"0.00"}}]
["53120-1","Participaciones de las entidades federativas a los municipios",{"$nulls":4},{"v":0,"d":"0.00"}]
["53120-2","Otros conceptos participables de la Federación a municipios",{"$nulls":4},{"v":0,"d":"0.00"}]
["53120-3","Convenios de colaboración administrativa",{"$nulls":4},{"v":0,"d":"0.00"}]
["53200","APORTACIONES",{"$f":"C671+C676","v":{"v":0,"d":"0.00"}},null,{"$f":"E671+E676","v":{"v":0,"d":"0.00"}},{"$f":"F671+F676","v":{"v":0,"d":"0.00"}},{"$f":"G671+G676","v":{"v":0,"d":"0.00"}}]
["53210","Aportaciones de la federación a entidades federativas y municipios",{"$f":"SUM(C672:C675)","v":{"v":0,"d":"0.00"}},null,{"$f":"SUM(E672:E675)","v":{"v":0,"d":"0.00"}},{"$f":"SUM(F672:F675)","v":{"v":0,"d":"0.00"}},{"$f":"SUM(G672:G675)","v":{"v":0,"d":"0.00"}}]
["53210-1","Aportaciones de la Federación a las entidades federativas",{"$nulls":4},{"$f":"ROUND(E672-F672,2)","v":{"v":0,"d":"0.00"}}]
["53210-2","Aportaciones de la Federación a municipios",{"$nulls":4},{"v":0,"d":"0.00"}]
["53210-3","Aportaciones  previstas en leyes y decretos al sistema de protección social",{"$nulls":4},{"v":0,"d":"0.00"}]
["53210-4","Aportaciones previstas en leyes y decretos compensatorias a entidades federativas y municipios",{"$nulls":4},{"v":0,"d":"0.00"}]
["53220","Aportaciones de las entidades federativas a los municipios",{"$f":"SUM(C677)","v":{"v":0,"d":"0.00"}},null,{"$f":"SUM(E677)","v":{"v":0,"d":"0.00"}},{"$f":"SUM(F677)","v":{"v":0,"d":"0.00"}},{"$f":"SUM(G677)","v":{"v":0,"d":"0.00"}}]
["53220-1","Aportaciones de las entidades federativas a los municipios",{"$nulls":4},{"v":0,"d":"0.00"}]
["53300","CONVENIOS",{"$f":"C679+C681","v":{"v":0,"d":"0.00"}},null,{"$f":"E679+E681","v":{"v":0,"d":"0.00"}},{"$f":"F679+F681","v":{"v":0,"d":"0.00"}},{"$f":"G679+G681","v":{"v":0,"d":"0.00"}}]
["53310","Convenios de reasignación",{"$f":"SUM(C680)","v":{"v":0,"d":"0.00"}},null,{"$f":"SUM(E680)","v":{"v":0,"d":"0.00"}},{"$f":"SUM(F680)","v":{"v":0,"d":"0.00"}},{"$f":"SUM(G680)","v":{"v":0,"d":"0.00"}}]
["53310-1","Convenios de reasignación",{"$nulls":4},{"$f":"ROUND(E680-F680,2)","v":{"v":0,"d":"0.00"}}]
["53320","Convenios de descentralización y otros",{"$f":"SUM(C682:C683)","v":{"v":0,"d":"0.00"}},null,{"$f":"SUM(E682:E683)","v":{"v":0,"d":"0.00"}},{"$f":"SUM(F682:F683)","v":{"v":0,"d":"0.00"}},{"v":0,"d":"0.00"}]
["53320-1","Convenios de descentralización",{"$nulls":4},{"v":0,"d":"0.00"}]
["53320-2","Otros convenios",{"$nulls":4},{"v":0,"d":"0.00"}]
["54000","INTERESES, COMISIONES Y OTROS GASTOS DE LA DEUDA PÚBLICA",{"$f":"C685+C696+C701+C706+C709","v":{"v":3046714.94,"d":"3,046,714.94"}},null,{"$f":"E685+E696+E701+E706+E709","v":{"v":238466.34,"d":"238,466.34"}},{"$f":"F685+F696+F701+F706+F709","v":{"v":0,"d":"0.00"}},{"$f":"G685+G696+G701+G706+G709","v":{"v":238466.34,"d":"238,466.34"}}]
["54100","INTERESES DE LA DEUDA PÚBLICA",{"$f":"C686+C690","v":{"v":3046714.94,"d":"3,046,714.94"}},null,{"$f":"E686+E690","v":{"v":238466.34,"d":"238,466.34"}},{"$f":"F686+F690","v":{"v":0,"d":"0.00"}},{"$f":"G686+G690","v":{"v":238466.34,"d":"238,466.34"}}]
["54110","Intereses de la deuda pública interna",{"$f":"SUM(C687:C689)","v":{"v":3046714.94,"d":"3,046,714.94"}},null,{"$f":"SUM(E687:E689)","v":{"v":238466.34,"d":"238,466.34"}},{"$f":"SUM(F687:F689)","v":{"v":0,"d":"0.00"}},{"$f":"SUM(G687:G689)","v":{"v":238466.34,"d":"238,466.34"}}]
["54110-1","Intereses de la deuda interna con instituciones de crédito",{"v":3046714.94,"d":"3,046,714.94"},null,{"v":238466.34,"d":"238,466.34"},null,{"$f":"ROUND(E687-F687,2)","v":{"v":238466.34,"d":"238,466.34"}}]
["54110-2","Intereses derivados de la colocación de títulos y valores",{"$nulls":4},{"v":0,"d":"0.00"}]
["54110-3","Intereses por arrendamientos  financieros nacionales",{"$nulls":4},{"v":0,"d":"0.00"}]
["54120","Intereses de la deuda pública externa",{"$f":"SUM(C691:C695)","v":{"v":0,"d":"0.00"}},null,{"$f":"SUM(E691:E695)","v":{"v":0,"d":"0.00"}},{"$f":"SUM(F691:F695)","v":{"v":0,"d":"0.00"}},{"$f":"SUM(G691:G695)","v":{"v":0,"d":"0.00"}}]
["54120-1","Intereses de la deuda externa con instituciones de crédito "]
["54120-2","Intereses de la deuda con organismos financieros internacionales"]
["54120-3","Intereses de la deuda bilateral  "]
["54120-4","Intereses derivados de la colocación de títulos y valores en el exterior"]
["54120-5","Intereses por arrendamientos financieros internacionales"]
["54200","COMISIONES DE LA DEUDA PÚBLICA",{"$f":"SUM(C697+C699)","v":{"v":0,"d":"0.00"}},null,{"$f":"SUM(E697+E699)","v":{"v":0,"d":"0.00"}},{"$f":"SUM(F697+F699)","v":{"v":0,"d":"0.00"}},{"$f":"SUM(G697+G699)","v":{"v":0,"d":"0.00"}}]
["54210","Comisiones de la deuda pública interna",{"$f":"SUM(C698)","v":{"v":0,"d":"0.00"}},null,{"$f":"SUM(E698)","v":{"v":0,"d":"0.00"}},{"$f":"SUM(F698)","v":{"v":0,"d":"0.00"}},{"$f":"SUM(G698)","v":{"v":0,"d":"0.00"}}]
["54210-1","Comisiones de la deuda pública interna",{"$nulls":4},{"$f":"ROUND(E698-F698,2)","v":{"v":0,"d":"0.00"}}]
["54220","Comisiones de la deuda pública externa",{"$f":"SUM(C700)","v":{"v":0,"d":"0.00"}},null,{"$f":"SUM(E700)","v":{"v":0,"d":"0.00"}},{"$f":"SUM(F700)","v":{"v":0,"d":"0.00"}},{"v":0,"d":"0.00"}]
["54220-1","Comisiones de la deuda pública externa"]
["54300","GASTOS DE LA DEUDA PÚBLICA",{"$f":"SUM(C702+C704)","v":{"v":0,"d":"0.00"}},null,{"$f":"SUM(E702+E704)","v":{"v":0,"d":"0.00"}},{"$f":"SUM(F702+F704)","v":{"v":0,"d":"0.00"}},{"$f":"SUM(G702+G704)","v":{"v":0,"d":"0.00"}}]
["54310","Gastos de la deuda pública interna",{"$f":"SUM(C703)","v":{"v":0,"d":"0.00"}},null,{"$f":"SUM(E703)","v":{"v":0,"d":"0.00"}},{"$f":"SUM(F703)","v":{"v":0,"d":"0.00"}},{"$f":"SUM(G703)","v":{"v":0,"d":"0.00"}}]
["54310-1","Gastos de la deuda pública interna",{"$nulls":4},{"$f":"ROUND(E703-F703,2)","v":{"v":0,"d":"0.00"}}]
["54320","Gastos de la deuda pública externa",{"$f":"SUM(C705)","v":{"v":0,"d":"0.00"}},null,{"$f":"SUM(E705)","v":{"v":0,"d":"0.00"}},{"$f":"SUM(F705)","v":{"v":0,"d":"0.00"}},{"$f":"SUM(G705)","v":{"v":0,"d":"0.00"}}]
["54320-1","Gastos de la deuda  pública externa"]
["54400","COSTO POR COBERTURAS",{"$f":"C707","v":{"v":0,"d":"0.00"}},null,{"$f":"E707","v":{"v":0,"d":"0.00"}},{"$f":"F707","v":{"v":0,"d":"0.00"}},{"$f":"G707","v":{"v":0,"d":"0.00"}}]
["54410","Costo por coberturas",{"$f":"SUM(C708)","v":{"v":0,"d":"0.00"}},null,{"$f":"SUM(E708)","v":{"v":0,"d":"0.00"}},{"$f":"SUM(F708)","v":{"v":0,"d":"0.00"}},{"$f":"SUM(G708)","v":{"v":0,"d":"0.00"}}]
["54410-1","Costos por coberturas",{"$nulls":4},{"$f":"ROUND(E708-F708,2)","v":{"v":0,"d":"0.00"}}]
["54500","APOYOS FINANCIEROS",{"$f":"C710+C712","v":{"v":0,"d":"0.00"}},null,{"$f":"E710+E712","v":{"v":0,"d":"0.00"}},{"$f":"F710+F712","v":{"v":0,"d":"0.00"}},{"$f":"G710+G712","v":{"v":0,"d":"0.00"}}]
["54510","Apoyos financieros a intermediarios",{"$f":"SUM(C711)","v":{"v":0,"d":"0.00"}},null,{"$f":"SUM(E711)","v":{"v":0,"d":"0.00"}},{"$f":"SUM(F711)","v":{"v":0,"d":"0.00"}},{"$f":"SUM(G711)","v":{"v":0,"d":"0.00"}}]
["54510-1","Apoyos a intermediarios financieros",{"$nulls":4},{"$f":"ROUND(E711-F711,2)","v":{"v":0,"d":"0.00"}}]
["54520","Apoyos financieros a ahorradores y deudores del sistema financiero nacional",{"$f":"SUM(C713)","v":{"v":0,"d":"0.00"}},null,{"$f":"SUM(E713)","v":{"v":0,"d":"0.00"}},{"$f":"SUM(F713)","v":{"v":0,"d":"0.00"}},{"$f":"SUM(G713)","v":{"v":0,"d":"0.00"}}]
["54520-1","Apoyos a ahorradores y deudores del Sistema Financiero Nacional",{"$nulls":4},{"v":0,"d":"0.00"}]
["55000","OTROS GASTOS Y PÉRDIDAS EXTRAORDINARIAS",{"$f":"C715+C724+C727+C733+C735+C737","v":{"v":0,"d":"0.00"}},null,{"$f":"E715+E724+E727+E733+E735+E737","v":{"v":0,"d":"0.00"}},{"$f":"F715+F724+F727+F733+F735+F737","v":{"v":0,"d":"0.00"}},{"$f":"G715+G724+G727+G733+G735+G737","v":{"v":0,"d":"0.00"}}]
["55100","ESTIMACIONES, DEPRECIACIONES, DETERIOROS, OBSOLESCENCIA Y AMORTIZACIONES",{"$f":"SUM(C716:C723)","v":{"v":0,"d":"0.00"}},null,{"$f":"SUM(E716:E723)","v":{"v":0,"d":"0.00"}},{"$f":"SUM(F716:F723)","v":{"v":0,"d":"0.00"}},{"$f":"SUM(G716:G723)","v":{"v":0,"d":"0.00"}}]
["55110","Estimaciones de pérdida por deterioro de activos circulantes",{"$nulls":4},{"$f":"ROUND(E716-F716,2)","v":{"v":0,"d":"0.00"}}]
["55120","Estimaciones de pérdida por deterioro de activo no circulante",{"$nulls":4},{"v":0,"d":"0.00"}]
["55130","Depreciación de bienes inmuebles",{"$nulls":4},{"v":0,"d":"0.00"}]
["55140","Depreciación de infraestructura",{"$nulls":4},{"v":0,"d":"0.00"}]
["55150","Depreciación de bienes muebles",{"$nulls":4},{"v":0,"d":"0.00"}]
["55160","Deterioro de bienes",{"$nulls":4},{"v":0,"d":"0.00"}]
["55170","Amortización de activos intangibles",{"$nulls":4},{"v":0,"d":"0.00"}]
["55180","Disminución de bienes por pérdida u obsolescencia",{"$nulls":4},{"v":0,"d":"0.00"}]
["55200","PROVISIONES  ",{"$f":"SUM(C725:C726)","v":{"v":0,"d":"0.00"}},null,{"$f":"SUM(E725:E726)","v":{"v":0,"d":"0.00"}},{"$f":"SUM(F725:F726)","v":{"v":0,"d":"0.00"}},{"$f":"SUM(G725:G726)","v":{"v":0,"d":"0.00"}}]
["55210","Provisiones de pasivos a corto plazo",{"$nulls":4},{"$f":"ROUND(E725-F725,2)","v":{"v":0,"d":"0.00"}}]
["55220","Provisiones de pasivos a largo plazo",{"$nulls":4},{"v":0,"d":"0.00"}]
["55300","DISMINUCIÓN DE INVENTARIOS",{"$f":"SUM(C728:C732)","v":{"v":0,"d":"0.00"}},null,{"$f":"SUM(E728:E732)","v":{"v":0,"d":"0.00"}},{"$f":"SUM(F728:F732)","v":{"v":0,"d":"0.00"}},{"$f":"SUM(G728:G732)","v":{"v":0,"d":"0.00"}}]
["55310","Disminución de inventarios de mercancías para venta"]
["55320","Disminución de inventarios de mercancías terminadas"]
["55330","Disminución de inventarios de mercancías en proceso de elaboración"]
["55340","Disminución de inventarios de materias primas, materiales y suministros para producción"]
["55350","Disminución de almacén de materiales y suministros de consumo"]
["55400","AUMENTO POR INSUFICIENCIA DE ESTIMACIONES POR PÉRDIDA O DETERIORO U OBSOLESCENCIA (Derogada)",{"$f":"SUM(C734)","v":{"v":0,"d":"0.00"}},null,{"$f":"SUM(E734)","v":{"v":0,"d":"0.00"}},{"$f":"SUM(F734)","v":{"v":0,"d":"0.00"}},{"$f":"SUM(G734)","v":{"v":0,"d":"0.00"}}]
["55410","Aumento por insuficiencia de estimaciones por pérdida o deterioro u obsolescencia (Derogada)"]
["55500","AUMENTO POR INSUFICIENCIA DE PROVISIONES (Derogada)",{"$f":"SUM(C736)","v":{"v":0,"d":"0.00"}},null,{"$f":"SUM(E736)","v":{"v":0,"d":"0.00"}},{"$f":"SUM(F736)","v":{"v":0,"d":"0.00"}},{"$f":"SUM(G736)","v":{"v":0,"d":"0.00"}}]
["55510","AUMENTO POR INSUFICIENCIA DE PROVISIONES (Derogada)"]
["55900","OTROS GASTOS",{"$f":"SUM(C738:C746)","v":{"v":0,"d":"0.00"}},null,{"$f":"SUM(E738:E746)","v":{"v":0,"d":"0.00"}},{"$f":"SUM(F738:F746)","v":{"v":0,"d":"0.00"}},{"$f":"SUM(G738:G746)","v":{"v":0,"d":"0.00"}}]
["55910","Gastos de ejercicios anteriores",{"$nulls":4},{"$f":"ROUND(E738-F738,2)","v":{"v":0,"d":"0.00"}}]
["55920","Pérdidas por responsabilidades",{"$nulls":4},{"v":0,"d":"0.00"}]
["55930","Bonificaciones y descuentos otorgados",{"$nulls":4},{"v":0,"d":"0.00"}]
["55940","Diferencias por tipo de cambio negativas",{"$nulls":4},{"v":0,"d":"0.00"}]
["55950","Diferencias de cotizaciones negativas en valores negociables",{"$nulls":4},{"v":0,"d":"0.00"}]
["55960","Resultado por posición monetaria",{"$nulls":4},{"v":0,"d":"0.00"}]
["55970","Pérdidas por participación patrimonial",{"$nulls":4},{"v":0,"d":"0.00"}]
["55980","Diferencias por reestructuración de deuda pública negativas",{"$nulls":4},{"v":0,"d":"0.00"}]
["55990","Otros gastos varios",{"$nulls":4},{"v":0,"d":"0.00"}]
["56000","INVERSIÓN PÚBLICA",{"$f":"C748","v":{"v":78633544.9,"d":"78,633,544.90"}},null,{"$f":"E748","v":{"v":0,"d":"0.00"}},{"$f":"F748","v":{"v":0,"d":"0.00"}},{"$f":"G748","v":{"v":0,"d":"0.00"}}]
["56100","INVERSIÓN PÚBLICA NO CAPITALIZABLE",{"$f":"SUM(C749)","v":{"v":78633544.9,"d":"78,633,544.90"}},null,{"$f":"SUM(E749)","v":{"v":0,"d":"0.00"}},{"$f":"SUM(F749)","v":{"v":0,"d":"0.00"}},{"$f":"SUM(G749)","v":{"v":0,"d":"0.00"}}]
["56110","Construcción en bienes no capitalizables",{"v":78633544.9,"d":"78,633,544.90"},{"$nulls":3},{"$f":"ROUND(E749-F749,2)","v":{"v":0,"d":"0.00"}}]
["60000","CUENTAS DE CIERRE CONTABLE",{"$f":"SUM(C751:C753)","v":{"v":0,"d":"0.00"}},{"v":25621832.120000005,"d":"25,621,832.12"},{"v":10178149.249999993,"d":"10,178,149.25"},{"v":0,"d":"0.00"},{"v":10178149.25,"d":"10,178,149.25"},{"v":0,"d":"0.00"}]
["61000","RESUMEN DE INGRESOS Y GASTOS"]
["62000","AHORRO DE LA GESTIÓN",{"$f":"IF(D197>C390,D197-C390,0)","v":{"v":0,"d":"0.00"}},null,{"$f":"IF((F197-E197)>(E390-F390),((F197-E197)-(E390-F390)),0)","v":{"v":10178149.249999993,"d":"10,178,149.25"}},null,{"$f":"ROUND(E752,2)","v":{"v":10178149.25,"d":"10,178,149.25"}}]
["63000","DESAHORRO DE LA GESTIÓN",null,{"$f":"IF(C390>D197,C390-D197,0)","v":{"v":25621832.120000005,"d":"25,621,832.12"}},null,{"$f":"IF((E390-F390)>(F197-E197),((E390-F390)-(F197-E197)),0)","v":{"v":0,"d":"0.00"}},null,{"$f":"ROUND(F753,2)","v":{"v":0,"d":"0.00"}}]
[" ","SUMAS IGUALES DE CUENTAS FINANCIERAS",{"$f":"C3+C101+C173+C197+C390+C750","v":{"v":775848633.7,"d":"775,848,633.70"}},{"v":775848633.6999999,"d":"775,848,633.70"},{"v":87391502.97999999,"d":"87,391,502.98"},{"v":87391502.97999999,"d":"87,391,502.98"},{"v":457937204.53999996,"d":"457,937,204.54"},{"v":457937204.54,"d":"457,937,204.54"}]
[70000,"CUENTAS DE ORDEN CONTABLES",{"$f":"C756+C763++C770+C777+C780+C783+C788","v":{"v":0,"d":"0.00"}},{"v":0,"d":"0.00"},{"v":0,"d":"0.00"},{"v":0,"d":"0.00"},{"v":0,"d":"0.00"},{"v":0,"d":"0.00"}]
[71000,"VALORES",{"$f":"SUM(C757:C762)","v":{"v":0,"d":"0.00"}},{"v":0,"d":"0.00"},{"v":0,"d":"0.00"},{"v":0,"d":"0.00"},{"v":0,"d":"0.00"},{"v":0,"d":"0.00"}]
[71100,"VALORES EN CUSTODIA",{"$nulls":4},{"$f":"ROUND(C757+E757-F757,2)","v":{"v":0,"d":"0.00"}}]
[71200,"CUSTODIA DE VALORES",{"$nulls":5},{"$f":"ROUND(D758+F758-E758,2)","v":{"v":0,"d":"0.00"}}]
[71300,"INSTRUMENTOS DE CRÉDITO PRESTADOS A FORMADORES DE MERCADO",{"$nulls":4},{"$f":"ROUND(C759+E759-F759,2)","v":{"v":0,"d":"0.00"}}]
[71400,"PRÉSTAMO DE INSTRUMENTOS DE CRÉDITO A FORMADORES DE MERCADO Y SU GARANTÍA",{"$nulls":5},{"$f":"ROUND(D760+F760-E760,2)","v":{"v":0,"d":"0.00"}}]
[71500,"INSTRUMENTOS DE CRÉDITO RECIBIDOS EN GARANTÍA DE LOS FORMADORES DE MERCADO",{"$nulls":4},{"$f":"ROUND(C761+E761-F761,2)","v":{"v":0,"d":"0.00"}}]
[71600,"GARANTÍA DE CRÉDITOS RECIBIDOS DE LOS FORMADORES DE MERCADO",{"$nulls":5},{"$f":"ROUND(D762+F762-E762,2)","v":{"v":0,"d":"0.00"}}]
[72000,"EMISION DE OBLIGACIONES",{"$f":"SUM(C764:C769)","v":{"v":0,"d":"0.00"}},{"v":0,"d":"0.00"},{"v":0,"d":"0.00"},{"v":0,"d":"0.00"},{"v":0,"d":"0.00"},{"v":0,"d":"0.00"}]
[72100,"AUTORIZACIÓN PARA LA EMISIÓN DE BONOS, TÍTULOS Y VALORES DE LA DEUDA PÚBLICA INTERNA",{"$nulls":4},{"$f":"ROUND(C764+E764-F764,2)","v":{"v":0,"d":"0.00"}}]
[72200,"AUTORIZACIÓN PARA LA EMISIÓN DE BONOS, TÍTULOS Y VALORES DE LA DEUDA PÚBLICA EXTERNA"]
[72300,"EMISIONES AUTORIZADAS DE LA DEUDA PÚBLICA INTERNA Y EXTERNA",{"$nulls":5},{"$f":"ROUND(D766+F766-E766,2)","v":{"v":0,"d":"0.00"}}]
[72400,"SUSCRIPCIÓN DE CONTRATOS DE PRÉSTAMOS Y OTRAS OBLIGACIONES DE LA DEUDA PÚBLICA INTERNA",{"$nulls":4},{"$f":"ROUND(C767+E767-F767,2)","v":{"v":0,"d":"0.00"}}]
[72500,"SUSCRIPCIÓN DE CONTRATOS DE PRÉSTAMOS Y OTRAS OBLIGACIONES DE LA DEUDA PÚBLICA EXTERNA"]
[72600,"CONTRATOS DE PRÉSTAMOS Y OTRAS OBLIGACIONES DE LA DEUDA PÚBLICA INTERNA Y EXTERNA",{"$nulls":5},{"$f":"ROUND(D769+F769-E769,2)","v":{"v":0,"d":"0.00"}}]
[73000,"AVALES Y GARANTIAS",{"$f":"SUM(C771:C776)","v":{"v":0,"d":"0.00"}},{"v":0,"d":"0.00"},{"v":0,"d":"0.00"},{"v":0,"d":"0.00"},{"v":0,"d":"0.00"},{"v":0,"d":"0.00"}]
[73100,"AVALES AUTORIZADOS",{"$nulls":4},{"$f":"ROUND(C771+E771-F771,2)","v":{"v":0,"d":"0.00"}}]
[73200,"AVALES FIRMADOS",{"$nulls":5},{"$f":"ROUND(D772+F772-E772,2)","v":{"v":0,"d":"0.00"}}]
[73300,"FIANZAS Y GARANTÍAS RECIBIDAS POR DEUDAS A COBRAR",{"$nulls":4},{"$f":"ROUND(C773+E773-F773,2)","v":{"v":0,"d":"0.00"}}]
[73400,"FIANZAS Y GARANTÍAS RECIBIDAS",{"$nulls":5},{"$f":"ROUND(D774+F774-E774,2)","v":{"v":0,"d":"0.00"}}]
[73500,"FIANZAS OTORGADAS PARA RESPALDAR OBLIGACIONES NO FISCALES DEL GOBIERNO",{"$nulls":4},{"$f":"ROUND(C775+E775-F775,2)","v":{"v":0,"d":"0.00"}}]
[73600,"FIANZAS OTORGADAS DEL GOBIERNO PARA RESPALDAR OBLIGACIONES NO FISCALES",{"$nulls":5},{"$f":"ROUND(D776+F776-E776,2)","v":{"v":0,"d":"0.00"}}]
[74000,"JUICIOS",{"$f":"SUM(C778:C779)","v":{"v":0,"d":"0.00"}},{"v":0,"d":"0.00"},{"v":0,"d":"0.00"},{"v":0,"d":"0.00"},{"v":0,"d":"0.00"},{"v":0,"d":"0.00"}]
[74100,"DEMANDAS JUDICIAL EN PROCESO DE RESOLUCIÓN",{"$nulls":4},{"$f":"ROUND(C778+E778-F778,2)","v":{"v":0,"d":"0.00"}}]
[74200,"RESOLUCIÓN DE DEMANDAS EN PROCESO JUDICIAL",{"$nulls":5},{"$f":"ROUND(D779+F779-E779,2)","v":{"v":0,"d":"0.00"}}]
[75000,"INVERSION MEDIANTE PROYECTOS PARA PRESTACION DE SERVICIOS (PPS) Y SIMILARES",{"$f":"SUM(C781:C782)","v":{"v":0,"d":"0.00"}},{"v":0,"d":"0.00"},{"v":0,"d":"0.00"},{"v":0,"d":"0.00"},{"v":0,"d":"0.00"},{"v":0,"d":"0.00"}]
[75100,"CONTRATOS PARA INVERSIÓN MEDIANTE PROYECTOS PARA PRESTACIÓN DE SERVICIOS (PPS) Y SIMILARES",{"$nulls":4},{"$f":"ROUND(C781+E781-F781,2)","v":{"v":0,"d":"0.00"}}]
[75200,"INVERSIÓN PÚBLICA CONTRATADA MEDIANTE PROYECTOS PARA PRESTACIÓN DE SERVICIOS (PPS) Y SIMILARES",{"$nulls":5},{"$f":"ROUND(D782+F782-E782,2)","v":{"v":0,"d":"0.00"}}]
[76000,"BIENES CONCESIONADOS O EN COMODATO",{"$f":"SUM(C784:C787)","v":{"v":0,"d":"0.00"}},{"v":0,"d":"0.00"},{"v":0,"d":"0.00"},{"v":0,"d":"0.00"},{"v":0,"d":"0.00"},{"v":0,"d":"0.00"}]
[76100,"BIENES BAJO CONTRATO EN CONCESIÓN",{"$nulls":4},{"$f":"ROUND(C784+E784-F784,2)","v":{"v":0,"d":"0.00"}}]
[76200,"CONTRATO DE CONCESIÓN POR BIENES",{"$nulls":5},{"$f":"ROUND(D785+F785-E785,2)","v":{"v":0,"d":"0.00"}}]
[76300,"BIENES BAJO CONTRATO EN COMODATO",{"$nulls":4},{"$f":"ROUND(C786+E786-F786,2)","v":{"v":0,"d":"0.00"}}]
[76400,"CONTRATO DE COMODATO POR BIENES",{"$nulls":5},{"$f":"ROUND(D787+F787-E787,2)","v":{"v":0,"d":"0.00"}}]
[77000,"BIENES ARQUEOLÓGICOS, ARTÍSTICOS E HISTÓRICOS",{"$f":"SUM(C789:C792)","v":{"v":0,"d":"0.00"}},{"v":0,"d":"0.00"},{"v":0,"d":"0.00"},{"v":0,"d":"0.00"},{"v":0,"d":"0.00"},{"v":0,"d":"0.00"}]
[77100,"BIENES ARQUEOLÓGICOS",{"$nulls":4},{"$f":"ROUND(C789+E789-F789,2)","v":{"v":0,"d":"0.00"}}]
[77200,"BIENES ARTÍSTICOS",{"$nulls":4},{"v":0,"d":"0.00"}]
[77300,"BIENES HISTÓRICOS",{"$nulls":4},{"v":0,"d":"0.00"}]
[77400,"ARQUEOLÓGICOS, ARTÍSTICOS E HISTÓRICOS BIENES",{"$nulls":5},{"$f":"ROUND(D792+F792-E792,2)","v":{"v":0,"d":"0.00"}}]
[" ","SUMAS IGUALES DE CUENTAS DE ORDEN",{"$f":"C755","v":{"v":0,"d":"0.00"}},{"v":0,"d":"0.00"},{"v":0,"d":"0.00"},{"v":0,"d":"0.00"},{"v":0,"d":"0.00"},{"v":0,"d":"0.00"}]
[80000,"CUENTAS DE ORDEN PRESUPUESTARIAS",null,null,{"$f":"E795+E1266","v":{"v":0,"d":"0.00"}},{"$f":"F795+F1266","v":{"v":0,"d":"0.00"}},{"$f":"G795+G1266","v":{"v":0,"d":"0.00"}},{"$f":"H795+H1266","v":{"v":0,"d":"0.00"}}]
[81000,"LEY DE INGRESOS",null,null,{"$f":"E796+E890+E984+E1078+E1172","v":{"v":0,"d":"0.00"}},{"$f":"F796+F890+F984+F1078+F1172","v":{"v":0,"d":"0.00"}},{"$f":"G796+G890+G984+G1078+G1172","v":{"v":0,"d":"0.00"}},{"$f":"H796+H890+H984+H1078+H1172","v":{"v":0,"d":"0.00"}}]
[81100,"LEY DE INGRESOS ESTIMADA",null,null,{"$f":"E797+E807+E813+E816+E823+E827+E832+E842+E874+E884","v":{"v":0,"d":"0.00"}},{"$f":"F797+F807+F813+F816+F823+F827+F832+F842+F874+F884","v":{"v":0,"d":"0.00"}},{"$f":"E796-F796","v":{"v":0,"d":"0.00"}}]
["81100-10","Impuestos",null,null,{"$f":"SUM(E798:E806)","v":{"v":0,"d":"0.00"}},{"$f":"SUM(F798:F806)","v":{"v":0,"d":"0.00"}},{"$f":"SUM(G798:G806)","v":{"v":0,"d":"0.00"}}]
["81100-11","Impuestos sobre los ingresos",{"$nulls":4},{"$f":"ROUND(E798-F798,2)","v":{"v":0,"d":"0.00"}}]
["81100-12","Impuestos sobre patrimonio",{"$nulls":4},{"$f":"ROUND(E799-F799,2)","v":{"v":0,"d":"0.00"}}]
["81100-13","Impuestos sobre la producción, el consumo y las transacciones",{"$nulls":4},{"v":0,"d":"0.00"}]
["81100-14","Impuestos al comercio exterior",{"$nulls":4},{"$f":"E801-F801","v":{"v":0,"d":"0.00"}}]
["81100-15","Impuestos sobre nóminas y asimilables",{"$nulls":4},{"$f":"ROUND(E802-F802,2)","v":{"v":0,"d":"0.00"}}]
["81100-16","Impuestos ecológicos",{"$nulls":4},{"v":0,"d":"0.00"}]
["81100-17","Accesorios",{"$nulls":4},{"v":0,"d":"0.00"}]
["81100-18","Otros impuestos",{"$nulls":4},{"v":0,"d":"0.00"}]
["81100-19","Impuestos no Comprendidos en la ley de ingresos vigente, causados en ejercicios fiscales anteriores pendientes de liquidar o pago",{"$nulls":4},{"v":0,"d":"0.00"}]
["81100-20","Cuotas y aportaciones de seguridad social",null,null,{"$f":"SUM(E808:E812)","v":{"v":0,"d":"0.00"}},{"$f":"SUM(F808:F812)","v":{"v":0,"d":"0.00"}},{"$f":"SUM(G808:G812)","v":{"v":0,"d":"0.00"}}]
["81100-21","Aportaciones para fondos de vivienda",{"$nulls":4},{"$f":"ROUND(E808-F808,2)","v":{"v":0,"d":"0.00"}}]
["81100-22","Cuotas para la seguridad social",{"$nulls":4},{"v":0,"d":"0.00"}]
["81100-23","Cuotas de ahorro para el retiro",{"$nulls":4},{"v":0,"d":"0.00"}]
["81100-24","Otras cuotas y aportaciones para la seguridad social",{"$nulls":4},{"v":0,"d":"0.00"}]
["81100-25","Accesorios de cuotas y aportaciones de seguridad social",{"$nulls":4},{"v":0,"d":"0.00"}]
["81100-30","Contribuciones de mejora",null,null,{"$f":"SUM(E814:E815)","v":{"v":0,"d":"0.00"}},{"$f":"SUM(F814:F815)","v":{"v":0,"d":"0.00"}},{"$f":"SUM(G814:G815)","v":{"v":0,"d":"0.00"}}]
["81100-31","Contribuciones de mejoras por obras públicas",{"$nulls":4},{"$f":"ROUND(E814-F814,2)","v":{"v":0,"d":"0.00"}}]
["81100-32","Contribuciones de mejoras no  comprendidas en la ley de ingresos vigente, causadas en ejercicios fiscales anteriores pendientes de liquidación o pago",{"$nulls":4},{"v":0,"d":"0.00"}]
["81100-40","Derechos",null,null,{"$f":"SUM(E817:E822)","v":{"v":0,"d":"0.00"}},{"$f":"SUM(F817:F822)","v":{"v":0,"d":"0.00"}},{"$f":"SUM(G817:G822)","v":{"v":0,"d":"0.00"}}]
["81100-41","Derechos por el uso, goce, aprovechamiento o explotación de bienes de dominio público",{"$nulls":4},{"$f":"ROUND(E817-F817,2)","v":{"v":0,"d":"0.00"}}]
["81100-42","Derecho a los hidrocarburos (derogado)",{"$nulls":4},{"v":0,"d":"0.00"}]
["81100-43","Derechos por prestación de servicios",{"$nulls":4},{"$f":"ROUND(E819-F819,2)","v":{"v":0,"d":"0.00"}}]
["81100-44","Otros derechos",{"$nulls":4},{"$f":"ROUND(E820-F820,2)","v":{"v":0,"d":"0.00"}}]
["81100-45","Accesorios de derechos",{"$nulls":4},{"v":0,"d":"0.00"}]
["81100-46","Derechos no comprendidos en la ley de ingresos vigente, causados en ejercicios fiscales anteriores pendientes de liquidación o pago",{"$nulls":4},{"v":0,"d":"0.00"}]
["81100-50","Productos",null,null,{"$f":"SUM(E824:E826)","v":{"v":0,"d":"0.00"}},{"$f":"SUM(F824:F826)","v":{"v":0,"d":"0.00"}},{"$f":"SUM(G824:G826)","v":{"v":0,"d":"0.00"}}]
["81100-51","Productos",{"$nulls":4},{"$f":"ROUND(E824-F824,2)","v":{"v":0,"d":"0.00"}}]
["81100-52","Productos de capital (derogado)",{"$nulls":4},{"v":0,"d":"0.00"}]
["81100-53","Productos no comprendidos en la ley de ingresos vigente, causados en ejercicios fiscales anteriores pendientes de liquidación o pago",{"$nulls":4},{"$f":"ROUND(E826-F826,2)","v":{"v":0,"d":"0.00"}}]
["81100-60","Aprovechamientos",null,null,{"$f":"SUM(E828:E831)","v":{"v":0,"d":"0.00"}},{"$f":"SUM(F828:F831)","v":{"v":0,"d":"0.00"}},{"$f":"SUM(G828:G831)","v":{"v":0,"d":"0.00"}}]
["81100-61","Aprovechamientos",{"$nulls":4},{"$f":"ROUND(E828-F828,2)","v":{"v":0,"d":"0.00"}}]
["81100-62","Aprovechamientos patrimoniales",{"$nulls":4},{"v":0,"d":"0.00"}]
["81100-63","Accesorios de aprovechamientos",{"$nulls":4},{"v":0,"d":"0.00"}]
["81100-64","Aprovechamientos no comprendidos en la ley de ingresos vigente, causados en ejercicios fiscales anteriores pendientes de liquidación o pago",{"$nulls":4},{"v":0,"d":"0.00"}]
["81100-70","Ingresos por venta de bienes, prestación de servicios y otros ingresos",null,null,{"$f":"SUM(E833:E841)","v":{"v":0,"d":"0.00"}},{"$f":"SUM(F833:F841)","v":{"v":0,"d":"0.00"}},{"$f":"SUM(G833:G841)","v":{"v":0,"d":"0.00"}}]
["81100-71","Ingresos por venta de bienes y prestación de servicios de instituciones públicas de seguridad social",{"$nulls":4},{"$f":"ROUND(E833-F833,2)","v":{"v":0,"d":"0.00"}}]
["81100-72","Ingresos por venta de bienes y prestación de servicios de empresas públicas del estado",{"$nulls":4},{"v":0,"d":"0.00"}]
["81100-73","Ingresos por venta de bienes y prestación de servicios de entidades paraestatales y fideicomisos no empresariales y no financieros",{"$nulls":4},{"$f":"ROUND(E835-F835,2)","v":{"v":0,"d":"0.00"}}]
["81100-74","Ingresos por venta de bienes y prestación de servicios de entidades paraestatales empresariales y no financieros con participación estatal mayoritaria",{"$nulls":4},{"v":0,"d":"0.00"}]
["81100-75","Ingresos por venta de bienes y prestación de servicios de entidades paraestatales empresariales financieras monetarias con participación estatal mayoritaria",{"$nulls":4},{"v":0,"d":"0.00"}]
["81100-76","Ingresos por venta de bienes y prestación de servicios de entidades paraestatales empresariales financieras no monetarias con participación estatal mayoritaria",{"$nulls":4},{"v":0,"d":"0.00"}]
["81100-77","Ingresos por venta de bienes y prestación de servicios de fideicomisos financieros públicos con participación estatal mayoritaria",{"$nulls":4},{"$f":"ROUND(E839-F839,2)","v":{"v":0,"d":"0.00"}}]
["81100-78","Ingresos por venta de bienes y prestación de servicios de los poderes legislativo y judicial, y de los órganos autónomos",{"$nulls":4},{"v":0,"d":"0.00"}]
["81100-79","Otros ingresos",{"$nulls":4},{"$f":"ROUND(E841-F841,2)","v":{"v":0,"d":"0.00"}}]
["81100-80","Participaciones, aportaciones, convenios, incentivos derivados de la colaboración fiscal y fondos distintos de aportaciones",null,null,{"$f":"E843+E856+E859+E860+E865+E871","v":{"v":0,"d":"0.00"}},{"$f":"F843+F856+F859+F860+F865+F871","v":{"v":0,"d":"0.00"}},{"$f":"G843+G856+G859+G860+G865+G871","v":{"v":0,"d":"0.00"}}]
["81100-81","Participaciones",null,null,{"$f":"SUM(E844:E855)","v":{"v":0,"d":"0.00"}},{"$f":"SUM(F844:F855)","v":{"v":0,"d":"0.00"}},{"$f":"SUM(G844:G855)","v":{"v":0,"d":"0.00"}}]
["81100-81-1","Fondo general de participaciones (federal)",{"$nulls":4},{"$f":"ROUND(E844-F844,2)","v":{"v":0,"d":"0.00"}}]
["81100-81-2","Fondo de fomento municipal (federal)",{"$nulls":4},{"v":0,"d":"0.00"}]
["81100-81-3","Fondo de fiscalización y recaudación (federal)",{"$nulls":4},{"v":0,"d":"0.00"}]
["81100-81-4","Fondo de compensación (federal)",{"$nulls":4},{"v":0,"d":"0.00"}]
["81100-81-5","Fondo de extracción de hidrocarburos (federal)",{"$nulls":4},{"v":0,"d":"0.00"}]
["81100-81-6","Impuesto especial sobre producción y servicios (federal)",{"$nulls":4},{"v":0,"d":"0.00"}]
["81100-81-7","0.136% de la recaudación federal participable (federal)",{"$nulls":4},{"v":0,"d":"0.00"}]
["81100-81-8","3.17% sobre extracción de petróleo (federal)",{"$nulls":4},{"v":0,"d":"0.00"}]
["81100-81-9","Gasolinas y diésel (federal)",{"$nulls":4},{"v":0,"d":"0.00"}]
["81100-81-10","Fondo de impuesto sobre la renta (federal)",{"$nulls":4},{"v":0,"d":"0.00"}]
["81100-81-11","Fondo de estabilización de los ingresos de las entidades federativas (federal)",{"$nulls":4},{"v":0,"d":"0.00"}]
["81100-81-12","Participaciones en ingresos locales (Participaciones del estado)",{"$nulls":4},{"v":0,"d":"0.00"}]
["81100-82","Aportaciones",null,null,{"$f":"SUM(E857:E858)","v":{"v":0,"d":"0.00"}},{"$f":"SUM(F857:F858)","v":{"v":0,"d":"0.00"}},{"$f":"SUM(G857:G858)","v":{"v":0,"d":"0.00"}}]
["81100-82-1","Fondo de aportaciones para la infraestructura social municipal",{"$nulls":4},{"$f":"ROUND(E857-F857,2)","v":{"v":0,"d":"0.00"}}]
["81100-82-2","Fondo de aportaciones para el fortalecimiento de los municipios y de las demarcaciones territoriales del distrito federal",{"$nulls":4},{"v":0,"d":"0.00"}]
["81100-83","Convenios (Con ingresos de libre disposición)",{"$nulls":4},{"v":0,"d":"0.00"}]
["81100-84","Convenios (Con ingresos etiquetados)",null,null,{"$f":"SUM(E861:E864)","v":{"v":0,"d":"0.00"}},{"$f":"SUM(F861:F864)","v":{"v":0,"d":"0.00"}},{"$f":"SUM(G861:G864)","v":{"v":0,"d":"0.00"}}]
["81100-84-1","Convenios de protección social en salud",{"$nulls":4},{"$f":"ROUND(E861-F861,2)","v":{"v":0,"d":"0.00"}}]
["81100-84-2","Convenios de descentralización",{"$nulls":4},{"v":0,"d":"0.00"}]
["81100-84-3","Convenios de reasignación",{"$nulls":4},{"v":0,"d":"0.00"}]
["81100-84-4","Otros convenios y subsidios",{"$nulls":4},{"v":0,"d":"0.00"}]
["81100-85","Incentivos derivados de la colaboración fiscal",null,null,{"$f":"SUM(E866:E870)","v":{"v":0,"d":"0.00"}},{"$f":"SUM(F866:F870)","v":{"v":0,"d":"0.00"}},{"$f":"SUM(G866:G870)","v":{"v":0,"d":"0.00"}}]
["81100-85-1","Tenencia o uso de vehículos",{"$nulls":4},{"$f":"ROUND(E866-F866,2)","v":{"v":0,"d":"0.00"}}]
["81100-85-2","Fondo de compensación ISAN",{"$nulls":4},{"v":0,"d":"0.00"}]
["81100-85-3","Impuesto sobre automóviles nuevos",{"$nulls":4},{"v":0,"d":"0.00"}]
["81100-85-4","Fondo de compensación de repecos-intermedios",{"$nulls":4},{"v":0,"d":"0.00"}]
["81100-85-5","Otros incentivos económicos",{"$nulls":4},{"v":0,"d":"0.00"}]
["81100-86","Fondos distintos de aportaciones",null,null,{"$f":"SUM(E872:E873)","v":{"v":0,"d":"0.00"}},{"$f":"SUM(F872:F873)","v":{"v":0,"d":"0.00"}},{"$f":"SUM(G872:G873)","v":{"v":0,"d":"0.00"}}]
["81100-86-1","Fondo para entidades federativas y municipios productores de hidrocarburos",{"$nulls":4},{"$f":"ROUND(E872-F872,2)","v":{"v":0,"d":"0.00"}}]
["81100-86-2","Fondo minero",{"$nulls":4},{"v":0,"d":"0.00"}]
["81100-90","Transferencias, asignaciones, subsidios y subvenciones, y pensiones y jubilaciones",null,null,{"$f":"SUM(E875:E883)","v":{"v":0,"d":"0.00"}},{"$f":"SUM(F875:F883)","v":{"v":0,"d":"0.00"}},{"$f":"SUM(G875:G883)","v":{"v":0,"d":"0.00"}}]
["81100-91","Transferencias y asignaciones (Con ingresos de libre disposición)",{"$nulls":4},{"$f":"ROUND(E875-F875,2)","v":{"v":0,"d":"0.00"}}]
["81100-92","Transferencias y asignaciones (Con ingresos etiquetados)",{"$nulls":4},{"v":0,"d":"0.00"}]
["81100-93","Transferencias al resto del sector público (derogado)",{"$nulls":4},{"v":0,"d":"0.00"}]
["81100-94","Subsidios y subvenciones (Con ingresos de libre disposición)",{"$nulls":4},{"$f":"ROUND(E878-F878,2)","v":{"v":0,"d":"0.00"}}]
["81100-95","Subsidios y subvenciones (Con ingresos etiquetados)",{"$nulls":4},{"v":0,"d":"0.00"}]
["81100-96","Ayudas sociales (derogado)",{"$nulls":4},{"v":0,"d":"0.00"}]
["81100-97","Pensiones y jubilaciones",{"$nulls":4},{"$f":"ROUND(E881-F881,2)","v":{"v":0,"d":"0.00"}}]
["81100-98","Transferencias a fideicomisos, mandatos y análogos (derogado)",{"$nulls":4},{"v":0,"d":"0.00"}]
["81100-99","Transferencias del fondo mexicano del petróleo para la estabilización y el desarrollo",{"$nulls":4},{"$f":"ROUND(E883-F883,2)","v":{"v":0,"d":"0.00"}}]
["81100-00","Ingresos derivados de financiamiento",null,null,{"$f":"SUM(E885:E887)","v":{"v":0,"d":"0.00"}},{"$f":"SUM(F885:F887)","v":{"v":0,"d":"0.00"}},{"$f":"SUM(G885:G887)","v":{"v":0,"d":"0.00"}}]
["81100-01","Endeudamiento interno",{"$nulls":4},{"v":0,"d":"0.00"}]
["81100-02","Endeudamiento externo",{"$nulls":4},{"v":0,"d":"0.00"}]
["81100-03","Financiamiento interno",null,null,{"$f":"SUM(E888:E889)","v":{"v":0,"d":"0.00"}},{"$f":"SUM(F888:F889)","v":{"v":0,"d":"0.00"}},{"$f":"SUM(G888:G889)","v":{"v":0,"d":"0.00"}}]
["81100-03-1","Ingresos derivados de financiamiento con fuente de pago de ingresos de libre disposición",{"$nulls":4},{"$f":"ROUND(E888-F888,2)","v":{"v":0,"d":"0.00"}}]
["81100-03-2","Ingresos derivados de financiamiento con fuente de pago de transferencias federales etiquetadas",{"$nulls":4},{"v":0,"d":"0.00"}]
[81200,"LEY DE INGRESOS POR EJECUTAR",null,null,{"$f":"E891+E901+E907+E910+E917+E921+E926+E936+E968+E978","v":{"v":0,"d":"0.00"}},{"$f":"F891+F901+F907+F910+F917+F921+F926+F936+F968+F978","v":{"v":0,"d":"0.00"}},null,{"$f":"F890-E890","v":{"v":0,"d":"0.00"}}]
["81200-10","Impuestos",null,null,{"$f":"SUM(E892:E900)","v":{"v":0,"d":"0.00"}},{"$f":"SUM(F892:F900)","v":{"v":0,"d":"0.00"}},null,{"$f":"SUM(H892:H900)","v":{"v":0,"d":"0.00"}}]
["81200-11","Impuestos sobre los ingresos",{"$nulls":5},{"$f":"ROUND(F892-E892,2)","v":{"v":0,"d":"0.00"}}]
["81200-12","Impuestos sobre patrimonio",{"$nulls":5},{"$f":"ROUND(F893-E893,2)","v":{"v":0,"d":"0.00"}}]
["81200-13","Impuestos sobre la producción, el consumo y las transacciones",{"$nulls":5},{"v":0,"d":"0.00"}]
["81200-14","Impuestos al comercio exterior",{"$nulls":5},{"v":0,"d":"0.00"}]
["81200-15","Impuestos sobre nóminas y asimilables",{"$nulls":5},{"v":0,"d":"0.00"}]
["81200-16","Impuestos ecológicos",{"$nulls":5},{"v":0,"d":"0.00"}]
["81200-17","Accesorios",{"$nulls":5},{"v":0,"d":"0.00"}]
["81200-18","Otros impuestos",{"$nulls":5},{"v":0,"d":"0.00"}]
["81200-19","Impuestos no Comprendidos en la ley de ingresos vigente, causados en ejercicios fiscales anteriores pendientes de liquidar o pago",{"$nulls":5},{"v":0,"d":"0.00"}]
["81200-20","Cuotas y aportaciones de seguridad social",null,null,{"$f":"SUM(E902:E906)","v":{"v":0,"d":"0.00"}},{"$f":"SUM(F902:F906)","v":{"v":0,"d":"0.00"}},null,{"$f":"SUM(H902:H906)","v":{"v":0,"d":"0.00"}}]
["81200-21","Aportaciones para fondos de vivienda",{"$nulls":5},{"$f":"ROUND(F902-E902,2)","v":{"v":0,"d":"0.00"}}]
["81200-22","Cuotas para la seguridad social",{"$nulls":5},{"v":0,"d":"0.00"}]
["81200-23","Cuotas de ahorro para el retiro",{"$nulls":5},{"v":0,"d":"0.00"}]
["81200-24","Otras cuotas y aportaciones para la seguridad social",{"$nulls":5},{"v":0,"d":"0.00"}]
["81200-25","Accesorios de cuotas y aportaciones de seguridad social",{"$nulls":5},{"v":0,"d":"0.00"}]
["81200-30","Contribuciones de mejora",null,null,{"$f":"SUM(E908:E909)","v":{"v":0,"d":"0.00"}},{"$f":"SUM(F908:F909)","v":{"v":0,"d":"0.00"}},null,{"$f":"SUM(H908:H909)","v":{"v":0,"d":"0.00"}}]
["81200-31","Contribuciones de mejoras por obras públicas",{"$nulls":5},{"$f":"ROUND(F908-E908,2)","v":{"v":0,"d":"0.00"}}]
["81200-32","Contribuciones de mejoras no  comprendidas en la ley de ingresos vigente, causadas en ejercicios fiscales anteriores pendientes de liquidación o pago",{"$nulls":5},{"v":0,"d":"0.00"}]
["81200-40","Derechos",null,null,{"$f":"SUM(E911:E916)","v":{"v":0,"d":"0.00"}},{"$f":"SUM(F911:F916)","v":{"v":0,"d":"0.00"}},null,{"$f":"SUM(H911:H916)","v":{"v":0,"d":"0.00"}}]
["81200-41","Derechos por el uso, goce, aprovechamiento o explotación de bienes de dominio público",{"$nulls":5},{"$f":"ROUND(F911-E911,2)","v":{"v":0,"d":"0.00"}}]
["81200-42","Derecho a los hidrocarburos (derogado)",{"$nulls":5},{"$f":"F912-E912","v":{"v":0,"d":"0.00"}}]
["81200-43","Derechos por prestación de servicios",{"$nulls":5},{"$f":"ROUND(F913-E913,2)","v":{"v":0,"d":"0.00"}}]
["81200-44","Otros derechos",{"$nulls":5},{"v":0,"d":"0.00"}]
["81200-45","Accesorios de derechos",{"$nulls":5},{"v":0,"d":"0.00"}]
["81200-46","Derechos no comprendidos en la ley de ingresos vigente, causados en ejercicios fiscales anteriores pendientes de liquidación o pago",{"$nulls":5},{"v":0,"d":"0.00"}]
["81200-50","Productos",null,null,{"$f":"SUM(E918:E920)","v":{"v":0,"d":"0.00"}},{"$f":"SUM(F918:F920)","v":{"v":0,"d":"0.00"}},null,{"$f":"SUM(H918:H920)","v":{"v":0,"d":"0.00"}}]
["81200-51","Productos",{"$nulls":5},{"$f":"ROUND(F918-E918,2)","v":{"v":0,"d":"0.00"}}]
["81200-52","Productos de capital (derogado)",{"$nulls":5},{"v":0,"d":"0.00"}]
["81200-53","Productos no comprendidos en la ley de ingresos vigente, causados en ejercicios fiscales anteriores pendientes de liquidación o pago",{"$nulls":5},{"$f":"ROUND(F920-E920,2)","v":{"v":0,"d":"0.00"}}]
["81200-60","Aprovechamientos",null,null,{"$f":"SUM(E922:E925)","v":{"v":0,"d":"0.00"}},{"$f":"SUM(F922:F925)","v":{"v":0,"d":"0.00"}},null,{"$f":"SUM(H922:H925)","v":{"v":0,"d":"0.00"}}]
["81200-61","Aprovechamientos",{"$nulls":5},{"$f":"ROUND(F922-E922,2)","v":{"v":0,"d":"0.00"}}]
["81200-62","Aprovechamientos patrimoniales",{"$nulls":5},{"v":0,"d":"0.00"}]
["81200-63","Accesorios de aprovechamientos",{"$nulls":5},{"v":0,"d":"0.00"}]
["81200-64","Aprovechamientos no comprendidos en la ley de ingresos vigente, causados en ejercicios fiscales anteriores pendientes de liquidación o pago",{"$nulls":5},{"v":0,"d":"0.00"}]
["81200-70","Ingresos por venta de bienes, prestación de servicios y otros ingresos",null,null,{"$f":"SUM(E927:E935)","v":{"v":0,"d":"0.00"}},{"$f":"SUM(F927:F935)","v":{"v":0,"d":"0.00"}},null,{"$f":"SUM(H927:H935)","v":{"v":0,"d":"0.00"}}]
["81200-71","Ingresos por venta de bienes y prestación de servicios de instituciones públicas de seguridad social",{"$nulls":5},{"$f":"ROUND(F927-E927,2)","v":{"v":0,"d":"0.00"}}]
["81200-72","Ingresos por venta de bienes y prestación de servicios de empresas públicas del estado",{"$nulls":5},{"v":0,"d":"0.00"}]
["81200-73","Ingresos por venta de bienes y prestación de servicios de entidades paraestatales y fideicomisos no empresariales y no financieros",{"$nulls":5},{"$f":"ROUND(F929-E929,2)","v":{"v":0,"d":"0.00"}}]
["81200-74","Ingresos por venta de bienes y prestación de servicios de entidades paraestatales empresariales y no financieros con participación estatal mayoritaria",{"$nulls":5},{"v":0,"d":"0.00"}]
["81200-75","Ingresos por venta de bienes y prestación de servicios de entidades paraestatales empresariales financieras monetarias con participación estatal mayoritaria",{"$nulls":5},{"v":0,"d":"0.00"}]
["81200-76","Ingresos por venta de bienes y prestación de servicios de entidades paraestatales empresariales financieras no monetarias con participación estatal mayoritaria",{"$nulls":5},{"v":0,"d":"0.00"}]
["81200-77","Ingresos por venta de bienes y prestación de servicios de fideicomisos financieros públicos con participación estatal mayoritaria",{"$nulls":5},{"$f":"ROUND(F933-E933,2)","v":{"v":0,"d":"0.00"}}]
["81200-78","Ingresos por venta de bienes y prestación de servicios de los poderes legislativo y judicial, y de los órganos autónomos",{"$nulls":5},{"v":0,"d":"0.00"}]
["81200-79","Otros ingresos",{"$nulls":5},{"$f":"ROUND(F935-E935,2)","v":{"v":0,"d":"0.00"}}]
["81200-80","Participaciones, aportaciones, convenios, incentivos derivados de la colaboración fiscal y fondos distintos de aportaciones",null,null,{"$f":"E937+E950+E953+E954+E959+E965","v":{"v":0,"d":"0.00"}},{"$f":"F937+F950+F953+F954+F959+F965","v":{"v":0,"d":"0.00"}},null,{"$f":"H937+H950+H953+H954+H959+H965","v":{"v":0,"d":"0.00"}}]
["81200-81","Participaciones",null,null,{"$f":"SUM(E938:E949)","v":{"v":0,"d":"0.00"}},{"$f":"SUM(F938:F949)","v":{"v":0,"d":"0.00"}},null,{"$f":"SUM(H938:H949)","v":{"v":0,"d":"0.00"}}]
["81200-81-1","Fondo general de participaciones (federal)",{"$nulls":5},{"$f":"ROUND(F938-E938,2)","v":{"v":0,"d":"0.00"}}]
["81200-81-2","Fondo de fomento municipal (federal)",{"$nulls":5},{"v":0,"d":"0.00"}]
["81200-81-3","Fondo de fiscalización y recaudación (federal)",{"$nulls":5},{"v":0,"d":"0.00"}]
["81200-81-4","Fondo de compensación (federal)",{"$nulls":5},{"v":0,"d":"0.00"}]
["81200-81-5","Fondo de extracción de hidrocarburos (federal)",{"$nulls":5},{"v":0,"d":"0.00"}]
["81200-81-6","Impuesto especial sobre producción y servicios (federal)",{"$nulls":5},{"v":0,"d":"0.00"}]
["81200-81-7","0.136% de la recaudación federal participable (federal)",{"$nulls":5},{"v":0,"d":"0.00"}]
["81200-81-8","3.17% sobre extracción de petróleo (federal)",{"$nulls":5},{"v":0,"d":"0.00"}]
["81200-81-9","Gasolinas y diésel (federal)",{"$nulls":5},{"v":0,"d":"0.00"}]
["81200-81-10","Fondo de impuesto sobre la renta (federal)",{"$nulls":5},{"v":0,"d":"0.00"}]
["81200-81-11","Fondo de estabilización de los ingresos de las entidades federativas (federal)",{"$nulls":5},{"v":0,"d":"0.00"}]
["81200-81-12","Participaciones en ingresos locales (Participaciones del estado)",{"$nulls":5},{"v":0,"d":"0.00"}]
["81200-82","Aportaciones",null,null,{"$f":"SUM(E951:E952)","v":{"v":0,"d":"0.00"}},{"$f":"SUM(F951:F952)","v":{"v":0,"d":"0.00"}},null,{"$f":"SUM(H951:H952)","v":{"v":0,"d":"0.00"}}]
["81200-82-1","Fondo de aportaciones para la infraestructura social municipal",{"$nulls":5},{"$f":"ROUND(F951-E951,2)","v":{"v":0,"d":"0.00"}}]
["81200-82-2","Fondo de aportaciones para el fortalecimiento de los municipios y de las demarcaciones territoriales del distrito federal",{"$nulls":5},{"v":0,"d":"0.00"}]
["81200-83","Convenios (Con ingresos de libre disposición)",{"$nulls":5},{"v":0,"d":"0.00"}]
["81200-84","Convenios (Con ingresos etiquetados)",null,null,{"$f":"SUM(E955:E958)","v":{"v":0,"d":"0.00"}},{"$f":"SUM(F955:F958)","v":{"v":0,"d":"0.00"}},null,{"$f":"SUM(H955:H958)","v":{"v":0,"d":"0.00"}}]
["81200-84-1","Convenios de protección social en salud",{"$nulls":5},{"$f":"ROUND(F955-E955,2)","v":{"v":0,"d":"0.00"}}]
["81200-84-2","Convenios de descentralización",{"$nulls":5},{"v":0,"d":"0.00"}]
["81200-84-3","Convenios de reasignación",{"$nulls":5},{"v":0,"d":"0.00"}]
["81200-84-4","Otros convenios y subsidios",{"$nulls":5},{"v":0,"d":"0.00"}]
["81200-85","Incentivos derivados de la colaboración fiscal",null,null,{"$f":"SUM(E960:E965)","v":{"v":0,"d":"0.00"}},{"$f":"SUM(F960:F965)","v":{"v":0,"d":"0.00"}},null,{"$f":"SUM(H960:H965)","v":{"v":0,"d":"0.00"}}]
["81200-85-1","Tenencia o uso de vehículos",{"$nulls":5},{"$f":"ROUND(F960-E960,2)","v":{"v":0,"d":"0.00"}}]
["81200-85-2","Fondo de compensación ISAN",{"$nulls":5},{"v":0,"d":"0.00"}]
["81200-85-3","Impuesto sobre automóviles nuevos",{"$nulls":5},{"v":0,"d":"0.00"}]
["81200-85-4","Fondo de compensación de repecos-intermedios",{"$nulls":5},{"v":0,"d":"0.00"}]
["81200-85-5","Otros incentivos económicos",{"$nulls":5},{"v":0,"d":"0.00"}]
["81200-86","Fondos distintos de aportaciones",null,null,{"$f":"SUM(E966:E967)","v":{"v":0,"d":"0.00"}},{"$f":"SUM(F966:F967)","v":{"v":0,"d":"0.00"}},null,{"$f":"SUM(H966:H967)","v":{"v":0,"d":"0.00"}}]
["81200-86-1","Fondo para entidades federativas y municipios productores de hidrocarburos",{"$nulls":5},{"$f":"ROUND(F966-E966,2)","v":{"v":0,"d":"0.00"}}]
["81200-86-2","Fondo minero",{"$nulls":5},{"v":0,"d":"0.00"}]
["81200-90","Transferencias, asignaciones, subsidios y subvenciones, y pensiones y jubilaciones",null,null,{"$f":"SUM(E969:E977)","v":{"v":0,"d":"0.00"}},{"$f":"SUM(F969:F977)","v":{"v":0,"d":"0.00"}},null,{"$f":"SUM(H969:H977)","v":{"v":0,"d":"0.00"}}]
["81200-91","Transferencias y asignaciones (Con ingresos de libre disposición)",{"$nulls":5},{"$f":"ROUND(F969-E969,2)","v":{"v":0,"d":"0.00"}}]
["81200-92","Transferencias y asignaciones (Con ingresos etiquetados)",{"$nulls":5},{"v":0,"d":"0.00"}]
["81200-93","Transferencias al resto del sector público (derogado)",{"$nulls":5},{"v":0,"d":"0.00"}]
["81200-94","Subsidios y subvenciones (Con ingresos de libre disposición)",{"$nulls":5},{"$f":"ROUND(F972-E972,2)","v":{"v":0,"d":"0.00"}}]
["81200-95","Subsidios y subvenciones (Con ingresos etiquetados)",{"$nulls":5},{"v":0,"d":"0.00"}]
["81200-96","Ayudas sociales (derogado)",{"$nulls":5},{"v":0,"d":"0.00"}]
["81200-97","Pensiones y jubilaciones",{"$nulls":5},{"$f":"ROUND(F975-E975,2)","v":{"v":0,"d":"0.00"}}]
["81200-98","Transferencias a fideicomisos, mandatos y análogos (derogado)",{"$nulls":5},{"v":0,"d":"0.00"}]
["81200-99","Transferencias del fondo mexicano del petróleo para la estabilización y el desarrollo",{"$nulls":5},{"$f":"ROUND(F977-E977,2)","v":{"v":0,"d":"0.00"}}]
["81200-00","Ingresos derivados de financiamiento",null,null,{"$f":"SUM(E979:E981)","v":{"v":0,"d":"0.00"}},{"$f":"SUM(F979:F981)","v":{"v":0,"d":"0.00"}},null,{"$f":"SUM(H979:H981)","v":{"v":0,"d":"0.00"}}]
["81200-01","Endeudamiento interno",{"$nulls":5},{"v":0,"d":"0.00"}]
["81200-02","Endeudamiento externo",{"$nulls":5},{"$f":"F980-E980","v":{"v":0,"d":"0.00"}}]
["81200-03","Financiamiento interno",null,null,{"$f":"SUM(E982:E983)","v":{"v":0,"d":"0.00"}},{"$f":"SUM(F982:F983)","v":{"v":0,"d":"0.00"}},null,{"$f":"SUM(H982:H983)","v":{"v":0,"d":"0.00"}}]
["81200-03-1","Ingresos derivados de financiamiento con fuente de pago de ingresos de libre disposición",{"$nulls":5},{"$f":"ROUND(F982-E982,2)","v":{"v":0,"d":"0.00"}}]
["81200-03-2","Ingresos derivados de financiamiento con fuente de pago de transferencias federales etiquetadas",{"$nulls":5},{"v":0,"d":"0.00"}]
[81300,"MODIFICACIONES A LA LEY DE INGRESOS ESTIMADA",null,null,{"$f":"E985+E995+E1001+E1004+E1011+E1015+E1020+E1030+E1062+E1072","v":{"v":0,"d":"0.00"}},{"$f":"F985+F995+F1001+F1004+F1011+F1015+F1020+F1030+F1062+F1072","v":{"v":0,"d":"0.00"}},{"$f":"E984-F984","v":{"v":0,"d":"0.00"}}]
["81300-10","Impuestos",null,null,{"$f":"SUM(E986:E994)","v":{"v":0,"d":"0.00"}},{"$f":"SUM(F986:F994)","v":{"v":0,"d":"0.00"}},{"$f":"E985-F985","v":{"v":0,"d":"0.00"}}]
["81300-11","Impuestos sobre los ingresos",{"$nulls":4},{"$f":"ROUND(E986-F986,2)","v":{"v":0,"d":"0.00"}}]
["81300-12","Impuestos sobre patrimonio",{"$nulls":4},{"$f":"ROUND(E987-F987,2)","v":{"v":0,"d":"0.00"}}]
["81300-13","Impuestos sobre la producción, el consumo y las transacciones",{"$nulls":4},{"v":0,"d":"0.00"}]
["81300-14","Impuestos al comercio exterior",{"$nulls":4},{"v":0,"d":"0.00"}]
["81300-15","Impuestos sobre nóminas y asimilables",{"$nulls":4},{"v":0,"d":"0.00"}]
["81300-16","Impuestos ecológicos",{"$nulls":4},{"v":0,"d":"0.00"}]
["81300-17","Accesorios",{"$nulls":4},{"v":0,"d":"0.00"}]
["81300-18","Otros impuestos",{"$nulls":4},{"v":0,"d":"0.00"}]
["81300-19","Impuestos no Comprendidos en la ley de ingresos vigente, causados en ejercicios fiscales anteriores pendientes de liquidar o pago",{"$nulls":4},{"v":0,"d":"0.00"}]
["81300-20","Cuotas y aportaciones de seguridad social",null,null,{"$f":"SUM(E996:E1000)","v":{"v":0,"d":"0.00"}},{"$f":"SUM(F996:F1000)","v":{"v":0,"d":"0.00"}},{"$f":"SUM(G996:G1000)","v":{"v":0,"d":"0.00"}}]
["81300-21","Aportaciones para fondos de vivienda",{"$nulls":4},{"$f":"ROUND(E996-F996,2)","v":{"v":0,"d":"0.00"}}]
["81300-22","Cuotas para la seguridad social",{"$nulls":4},{"v":0,"d":"0.00"}]
["81300-23","Cuotas de ahorro para el retiro",{"$nulls":4},{"v":0,"d":"0.00"}]
["81300-24","Otras cuotas y aportaciones para la seguridad social",{"$nulls":4},{"v":0,"d":"0.00"}]
["81300-25","Accesorios de cuotas y aportaciones de seguridad social",{"$nulls":4},{"v":0,"d":"0.00"}]
["81300-30","Contribuciones de mejora",null,null,{"$f":"SUM(E1002:E1003)","v":{"v":0,"d":"0.00"}},{"$f":"SUM(F1002:F1003)","v":{"v":0,"d":"0.00"}},{"$f":"SUM(G1002:G1003)","v":{"v":0,"d":"0.00"}}]
["81300-31","Contribuciones de mejoras por obras públicas",{"$nulls":4},{"$f":"ROUND(E1002-F1002,2)","v":{"v":0,"d":"0.00"}}]
["81300-32","Contribuciones de mejoras no  comprendidas en la ley de ingresos vigente, causadas en ejercicios fiscales anteriores pendientes de liquidación o pago",{"$nulls":4},{"v":0,"d":"0.00"}]
["81300-40","Derechos",null,null,{"$f":"SUM(E1005:E1010)","v":{"v":0,"d":"0.00"}},{"$f":"SUM(F1005:F1010)","v":{"v":0,"d":"0.00"}},{"$f":"SUM(G1005:G1010)","v":{"v":0,"d":"0.00"}}]
["81300-41","Derechos por el uso, goce, aprovechamiento o explotación de bienes de dominio público",{"$nulls":4},{"$f":"ROUND(E1005-F1005,2)","v":{"v":0,"d":"0.00"}}]
["81300-42","Derecho a los hidrocarburos (derogado)",{"$nulls":4},{"v":0,"d":"0.00"}]
["81300-43","Derechos por prestación de servicios",{"$nulls":4},{"$f":"ROUND(E1007-F1007,2)","v":{"v":0,"d":"0.00"}}]
["81300-44","Otros derechos",{"$nulls":4},{"v":0,"d":"0.00"}]
["81300-45","Accesorios de derechos",{"$nulls":4},{"v":0,"d":"0.00"}]
["81300-46","Derechos no comprendidos en la ley de ingresos vigente, causados en ejercicios fiscales anteriores pendientes de liquidación o pago",{"$nulls":4},{"v":0,"d":"0.00"}]
["81300-50","Productos",null,null,{"$f":"SUM(E1012:E1014)","v":{"v":0,"d":"0.00"}},{"$f":"SUM(F1012:F1014)","v":{"v":0,"d":"0.00"}},{"$f":"SUM(G1012:G1014)","v":{"v":0,"d":"0.00"}}]
["81300-51","Productos",{"$nulls":4},{"$f":"ROUND(E1012-F1012,2)","v":{"v":0,"d":"0.00"}}]
["81300-52","Productos de capital (derogado)",{"$nulls":4},{"v":0,"d":"0.00"}]
["81300-53","Productos no comprendidos en la ley de ingresos vigente, causados en ejercicios fiscales anteriores pendientes de liquidación o pago",{"$nulls":4},{"$f":"ROUND(E1014-F1014,2)","v":{"v":0,"d":"0.00"}}]
["81300-60","Aprovechamientos",null,null,{"$f":"SUM(E1016:E1019)","v":{"v":0,"d":"0.00"}},{"$f":"SUM(F1016:F1019)","v":{"v":0,"d":"0.00"}},{"$f":"SUM(G1016:G1019)","v":{"v":0,"d":"0.00"}}]
["81300-61","Aprovechamientos",{"$nulls":4},{"$f":"ROUND(E1016-F1016,2)","v":{"v":0,"d":"0.00"}}]
["81300-62","Aprovechamientos patrimoniales",{"$nulls":4},{"v":0,"d":"0.00"}]
["81300-63","Accesorios de aprovechamientos",{"$nulls":4},{"v":0,"d":"0.00"}]
["81300-64","Aprovechamientos no comprendidos en la ley de ingresos vigente, causados en ejercicios fiscales anteriores pendientes de liquidación o pago",{"$nulls":4},{"v":0,"d":"0.00"}]
["81300-70","Ingresos por venta de bienes, prestación de servicios y otros ingresos",null,null,{"$f":"SUM(E1021:E1029)","v":{"v":0,"d":"0.00"}},{"$f":"SUM(F1021:F1029)","v":{"v":0,"d":"0.00"}},{"$f":"SUM(G1021:G1029)","v":{"v":0,"d":"0.00"}}]
["81300-71","Ingresos por venta de bienes y prestación de servicios de instituciones públicas de seguridad social",{"$nulls":4},{"$f":"ROUND(E1021-F1021,2)","v":{"v":0,"d":"0.00"}}]
["81300-72","Ingresos por venta de bienes y prestación de servicios de empresas públicas del estado",{"$nulls":4},{"v":0,"d":"0.00"}]
["81300-73","Ingresos por venta de bienes y prestación de servicios de entidades paraestatales y fideicomisos no empresariales y no financieros",{"$nulls":4},{"$f":"ROUND(E1023-F1023,2)","v":{"v":0,"d":"0.00"}}]
["81300-74","Ingresos por venta de bienes y prestación de servicios de entidades paraestatales empresariales y no financieros con participación estatal mayoritaria",{"$nulls":4},{"v":0,"d":"0.00"}]
["81300-75","Ingresos por venta de bienes y prestación de servicios de entidades paraestatales empresariales financieras monetarias con participación estatal mayoritaria",{"$nulls":4},{"v":0,"d":"0.00"}]
["81300-76","Ingresos por venta de bienes y prestación de servicios de entidades paraestatales empresariales financieras no monetarias con participación estatal mayoritaria",{"$nulls":4},{"v":0,"d":"0.00"}]
["81300-77","Ingresos por venta de bienes y prestación de servicios de fideicomisos financieros públicos con participación estatal mayoritaria",{"$nulls":4},{"$f":"ROUND(E1027-F1027,2)","v":{"v":0,"d":"0.00"}}]
["81300-78","Ingresos por venta de bienes y prestación de servicios de los poderes legislativo y judicial, y de los órganos autónomos",{"$nulls":4},{"v":0,"d":"0.00"}]
["81300-79","Otros ingresos",{"$nulls":4},{"$f":"ROUND(E1029-F1029,2)","v":{"v":0,"d":"0.00"}}]
["81300-80","Participaciones, aportaciones, convenios, incentivos derivados de la colaboración fiscal y fondos distintos de aportaciones",null,null,{"$f":"E1031+E1044+E1047+E1048+E1053+E1059","v":{"v":0,"d":"0.00"}},{"$f":"F1031+F1044+F1047+F1048+F1053+F1059","v":{"v":0,"d":"0.00"}},{"$f":"G1031+G1044+G1047+G1048+G1053+G1059","v":{"v":0,"d":"0.00"}}]
["81300-81","Participaciones",null,null,{"$f":"SUM(E1032:E1043)","v":{"v":0,"d":"0.00"}},{"$f":"SUM(F1032:F1043)","v":{"v":0,"d":"0.00"}},{"$f":"SUM(G1032:G1043)","v":{"v":0,"d":"0.00"}}]
["81300-81-1","Fondo general de participaciones (federal)",{"$nulls":4},{"$f":"ROUND(E1032-F1032,2)","v":{"v":0,"d":"0.00"}}]
["81300-81-2","Fondo de fomento municipal (federal)",{"$nulls":4},{"v":0,"d":"0.00"}]
["81300-81-3","Fondo de fiscalización y recaudación (federal)",{"$nulls":4},{"v":0,"d":"0.00"}]
["81300-81-4","Fondo de compensación (federal)",{"$nulls":4},{"v":0,"d":"0.00"}]
["81300-81-5","Fondo de extracción de hidrocarburos (federal)",{"$nulls":4},{"v":0,"d":"0.00"}]
["81300-81-6","Impuesto especial sobre producción y servicios (federal)",{"$nulls":4},{"v":0,"d":"0.00"}]
["81300-81-7","0.136% de la recaudación federal participable (federal)",{"$nulls":4},{"v":0,"d":"0.00"}]
["81300-81-8","3.17% sobre extracción de petróleo (federal)",{"$nulls":4},{"v":0,"d":"0.00"}]
["81300-81-9","Gasolinas y diésel (federal)",{"$nulls":4},{"v":0,"d":"0.00"}]
["81300-81-10","Fondo de impuesto sobre la renta (federal)",{"$nulls":4},{"v":0,"d":"0.00"}]
["81300-81-11","Fondo de estabilización de los ingresos de las entidades federativas (federal)",{"$nulls":4},{"v":0,"d":"0.00"}]
["81300-81-12","Participaciones en ingresos locales (Participaciones del estado)",{"$nulls":4},{"v":0,"d":"0.00"}]
["81300-82","Aportaciones",null,null,{"$f":"SUM(E1045:E1046)","v":{"v":0,"d":"0.00"}},{"$f":"SUM(F1045:F1046)","v":{"v":0,"d":"0.00"}},{"$f":"SUM(G1045:G1046)","v":{"v":0,"d":"0.00"}}]
["81300-82-1","Fondo de aportaciones para la infraestructura social municipal",{"$nulls":4},{"$f":"ROUND(E1045-F1045,2)","v":{"v":0,"d":"0.00"}}]
["81300-82-2","Fondo de aportaciones para el fortalecimiento de los municipios y de las demarcaciones territoriales del distrito federal",{"$nulls":4},{"v":0,"d":"0.00"}]
["81300-83","Convenios (Con ingresos de libre disposición)",{"$nulls":4},{"v":0,"d":"0.00"}]
["81300-84","Convenios (Con ingresos etiquetados)",null,null,{"$f":"SUM(E1049:E1052)","v":{"v":0,"d":"0.00"}},{"$f":"SUM(F1049:F1052)","v":{"v":0,"d":"0.00"}},{"$f":"SUM(G1049:G1052)","v":{"v":0,"d":"0.00"}}]
["81300-84-1","Convenios de protección social en salud",{"$nulls":4},{"$f":"ROUND(E1049-F1049,2)","v":{"v":0,"d":"0.00"}}]
["81300-84-2","Convenios de descentralización",{"$nulls":4},{"v":0,"d":"0.00"}]
["81300-84-3","Convenios de reasignación",{"$nulls":4},{"v":0,"d":"0.00"}]
["81300-84-4","Otros convenios y subsidios",{"$nulls":4},{"v":0,"d":"0.00"}]
["81300-85","Incentivos derivados de la colaboración fiscal",null,null,{"$f":"SUM(E1054:E1058)","v":{"v":0,"d":"0.00"}},{"$f":"SUM(F1054:F1058)","v":{"v":0,"d":"0.00"}},{"$f":"SUM(G1054:G1058)","v":{"v":0,"d":"0.00"}}]
["81300-85-1","Tenencia o uso de vehículos",{"$nulls":4},{"$f":"ROUND(E1054-F1054,2)","v":{"v":0,"d":"0.00"}}]
["81300-85-2","Fondo de compensación ISAN",{"$nulls":4},{"v":0,"d":"0.00"}]
["81300-85-3","Impuesto sobre automóviles nuevos",{"$nulls":4},{"v":0,"d":"0.00"}]
["81300-85-4","Fondo de compensación de repecos-intermedios",{"$nulls":4},{"v":0,"d":"0.00"}]
["81300-85-5","Otros incentivos económicos",{"$nulls":4},{"v":0,"d":"0.00"}]
["81300-86","Fondos distintos de aportaciones",null,null,{"$f":"SUM(E1060:E1061)","v":{"v":0,"d":"0.00"}},{"$f":"SUM(F1060:F1061)","v":{"v":0,"d":"0.00"}},{"$f":"SUM(G1060:G1061)","v":{"v":0,"d":"0.00"}}]
["81300-86-1","Fondo para entidades federativas y municipios productores de hidrocarburos",{"$nulls":4},{"$f":"ROUND(E1060-F1060,2)","v":{"v":0,"d":"0.00"}}]
["81300-86-2","Fondo minero",{"$nulls":4},{"v":0,"d":"0.00"}]
["81300-90","Transferencias, asignaciones, subsidios y subvenciones, y pensiones y jubilaciones",null,null,{"$f":"SUM(E1063:E1071)","v":{"v":0,"d":"0.00"}},{"$f":"SUM(F1063:F1071)","v":{"v":0,"d":"0.00"}},{"$f":"SUM(G1063:G1071)","v":{"v":0,"d":"0.00"}}]
["81300-91","Transferencias y asignaciones (Con ingresos de libre disposición)",{"$nulls":4},{"$f":"ROUND(E1063-F1063,2)","v":{"v":0,"d":"0.00"}}]
["81300-92","Transferencias y asignaciones (Con ingresos etiquetados)",{"$nulls":4},{"v":0,"d":"0.00"}]
["81300-93","Transferencias al resto del sector público (derogado)",{"$nulls":4},{"v":0,"d":"0.00"}]
["81300-94","Subsidios y subvenciones (Con ingresos de libre disposición)",{"$nulls":4},{"$f":"ROUND(E1066-F1066,2)","v":{"v":0,"d":"0.00"}}]
["81300-95","Subsidios y subvenciones (Con ingresos etiquetados)",{"$nulls":4},{"v":0,"d":"0.00"}]
["81300-96","Ayudas sociales (derogado)",{"$nulls":4},{"v":0,"d":"0.00"}]
["81300-97","Pensiones y jubilaciones",{"$nulls":4},{"$f":"ROUND(E1069-F1069,2)","v":{"v":0,"d":"0.00"}}]
["81300-98","Transferencias a fideicomisos, mandatos y análogos (derogado)",{"$nulls":4},{"v":0,"d":"0.00"}]
["81300-99","Transferencias del fondo mexicano del petróleo para la estabilización y el desarrollo",{"$nulls":4},{"$f":"ROUND(E1071-F1071,2)","v":{"v":0,"d":"0.00"}}]
["81300-00","Ingresos derivados de financiamiento",null,null,{"$f":"SUM(E1073:E1075)","v":{"v":0,"d":"0.00"}},{"$f":"SUM(F1073:F1075)","v":{"v":0,"d":"0.00"}},{"$f":"SUM(G1073:G1075)","v":{"v":0,"d":"0.00"}}]
["81300-01","Endeudamiento interno",{"$nulls":4},{"v":0,"d":"0.00"}]
["81300-02","Endeudamiento externo",{"$nulls":4},{"$f":"E1074-F1074","v":{"v":0,"d":"0.00"}}]
["81300-03","Financiamiento interno",null,null,{"$f":"SUM(E1076:E1077)","v":{"v":0,"d":"0.00"}},{"$f":"SUM(F1076:F1077)","v":{"v":0,"d":"0.00"}},{"$f":"SUM(G1076:G1077)","v":{"v":0,"d":"0.00"}}]
["81300-03-1","Ingresos derivados de financiamiento con fuente de pago de ingresos de libre disposición",{"$nulls":4},{"$f":"ROUND(E1076-F1076,2)","v":{"v":0,"d":"0.00"}}]
["81300-03-2","Ingresos derivados de financiamiento con fuente de pago de transferencias federales etiquetadas",{"$nulls":4},{"v":0,"d":"0.00"}]
[81400,"LEY DE INGRESOS DEVENGADA",null,null,{"$f":"E1079+E1089+E1095+E1098+E1105+E1109+E1114+E1124+E1156+E1166","v":{"v":0,"d":"0.00"}},{"$f":"F1079+F1089+F1095+F1098+F1105+F1109+F1114+F1124+F1156+F1166","v":{"v":0,"d":"0.00"}},null,{"$f":"F1078-E1078","v":{"v":0,"d":"0.00"}}]
["81400-10","Impuestos",null,null,{"$f":"SUM(E1080:E1088)","v":{"v":0,"d":"0.00"}},{"$f":"SUM(F1080:F1088)","v":{"v":0,"d":"0.00"}},null,{"$f":"SUM(H1080:H1088)","v":{"v":0,"d":"0.00"}}]
["81400-11","Impuestos sobre los ingresos",{"$nulls":5},{"$f":"ROUND(F1080-E1080,2)","v":{"v":0,"d":"0.00"}}]
["81400-12","Impuestos sobre patrimonio",{"$nulls":5},{"$f":"ROUND(F1081-E1081,2)","v":{"v":0,"d":"0.00"}}]
["81400-13","Impuestos sobre la producción, el consumo y las transacciones",{"$nulls":5},{"v":0,"d":"0.00"}]
["81400-14","Impuestos al comercio exterior",{"$nulls":5},{"v":0,"d":"0.00"}]
["81400-15","Impuestos sobre nóminas y asimilables",{"$nulls":5},{"v":0,"d":"0.00"}]
["81400-16","Impuestos ecológicos",{"$nulls":5},{"v":0,"d":"0.00"}]
["81400-17","Accesorios",{"$nulls":5},{"v":0,"d":"0.00"}]
["81400-18","Otros impuestos",{"$nulls":5},{"v":0,"d":"0.00"}]
["81400-19","Impuestos no Comprendidos en la ley de ingresos vigente, causados en ejercicios fiscales anteriores pendientes de liquidar o pago",{"$nulls":5},{"v":0,"d":"0.00"}]
["81400-20","Cuotas y aportaciones de seguridad social",null,null,{"$f":"SUM(E1090:E1094)","v":{"v":0,"d":"0.00"}},{"$f":"SUM(F1090:F1094)","v":{"v":0,"d":"0.00"}},null,{"$f":"SUM(H1090:H1094)","v":{"v":0,"d":"0.00"}}]
["81400-21","Aportaciones para fondos de vivienda",{"$nulls":5},{"$f":"ROUND(F1090-E1090,2)","v":{"v":0,"d":"0.00"}}]
["81400-22","Cuotas para la seguridad social",{"$nulls":5},{"v":0,"d":"0.00"}]
["81400-23","Cuotas de ahorro para el retiro",{"$nulls":5},{"v":0,"d":"0.00"}]
["81400-24","Otras cuotas y aportaciones para la seguridad social",{"$nulls":5},{"v":0,"d":"0.00"}]
["81400-25","Accesorios de cuotas y aportaciones de seguridad social",{"$nulls":5},{"v":0,"d":"0.00"}]
["81400-30","Contribuciones de mejora",null,null,{"$f":"SUM(E1096:E1097)","v":{"v":0,"d":"0.00"}},{"$f":"SUM(F1096:F1097)","v":{"v":0,"d":"0.00"}},null,{"$f":"SUM(H1096:H1097)","v":{"v":0,"d":"0.00"}}]
["81400-31","Contribuciones de mejoras por obras públicas",{"$nulls":5},{"$f":"ROUND(F1096-E1096,2)","v":{"v":0,"d":"0.00"}}]
["81400-32","Contribuciones de mejoras no  comprendidas en la ley de ingresos vigente, causadas en ejercicios fiscales anteriores pendientes de liquidación o pago",{"$nulls":5},{"v":0,"d":"0.00"}]
["81400-40","Derechos",null,null,{"$f":"SUM(E1099:E1104)","v":{"v":0,"d":"0.00"}},{"$f":"SUM(F1099:F1104)","v":{"v":0,"d":"0.00"}},null,{"$f":"SUM(H1099:H1104)","v":{"v":0,"d":"0.00"}}]
["81400-41","Derechos por el uso, goce, aprovechamiento o explotación de bienes de dominio público",{"$nulls":5},{"$f":"ROUND(F1099-E1099,2)","v":{"v":0,"d":"0.00"}}]
["81400-42","Derecho a los hidrocarburos (derogado)",{"$nulls":5},{"$f":"F1100-E1100","v":{"v":0,"d":"0.00"}}]
["81400-43","Derechos por prestación de servicios",{"$nulls":5},{"$f":"ROUND(F1101-E1101,2)","v":{"v":0,"d":"0.00"}}]
["81400-44","Otros derechos",{"$nulls":5},{"v":0,"d":"0.00"}]
["81400-45","Accesorios de derechos",{"$nulls":5},{"v":0,"d":"0.00"}]
["81400-46","Derechos no comprendidos en la ley de ingresos vigente, causados en ejercicios fiscales anteriores pendientes de liquidación o pago",{"$nulls":5},{"v":0,"d":"0.00"}]
["81400-50","Productos",null,null,{"$f":"SUM(E1106:E1108)","v":{"v":0,"d":"0.00"}},{"$f":"SUM(F1106:F1108)","v":{"v":0,"d":"0.00"}},null,{"$f":"SUM(H1106:H1108)","v":{"v":0,"d":"0.00"}}]
["81400-51","Productos",{"$nulls":5},{"$f":"ROUND(F1106-E1106,2)","v":{"v":0,"d":"0.00"}}]
["81400-52","Productos de capital (derogado)",{"$nulls":5},{"v":0,"d":"0.00"}]
["81400-53","Productos no comprendidos en la ley de ingresos vigente, causados en ejercicios fiscales anteriores pendientes de liquidación o pago",{"$nulls":5},{"$f":"ROUND(F1108-E1108,2)","v":{"v":0,"d":"0.00"}}]
["81400-60","Aprovechamientos",null,null,{"$f":"SUM(E1110:E1113)","v":{"v":0,"d":"0.00"}},{"$f":"SUM(F1110:F1113)","v":{"v":0,"d":"0.00"}},null,{"$f":"SUM(H1110:H1113)","v":{"v":0,"d":"0.00"}}]
["81400-61","Aprovechamientos",{"$nulls":5},{"$f":"ROUND(F1110-E1110,2)","v":{"v":0,"d":"0.00"}}]
["81400-62","Aprovechamientos patrimoniales",{"$nulls":5},{"v":0,"d":"0.00"}]
["81400-63","Accesorios de aprovechamientos",{"$nulls":5},{"v":0,"d":"0.00"}]
["81400-64","Aprovechamientos no comprendidos en la ley de ingresos vigente, causados en ejercicios fiscales anteriores pendientes de liquidación o pago",{"$nulls":5},{"v":0,"d":"0.00"}]
["81400-70","Ingresos por venta de bienes, prestación de servicios y otros ingresos",null,null,{"$f":"SUM(E1115:E1123)","v":{"v":0,"d":"0.00"}},{"$f":"SUM(F1115:F1123)","v":{"v":0,"d":"0.00"}},null,{"$f":"SUM(H1115:H1123)","v":{"v":0,"d":"0.00"}}]
["81400-71","Ingresos por venta de bienes y prestación de servicios de instituciones públicas de seguridad social",{"$nulls":5},{"$f":"ROUND(F1115-E1115,2)","v":{"v":0,"d":"0.00"}}]
["81400-72","Ingresos por venta de bienes y prestación de servicios de empresas públicas del estado",{"$nulls":5},{"v":0,"d":"0.00"}]
["81400-73","Ingresos por venta de bienes y prestación de servicios de entidades paraestatales y fideicomisos no empresariales y no financieros",{"$nulls":5},{"$f":"ROUND(F1117-E1117,2)","v":{"v":0,"d":"0.00"}}]
["81400-74","Ingresos por venta de bienes y prestación de servicios de entidades paraestatales empresariales y no financieros con participación estatal mayoritaria",{"$nulls":5},{"v":0,"d":"0.00"}]
["81400-75","Ingresos por venta de bienes y prestación de servicios de entidades paraestatales empresariales financieras monetarias con participación estatal mayoritaria",{"$nulls":5},{"v":0,"d":"0.00"}]
["81400-76","Ingresos por venta de bienes y prestación de servicios de entidades paraestatales empresariales financieras no monetarias con participación estatal mayoritaria",{"$nulls":5},{"v":0,"d":"0.00"}]
["81400-77","Ingresos por venta de bienes y prestación de servicios de fideicomisos financieros públicos con participación estatal mayoritaria",{"$nulls":5},{"v":0,"d":"0.00"}]
["81400-78","Ingresos por venta de bienes y prestación de servicios de los poderes legislativo y judicial, y de los órganos autónomos",{"$nulls":5},{"v":0,"d":"0.00"}]
["81400-79","Otros ingresos",{"$nulls":5},{"v":0,"d":"0.00"}]
["81400-80","Participaciones, aportaciones, convenios, incentivos derivados de la colaboración fiscal y fondos distintos de aportaciones",null,null,{"$f":"E1125+E1138+E1141+E1142+E1147+E1153","v":{"v":0,"d":"0.00"}},{"$f":"F1125+F1138+F1141+F1142+F1147+F1153","v":{"v":0,"d":"0.00"}},null,{"$f":"H1125+H1138+H1141+H1142+H1147+H1153","v":{"v":0,"d":"0.00"}}]
["81400-81","Participaciones",null,null,{"$f":"SUM(E1126:E1137)","v":{"v":0,"d":"0.00"}},{"$f":"SUM(F1126:F1137)","v":{"v":0,"d":"0.00"}},null,{"$f":"SUM(H1126:H1137)","v":{"v":0,"d":"0.00"}}]
["81400-81-1","Fondo general de participaciones (federal)",{"$nulls":5},{"$f":"ROUND(F1126-E1126,2)","v":{"v":0,"d":"0.00"}}]
["81400-81-2","Fondo de fomento municipal (federal)",{"$nulls":5},{"v":0,"d":"0.00"}]
["81400-81-3","Fondo de fiscalización y recaudación (federal)",{"$nulls":5},{"v":0,"d":"0.00"}]
["81400-81-4","Fondo de compensación (federal)",{"$nulls":5},{"v":0,"d":"0.00"}]
["81400-81-5","Fondo de extracción de hidrocarburos (federal)",{"$nulls":5},{"v":0,"d":"0.00"}]
["81400-81-6","Impuesto especial sobre producción y servicios (federal)",{"$nulls":5},{"v":0,"d":"0.00"}]
["81400-81-7","0.136% de la recaudación federal participable (federal)",{"$nulls":5},{"v":0,"d":"0.00"}]
["81400-81-8","3.17% sobre extracción de petróleo (federal)",{"$nulls":5},{"v":0,"d":"0.00"}]
["81400-81-9","Gasolinas y diésel (federal)",{"$nulls":5},{"v":0,"d":"0.00"}]
["81400-81-10","Fondo de impuesto sobre la renta (federal)",{"$nulls":5},{"v":0,"d":"0.00"}]
["81400-81-11","Fondo de estabilización de los ingresos de las entidades federativas (federal)",{"$nulls":5},{"v":0,"d":"0.00"}]
["81400-81-12","Participaciones en ingresos locales (Participaciones del estado)",{"$nulls":5},{"v":0,"d":"0.00"}]
["81400-82","Aportaciones",null,null,{"$f":"SUM(E1139:E1140)","v":{"v":0,"d":"0.00"}},{"$f":"SUM(F1139:F1140)","v":{"v":0,"d":"0.00"}},null,{"$f":"SUM(H1139:H1140)","v":{"v":0,"d":"0.00"}}]
["81400-82-1","Fondo de aportaciones para la infraestructura social municipal",{"$nulls":5},{"$f":"ROUND(F1139-E1139,2)","v":{"v":0,"d":"0.00"}}]
["81400-82-2","Fondo de aportaciones para el fortalecimiento de los municipios y de las demarcaciones territoriales del distrito federal",{"$nulls":5},{"v":0,"d":"0.00"}]
["81400-83","Convenios (Con ingresos de libre disposición)",{"$nulls":5},{"v":0,"d":"0.00"}]
["81400-84","Convenios (Con ingresos etiquetados)",null,null,{"$f":"SUM(E1143:E1146)","v":{"v":0,"d":"0.00"}},{"$f":"SUM(F1143:F1146)","v":{"v":0,"d":"0.00"}},null,{"$f":"SUM(H1143:H1146)","v":{"v":0,"d":"0.00"}}]
["81400-84-1","Convenios de protección social en salud",{"$nulls":5},{"$f":"ROUND(F1143-E1143,2)","v":{"v":0,"d":"0.00"}}]
["81400-84-2","Convenios de descentralización",{"$nulls":5},{"v":0,"d":"0.00"}]
["81400-84-3","Convenios de reasignación",{"$nulls":5},{"v":0,"d":"0.00"}]
["81400-84-4","Otros convenios y subsidios",{"$nulls":5},{"v":0,"d":"0.00"}]
["81400-85","Incentivos derivados de la colaboración fiscal",null,null,{"$f":"SUM(E1148:E1152)","v":{"v":0,"d":"0.00"}},{"$f":"SUM(F1148:F1152)","v":{"v":0,"d":"0.00"}},null,{"$f":"SUM(H1148:H1152)","v":{"v":0,"d":"0.00"}}]
["81400-85-1","Tenencia o uso de vehículos",{"$nulls":5},{"$f":"ROUND(F1148-E1148,2)","v":{"v":0,"d":"0.00"}}]
["81400-85-2","Fondo de compensación ISAN",{"$nulls":5},{"v":0,"d":"0.00"}]
["81400-85-3","Impuesto sobre automóviles nuevos",{"$nulls":5},{"v":0,"d":"0.00"}]
["81400-85-4","Fondo de compensación de repecos-intermedios",{"$nulls":5},{"v":0,"d":"0.00"}]
["81400-85-5","Otros incentivos económicos",{"$nulls":5},{"v":0,"d":"0.00"}]
["81400-86","Fondos distintos de aportaciones",null,null,{"$f":"SUM(E1154:E1155)","v":{"v":0,"d":"0.00"}},{"$f":"SUM(F1154:F1155)","v":{"v":0,"d":"0.00"}},null,{"$f":"SUM(H1154:H1155)","v":{"v":0,"d":"0.00"}}]
["81400-86-1","Fondo para entidades federativas y municipios productores de hidrocarburos",{"$nulls":5},{"$f":"ROUND(F1154-E1154,2)","v":{"v":0,"d":"0.00"}}]
["81400-86-2","Fondo minero",{"$nulls":5},{"v":0,"d":"0.00"}]
["81400-90","Transferencias, asignaciones, subsidios y subvenciones, y pensiones y jubilaciones",null,null,{"$f":"SUM(E1157:E1165)","v":{"v":0,"d":"0.00"}},{"$f":"SUM(F1157:F1165)","v":{"v":0,"d":"0.00"}},null,{"$f":"SUM(H1157:H1165)","v":{"v":0,"d":"0.00"}}]
["81400-91","Transferencias y asignaciones (Con ingresos de libre disposición)",{"$nulls":5},{"$f":"ROUND(F1157-E1157,2)","v":{"v":0,"d":"0.00"}}]
["81400-92","Transferencias y asignaciones (Con ingresos etiquetados)",{"$nulls":5},{"v":0,"d":"0.00"}]
["81400-93","Transferencias al resto del sector público (derogado)",{"$nulls":5},{"v":0,"d":"0.00"}]
["81400-94","Subsidios y subvenciones (Con ingresos de libre disposición)",{"$nulls":5},{"v":0,"d":"0.00"}]
["81400-95","Subsidios y subvenciones (Con ingresos etiquetados)",{"$nulls":5},{"v":0,"d":"0.00"}]
["81400-96","Ayudas sociales (derogado)",{"$nulls":5},{"v":0,"d":"0.00"}]
["81400-97","Pensiones y jubilaciones",{"$nulls":5},{"v":0,"d":"0.00"}]
["81400-98","Transferencias a fideicomisos, mandatos y análogos (derogado)",{"$nulls":5},{"v":0,"d":"0.00"}]
["81400-99","Transferencias del fondo mexicano del petróleo para la estabilización y el desarrollo",{"$nulls":5},{"v":0,"d":"0.00"}]
["81400-00","Ingresos derivados de financiamiento",null,null,{"$f":"SUM(E1167:E1169)","v":{"v":0,"d":"0.00"}},{"$f":"SUM(F1167:F1169)","v":{"v":0,"d":"0.00"}},null,{"$f":"SUM(H1167:H1169)","v":{"v":0,"d":"0.00"}}]
["81400-01","Endeudamiento interno",{"$nulls":5},{"$f":"ROUND(F1167-E1167,2)","v":{"v":0,"d":"0.00"}}]
["81400-02","Endeudamiento externo",{"$nulls":5},{"v":0,"d":"0.00"}]
["81400-03","Financiamiento interno",null,null,{"$f":"SUM(E1170:E1171)","v":{"v":0,"d":"0.00"}},{"$f":"SUM(F1170:F1171)","v":{"v":0,"d":"0.00"}},null,{"$f":"SUM(H1170:H1171)","v":{"v":0,"d":"0.00"}}]
["81400-03-1","Ingresos derivados de financiamiento con fuente de pago de ingresos de libre disposición",{"$nulls":5},{"$f":"ROUND(F1170-E1170,2)","v":{"v":0,"d":"0.00"}}]
["81400-03-2","Ingresos derivados de financiamiento con fuente de pago de transferencias federales etiquetadas",{"$nulls":5},{"v":0,"d":"0.00"}]
[81500,"LEY DE INGRESOS RECAUDADA",null,null,{"$f":"E1173+E1183+E1189+E1192+E1199+E1203+E1208+E1218+E1250+E1260","v":{"v":0,"d":"0.00"}},{"$f":"F1173+F1183+F1189+F1192+F1199+F1203+F1208+F1218+F1250+F1260","v":{"v":0,"d":"0.00"}},null,{"$f":"F1172-E1172","v":{"v":0,"d":"0.00"}}]
["81500-10","Impuestos",null,null,{"$f":"SUM(E1174:E1182)","v":{"v":0,"d":"0.00"}},{"$f":"SUM(F1174:F1182)","v":{"v":0,"d":"0.00"}},null,{"$f":"SUM(H1174:H1182)","v":{"v":0,"d":"0.00"}}]
["81500-11","Impuestos sobre los ingresos",{"$nulls":5},{"$f":"ROUND(F1174-E1174,2)","v":{"v":0,"d":"0.00"}}]
["81500-12","Impuestos sobre patrimonio",{"$nulls":5},{"v":0,"d":"0.00"}]
["81500-13","Impuestos sobre la producción, el consumo y las transacciones",{"$nulls":5},{"v":0,"d":"0.00"}]
["81500-14","Impuestos al comercio exterior",{"$nulls":5},{"v":0,"d":"0.00"}]
["81500-15","Impuestos sobre nóminas y asimilables",{"$nulls":5},{"v":0,"d":"0.00"}]
["81500-16","Impuestos ecológicos",{"$nulls":5},{"v":0,"d":"0.00"}]
["81500-17","Accesorios",{"$nulls":5},{"v":0,"d":"0.00"}]
["81500-18","Otros impuestos",{"$nulls":5},{"v":0,"d":"0.00"}]
["81500-19","Impuestos no Comprendidos en la ley de ingresos vigente, causados en ejercicios fiscales anteriores pendientes de liquidar o pago",{"$nulls":5},{"v":0,"d":"0.00"}]
["81500-20","Cuotas y aportaciones de seguridad social",null,null,{"$f":"SUM(E1184:E1188)","v":{"v":0,"d":"0.00"}},{"$f":"SUM(F1184:F1188)","v":{"v":0,"d":"0.00"}},null,{"$f":"SUM(H1184:H1188)","v":{"v":0,"d":"0.00"}}]
["81500-21","Aportaciones para fondos de vivienda",{"$nulls":5},{"$f":"ROUND(F1184-E1184,2)","v":{"v":0,"d":"0.00"}}]
["81500-22","Cuotas para la seguridad social",{"$nulls":5},{"v":0,"d":"0.00"}]
["81500-23","Cuotas de ahorro para el retiro",{"$nulls":5},{"v":0,"d":"0.00"}]
["81500-24","Otras cuotas y aportaciones para la seguridad social",{"$nulls":5},{"v":0,"d":"0.00"}]
["81500-25","Accesorios de cuotas y aportaciones de seguridad social",{"$nulls":5},{"v":0,"d":"0.00"}]
["81500-30","Contribuciones de mejora",null,null,{"$f":"SUM(E1190:E1191)","v":{"v":0,"d":"0.00"}},{"$f":"SUM(F1190:F1191)","v":{"v":0,"d":"0.00"}},null,{"$f":"SUM(H1190:H1191)","v":{"v":0,"d":"0.00"}}]
["81500-31","Contribuciones de mejoras por obras públicas",{"$nulls":5},{"$f":"ROUND(F1190-E1190,2)","v":{"v":0,"d":"0.00"}}]
["81500-32","Contribuciones de mejoras no  comprendidas en la ley de ingresos vigente, causadas en ejercicios fiscales anteriores pendientes de liquidación o pago",{"$nulls":5},{"v":0,"d":"0.00"}]
["81500-40","Derechos",null,null,{"$f":"SUM(E1193:E1198)","v":{"v":0,"d":"0.00"}},{"$f":"SUM(F1193:F1198)","v":{"v":0,"d":"0.00"}},null,{"$f":"SUM(H1193:H1198)","v":{"v":0,"d":"0.00"}}]
["81500-41","Derechos por el uso, goce, aprovechamiento o explotación de bienes de dominio público",{"$nulls":5},{"$f":"ROUND(F1193-E1193,2)","v":{"v":0,"d":"0.00"}}]
["81500-42","Derecho a los hidrocarburos (derogado)",{"$nulls":5},{"v":0,"d":"0.00"}]
["81500-43","Derechos por prestación de servicios",{"$nulls":5},{"v":0,"d":"0.00"}]
["81500-44","Otros derechos",{"$nulls":5},{"v":0,"d":"0.00"}]
["81500-45","Accesorios de derechos",{"$nulls":5},{"v":0,"d":"0.00"}]
["81500-46","Derechos no comprendidos en la ley de ingresos vigente, causados en ejercicios fiscales anteriores pendientes de liquidación o pago",{"$nulls":5},{"v":0,"d":"0.00"}]
["81500-50","Productos",null,null,{"$f":"SUM(E1200:E1202)","v":{"v":0,"d":"0.00"}},{"$f":"SUM(F1200:F1202)","v":{"v":0,"d":"0.00"}},null,{"$f":"SUM(H1200:H1202)","v":{"v":0,"d":"0.00"}}]
["81500-51","Productos",{"$nulls":5},{"$f":"ROUND(F1200-E1200,2)","v":{"v":0,"d":"0.00"}}]
["81500-52","Productos de capital (derogado)",{"$nulls":5},{"v":0,"d":"0.00"}]
["81500-53","Productos no comprendidos en la ley de ingresos vigente, causados en ejercicios fiscales anteriores pendientes de liquidación o pago",{"$nulls":5},{"v":0,"d":"0.00"}]
["81500-60","Aprovechamientos",null,null,{"$f":"SUM(E1204:E1207)","v":{"v":0,"d":"0.00"}},{"$f":"SUM(F1204:F1207)","v":{"v":0,"d":"0.00"}},null,{"$f":"SUM(H1204:H1207)","v":{"v":0,"d":"0.00"}}]
["81500-61","Aprovechamientos",{"$nulls":5},{"$f":"ROUND(F1204-E1204,2)","v":{"v":0,"d":"0.00"}}]
["81500-62","Aprovechamientos patrimoniales",{"$nulls":5},{"v":0,"d":"0.00"}]
["81500-63","Accesorios de aprovechamientos",{"$nulls":5},{"v":0,"d":"0.00"}]
["81500-64","Aprovechamientos no comprendidos en la ley de ingresos vigente, causados en ejercicios fiscales anteriores pendientes de liquidación o pago",{"$nulls":5},{"v":0,"d":"0.00"}]
["81500-70","Ingresos por venta de bienes, prestación de servicios y otros ingresos",null,null,{"$f":"SUM(E1209:E1217)","v":{"v":0,"d":"0.00"}},{"$f":"SUM(F1209:F1217)","v":{"v":0,"d":"0.00"}},null,{"$f":"SUM(H1209:H1217)","v":{"v":0,"d":"0.00"}}]
["81500-71","Ingresos por venta de bienes y prestación de servicios de instituciones públicas de seguridad social",{"$nulls":5},{"$f":"ROUND(F1209-E1209,2)","v":{"v":0,"d":"0.00"}}]
["81500-72","Ingresos por venta de bienes y prestación de servicios de empresas públicas del estado",{"$nulls":5},{"v":0,"d":"0.00"}]
["81500-73","Ingresos por venta de bienes y prestación de servicios de entidades paraestatales y fideicomisos no empresariales y no financieros",{"$nulls":5},{"v":0,"d":"0.00"}]
["81500-74","Ingresos por venta de bienes y prestación de servicios de entidades paraestatales empresariales y no financieros con participación estatal mayoritaria",{"$nulls":5},{"v":0,"d":"0.00"}]
["81500-75","Ingresos por venta de bienes y prestación de servicios de entidades paraestatales empresariales financieras monetarias con participación estatal mayoritaria",{"$nulls":5},{"v":0,"d":"0.00"}]
["81500-76","Ingresos por venta de bienes y prestación de servicios de entidades paraestatales empresariales financieras no monetarias con participación estatal mayoritaria",{"$nulls":5},{"v":0,"d":"0.00"}]
["81500-77","Ingresos por venta de bienes y prestación de servicios de fideicomisos financieros públicos con participación estatal mayoritaria",{"$nulls":5},{"v":0,"d":"0.00"}]
["81500-78","Ingresos por venta de bienes y prestación de servicios de los poderes legislativo y judicial, y de los órganos autónomos",{"$nulls":5},{"v":0,"d":"0.00"}]
["81500-79","Otros ingresos",{"$nulls":5},{"v":0,"d":"0.00"}]
["81500-80","Participaciones, aportaciones, convenios, incentivos derivados de la colaboración fiscal y fondos distintos de aportaciones",null,null,{"$f":"E1219+E1232+E1235+E1236+E1241+E1247","v":{"v":0,"d":"0.00"}},{"$f":"F1219+F1232+F1235+F1236+F1241+F1247","v":{"v":0,"d":"0.00"}},null,{"$f":"H1219+H1232+H1235+H1236+H1241+H1247","v":{"v":0,"d":"0.00"}}]
["81500-81","Participaciones",null,null,{"$f":"SUM(E1220:E1231)","v":{"v":0,"d":"0.00"}},{"$f":"SUM(F1220:F1231)","v":{"v":0,"d":"0.00"}},null,{"$f":"SUM(H1220:H1231)","v":{"v":0,"d":"0.00"}}]
["81500-81-1","Fondo general de participaciones (federal)",{"$nulls":5},{"v":0,"d":"0.00"}]
["81500-81-2","Fondo de fomento municipal (federal)",{"$nulls":5},{"v":0,"d":"0.00"}]
["81500-81-3","Fondo de fiscalización y recaudación (federal)",{"$nulls":5},{"v":0,"d":"0.00"}]
["81500-81-4","Fondo de compensación (federal)",{"$nulls":5},{"v":0,"d":"0.00"}]
["81500-81-5","Fondo de extracción de hidrocarburos (federal)",{"$nulls":5},{"v":0,"d":"0.00"}]
["81500-81-6","Impuesto especial sobre producción y servicios (federal)",{"$nulls":5},{"v":0,"d":"0.00"}]
["81500-81-7","0.136% de la recaudación federal participable (federal)",{"$nulls":5},{"v":0,"d":"0.00"}]
["81500-81-8","3.17% sobre extracción de petróleo (federal)",{"$nulls":5},{"v":0,"d":"0.00"}]
["81500-81-9","Gasolinas y diésel (federal)",{"$nulls":5},{"v":0,"d":"0.00"}]
["81500-81-10","Fondo de impuesto sobre la renta (federal)",{"$nulls":5},{"v":0,"d":"0.00"}]
["81500-81-11","Fondo de estabilización de los ingresos de las entidades federativas (federal)",{"$nulls":5},{"v":0,"d":"0.00"}]
["81500-81-12","Participaciones en ingresos locales (Participaciones del estado)",{"$nulls":5},{"v":0,"d":"0.00"}]
["81500-82","Aportaciones",null,null,{"$f":"SUM(E1233:E1234)","v":{"v":0,"d":"0.00"}},{"$f":"SUM(F1233:F1234)","v":{"v":0,"d":"0.00"}},null,{"$f":"SUM(H1233:H1234)","v":{"v":0,"d":"0.00"}}]
["81500-82-1","Fondo de aportaciones para la infraestructura social municipal",{"$nulls":5},{"v":0,"d":"0.00"}]
["81500-82-2","Fondo de aportaciones para el fortalecimiento de los municipios y de las demarcaciones territoriales del distrito federal",{"$nulls":5},{"v":0,"d":"0.00"}]
["81500-83","Convenios (Con ingresos de libre disposición)",{"$nulls":5},{"v":0,"d":"0.00"}]
["81500-84","Convenios (Con ingresos etiquetados)",null,null,{"$f":"SUM(E1237:E1240)","v":{"v":0,"d":"0.00"}},{"$f":"SUM(F1237:F1240)","v":{"v":0,"d":"0.00"}},null,{"$f":"SUM(H1237:H1240)","v":{"v":0,"d":"0.00"}}]
["81500-84-1","Convenios de protección social en salud",{"$nulls":5},{"v":0,"d":"0.00"}]
["81500-84-2","Convenios de descentralización",{"$nulls":5},{"v":0,"d":"0.00"}]
["81500-84-3","Convenios de reasignación",{"$nulls":5},{"v":0,"d":"0.00"}]
["81500-84-4","Otros convenios y subsidios",{"$nulls":5},{"v":0,"d":"0.00"}]
["81500-85","Incentivos derivados de la colaboración fiscal",null,null,{"$f":"SUM(E1242:E1246)","v":{"v":0,"d":"0.00"}},{"$f":"SUM(F1242:F1246)","v":{"v":0,"d":"0.00"}},null,{"$f":"SUM(H1242:H1246)","v":{"v":0,"d":"0.00"}}]
["81500-85-1","Tenencia o uso de vehículos",{"$nulls":5},{"v":0,"d":"0.00"}]
["81500-85-2","Fondo de compensación ISAN",{"$nulls":5},{"v":0,"d":"0.00"}]
["81500-85-3","Impuesto sobre automóviles nuevos",{"$nulls":5},{"v":0,"d":"0.00"}]
["81500-85-4","Fondo de compensación de repecos-intermedios",{"$nulls":5},{"v":0,"d":"0.00"}]
["81500-85-5","Otros incentivos económicos",{"$nulls":5},{"v":0,"d":"0.00"}]
["81500-86","Fondos distintos de aportaciones",null,null,{"$f":"SUM(E1248:E1249)","v":{"v":0,"d":"0.00"}},{"$f":"SUM(F1248:F1249)","v":{"v":0,"d":"0.00"}},null,{"$f":"SUM(H1248:H1249)","v":{"v":0,"d":"0.00"}}]
["81500-86-1","Fondo para entidades federativas y municipios productores de hidrocarburos",{"$nulls":5},{"v":0,"d":"0.00"}]
["81500-86-2","Fondo minero",{"$nulls":5},{"v":0,"d":"0.00"}]
["81500-90","Transferencias, asignaciones, subsidios y subvenciones, y pensiones y jubilaciones",null,null,{"$f":"SUM(E1251:E1259)","v":{"v":0,"d":"0.00"}},{"$f":"SUM(F1251:F1259)","v":{"v":0,"d":"0.00"}},null,{"$f":"SUM(H1251:H1259)","v":{"v":0,"d":"0.00"}}]
["81500-91","Transferencias y asignaciones (Con ingresos de libre disposición)",{"$nulls":5},{"v":0,"d":"0.00"}]
["81500-92","Transferencias y asignaciones (Con ingresos etiquetados)",{"$nulls":5},{"v":0,"d":"0.00"}]
["81500-93","Transferencias al resto del sector público (derogado)",{"$nulls":5},{"v":0,"d":"0.00"}]
["81500-94","Subsidios y subvenciones (Con ingresos de libre disposición)",{"$nulls":5},{"v":0,"d":"0.00"}]
["81500-95","Subsidios y subvenciones (Con ingresos etiquetados)",{"$nulls":5},{"v":0,"d":"0.00"}]
["81500-96","Ayudas sociales (derogado)",{"$nulls":5},{"v":0,"d":"0.00"}]
["81500-97","Pensiones y jubilaciones",{"$nulls":5},{"v":0,"d":"0.00"}]
["81500-98","Transferencias a fideicomisos, mandatos y análogos (derogado)",{"$nulls":5},{"v":0,"d":"0.00"}]
["81500-99","Transferencias del fondo mexicano del petróleo para la estabilización y el desarrollo",{"$nulls":5},{"v":0,"d":"0.00"}]
["81500-00","Ingresos derivados de financiamiento",null,null,{"$f":"SUM(E1261:E1263)","v":{"v":0,"d":"0.00"}},{"$f":"SUM(F1261:F1263)","v":{"v":0,"d":"0.00"}},null,{"$f":"SUM(H1261:H1263)","v":{"v":0,"d":"0.00"}}]
["81500-01","Endeudamiento interno",{"$nulls":5},{"v":0,"d":"0.00"}]
["81500-02","Endeudamiento externo",{"$nulls":5},{"v":0,"d":"0.00"}]
["81500-03","Financiamiento interno",null,null,{"$f":"SUM(E1264:E1265)","v":{"v":0,"d":"0.00"}},{"$f":"SUM(F1264:F1265)","v":{"v":0,"d":"0.00"}},null,{"$f":"SUM(H1264:H1265)","v":{"v":0,"d":"0.00"}}]
["81500-03-1","Ingresos derivados de financiamiento con fuente de pago de ingresos de libre disposición",{"$nulls":5},{"v":0,"d":"0.00"}]
["81500-03-2","Ingresos derivados de financiamiento con fuente de pago de transferencias federales etiquetadas",{"$nulls":5},{"v":0,"d":"0.00"}]
[82000,"PRESUPUESTO DE EGRESOS",null,null,{"$f":"E1267+E1403+E1539+E1675+E1811+E1947+E2083","v":{"v":0,"d":"0.00"}},{"$f":"F1267+F1403+F1539+F1675+F1811+F1947+F2083","v":{"v":0,"d":"0.00"}},{"$f":"G1267+G1403+G1539+G1675+G1811+G1947+G2083","v":{"v":0,"d":"0.00"}},{"$f":"H1267+H1403+H1539+H1675+H1811+H1947+H2083","v":{"v":0,"d":"0.00"}}]
[82100,"PRESUPUESTO DE EGRESOS APROBADO",null,null,{"$f":"E1268+E1283+E1302+E1321+E1340+E1359+E1366+E1381+E1388","v":{"v":0,"d":"0.00"}},{"$f":"F1268+F1283+F1302+F1321+F1340+F1359+F1366+F1381+F1388","v":{"v":0,"d":"0.00"}},null,{"$f":"F1267-E1267","v":{"v":0,"d":"0.00"}}]
["82100-100","Servicios personales",null,null,{"$f":"SUM(E1269:E1282)","v":{"v":0,"d":"0.00"}},{"$f":"SUM(F1269:F1282)","v":{"v":0,"d":"0.00"}},null,{"$f":"F1268-E1268","v":{"v":0,"d":"0.00"}}]
["82100-101","Remuneraciones al personal de carácter permanente (no etiquetado)",{"$nulls":5},{"$f":"ROUND(F1269-E1269,2)","v":{"v":0,"d":"0.00"}}]
["82100-102","Remuneraciones al personal de carácter permanente (etiquetado)",{"$nulls":5},{"$f":"ROUND(F1270-E1270,2)","v":{"v":0,"d":"0.00"}}]
["82100-103","Remuneraciones al personal de carácter transitorio (no etiquetado)",{"$nulls":5},{"v":0,"d":"0.00"}]
["82100-104","Remuneraciones al personal de carácter transitorio (etiquetado)",{"$nulls":5},{"v":0,"d":"0.00"}]
["82100-105","Remuneraciones adicionales especiales (no etiquetado)",{"$nulls":5},{"v":0,"d":"0.00"}]
["82100-106","Remuneraciones adicionales especiales (etiquetado)",{"$nulls":5},{"v":0,"d":"0.00"}]
["82100-107","Seguridad social (no etiquetado)",{"$nulls":5},{"v":0,"d":"0.00"}]
["82100-108","Seguridad social (etiquetado)",{"$nulls":5},{"v":0,"d":"0.00"}]
["82100-109","Otras prestaciones sociales y económicas (no etiquetado)",{"$nulls":5},{"v":0,"d":"0.00"}]
["82100-110","Otras prestaciones sociales y económicas (etiquetado)",{"$nulls":5},{"v":0,"d":"0.00"}]
["82100-111","Previsiones (no etiquetado)",{"$nulls":5},{"v":0,"d":"0.00"}]
["82100-112","Previsiones (etiquetado)",{"$nulls":5},{"v":0,"d":"0.00"}]
["82100-113","Pago de estímulos a servidores públicos (no etiquetado)",{"$nulls":5},{"v":0,"d":"0.00"}]
["82100-114","Pago de estímulos a servidores públicos (etiquetado)",{"$nulls":5},{"v":0,"d":"0.00"}]
["82100-200","Materiales y suministros",null,null,{"$f":"SUM(E1284:E1301)","v":{"v":0,"d":"0.00"}},{"$f":"SUM(F1284:F1301)","v":{"v":0,"d":"0.00"}},null,{"$f":"SUM(H1284:H1301)","v":{"v":0,"d":"0.00"}}]
["82100-201","Materiales de administración, emisión de documentos y artículos oficiales (no etiquetado)",{"$nulls":5},{"v":0,"d":"0.00"}]
["82100-202","Materiales de administración, emisión de documentos y artículos oficiales (etiquetado)",{"$nulls":5},{"v":0,"d":"0.00"}]
["82100-203","Alimentos y utensilios (no etiquetado)",{"$nulls":5},{"v":0,"d":"0.00"}]
["82100-204","Alimentos y utensilios (etiquetado)",{"$nulls":5},{"v":0,"d":"0.00"}]
["82100-205","Materias primas y materiales de producción y comercialización (no etiquetado)",{"$nulls":5},{"v":0,"d":"0.00"}]
["82100-206","Materias primas y materiales de producción y comercialización (etiquetado)",{"$nulls":5},{"v":0,"d":"0.00"}]
["82100-207","Materiales y artículos de construcción y de reparación (no etiquetado)",{"$nulls":5},{"v":0,"d":"0.00"}]
["82100-208","Materiales y artículos de construcción y de reparación (etiquetado)",{"$nulls":5},{"v":0,"d":"0.00"}]
["82100-209","Productos químicos, farmacéuticos y de laboratorio (no etiquetado)",{"$nulls":5},{"v":0,"d":"0.00"}]
["82100-210","Productos químicos, farmacéuticos y de laboratorio (etiquetado)",{"$nulls":5},{"v":0,"d":"0.00"}]
["82100-211","Combustibles, lubricantes y aditivos (no etiquetado)",{"$nulls":5},{"v":0,"d":"0.00"}]
["82100-212","Combustibles, lubricantes y aditivos (etiquetado)",{"$nulls":5},{"v":0,"d":"0.00"}]
["82100-213","Vestuario, blancos, prendas de protección y artículos deportivos (no etiquetado)",{"$nulls":5},{"v":0,"d":"0.00"}]
["82100-214","Vestuario, blancos, prendas de protección y artículos deportivos (etiquetado)",{"$nulls":5},{"v":0,"d":"0.00"}]
["82100-215","Materiales y suministros de seguridad (no etiquetado)",{"$nulls":5},{"v":0,"d":"0.00"}]
["82100-216","Materiales y suministros de seguridad (etiquetado)",{"$nulls":5},{"v":0,"d":"0.00"}]
["82100-217","Herramientas, refacciones y accesorios menores (no etiquetado)",{"$nulls":5},{"v":0,"d":"0.00"}]
["82100-218","Herramientas, refacciones y accesorios menores (etiquetado)",{"$nulls":5},{"v":0,"d":"0.00"}]
["82100-300","Servicios generales",null,null,{"$f":"SUM(E1303:E1320)","v":{"v":0,"d":"0.00"}},{"$f":"SUM(F1303:F1320)","v":{"v":0,"d":"0.00"}},null,{"$f":"SUM(H1303:H1320)","v":{"v":0,"d":"0.00"}}]
["82100-301","Servicios básicos (no etiquetado)",{"$nulls":5},{"v":0,"d":"0.00"}]
["82100-302","Servicios básicos (etiquetado)",{"$nulls":5},{"v":0,"d":"0.00"}]
["82100-303","Servicios de arrendamiento (no etiquetado)",{"$nulls":5},{"v":0,"d":"0.00"}]
["82100-304","Servicios de arrendamiento (etiquetado)",{"$nulls":5},{"v":0,"d":"0.00"}]
["82100-305","Servicios profesionales, científicos, técnicos y otros servicios (no etiquetado)",{"$nulls":5},{"v":0,"d":"0.00"}]
["82100-306","Servicios profesionales, científicos, técnicos y otros servicios (etiquetado)",{"$nulls":5},{"v":0,"d":"0.00"}]
["82100-307","Servicios financieros, bancarios y comerciales (no etiquetado)",{"$nulls":5},{"v":0,"d":"0.00"}]
["82100-308","Servicios financieros, bancarios y comerciales (etiquetado)",{"$nulls":5},{"v":0,"d":"0.00"}]
["82100-309","Servicios de instalación, reparación, mantenimiento y conservación (no etiquetado)",{"$nulls":5},{"v":0,"d":"0.00"}]
["82100-310","Servicios de instalación, reparación, mantenimiento y conservación (etiquetado)",{"$nulls":5},{"v":0,"d":"0.00"}]
["82100-311","Servicios de comunicación social y publicidad (no etiquetado)",{"$nulls":5},{"v":0,"d":"0.00"}]
["82100-312","Servicios de comunicación social y publicidad (etiquetado)",{"$nulls":5},{"v":0,"d":"0.00"}]
["82100-313","Servicios de traslado y viáticos (no etiquetado)",{"$nulls":5},{"v":0,"d":"0.00"}]
["82100-314","Servicios de traslado y viáticos (etiquetado)",{"$nulls":5},{"v":0,"d":"0.00"}]
["82100-315","Servicios oficiales (no etiquetado)",{"$nulls":5},{"v":0,"d":"0.00"}]
["82100-316","Servicios oficiales (etiquetado)",{"$nulls":5},{"v":0,"d":"0.00"}]
["82100-317","Otros servicios generales (no etiquetado)",{"$nulls":5},{"v":0,"d":"0.00"}]
["82100-318","Otros servicios generales (etiquetado)",{"$nulls":5},{"v":0,"d":"0.00"}]
["82100-400","Transferencias, asignaciones, subsidios y otras ayudas ",null,null,{"$f":"SUM(E1322:E1339)","v":{"v":0,"d":"0.00"}},{"$f":"SUM(F1322:F1339)","v":{"v":0,"d":"0.00"}},null,{"$f":"SUM(H1322:H1339)","v":{"v":0,"d":"0.00"}}]
["82100-401","Transferencias internas y asignaciones al sector público (no etiquetado)",{"$nulls":5},{"v":0,"d":"0.00"}]
["82100-402","Transferencias internas y asignaciones al sector público (etiquetado)",{"$nulls":5},{"v":0,"d":"0.00"}]
["82100-403","Transferencias al resto del sector público (no etiquetado)",{"$nulls":5},{"v":0,"d":"0.00"}]
["82100-404","Transferencias al resto del sector público (etiquetado)",{"$nulls":5},{"v":0,"d":"0.00"}]
["82100-405","Subsidios y subvenciones (no etiquetado)",{"$nulls":5},{"v":0,"d":"0.00"}]
["82100-406","Subsidios y subvenciones (etiquetado)",{"$nulls":5},{"v":0,"d":"0.00"}]
["82100-407","Ayudas sociales (no etiquetado)",{"$nulls":5},{"v":0,"d":"0.00"}]
["82100-408","Ayudas sociales  (etiquetado)",{"$nulls":5},{"v":0,"d":"0.00"}]
["82100-409","Pensiones y jubilaciones (no etiquetado)",{"$nulls":5},{"v":0,"d":"0.00"}]
["82100-410","Pensiones y jubilaciones (etiquetado)",{"$nulls":5},{"v":0,"d":"0.00"}]
["82100-411","Transferencias a fideicomisos, mandatos y otros análogos (no etiquetado)",{"$nulls":5},{"v":0,"d":"0.00"}]
["82100-412","Transferencias a fideicomisos, mandatos y otros análogos (etiquetado)",{"$nulls":5},{"v":0,"d":"0.00"}]
["82100-413","Transferencias a la seguridad social (no etiquetado)",{"$nulls":5},{"$f":"ROUND(F1334-E1334,2)","v":{"v":0,"d":"0.00"}}]
["82100-414","Transferencias a la seguridad social (etiquetado)",{"$nulls":5},{"v":0,"d":"0.00"}]
["82100-415","Donativos (no etiquetado)",{"$nulls":5},{"v":0,"d":"0.00"}]
["82100-416","Donativos (etiquetado)",{"$nulls":5},{"v":0,"d":"0.00"}]
["82100-417","Transferencias al exterior (no etiquetado)",{"$nulls":5},{"v":0,"d":"0.00"}]
["82100-418","Transferencias al exterior (etiquetado)",{"$nulls":5},{"v":0,"d":"0.00"}]
["82100-500","Bienes muebles, inmuebles e intangibles",null,null,{"$f":"SUM(E1341:E1358)","v":{"v":0,"d":"0.00"}},{"$f":"SUM(F1341:F1358)","v":{"v":0,"d":"0.00"}},null,{"$f":"SUM(H1341:H1358)","v":{"v":0,"d":"0.00"}}]
["82100-501","Mobiliario y equipo de administración (no etiquetado)",{"$nulls":5},{"v":0,"d":"0.00"}]
["82100-502","Mobiliario y equipo de administración (etiquetado)",{"$nulls":5},{"v":0,"d":"0.00"}]
["82100-503","Mobiliario y equipo educacional y recreativo (no etiquetado)",{"$nulls":5},{"v":0,"d":"0.00"}]
["82100-504","Mobiliario y equipo educacional y recreativo (etiquetado)",{"$nulls":5},{"v":0,"d":"0.00"}]
["82100-505","Equipo instrumental médico y de laboratorio (no etiquetado)",{"$nulls":5},{"v":0,"d":"0.00"}]
["82100-506","Equipo instrumental médico y de laboratorio (etiquetado)",{"$nulls":5},{"v":0,"d":"0.00"}]
["82100-507","Vehículos y equipo de transporte (no etiquetado)",{"$nulls":5},{"v":0,"d":"0.00"}]
["82100-508","Vehículos y equipo de transporte (etiquetado)",{"$nulls":5},{"v":0,"d":"0.00"}]
["82100-509","Equipo de defensa y seguridad (no etiquetado)",{"$nulls":5},{"v":0,"d":"0.00"}]
["82100-510","Equipo de defensa y seguridad (etiquetado)",{"$nulls":5},{"v":0,"d":"0.00"}]
["82100-511","Maquinaria, otros equipos y herramientas (no etiquetado)",{"$nulls":5},{"v":0,"d":"0.00"}]
["82100-512","Maquinaria, otros equipos y herramientas (etiquetado)",{"$nulls":5},{"v":0,"d":"0.00"}]
["82100-513","Activos biológicos (no etiquetado)",{"$nulls":5},{"v":0,"d":"0.00"}]
["82100-514","Activos biológicos (etiquetado)",{"$nulls":5},{"v":0,"d":"0.00"}]
["82100-515","Bienes inmuebles (no etiquetado)",{"$nulls":5},{"v":0,"d":"0.00"}]
["82100-516","Bienes inmuebles (etiquetado)",{"$nulls":5},{"v":0,"d":"0.00"}]
["82100-517","Activos intangibles (no etiquetado)",{"$nulls":5},{"v":0,"d":"0.00"}]
["82100-518","Activos intangibles (etiquetado)",{"$nulls":5},{"v":0,"d":"0.00"}]
["82100-600","Inversión pública",null,null,{"$f":"SUM(E1360:E1365)","v":{"v":0,"d":"0.00"}},{"$f":"SUM(F1360:F1365)","v":{"v":0,"d":"0.00"}},null,{"$f":"SUM(H1360:H1365)","v":{"v":0,"d":"0.00"}}]
["82100-601","Obra pública en bienes de dominio público (no etiquetado)",{"$nulls":5},{"v":0,"d":"0.00"}]
["82100-602","Obra pública en bienes de dominio público (etiquetado)",{"$nulls":5},{"v":0,"d":"0.00"}]
["82100-603","Obra pública en bienes de dominio propios (no etiquetado)",{"$nulls":5},{"v":0,"d":"0.00"}]
["82100-604","Obra pública en bienes de dominio propios (etiquetado)",{"$nulls":5},{"v":0,"d":"0.00"}]
["82100-605","Proyectos productivos y acciones de fomento (no etiquetado)",{"$nulls":5},{"v":0,"d":"0.00"}]
["82100-606","Proyectos productivos y acciones de fomento (etiquetado)",{"$nulls":5},{"v":0,"d":"0.00"}]
["82100-700","Inversiones financieras y otras provisiones",null,null,{"$f":"SUM(E1367:E1380)","v":{"v":0,"d":"0.00"}},{"$f":"SUM(F1367:F1380)","v":{"v":0,"d":"0.00"}},null,{"$f":"SUM(H1367:H1380)","v":{"v":0,"d":"0.00"}}]
["82100-701","Inversiones para el fomento de actividades productivas (no etiquetado)",{"$nulls":5},{"v":0,"d":"0.00"}]
["82100-702","Inversiones para el fomento de actividades productivas (etiquetado)",{"$nulls":5},{"v":0,"d":"0.00"}]
["82100-703","Acciones y participaciones de capital (no etiquetado)",{"$nulls":5},{"v":0,"d":"0.00"}]
["82100-704","Acciones y participaciones de capital (etiquetado)",{"$nulls":5},{"v":0,"d":"0.00"}]
["82100-705","Compra de títulos y valores (no etiquetado)",{"$nulls":5},{"v":0,"d":"0.00"}]
["82100-706","Compra de títulos y valores (etiquetado)",{"$nulls":5},{"v":0,"d":"0.00"}]
["82100-707","Concesión de préstamos (no etiquetado)",{"$nulls":5},{"v":0,"d":"0.00"}]
["82100-708","Concesión de préstamos (etiquetado)",{"$nulls":5},{"v":0,"d":"0.00"}]
["82100-709","Inversiones en fideicomisos, mandatos y otros análogos (no etiquetado)",{"$nulls":5},{"v":0,"d":"0.00"}]
["82100-710","Inversiones en fideicomisos, mandatos y otros análogos (etiquetado)",{"$nulls":5},{"v":0,"d":"0.00"}]
["82100-711","Otras inversiones financieras (no etiquetado)",{"$nulls":5},{"v":0,"d":"0.00"}]
["82100-712","Otras inversiones financieras (etiquetado)",{"$nulls":5},{"v":0,"d":"0.00"}]
["82100-713","Provisiones para contingencias y otras erogaciones especiales (no etiquetado)",{"$nulls":5},{"v":0,"d":"0.00"}]
["82100-714","Provisiones para contingencias y otras erogaciones especiales (etiquetado)",{"$nulls":5},{"v":0,"d":"0.00"}]
["82100-800","Participaciones y aportaciones",null,null,{"$f":"SUM(E1382:E1387)","v":{"v":0,"d":"0.00"}},{"$f":"SUM(F1382:F1387)","v":{"v":0,"d":"0.00"}},null,{"$f":"SUM(H1382:H1387)","v":{"v":0,"d":"0.00"}}]
["82100-801","Participaciones (no etiquetado)",{"$nulls":5},{"v":0,"d":"0.00"}]
["82100-802","Participaciones (etiquetado)",{"$nulls":5},{"v":0,"d":"0.00"}]
["82100-803","Aportaciones (no etiquetado)",{"$nulls":5},{"v":0,"d":"0.00"}]
["82100-804","Aportaciones (etiquetado)",{"$nulls":5},{"v":0,"d":"0.00"}]
["82100-805","Convenios (no etiquetado)",{"$nulls":5},{"v":0,"d":"0.00"}]
["82100-806","Convenios (etiquetado)",{"$nulls":5},{"v":0,"d":"0.00"}]
["82100-900","Deuda pública",null,null,{"$f":"SUM(E1389:E1402)","v":{"v":0,"d":"0.00"}},{"$f":"SUM(F1389:F1402)","v":{"v":0,"d":"0.00"}},null,{"$f":"SUM(H1389:H1402)","v":{"v":0,"d":"0.00"}}]
["82100-901","Amortización de la deuda pública (no etiquetado)",{"$nulls":5},{"v":0,"d":"0.00"}]
["82100-902","Amortización de la deuda pública (etiquetado)",{"$nulls":5},{"v":0,"d":"0.00"}]
["82100-903","Intereses de la deuda pública (no etiquetado)",{"$nulls":5},{"v":0,"d":"0.00"}]
["82100-904","Intereses de la deuda pública (etiquetado)",{"$nulls":5},{"v":0,"d":"0.00"}]
["82100-905","Comisiones de la deuda pública (no etiquetado)",{"$nulls":5},{"v":0,"d":"0.00"}]
["82100-906","Comisiones de la deuda pública (etiquetado)",{"$nulls":5},{"v":0,"d":"0.00"}]
["82100-907","Gastos de la deuda pública (no etiquetado)",{"$nulls":5},{"v":0,"d":"0.00"}]
["82100-908","Gastos de la deuda pública (etiquetado)",{"$nulls":5},{"v":0,"d":"0.00"}]
["82100-909","Costo por coberturas (no etiquetado)",{"$nulls":5},{"v":0,"d":"0.00"}]
["82100-910","Costo por coberturas (etiquetado)",{"$nulls":5},{"$f":"ROUND(F1398-E1398,2)","v":{"v":0,"d":"0.00"}}]
["82100-911","Apoyos financieros (no etiquetado)",{"$nulls":5},{"v":0,"d":"0.00"}]
["82100-912","Apoyos financieros (etiquetado)",{"$nulls":5},{"v":0,"d":"0.00"}]
["82100-913","Adeudos de ejercicios anteriores (adefas) (no etiquetado)",{"$nulls":5},{"v":0,"d":"0.00"}]
["82100-914","Adeudos de ejercicios anteriores (adefas) (etiquetado)",{"$nulls":5},{"v":0,"d":"0.00"}]
[82200,"PRESUPUESTO DE EGRESOS POR EJERCER",null,null,{"$f":"E1404+E1419+E1438+E1457+E1476+E1495+E1502+E1517+E1524","v":{"v":0,"d":"0.00"}},{"$f":"F1404+F1419+F1438+F1457+F1476+F1495+F1502+F1517+F1524","v":{"v":0,"d":"0.00"}},{"$f":"E1403-F1403","v":{"v":0,"d":"0.00"}}]
["82200-100","Servicios personales",null,null,{"$f":"SUM(E1405:E1418)","v":{"v":0,"d":"0.00"}},{"$f":"SUM(F1405:F1418)","v":{"v":0,"d":"0.00"}},{"$f":"SUM(G1405:G1418)","v":{"v":0,"d":"0.00"}}]
["82200-101","Remuneraciones al personal de carácter permanente (no etiquetado)",{"$nulls":4},{"$f":"ROUND(E1405-F1405,2)","v":{"v":0,"d":"0.00"}}]
["82200-102","Remuneraciones al personal de carácter permanente (etiquetado)",{"$nulls":4},{"$f":"ROUND(E1406-F1406,2)","v":{"v":0,"d":"0.00"}}]
["82200-103","Remuneraciones al personal de carácter transitorio (no etiquetado)",{"$nulls":4},{"v":0,"d":"0.00"}]
["82200-104","Remuneraciones al personal de carácter transitorio (etiquetado)",{"$nulls":4},{"v":0,"d":"0.00"}]
["82200-105","Remuneraciones adicionales especiales (no etiquetado)",{"$nulls":4},{"v":0,"d":"0.00"}]
["82200-106","Remuneraciones adicionales especiales (etiquetado)",{"$nulls":4},{"v":0,"d":"0.00"}]
["82200-107","Seguridad social (no etiquetado)",{"$nulls":4},{"v":0,"d":"0.00"}]
["82200-108","Seguridad social (etiquetado)",{"$nulls":4},{"v":0,"d":"0.00"}]
["82200-109","Otras prestaciones sociales y económicas (no etiquetado)",{"$nulls":4},{"v":0,"d":"0.00"}]
["82200-110","Otras prestaciones sociales y económicas (etiquetado)",{"$nulls":4},{"v":0,"d":"0.00"}]
["82200-111","Previsiones (no etiquetado)",{"$nulls":4},{"v":0,"d":"0.00"}]
["82200-112","Previsiones (etiquetado)",{"$nulls":4},{"v":0,"d":"0.00"}]
["82200-113","Pago de estímulos a servidores públicos (no etiquetado)",{"$nulls":4},{"v":0,"d":"0.00"}]
["82200-114","Pago de estímulos a servidores públicos (etiquetado)",{"$nulls":4},{"v":0,"d":"0.00"}]
["82200-200","Materiales y suministros",null,null,{"$f":"SUM(E1420:E1437)","v":{"v":0,"d":"0.00"}},{"$f":"SUM(F1420:F1437)","v":{"v":0,"d":"0.00"}},{"$f":"SUM(G1420:G1437)","v":{"v":0,"d":"0.00"}}]
["82200-201","Materiales de administración, emisión de documentos y artículos oficiales (no etiquetado)",{"$nulls":4},{"v":0,"d":"0.00"}]
["82200-202","Materiales de administración, emisión de documentos y artículos oficiales (etiquetado)",{"$nulls":4},{"v":0,"d":"0.00"}]
["82200-203","Alimentos y utensilios (no etiquetado)",{"$nulls":4},{"v":0,"d":"0.00"}]
["82200-204","Alimentos y utensilios (etiquetado)",{"$nulls":4},{"v":0,"d":"0.00"}]
["82200-205","Materias primas y materiales de producción y comercialización (no etiquetado)",{"$nulls":4},{"v":0,"d":"0.00"}]
["82200-206","Materias primas y materiales de producción y comercialización (etiquetado)",{"$nulls":4},{"v":0,"d":"0.00"}]
["82200-207","Materiales y artículos de construcción y de reparación (no etiquetado)",{"$nulls":4},{"v":0,"d":"0.00"}]
["82200-208","Materiales y artículos de construcción y de reparación (etiquetado)",{"$nulls":4},{"v":0,"d":"0.00"}]
["82200-209","Productos químicos, farmacéuticos y de laboratorio (no etiquetado)",{"$nulls":4},{"v":0,"d":"0.00"}]
["82200-210","Productos químicos, farmacéuticos y de laboratorio (etiquetado)",{"$nulls":4},{"v":0,"d":"0.00"}]
["82200-211","Combustibles, lubricantes y aditivos (no etiquetado)",{"$nulls":4},{"v":0,"d":"0.00"}]
["82200-212","Combustibles, lubricantes y aditivos (etiquetado)",{"$nulls":4},{"v":0,"d":"0.00"}]
["82200-213","Vestuario, blancos, prendas de protección y artículos deportivos (no etiquetado)",{"$nulls":4},{"v":0,"d":"0.00"}]
["82200-214","Vestuario, blancos, prendas de protección y artículos deportivos (etiquetado)",{"$nulls":4},{"v":0,"d":"0.00"}]
["82200-215","Materiales y suministros de seguridad (no etiquetado)",{"$nulls":4},{"v":0,"d":"0.00"}]
["82200-216","Materiales y suministros de seguridad (etiquetado)",{"$nulls":4},{"v":0,"d":"0.00"}]
["82200-217","Herramientas, refacciones y accesorios menores (no etiquetado)",{"$nulls":4},{"v":0,"d":"0.00"}]
["82200-218","Herramientas, refacciones y accesorios menores (etiquetado)",{"$nulls":4},{"v":0,"d":"0.00"}]
["82200-300","Servicios generales",null,null,{"$f":"SUM(E1439:E1456)","v":{"v":0,"d":"0.00"}},{"$f":"SUM(F1439:F1456)","v":{"v":0,"d":"0.00"}},{"$f":"SUM(G1439:G1456)","v":{"v":0,"d":"0.00"}}]
["82200-301","Servicios básicos (no etiquetado)",{"$nulls":4},{"v":0,"d":"0.00"}]
["82200-302","Servicios básicos (etiquetado)",{"$nulls":4},{"v":0,"d":"0.00"}]
["82200-303","Servicios de arrendamiento (no etiquetado)",{"$nulls":4},{"v":0,"d":"0.00"}]
["82200-304","Servicios de arrendamiento (etiquetado)",{"$nulls":4},{"v":0,"d":"0.00"}]
["82200-305","Servicios profesionales, científicos, técnicos y otros servicios (no etiquetado)",{"$nulls":4},{"v":0,"d":"0.00"}]
["82200-306","Servicios profesionales, científicos, técnicos y otros servicios (etiquetado)",{"$nulls":4},{"v":0,"d":"0.00"}]
["82200-307","Servicios financieros, bancarios y comerciales (no etiquetado)",{"$nulls":4},{"v":0,"d":"0.00"}]
["82200-308","Servicios financieros, bancarios y comerciales (etiquetado)",{"$nulls":4},{"v":0,"d":"0.00"}]
["82200-309","Servicios de instalación, reparación, mantenimiento y conservación (no etiquetado)",{"$nulls":4},{"v":0,"d":"0.00"}]
["82200-310","Servicios de instalación, reparación, mantenimiento y conservación (etiquetado)",{"$nulls":4},{"v":0,"d":"0.00"}]
["82200-311","Servicios de comunicación social y publicidad (no etiquetado)",{"$nulls":4},{"v":0,"d":"0.00"}]
["82200-312","Servicios de comunicación social y publicidad (etiquetado)",{"$nulls":4},{"v":0,"d":"0.00"}]
["82200-313","Servicios de traslado y viáticos (no etiquetado)",{"$nulls":4},{"v":0,"d":"0.00"}]
["82200-314","Servicios de traslado y viáticos (etiquetado)",{"$nulls":4},{"v":0,"d":"0.00"}]
["82200-315","Servicios oficiales (no etiquetado)",{"$nulls":4},{"v":0,"d":"0.00"}]
["82200-316","Servicios oficiales (etiquetado)",{"$nulls":4},{"v":0,"d":"0.00"}]
["82200-317","Otros servicios generales (no etiquetado)",{"$nulls":4},{"v":0,"d":"0.00"}]
["82200-318","Otros servicios generales (etiquetado)",{"$nulls":4},{"v":0,"d":"0.00"}]
["82200-400","Transferencias, asignaciones, subsidios y otras ayudas ",null,null,{"$f":"SUM(E1458:E1475)","v":{"v":0,"d":"0.00"}},{"$f":"SUM(F1458:F1475)","v":{"v":0,"d":"0.00"}},{"$f":"SUM(G1458:G1475)","v":{"v":0,"d":"0.00"}}]
["82200-401","Transferencias internas y asignaciones al sector público (no etiquetado)",{"$nulls":4},{"v":0,"d":"0.00"}]
["82200-402","Transferencias internas y asignaciones al sector público (etiquetado)",{"$nulls":4},{"v":0,"d":"0.00"}]
["82200-403","Transferencias al resto del sector público (no etiquetado)",{"$nulls":4},{"v":0,"d":"0.00"}]
["82200-404","Transferencias al resto del sector público (etiquetado)",{"$nulls":4},{"v":0,"d":"0.00"}]
["82200-405","Subsidios y subvenciones (no etiquetado)",{"$nulls":4},{"v":0,"d":"0.00"}]
["82200-406","Subsidios y subvenciones (etiquetado)",{"$nulls":4},{"v":0,"d":"0.00"}]
["82200-407","Ayudas sociales (no etiquetado)",{"$nulls":4},{"v":0,"d":"0.00"}]
["82200-408","Ayudas sociales  (etiquetado)",{"$nulls":4},{"v":0,"d":"0.00"}]
["82200-409","Pensiones y jubilaciones (no etiquetado)",{"$nulls":4},{"v":0,"d":"0.00"}]
["82200-410","Pensiones y jubilaciones (etiquetado)",{"$nulls":4},{"v":0,"d":"0.00"}]
["82200-411","Transferencias a fideicomisos, mandatos y otros análogos (no etiquetado)",{"$nulls":4},{"v":0,"d":"0.00"}]
["82200-412","Transferencias a fideicomisos, mandatos y otros análogos (etiquetado)",{"$nulls":4},{"v":0,"d":"0.00"}]
["82200-413","Transferencias a la seguridad social (no etiquetado)",{"$nulls":4},{"$f":"ROUND(E1470-F1470,2)","v":{"v":0,"d":"0.00"}}]
["82200-414","Transferencias a la seguridad social (etiquetado)",{"$nulls":4},{"v":0,"d":"0.00"}]
["82200-415","Donativos (no etiquetado)",{"$nulls":4},{"v":0,"d":"0.00"}]
["82200-416","Donativos (etiquetado)",{"$nulls":4},{"v":0,"d":"0.00"}]
["82200-417","Transferencias al exterior (no etiquetado)",{"$nulls":4},{"v":0,"d":"0.00"}]
["82200-418","Transferencias al exterior (etiquetado)",{"$nulls":4},{"v":0,"d":"0.00"}]
["82200-500","Bienes muebles, inmuebles e Intangibles",null,null,{"$f":"SUM(E1477:E1494)","v":{"v":0,"d":"0.00"}},{"$f":"SUM(F1477:F1494)","v":{"v":0,"d":"0.00"}},{"$f":"SUM(G1477:G1494)","v":{"v":0,"d":"0.00"}}]
["82200-501","Mobiliario y equipo de administración (no etiquetado)",{"$nulls":4},{"$f":"ROUND(E1477-F1477,2)","v":{"v":0,"d":"0.00"}}]
["82200-502","Mobiliario y equipo de administración (etiquetado)",{"$nulls":4},{"v":0,"d":"0.00"}]
["82200-503","Mobiliario y equipo educacional y recreativo (no etiquetado)",{"$nulls":4},{"v":0,"d":"0.00"}]
["82200-504","Mobiliario y equipo educacional y recreativo (etiquetado)",{"$nulls":4},{"v":0,"d":"0.00"}]
["82200-505","Equipo instrumental médico y de laboratorio (no etiquetado)",{"$nulls":4},{"v":0,"d":"0.00"}]
["82200-506","Equipo instrumental médico y de laboratorio (etiquetado)",{"$nulls":4},{"v":0,"d":"0.00"}]
["82200-507","Vehículos y equipo de transporte (no etiquetado)",{"$nulls":4},{"v":0,"d":"0.00"}]
["82200-508","Vehículos y equipo de transporte (etiquetado)",{"$nulls":4},{"v":0,"d":"0.00"}]
["82200-509","Equipo de defensa y seguridad (no etiquetado)",{"$nulls":4},{"v":0,"d":"0.00"}]
["82200-510","Equipo de defensa y seguridad (etiquetado)",{"$nulls":4},{"v":0,"d":"0.00"}]
["82200-511","Maquinaria, otros equipos y herramientas (no etiquetado)",{"$nulls":4},{"v":0,"d":"0.00"}]
["82200-512","Maquinaria, otros equipos y herramientas (etiquetado)",{"$nulls":4},{"v":0,"d":"0.00"}]
["82200-513","Activos biológicos (no etiquetado)",{"$nulls":4},{"v":0,"d":"0.00"}]
["82200-514","Activos biológicos (etiquetado)",{"$nulls":4},{"v":0,"d":"0.00"}]
["82200-515","Bienes inmuebles (no etiquetado)",{"$nulls":4},{"v":0,"d":"0.00"}]
["82200-516","Bienes inmuebles (etiquetado)",{"$nulls":4},{"v":0,"d":"0.00"}]
["82200-517","Activos intangibles (no etiquetado)",{"$nulls":4},{"v":0,"d":"0.00"}]
["82200-518","Activos intangibles (etiquetado)",{"$nulls":4},{"v":0,"d":"0.00"}]
["82200-600","Inversión pública",null,null,{"$f":"SUM(E1496:E1501)","v":{"v":0,"d":"0.00"}},{"$f":"SUM(F1496:F1501)","v":{"v":0,"d":"0.00"}},{"$f":"SUM(G1496:G1501)","v":{"v":0,"d":"0.00"}}]
["82200-601","Obra pública en bienes de dominio público (no etiquetado)",{"$nulls":4},{"$f":"ROUND(E1496-F1496,2)","v":{"v":0,"d":"0.00"}}]
["82200-602","Obra pública en bienes de dominio público (etiquetado)",{"$nulls":4},{"v":0,"d":"0.00"}]
["82200-603","Obra pública en bienes de dominio propios (no etiquetado)",{"$nulls":4},{"v":0,"d":"0.00"}]
["82200-604","Obra pública en bienes de dominio propios (etiquetado)",{"$nulls":4},{"v":0,"d":"0.00"}]
["82200-605","Proyectos productivos y acciones de fomento (no etiquetado)",{"$nulls":4},{"v":0,"d":"0.00"}]
["82200-606","Proyectos productivos y acciones de fomento (etiquetado)",{"$nulls":4},{"v":0,"d":"0.00"}]
["82200-700","Inversiones financieras y otras provisiones",null,null,{"$f":"SUM(E1503:E1516)","v":{"v":0,"d":"0.00"}},{"$f":"SUM(F1503:F1516)","v":{"v":0,"d":"0.00"}},{"$f":"SUM(G1503:G1516)","v":{"v":0,"d":"0.00"}}]
["82200-701","Inversiones para el fomento de actividades productivas (no etiquetado)",{"$nulls":4},{"$f":"ROUND(E1503-F1503,2)","v":{"v":0,"d":"0.00"}}]
["82200-702","Inversiones para el fomento de actividades productivas (etiquetado)",{"$nulls":4},{"v":0,"d":"0.00"}]
["82200-703","Acciones y participaciones de capital (no etiquetado)",{"$nulls":4},{"v":0,"d":"0.00"}]
["82200-704","Acciones y participaciones de capital (etiquetado)",{"$nulls":4},{"v":0,"d":"0.00"}]
["82200-705","Compra de títulos y valores (no etiquetado)",{"$nulls":4},{"v":0,"d":"0.00"}]
["82200-706","Compra de títulos y valores (etiquetado)",{"$nulls":4},{"v":0,"d":"0.00"}]
["82200-707","Concesión de préstamos (no etiquetado)",{"$nulls":4},{"v":0,"d":"0.00"}]
["82200-708","Concesión de préstamos (etiquetado)",{"$nulls":4},{"v":0,"d":"0.00"}]
["82200-709","Inversiones en fideicomisos, mandatos y otros análogos (no etiquetado)",{"$nulls":4},{"v":0,"d":"0.00"}]
["82200-710","Inversiones en fideicomisos, mandatos y otros análogos (etiquetado)",{"$nulls":4},{"v":0,"d":"0.00"}]
["82200-711","Otras inversiones financieras (no etiquetado)",{"$nulls":4},{"v":0,"d":"0.00"}]
["82200-712","Otras inversiones financieras (etiquetado)",{"$nulls":4},{"v":0,"d":"0.00"}]
["82200-713","Provisiones para contingencias y otras erogaciones especiales (no etiquetado)",{"$nulls":4},{"v":0,"d":"0.00"}]
["82200-714","Provisiones para contingencias y otras erogaciones especiales (etiquetado)",{"$nulls":4},{"v":0,"d":"0.00"}]
["82200-800","Participaciones y aportaciones",null,null,{"$f":"SUM(E1518:E1523)","v":{"v":0,"d":"0.00"}},{"$f":"SUM(F1518:F1523)","v":{"v":0,"d":"0.00"}},{"$f":"SUM(G1518:G1523)","v":{"v":0,"d":"0.00"}}]
["82200-801","Participaciones (no etiquetado)",{"$nulls":4},{"$f":"ROUND(E1518-F1518,2)","v":{"v":0,"d":"0.00"}}]
["82200-802","Participaciones (etiquetado)",{"$nulls":4},{"v":0,"d":"0.00"}]
["82200-803","Aportaciones (no etiquetado)",{"$nulls":4},{"v":0,"d":"0.00"}]
["82200-804","Aportaciones (etiquetado)",{"$nulls":4},{"v":0,"d":"0.00"}]
["82200-805","Convenios (no etiquetado)",{"$nulls":4},{"v":0,"d":"0.00"}]
["82200-806","Convenios (etiquetado)",{"$nulls":4},{"v":0,"d":"0.00"}]
["82200-900","Deuda pública",null,null,{"$f":"SUM(E1525:E1538)","v":{"v":0,"d":"0.00"}},{"$f":"SUM(F1525:F1538)","v":{"v":0,"d":"0.00"}},{"$f":"SUM(G1525:G1538)","v":{"v":0,"d":"0.00"}}]
["82200-901","Amortización de la deuda pública (no etiquetado)",{"$nulls":4},{"$f":"ROUND(E1525-F1525,2)","v":{"v":0,"d":"0.00"}}]
["82200-902","Amortización de la deuda pública (etiquetado)",{"$nulls":4},{"v":0,"d":"0.00"}]
["82200-903","Intereses de la deuda pública (no etiquetado)",{"$nulls":4},{"v":0,"d":"0.00"}]
["82200-904","Intereses de la deuda pública (etiquetado)",{"$nulls":4},{"v":0,"d":"0.00"}]
["82200-905","Comisiones de la deuda pública (no etiquetado)",{"$nulls":4},{"v":0,"d":"0.00"}]
["82200-906","Comisiones de la deuda pública (etiquetado)",{"$nulls":4},{"v":0,"d":"0.00"}]
["82200-907","Gastos de la deuda pública (no etiquetado)",{"$nulls":4},{"v":0,"d":"0.00"}]
["82200-908","Gastos de la deuda pública (etiquetado)",{"$nulls":4},{"v":0,"d":"0.00"}]
["82200-909","Costo por coberturas (no etiquetado)",{"$nulls":4},{"v":0,"d":"0.00"}]
["82200-910","Costo por coberturas (etiquetado)",{"$nulls":4},{"v":0,"d":"0.00"}]
["82200-911","Apoyos financieros (no etiquetado)",{"$nulls":4},{"v":0,"d":"0.00"}]
["82200-912","Apoyos financieros (etiquetado)",{"$nulls":4},{"v":0,"d":"0.00"}]
["82200-913","Adeudos de ejercicios anteriores (adefas) (no etiquetado)",{"$nulls":4},{"v":0,"d":"0.00"}]
["82200-914","Adeudos de ejercicios anteriores (adefas) (etiquetado)",{"$nulls":4},{"v":0,"d":"0.00"}]
[82300,"MODIFICACIONES AL PRESUPUESTO DE EGRESOS APROBADO",null,null,{"$f":"E1540+E1555+E1574+E1593+E1612+E1631+E1638+E1653+E1660","v":{"v":0,"d":"0.00"}},{"$f":"F1540+F1555+F1574+F1593+F1612+F1631+F1638+F1653+F1660","v":{"v":0,"d":"0.00"}},null,{"$f":"F1539-E1539","v":{"v":0,"d":"0.00"}}]
["82300-100","Servicios personales",null,null,{"$f":"SUM(E1541:E1554)","v":{"v":0,"d":"0.00"}},{"$f":"SUM(F1541:F1554)","v":{"v":0,"d":"0.00"}},null,{"$f":"SUM(H1541:H1554)","v":{"v":0,"d":"0.00"}}]
["82300-101","Remuneraciones al personal de carácter permanente (no etiquetado)",{"$nulls":5},{"$f":"ROUND(F1541-E1541,2)","v":{"v":0,"d":"0.00"}}]
["82300-102","Remuneraciones al personal de carácter permanente (etiquetado)",{"$nulls":5},{"$f":"ROUND(F1542-E1542,2)","v":{"v":0,"d":"0.00"}}]
["82300-103","Remuneraciones al personal de carácter transitorio (no etiquetado)",{"$nulls":5},{"v":0,"d":"0.00"}]
["82300-104","Remuneraciones al personal de carácter transitorio (etiquetado)",{"$nulls":5},{"v":0,"d":"0.00"}]
["82300-105","Remuneraciones adicionales especiales (no etiquetado)",{"$nulls":5},{"v":0,"d":"0.00"}]
["82300-106","Remuneraciones adicionales especiales (etiquetado)",{"$nulls":5},{"v":0,"d":"0.00"}]
["82300-107","Seguridad social (no etiquetado)",{"$nulls":5},{"v":0,"d":"0.00"}]
["82300-108","Seguridad social (etiquetado)",{"$nulls":5},{"v":0,"d":"0.00"}]
["82300-109","Otras prestaciones sociales y económicas (no etiquetado)",{"$nulls":5},{"v":0,"d":"0.00"}]
["82300-110","Otras prestaciones sociales y económicas (etiquetado)",{"$nulls":5},{"v":0,"d":"0.00"}]
["82300-111","Previsiones (no etiquetado)",{"$nulls":5},{"v":0,"d":"0.00"}]
["82300-112","Previsiones (etiquetado)",{"$nulls":5},{"v":0,"d":"0.00"}]
["82300-113","Pago de estímulos a servidores públicos (no etiquetado)",{"$nulls":5},{"v":0,"d":"0.00"}]
["82300-114","Pago de estímulos a servidores públicos (etiquetado)",{"$nulls":5},{"v":0,"d":"0.00"}]
["82300-200","Materiales y suministros",null,null,{"$f":"SUM(E1556:E1573)","v":{"v":0,"d":"0.00"}},{"$f":"SUM(F1556:F1573)","v":{"v":0,"d":"0.00"}},null,{"$f":"SUM(H1556:H1573)","v":{"v":0,"d":"0.00"}}]
["82300-201","Materiales de administración, emisión de documentos y artículos oficiales (no etiquetado)",{"$nulls":5},{"$f":"ROUND(F1556-E1556,2)","v":{"v":0,"d":"0.00"}}]
["82300-202","Materiales de administración, emisión de documentos y artículos oficiales (etiquetado)",{"$nulls":5},{"v":0,"d":"0.00"}]
["82300-203","Alimentos y utensilios (no etiquetado)",{"$nulls":5},{"v":0,"d":"0.00"}]
["82300-204","Alimentos y utensilios (etiquetado)",{"$nulls":5},{"v":0,"d":"0.00"}]
["82300-205","Materias primas y materiales de producción y comercialización (no etiquetado)",{"$nulls":5},{"v":0,"d":"0.00"}]
["82300-206","Materias primas y materiales de producción y comercialización (etiquetado)",{"$nulls":5},{"v":0,"d":"0.00"}]
["82300-207","Materiales y artículos de construcción y de reparación (no etiquetado)",{"$nulls":5},{"v":0,"d":"0.00"}]
["82300-208","Materiales y artículos de construcción y de reparación (etiquetado)",{"$nulls":5},{"v":0,"d":"0.00"}]
["82300-209","Productos químicos, farmacéuticos y de laboratorio (no etiquetado)",{"$nulls":5},{"v":0,"d":"0.00"}]
["82300-210","Productos químicos, farmacéuticos y de laboratorio (etiquetado)",{"$nulls":5},{"v":0,"d":"0.00"}]
["82300-211","Combustibles, lubricantes y aditivos (no etiquetado)",{"$nulls":5},{"v":0,"d":"0.00"}]
["82300-212","Combustibles, lubricantes y aditivos (etiquetado)",{"$nulls":5},{"v":0,"d":"0.00"}]
["82300-213","Vestuario, blancos, prendas de protección y artículos deportivos (no etiquetado)",{"$nulls":5},{"v":0,"d":"0.00"}]
["82300-214","Vestuario, blancos, prendas de protección y artículos deportivos (etiquetado)",{"$nulls":5},{"v":0,"d":"0.00"}]
["82300-215","Materiales y suministros de seguridad (no etiquetado)",{"$nulls":5},{"v":0,"d":"0.00"}]
["82300-216","Materiales y suministros de seguridad (etiquetado)",{"$nulls":5},{"v":0,"d":"0.00"}]
["82300-217","Herramientas, refacciones y accesorios menores (no etiquetado)",{"$nulls":5},{"v":0,"d":"0.00"}]
["82300-218","Herramientas, refacciones y accesorios menores (etiquetado)",{"$nulls":5},{"v":0,"d":"0.00"}]
["82300-300","Servicios generales",null,null,{"$f":"SUM(E1575:E1592)","v":{"v":0,"d":"0.00"}},{"$f":"SUM(F1575:F1592)","v":{"v":0,"d":"0.00"}},null,{"$f":"SUM(H1575:H1592)","v":{"v":0,"d":"0.00"}}]
["82300-301","Servicios básicos (no etiquetado)",{"$nulls":5},{"$f":"ROUND(F1575-E1575,2)","v":{"v":0,"d":"0.00"}}]
["82300-302","Servicios básicos (etiquetado)",{"$nulls":5},{"v":0,"d":"0.00"}]
["82300-303","Servicios de arrendamiento (no etiquetado)",{"$nulls":5},{"v":0,"d":"0.00"}]
["82300-304","Servicios de arrendamiento (etiquetado)",{"$nulls":5},{"v":0,"d":"0.00"}]
["82300-305","Servicios profesionales, científicos, técnicos y otros servicios (no etiquetado)",{"$nulls":5},{"v":0,"d":"0.00"}]
["82300-306","Servicios profesionales, científicos, técnicos y otros servicios (etiquetado)",{"$nulls":5},{"v":0,"d":"0.00"}]
["82300-307","Servicios financieros, bancarios y comerciales (no etiquetado)",{"$nulls":5},{"v":0,"d":"0.00"}]
["82300-308","Servicios financieros, bancarios y comerciales (etiquetado)",{"$nulls":5},{"v":0,"d":"0.00"}]
["82300-309","Servicios de instalación, reparación, mantenimiento y conservación (no etiquetado)",{"$nulls":5},{"v":0,"d":"0.00"}]
["82300-310","Servicios de instalación, reparación, mantenimiento y conservación (etiquetado)",{"$nulls":5},{"v":0,"d":"0.00"}]
["82300-311","Servicios de comunicación social y publicidad (no etiquetado)",{"$nulls":5},{"v":0,"d":"0.00"}]
["82300-312","Servicios de comunicación social y publicidad (etiquetado)",{"$nulls":5},{"v":0,"d":"0.00"}]
["82300-313","Servicios de traslado y viáticos (no etiquetado)",{"$nulls":5},{"v":0,"d":"0.00"}]
["82300-314","Servicios de traslado y viáticos (etiquetado)",{"$nulls":5},{"v":0,"d":"0.00"}]
["82300-315","Servicios oficiales (no etiquetado)",{"$nulls":5},{"v":0,"d":"0.00"}]
["82300-316","Servicios oficiales (etiquetado)",{"$nulls":5},{"v":0,"d":"0.00"}]
["82300-317","Otros servicios generales (no etiquetado)",{"$nulls":5},{"v":0,"d":"0.00"}]
["82300-318","Otros servicios generales (etiquetado)",{"$nulls":5},{"v":0,"d":"0.00"}]
["82300-400","Transferencias, asignaciones, subsidios y otras ayudas ",null,null,{"$f":"SUM(E1594:E1611)","v":{"v":0,"d":"0.00"}},{"$f":"SUM(F1594:F1611)","v":{"v":0,"d":"0.00"}},null,{"$f":"SUM(H1594:H1611)","v":{"v":0,"d":"0.00"}}]
["82300-401","Transferencias internas y asignaciones al sector público (no etiquetado)",{"$nulls":5},{"$f":"ROUND(F1594-E1594,2)","v":{"v":0,"d":"0.00"}}]
["82300-402","Transferencias internas y asignaciones al sector público (etiquetado)",{"$nulls":5},{"v":0,"d":"0.00"}]
["82300-403","Transferencias al resto del sector público (no etiquetado)",{"$nulls":5},{"v":0,"d":"0.00"}]
["82300-404","Transferencias al resto del sector público (etiquetado)",{"$nulls":5},{"v":0,"d":"0.00"}]
["82300-405","Subsidios y subvenciones (no etiquetado)",{"$nulls":5},{"v":0,"d":"0.00"}]
["82300-406","Subsidios y subvenciones (etiquetado)",{"$nulls":5},{"v":0,"d":"0.00"}]
["82300-407","Ayudas sociales (no etiquetado)",{"$nulls":5},{"v":0,"d":"0.00"}]
["82300-408","Ayudas sociales  (etiquetado)",{"$nulls":5},{"v":0,"d":"0.00"}]
["82300-409","Pensiones y jubilaciones (no etiquetado)",{"$nulls":5},{"v":0,"d":"0.00"}]
["82300-410","Pensiones y jubilaciones (etiquetado)",{"$nulls":5},{"v":0,"d":"0.00"}]
["82300-411","Transferencias a fideicomisos, mandatos y otros análogos (no etiquetado)",{"$nulls":5},{"v":0,"d":"0.00"}]
["82300-412","Transferencias a fideicomisos, mandatos y otros análogos (etiquetado)",{"$nulls":5},{"v":0,"d":"0.00"}]
["82300-413","Transferencias a la seguridad social (no etiquetado)",{"$nulls":5},{"v":0,"d":"0.00"}]
["82300-414","Transferencias a la seguridad social (etiquetado)",{"$nulls":5},{"v":0,"d":"0.00"}]
["82300-415","Donativos (no etiquetado)",{"$nulls":5},{"v":0,"d":"0.00"}]
["82300-416","Donativos (etiquetado)",{"$nulls":5},{"v":0,"d":"0.00"}]
["82300-417","Transferencias al exterior (no etiquetado)",{"$nulls":5},{"v":0,"d":"0.00"}]
["82300-418","Transferencias al exterior (etiquetado)",{"$nulls":5},{"v":0,"d":"0.00"}]
["82300-500","Bienes muebles, inmuebles e intangibles",null,null,{"$f":"SUM(E1613:E1630)","v":{"v":0,"d":"0.00"}},{"$f":"SUM(F1613:F1630)","v":{"v":0,"d":"0.00"}},null,{"$f":"SUM(H1613:H1630)","v":{"v":0,"d":"0.00"}}]
["82300-501","Mobiliario y equipo de administración (no etiquetado)",{"$nulls":5},{"$f":"ROUND(F1613-E1613,2)","v":{"v":0,"d":"0.00"}}]
["82300-502","Mobiliario y equipo de administración (etiquetado)",{"$nulls":5},{"v":0,"d":"0.00"}]
["82300-503","Mobiliario y equipo educacional y recreativo (no etiquetado)",{"$nulls":5},{"v":0,"d":"0.00"}]
["82300-504","Mobiliario y equipo educacional y recreativo (etiquetado)",{"$nulls":5},{"v":0,"d":"0.00"}]
["82300-505","Equipo instrumental médico y de laboratorio (no etiquetado)",{"$nulls":5},{"v":0,"d":"0.00"}]
["82300-506","Equipo instrumental médico y de laboratorio (etiquetado)",{"$nulls":5},{"v":0,"d":"0.00"}]
["82300-507","Vehículos y equipo de transporte (no etiquetado)",{"$nulls":5},{"v":0,"d":"0.00"}]
["82300-508","Vehículos y equipo de transporte (etiquetado)",{"$nulls":5},{"v":0,"d":"0.00"}]
["82300-509","Equipo de defensa y seguridad (no etiquetado)",{"$nulls":5},{"v":0,"d":"0.00"}]
["82300-510","Equipo de defensa y seguridad (etiquetado)",{"$nulls":5},{"v":0,"d":"0.00"}]
["82300-511","Maquinaria, otros equipos y herramientas (no etiquetado)",{"$nulls":5},{"v":0,"d":"0.00"}]
["82300-512","Maquinaria, otros equipos y herramientas (etiquetado)",{"$nulls":5},{"v":0,"d":"0.00"}]
["82300-513","Activos biológicos (no etiquetado)",{"$nulls":5},{"v":0,"d":"0.00"}]
["82300-514","Activos biológicos (etiquetado)",{"$nulls":5},{"v":0,"d":"0.00"}]
["82300-515","Bienes inmuebles (no etiquetado)",{"$nulls":5},{"v":0,"d":"0.00"}]
["82300-516","Bienes inmuebles (etiquetado)",{"$nulls":5},{"v":0,"d":"0.00"}]
["82300-517","Activos intangibles (no etiquetado)",{"$nulls":5},{"v":0,"d":"0.00"}]
["82300-518","Activos intangibles (etiquetado)",{"$nulls":5},{"v":0,"d":"0.00"}]
["82300-600","Inversión pública",null,null,{"$f":"SUM(E1632:E1637)","v":{"v":0,"d":"0.00"}},{"$f":"SUM(F1632:F1637)","v":{"v":0,"d":"0.00"}},null,{"$f":"SUM(H1632:H1637)","v":{"v":0,"d":"0.00"}}]
["82300-601","Obra pública en bienes de dominio público (no etiquetado)",{"$nulls":5},{"$f":"ROUND(F1632-E1632,2)","v":{"v":0,"d":"0.00"}}]
["82300-602","Obra pública en bienes de dominio público (etiquetado)",{"$nulls":5},{"v":0,"d":"0.00"}]
["82300-603","Obra pública en bienes de dominio propios (no etiquetado)",{"$nulls":5},{"v":0,"d":"0.00"}]
["82300-604","Obra pública en bienes de dominio propios (etiquetado)",{"$nulls":5},{"v":0,"d":"0.00"}]
["82300-605","Proyectos productivos y acciones de fomento (no etiquetado)",{"$nulls":5},{"v":0,"d":"0.00"}]
["82300-606","Proyectos productivos y acciones de fomento (etiquetado)",{"$nulls":5},{"v":0,"d":"0.00"}]
["82300-700","Inversiones financieras y otras provisiones",null,null,{"$f":"SUM(E1639:E1652)","v":{"v":0,"d":"0.00"}},{"$f":"SUM(F1639:F1652)","v":{"v":0,"d":"0.00"}},null,{"$f":"SUM(H1639:H1652)","v":{"v":0,"d":"0.00"}}]
["82300-701","Inversiones para el fomento de actividades productivas (no etiquetado)",{"$nulls":5},{"$f":"ROUND(F1639-E1639,2)","v":{"v":0,"d":"0.00"}}]
["82300-702","Inversiones para el fomento de actividades productivas (etiquetado)",{"$nulls":5},{"v":0,"d":"0.00"}]
["82300-703","Acciones y participaciones de capital (no etiquetado)",{"$nulls":5},{"v":0,"d":"0.00"}]
["82300-704","Acciones y participaciones de capital (etiquetado)",{"$nulls":5},{"v":0,"d":"0.00"}]
["82300-705","Compra de títulos y valores (no etiquetado)",{"$nulls":5},{"v":0,"d":"0.00"}]
["82300-706","Compra de títulos y valores (etiquetado)",{"$nulls":5},{"v":0,"d":"0.00"}]
["82300-707","Concesión de préstamos (no etiquetado)",{"$nulls":5},{"v":0,"d":"0.00"}]
["82300-708","Concesión de préstamos (etiquetado)",{"$nulls":5},{"v":0,"d":"0.00"}]
["82300-709","Inversiones en fideicomisos, mandatos y otros análogos (no etiquetado)",{"$nulls":5},{"v":0,"d":"0.00"}]
["82300-710","Inversiones en fideicomisos, mandatos y otros análogos (etiquetado)",{"$nulls":5},{"v":0,"d":"0.00"}]
["82300-711","Otras inversiones financieras (no etiquetado)",{"$nulls":5},{"v":0,"d":"0.00"}]
["82300-712","Otras inversiones financieras (etiquetado)",{"$nulls":5},{"v":0,"d":"0.00"}]
["82300-713","Provisiones para contingencias y otras erogaciones especiales (no etiquetado)",{"$nulls":5},{"v":0,"d":"0.00"}]
["82300-714","Provisiones para contingencias y otras erogaciones especiales (etiquetado)",{"$nulls":5},{"v":0,"d":"0.00"}]
["82300-800","Participaciones y aportaciones",null,null,{"$f":"SUM(E1654:E1659)","v":{"v":0,"d":"0.00"}},{"$f":"SUM(F1654:F1659)","v":{"v":0,"d":"0.00"}},null,{"$f":"SUM(H1654:H1659)","v":{"v":0,"d":"0.00"}}]
["82300-801","Participaciones (no etiquetado)",{"$nulls":5},{"$f":"ROUND(F1654-E1654,2)","v":{"v":0,"d":"0.00"}}]
["82300-802","Participaciones (etiquetado)",{"$nulls":5},{"v":0,"d":"0.00"}]
["82300-803","Aportaciones (no etiquetado)",{"$nulls":5},{"v":0,"d":"0.00"}]
["82300-804","Aportaciones (etiquetado)",{"$nulls":5},{"v":0,"d":"0.00"}]
["82300-805","Convenios (no etiquetado)",{"$nulls":5},{"v":0,"d":"0.00"}]
["82300-806","Convenios (etiquetado)",{"$nulls":5},{"v":0,"d":"0.00"}]
["82300-900","Deuda pública",null,null,{"$f":"SUM(E1661:E1674)","v":{"v":0,"d":"0.00"}},{"$f":"SUM(F1661:F1674)","v":{"v":0,"d":"0.00"}},null,{"$f":"SUM(H1661:H1674)","v":{"v":0,"d":"0.00"}}]
["82300-901","Amortización de la deuda pública (no etiquetado)",{"$nulls":5},{"$f":"ROUND(F1661-E1661,2)","v":{"v":0,"d":"0.00"}}]
["82300-902","Amortización de la deuda pública (etiquetado)",{"$nulls":5},{"v":0,"d":"0.00"}]
["82300-903","Intereses de la deuda pública (no etiquetado)",{"$nulls":5},{"v":0,"d":"0.00"}]
["82300-904","Intereses de la deuda pública (etiquetado)",{"$nulls":5},{"v":0,"d":"0.00"}]
["82300-905","Comisiones de la deuda pública (no etiquetado)",{"$nulls":5},{"v":0,"d":"0.00"}]
["82300-906","Comisiones de la deuda pública (etiquetado)",{"$nulls":5},{"v":0,"d":"0.00"}]
["82300-907","Gastos de la deuda pública (no etiquetado)",{"$nulls":5},{"v":0,"d":"0.00"}]
["82300-908","Gastos de la deuda pública (etiquetado)",{"$nulls":5},{"v":0,"d":"0.00"}]
["82300-909","Costo por coberturas (no etiquetado)",{"$nulls":5},{"v":0,"d":"0.00"}]
["82300-910","Costo por coberturas (etiquetado)",{"$nulls":5},{"v":0,"d":"0.00"}]
["82300-911","Apoyos financieros (no etiquetado)",{"$nulls":5},{"v":0,"d":"0.00"}]
["82300-912","Apoyos financieros (etiquetado)",{"$nulls":5},{"v":0,"d":"0.00"}]
["82300-913","Adeudos de ejercicios anteriores (adefas) (no etiquetado)",{"$nulls":5},{"v":0,"d":"0.00"}]
["82300-914","Adeudos de ejercicios anteriores (adefas) (etiquetado)",{"$nulls":5},{"v":0,"d":"0.00"}]
[82400,"PRESUPUESTO DE EGRESOS COMPROMETIDO",null,null,{"$f":"E1676+E1691+E1710+E1729+E1748+E1767+E1774+E1789+E1796","v":{"v":0,"d":"0.00"}},{"$f":"F1676+F1691+F1710+F1729+F1748+F1767+F1774+F1789+F1796","v":{"v":0,"d":"0.00"}},{"$f":"E1675-F1675","v":{"v":0,"d":"0.00"}}]
["82400-100","Servicios personales",null,null,{"$f":"SUM(E1677:E1690)","v":{"v":0,"d":"0.00"}},{"$f":"SUM(F1677:F1690)","v":{"v":0,"d":"0.00"}},{"$f":"SUM(G1677:G1690)","v":{"v":0,"d":"0.00"}}]
["82400-101","Remuneraciones al personal de carácter permanente (no etiquetado)",{"$nulls":4},{"$f":"ROUND(E1677-F1677,2)","v":{"v":0,"d":"0.00"}}]
["82400-102","Remuneraciones al personal de carácter permanente (etiquetado)",{"$nulls":4},{"$f":"ROUND(E1678-F1678,2)","v":{"v":0,"d":"0.00"}}]
["82400-103","Remuneraciones al personal de carácter transitorio (no etiquetado)",{"$nulls":4},{"v":0,"d":"0.00"}]
["82400-104","Remuneraciones al personal de carácter transitorio (etiquetado)",{"$nulls":4},{"v":0,"d":"0.00"}]
["82400-105","Remuneraciones adicionales especiales (no etiquetado)",{"$nulls":4},{"v":0,"d":"0.00"}]
["82400-106","Remuneraciones adicionales especiales (etiquetado)",{"$nulls":4},{"v":0,"d":"0.00"}]
["82400-107","Seguridad social (no etiquetado)",{"$nulls":4},{"v":0,"d":"0.00"}]
["82400-108","Seguridad social (etiquetado)",{"$nulls":4},{"v":0,"d":"0.00"}]
["82400-109","Otras prestaciones sociales y económicas (no etiquetado)",{"$nulls":4},{"v":0,"d":"0.00"}]
["82400-110","Otras prestaciones sociales y económicas (etiquetado)",{"$nulls":4},{"v":0,"d":"0.00"}]
["82400-111","Previsiones (no etiquetado)",{"$nulls":4},{"v":0,"d":"0.00"}]
["82400-112","Previsiones (etiquetado)",{"$nulls":4},{"v":0,"d":"0.00"}]
["82400-113","Pago de estímulos a servidores públicos (no etiquetado)",{"$nulls":4},{"v":0,"d":"0.00"}]
["82400-114","Pago de estímulos a servidores públicos (etiquetado)",{"$nulls":4},{"v":0,"d":"0.00"}]
["82400-200","Materiales y suministros",null,null,{"$f":"SUM(E1692:E1709)","v":{"v":0,"d":"0.00"}},{"$f":"SUM(F1692:F1709)","v":{"v":0,"d":"0.00"}},{"$f":"SUM(G1692:G1709)","v":{"v":0,"d":"0.00"}}]
["82400-201","Materiales de administración, emisión de documentos y artículos oficiales (no etiquetado)",{"$nulls":4},{"$f":"ROUND(E1692-F1692,2)","v":{"v":0,"d":"0.00"}}]
["82400-202","Materiales de administración, emisión de documentos y artículos oficiales (etiquetado)",{"$nulls":4},{"v":0,"d":"0.00"}]
["82400-203","Alimentos y utensilios (no etiquetado)",{"$nulls":4},{"v":0,"d":"0.00"}]
["82400-204","Alimentos y utensilios (etiquetado)",{"$nulls":4},{"v":0,"d":"0.00"}]
["82400-205","Materias primas y materiales de producción y comercialización (no etiquetado)",{"$nulls":4},{"v":0,"d":"0.00"}]
["82400-206","Materias primas y materiales de producción y comercialización (etiquetado)",{"$nulls":4},{"v":0,"d":"0.00"}]
["82400-207","Materiales y artículos de construcción y de reparación (no etiquetado)",{"$nulls":4},{"v":0,"d":"0.00"}]
["82400-208","Materiales y artículos de construcción y de reparación (etiquetado)",{"$nulls":4},{"v":0,"d":"0.00"}]
["82400-209","Productos químicos, farmacéuticos y de laboratorio (no etiquetado)",{"$nulls":4},{"v":0,"d":"0.00"}]
["82400-210","Productos químicos, farmacéuticos y de laboratorio (etiquetado)",{"$nulls":4},{"v":0,"d":"0.00"}]
["82400-211","Combustibles, lubricantes y aditivos (no etiquetado)",{"$nulls":4},{"v":0,"d":"0.00"}]
["82400-212","Combustibles, lubricantes y aditivos (etiquetado)",{"$nulls":4},{"v":0,"d":"0.00"}]
["82400-213","Vestuario, blancos, prendas de protección y artículos deportivos (no etiquetado)",{"$nulls":4},{"v":0,"d":"0.00"}]
["82400-214","Vestuario, blancos, prendas de protección y artículos deportivos (etiquetado)",{"$nulls":4},{"v":0,"d":"0.00"}]
["82400-215","Materiales y suministros de seguridad (no etiquetado)",{"$nulls":4},{"v":0,"d":"0.00"}]
["82400-216","Materiales y suministros de seguridad (etiquetado)",{"$nulls":4},{"v":0,"d":"0.00"}]
["82400-217","Herramientas, refacciones y accesorios menores (no etiquetado)",{"$nulls":4},{"v":0,"d":"0.00"}]
["82400-218","Herramientas, refacciones y accesorios menores (etiquetado)",{"$nulls":4},{"v":0,"d":"0.00"}]
["82400-300","Servicios generales",null,null,{"$f":"SUM(E1711:E1728)","v":{"v":0,"d":"0.00"}},{"$f":"SUM(F1711:F1728)","v":{"v":0,"d":"0.00"}},{"$f":"SUM(G1711:G1728)","v":{"v":0,"d":"0.00"}}]
["82400-301","Servicios básicos (no etiquetado)",{"$nulls":4},{"$f":"ROUND(E1711-F1711,2)","v":{"v":0,"d":"0.00"}}]
["82400-302","Servicios básicos (etiquetado)",{"$nulls":4},{"v":0,"d":"0.00"}]
["82400-303","Servicios de arrendamiento (no etiquetado)",{"$nulls":4},{"v":0,"d":"0.00"}]
["82400-304","Servicios de arrendamiento (etiquetado)",{"$nulls":4},{"v":0,"d":"0.00"}]
["82400-305","Servicios profesionales, científicos, técnicos y otros servicios (no etiquetado)",{"$nulls":4},{"v":0,"d":"0.00"}]
["82400-306","Servicios profesionales, científicos, técnicos y otros servicios (etiquetado)",{"$nulls":4},{"v":0,"d":"0.00"}]
["82400-307","Servicios financieros, bancarios y comerciales (no etiquetado)",{"$nulls":4},{"v":0,"d":"0.00"}]
["82400-308","Servicios financieros, bancarios y comerciales (etiquetado)",{"$nulls":4},{"v":0,"d":"0.00"}]
["82400-309","Servicios de instalación, reparación, mantenimiento y conservación (no etiquetado)",{"$nulls":4},{"v":0,"d":"0.00"}]
["82400-310","Servicios de instalación, reparación, mantenimiento y conservación (etiquetado)",{"$nulls":4},{"v":0,"d":"0.00"}]
["82400-311","Servicios de comunicación social y publicidad (no etiquetado)",{"$nulls":4},{"v":0,"d":"0.00"}]
["82400-312","Servicios de comunicación social y publicidad (etiquetado)",{"$nulls":4},{"v":0,"d":"0.00"}]
["82400-313","Servicios de traslado y viáticos (no etiquetado)",{"$nulls":4},{"v":0,"d":"0.00"}]
["82400-314","Servicios de traslado y viáticos (etiquetado)",{"$nulls":4},{"v":0,"d":"0.00"}]
["82400-315","Servicios oficiales (no etiquetado)",{"$nulls":4},{"v":0,"d":"0.00"}]
["82400-316","Servicios oficiales (etiquetado)",{"$nulls":4},{"v":0,"d":"0.00"}]
["82400-317","Otros servicios generales (no etiquetado)",{"$nulls":4},{"v":0,"d":"0.00"}]
["82400-318","Otros servicios generales (etiquetado)",{"$nulls":4},{"v":0,"d":"0.00"}]
["82400-400","Transferencias, asignaciones, subsidios y otras ayudas ",null,null,{"$f":"SUM(E1730:E1747)","v":{"v":0,"d":"0.00"}},{"$f":"SUM(F1730:F1747)","v":{"v":0,"d":"0.00"}},{"$f":"SUM(G1730:G1747)","v":{"v":0,"d":"0.00"}}]
["82400-401","Transferencias internas y asignaciones al sector público (no etiquetado)",{"$nulls":4},{"$f":"ROUND(E1730-F1730,2)","v":{"v":0,"d":"0.00"}}]
["82400-402","Transferencias internas y asignaciones al sector público (etiquetado)",{"$nulls":4},{"v":0,"d":"0.00"}]
["82400-403","Transferencias al resto del sector público (no etiquetado)",{"$nulls":4},{"v":0,"d":"0.00"}]
["82400-404","Transferencias al resto del sector público (etiquetado)",{"$nulls":4},{"v":0,"d":"0.00"}]
["82400-405","Subsidios y subvenciones (no etiquetado)",{"$nulls":4},{"v":0,"d":"0.00"}]
["82400-406","Subsidios y subvenciones (etiquetado)",{"$nulls":4},{"v":0,"d":"0.00"}]
["82400-407","Ayudas sociales (no etiquetado)",{"$nulls":4},{"v":0,"d":"0.00"}]
["82400-408","Ayudas sociales  (etiquetado)",{"$nulls":4},{"v":0,"d":"0.00"}]
["82400-409","Pensiones y jubilaciones (no etiquetado)",{"$nulls":4},{"v":0,"d":"0.00"}]
["82400-410","Pensiones y jubilaciones (etiquetado)",{"$nulls":4},{"v":0,"d":"0.00"}]
["82400-411","Transferencias a fideicomisos, mandatos y otros análogos (no etiquetado)",{"$nulls":4},{"v":0,"d":"0.00"}]
["82400-412","Transferencias a fideicomisos, mandatos y otros análogos (etiquetado)",{"$nulls":4},{"v":0,"d":"0.00"}]
["82400-413","Transferencias a la seguridad social (no etiquetado)",{"$nulls":4},{"v":0,"d":"0.00"}]
["82400-414","Transferencias a la seguridad social (etiquetado)",{"$nulls":4},{"v":0,"d":"0.00"}]
["82400-415","Donativos (no etiquetado)",{"$nulls":4},{"v":0,"d":"0.00"}]
["82400-416","Donativos (etiquetado)",{"$nulls":4},{"v":0,"d":"0.00"}]
["82400-417","Transferencias al exterior (no etiquetado)",{"$nulls":4},{"v":0,"d":"0.00"}]
["82400-418","Transferencias al exterior (etiquetado)",{"$nulls":4},{"v":0,"d":"0.00"}]
["82400-500","Bienes muebles, inmuebles e intangibles",null,null,{"$f":"SUM(E1749:E1766)","v":{"v":0,"d":"0.00"}},{"$f":"SUM(F1749:F1766)","v":{"v":0,"d":"0.00"}},{"$f":"SUM(G1749:G1766)","v":{"v":0,"d":"0.00"}}]
["82400-501","Mobiliario y equipo de administración (no etiquetado)",{"$nulls":4},{"$f":"ROUND(E1749-F1749,2)","v":{"v":0,"d":"0.00"}}]
["82400-502","Mobiliario y equipo de administración (etiquetado)",{"$nulls":4},{"v":0,"d":"0.00"}]
["82400-503","Mobiliario y equipo educacional y recreativo (no etiquetado)",{"$nulls":4},{"v":0,"d":"0.00"}]
["82400-504","Mobiliario y equipo educacional y recreativo (etiquetado)",{"$nulls":4},{"v":0,"d":"0.00"}]
["82400-505","Equipo instrumental médico y de laboratorio (no etiquetado)",{"$nulls":4},{"v":0,"d":"0.00"}]
["82400-506","Equipo instrumental médico y de laboratorio (etiquetado)",{"$nulls":4},{"v":0,"d":"0.00"}]
["82400-507","Vehículos y equipo de transporte (no etiquetado)",{"$nulls":4},{"v":0,"d":"0.00"}]
["82400-508","Vehículos y equipo de transporte (etiquetado)",{"$nulls":4},{"v":0,"d":"0.00"}]
["82400-509","Equipo de defensa y seguridad (no etiquetado)",{"$nulls":4},{"v":0,"d":"0.00"}]
["82400-510","Equipo de defensa y seguridad (etiquetado)",{"$nulls":4},{"v":0,"d":"0.00"}]
["82400-511","Maquinaria, otros equipos y herramientas (no etiquetado)",{"$nulls":4},{"v":0,"d":"0.00"}]
["82400-512","Maquinaria, otros equipos y herramientas (etiquetado)",{"$nulls":4},{"v":0,"d":"0.00"}]
["82400-513","Activos biológicos (no etiquetado)",{"$nulls":4},{"v":0,"d":"0.00"}]
["82400-514","Activos biológicos (etiquetado)",{"$nulls":4},{"v":0,"d":"0.00"}]
["82400-515","Bienes inmuebles (no etiquetado)",{"$nulls":4},{"v":0,"d":"0.00"}]
["82400-516","Bienes inmuebles (etiquetado)",{"$nulls":4},{"v":0,"d":"0.00"}]
["82400-517","Activos intangibles (no etiquetado)",{"$nulls":4},{"v":0,"d":"0.00"}]
["82400-518","Activos intangibles (etiquetado)",{"$nulls":4},{"v":0,"d":"0.00"}]
["82400-600","Inversión pública",null,null,{"$f":"SUM(E1768:E1773)","v":{"v":0,"d":"0.00"}},{"$f":"SUM(F1768:F1773)","v":{"v":0,"d":"0.00"}},{"$f":"SUM(G1768:G1773)","v":{"v":0,"d":"0.00"}}]
["82400-601","Obra pública en bienes de dominio público (no etiquetado)",{"$nulls":4},{"$f":"ROUND(E1768-F1768,2)","v":{"v":0,"d":"0.00"}}]
["82400-602","Obra pública en bienes de dominio público (etiquetado)",{"$nulls":4},{"v":0,"d":"0.00"}]
["82400-603","Obra pública en bienes de dominio propios (no etiquetado)",{"$nulls":4},{"v":0,"d":"0.00"}]
["82400-604","Obra pública en bienes de dominio propios (etiquetado)",{"$nulls":4},{"v":0,"d":"0.00"}]
["82400-605","Proyectos productivos y acciones de fomento (no etiquetado)",{"$nulls":4},{"v":0,"d":"0.00"}]
["82400-606","Proyectos productivos y acciones de fomento (etiquetado)",{"$nulls":4},{"v":0,"d":"0.00"}]
["82400-700","Inversiones financieras y otras provisiones",null,null,{"$f":"SUM(E1775:E1788)","v":{"v":0,"d":"0.00"}},{"$f":"SUM(F1775:F1788)","v":{"v":0,"d":"0.00"}},{"$f":"SUM(G1775:G1788)","v":{"v":0,"d":"0.00"}}]
["82400-701","Inversiones para el fomento de actividades productivas (no etiquetado)",{"$nulls":4},{"$f":"ROUND(E1775-F1775,2)","v":{"v":0,"d":"0.00"}}]
["82400-702","Inversiones para el fomento de actividades productivas (etiquetado)",{"$nulls":4},{"v":0,"d":"0.00"}]
["82400-703","Acciones y participaciones de capital (no etiquetado)",{"$nulls":4},{"v":0,"d":"0.00"}]
["82400-704","Acciones y participaciones de capital (etiquetado)",{"$nulls":4},{"v":0,"d":"0.00"}]
["82400-705","Compra de títulos y valores (no etiquetado)",{"$nulls":4},{"v":0,"d":"0.00"}]
["82400-706","Compra de títulos y valores (etiquetado)",{"$nulls":4},{"v":0,"d":"0.00"}]
["82400-707","Concesión de préstamos (no etiquetado)",{"$nulls":4},{"v":0,"d":"0.00"}]
["82400-708","Concesión de préstamos (etiquetado)",{"$nulls":4},{"v":0,"d":"0.00"}]
["82400-709","Inversiones en fideicomisos, mandatos y otros análogos (no etiquetado)",{"$nulls":4},{"v":0,"d":"0.00"}]
["82400-710","Inversiones en fideicomisos, mandatos y otros análogos (etiquetado)",{"$nulls":4},{"v":0,"d":"0.00"}]
["82400-711","Otras inversiones financieras (no etiquetado)",{"$nulls":4},{"v":0,"d":"0.00"}]
["82400-712","Otras inversiones financieras (etiquetado)",{"$nulls":4},{"v":0,"d":"0.00"}]
["82400-713","Provisiones para contingencias y otras erogaciones especiales (no etiquetado)",{"$nulls":4},{"v":0,"d":"0.00"}]
["82400-714","Provisiones para contingencias y otras erogaciones especiales (etiquetado)",{"$nulls":4},{"v":0,"d":"0.00"}]
["82400-800","Participaciones y portaciones",null,null,{"$f":"SUM(E1790:E1795)","v":{"v":0,"d":"0.00"}},{"$f":"SUM(F1790:F1795)","v":{"v":0,"d":"0.00"}},{"$f":"SUM(G1790:G1795)","v":{"v":0,"d":"0.00"}}]
["82400-801","Participaciones (no etiquetado)",{"$nulls":4},{"$f":"ROUND(E1790-F1790,2)","v":{"v":0,"d":"0.00"}}]
["82400-802","Participaciones (etiquetado)",{"$nulls":4},{"v":0,"d":"0.00"}]
["82400-803","Aportaciones (no etiquetado)",{"$nulls":4},{"v":0,"d":"0.00"}]
["82400-804","Aportaciones (etiquetado)",{"$nulls":4},{"v":0,"d":"0.00"}]
["82400-805","Convenios (no etiquetado)",{"$nulls":4},{"v":0,"d":"0.00"}]
["82400-806","Convenios (etiquetado)",{"$nulls":4},{"v":0,"d":"0.00"}]
["82400-900","Deuda pública",null,null,{"$f":"SUM(E1797:E1810)","v":{"v":0,"d":"0.00"}},{"$f":"SUM(F1797:F1810)","v":{"v":0,"d":"0.00"}},{"$f":"SUM(G1797:G1810)","v":{"v":0,"d":"0.00"}}]
["82400-901","Amortización de la deuda pública (no etiquetado)",{"$nulls":4},{"$f":"ROUND(E1797-F1797,2)","v":{"v":0,"d":"0.00"}}]
["82400-902","Amortización de la deuda pública (etiquetado)",{"$nulls":4},{"v":0,"d":"0.00"}]
["82400-903","Intereses de la deuda pública (no etiquetado)",{"$nulls":4},{"v":0,"d":"0.00"}]
["82400-904","Intereses de la deuda pública (etiquetado)",{"$nulls":4},{"v":0,"d":"0.00"}]
["82400-905","Comisiones de la deuda pública (no etiquetado)",{"$nulls":4},{"v":0,"d":"0.00"}]
["82400-906","Comisiones de la deuda pública (etiquetado)",{"$nulls":4},{"v":0,"d":"0.00"}]
["82400-907","Gastos de la deuda pública (no etiquetado)",{"$nulls":4},{"v":0,"d":"0.00"}]
["82400-908","Gastos de la deuda pública (etiquetado)",{"$nulls":4},{"v":0,"d":"0.00"}]
["82400-909","Costo por coberturas (no etiquetado)",{"$nulls":4},{"v":0,"d":"0.00"}]
["82400-910","Costo por coberturas (etiquetado)",{"$nulls":4},{"v":0,"d":"0.00"}]
["82400-911","Apoyos financieros (no etiquetado)",{"$nulls":4},{"v":0,"d":"0.00"}]
["82400-912","Apoyos financieros (etiquetado)",{"$nulls":4},{"v":0,"d":"0.00"}]
["82400-913","Adeudos de ejercicios anteriores (adefas) (no etiquetado)",{"$nulls":4},{"v":0,"d":"0.00"}]
["82400-914","Adeudos de ejercicios anteriores (adefas) (etiquetado)",{"$nulls":4},{"v":0,"d":"0.00"}]
[82500,"PRESUPUESTO DE EGRESOS DEVENGADO",null,null,{"$f":"E1812+E1827+E1846+E1865+E1884+E1903+E1910+E1925+E1932","v":{"v":0,"d":"0.00"}},{"$f":"F1812+F1827+F1846+F1865+F1884+F1903+F1910+F1925+F1932","v":{"v":0,"d":"0.00"}},{"$f":"E1811-F1811","v":{"v":0,"d":"0.00"}}]
["82500-100","Servicios personales",null,null,{"$f":"SUM(E1813:E1826)","v":{"v":0,"d":"0.00"}},{"$f":"SUM(F1813:F1826)","v":{"v":0,"d":"0.00"}},{"$f":"SUM(G1813:G1826)","v":{"v":0,"d":"0.00"}}]
["82500-101","Remuneraciones al personal de carácter permanente (no etiquetado)",{"$nulls":4},{"$f":"ROUND(E1813-F1813,2)","v":{"v":0,"d":"0.00"}}]
["82500-102","Remuneraciones al personal de carácter permanente (etiquetado)",{"$nulls":4},{"$f":"ROUND(E1814-F1814,2)","v":{"v":0,"d":"0.00"}}]
["82500-103","Remuneraciones al personal de carácter transitorio (no etiquetado)",{"$nulls":4},{"v":0,"d":"0.00"}]
["82500-104","Remuneraciones al personal de carácter transitorio (etiquetado)",{"$nulls":4},{"v":0,"d":"0.00"}]
["82500-105","Remuneraciones adicionales especiales (no etiquetado)",{"$nulls":4},{"v":0,"d":"0.00"}]
["82500-106","Remuneraciones adicionales especiales (etiquetado)",{"$nulls":4},{"v":0,"d":"0.00"}]
["82500-107","Seguridad social (no etiquetado)",{"$nulls":4},{"v":0,"d":"0.00"}]
["82500-108","Seguridad social (etiquetado)",{"$nulls":4},{"v":0,"d":"0.00"}]
["82500-109","Otras prestaciones sociales y económicas (no etiquetado)",{"$nulls":4},{"v":0,"d":"0.00"}]
["82500-110","Otras prestaciones sociales y económicas (etiquetado)",{"$nulls":4},{"v":0,"d":"0.00"}]
["82500-111","Previsiones (no etiquetado)",{"$nulls":4},{"v":0,"d":"0.00"}]
["82500-112","Previsiones (etiquetado)",{"$nulls":4},{"v":0,"d":"0.00"}]
["82500-113","Pago de estímulos a servidores públicos (no etiquetado)",{"$nulls":4},{"v":0,"d":"0.00"}]
["82500-114","Pago de estímulos a servidores públicos (etiquetado)",{"$nulls":4},{"v":0,"d":"0.00"}]
["82500-200","Materiales y suministros",null,null,{"$f":"SUM(E1828:E1845)","v":{"v":0,"d":"0.00"}},{"$f":"SUM(F1828:F1845)","v":{"v":0,"d":"0.00"}},{"$f":"SUM(G1828:G1845)","v":{"v":0,"d":"0.00"}}]
["82500-201","Materiales de administración, emisión de documentos y artículos oficiales (no etiquetado)",{"$nulls":4},{"$f":"ROUND(E1828-F1828,2)","v":{"v":0,"d":"0.00"}}]
["82500-202","Materiales de administración, emisión de documentos y artículos oficiales (etiquetado)",{"$nulls":4},{"v":0,"d":"0.00"}]
["82500-203","Alimentos y utensilios (no etiquetado)",{"$nulls":4},{"v":0,"d":"0.00"}]
["82500-204","Alimentos y utensilios (etiquetado)",{"$nulls":4},{"v":0,"d":"0.00"}]
["82500-205","Materias primas y materiales de producción y comercialización (no etiquetado)",{"$nulls":4},{"v":0,"d":"0.00"}]
["82500-206","Materias primas y materiales de producción y comercialización (etiquetado)",{"$nulls":4},{"v":0,"d":"0.00"}]
["82500-207","Materiales y artículos de construcción y de reparación (no etiquetado)",{"$nulls":4},{"v":0,"d":"0.00"}]
["82500-208","Materiales y artículos de construcción y de reparación (etiquetado)",{"$nulls":4},{"v":0,"d":"0.00"}]
["82500-209","Productos químicos, farmacéuticos y de laboratorio (no etiquetado)",{"$nulls":4},{"v":0,"d":"0.00"}]
["82500-210","Productos químicos, farmacéuticos y de laboratorio (etiquetado)",{"$nulls":4},{"v":0,"d":"0.00"}]
["82500-211","Combustibles, lubricantes y aditivos (no etiquetado)",{"$nulls":4},{"v":0,"d":"0.00"}]
["82500-212","Combustibles, lubricantes y aditivos (etiquetado)",{"$nulls":4},{"v":0,"d":"0.00"}]
["82500-213","Vestuario, blancos, prendas de protección y artículos deportivos (no etiquetado)",{"$nulls":4},{"v":0,"d":"0.00"}]
["82500-214","Vestuario, blancos, prendas de protección y artículos deportivos (etiquetado)",{"$nulls":4},{"v":0,"d":"0.00"}]
["82500-215","Materiales y suministros de seguridad (no etiquetado)",{"$nulls":4},{"v":0,"d":"0.00"}]
["82500-216","Materiales y suministros de seguridad (etiquetado)",{"$nulls":4},{"v":0,"d":"0.00"}]
["82500-217","Herramientas, refacciones y accesorios menores (no etiquetado)",{"$nulls":4},{"v":0,"d":"0.00"}]
["82500-218","Herramientas, refacciones y accesorios menores (etiquetado)",{"$nulls":4},{"v":0,"d":"0.00"}]
["82500-300","Servicios generales",null,null,{"$f":"SUM(E1847:E1864)","v":{"v":0,"d":"0.00"}},{"$f":"SUM(F1847:F1864)","v":{"v":0,"d":"0.00"}},{"$f":"SUM(G1847:G1864)","v":{"v":0,"d":"0.00"}}]
["82500-301","Servicios básicos (no etiquetado)",{"$nulls":4},{"$f":"ROUND(E1847-F1847,2)","v":{"v":0,"d":"0.00"}}]
["82500-302","Servicios básicos (etiquetado)",{"$nulls":4},{"v":0,"d":"0.00"}]
["82500-303","Servicios de arrendamiento (no etiquetado)",{"$nulls":4},{"v":0,"d":"0.00"}]
["82500-304","Servicios de arrendamiento (etiquetado)",{"$nulls":4},{"v":0,"d":"0.00"}]
["82500-305","Servicios profesionales, científicos, técnicos y otros servicios (no etiquetado)",{"$nulls":4},{"v":0,"d":"0.00"}]
["82500-306","Servicios profesionales, científicos, técnicos y otros servicios (etiquetado)",{"$nulls":4},{"v":0,"d":"0.00"}]
["82500-307","Servicios financieros, bancarios y comerciales (no etiquetado)",{"$nulls":4},{"v":0,"d":"0.00"}]
["82500-308","Servicios financieros, bancarios y comerciales (etiquetado)",{"$nulls":4},{"v":0,"d":"0.00"}]
["82500-309","Servicios de instalación, reparación, mantenimiento y conservación (no etiquetado)",{"$nulls":4},{"v":0,"d":"0.00"}]
["82500-310","Servicios de instalación, reparación, mantenimiento y conservación (etiquetado)",{"$nulls":4},{"v":0,"d":"0.00"}]
["82500-311","Servicios de comunicación social y publicidad (no etiquetado)",{"$nulls":4},{"v":0,"d":"0.00"}]
["82500-312","Servicios de comunicación social y publicidad (etiquetado)",{"$nulls":4},{"v":0,"d":"0.00"}]
["82500-313","Servicios de traslado y viáticos (no etiquetado)",{"$nulls":4},{"v":0,"d":"0.00"}]
["82500-314","Servicios de traslado y viáticos (etiquetado)",{"$nulls":4},{"v":0,"d":"0.00"}]
["82500-315","Servicios oficiales (no etiquetado)",{"$nulls":4},{"v":0,"d":"0.00"}]
["82500-316","Servicios oficiales (etiquetado)",{"$nulls":4},{"v":0,"d":"0.00"}]
["82500-317","Otros servicios generales (no etiquetado)",{"$nulls":4},{"v":0,"d":"0.00"}]
["82500-318","Otros servicios generales (etiquetado)",{"$nulls":4},{"v":0,"d":"0.00"}]
["82500-400","Transferencias, asignaciones, subsidios y otras ayudas ",null,null,{"$f":"SUM(E1866:E1883)","v":{"v":0,"d":"0.00"}},{"$f":"SUM(F1866:F1883)","v":{"v":0,"d":"0.00"}},{"$f":"SUM(G1866:G1883)","v":{"v":0,"d":"0.00"}}]
["82500-401","Transferencias internas y asignaciones al sector público (no etiquetado)",{"$nulls":4},{"$f":"ROUND(E1866-F1866,2)","v":{"v":0,"d":"0.00"}}]
["82500-402","Transferencias internas y asignaciones al sector público (etiquetado)",{"$nulls":4},{"v":0,"d":"0.00"}]
["82500-403","Transferencias al resto del sector público (no etiquetado)",{"$nulls":4},{"v":0,"d":"0.00"}]
["82500-404","Transferencias al resto del sector público (etiquetado)",{"$nulls":4},{"v":0,"d":"0.00"}]
["82500-405","Subsidios y subvenciones (no etiquetado)",{"$nulls":4},{"v":0,"d":"0.00"}]
["82500-406","Subsidios y subvenciones (etiquetado)",{"$nulls":4},{"v":0,"d":"0.00"}]
["82500-407","Ayudas sociales (no etiquetado)",{"$nulls":4},{"v":0,"d":"0.00"}]
["82500-408","Ayudas sociales  (etiquetado)",{"$nulls":4},{"v":0,"d":"0.00"}]
["82500-409","Pensiones y jubilaciones (no etiquetado)",{"$nulls":4},{"v":0,"d":"0.00"}]
["82500-410","Pensiones y jubilaciones (etiquetado)",{"$nulls":4},{"v":0,"d":"0.00"}]
["82500-411","Transferencias a fideicomisos, mandatos y otros análogos (no etiquetado)",{"$nulls":4},{"v":0,"d":"0.00"}]
["82500-412","Transferencias a fideicomisos, mandatos y otros análogos (etiquetado)",{"$nulls":4},{"v":0,"d":"0.00"}]
["82500-413","Transferencias a la seguridad social (no etiquetado)",{"$nulls":4},{"v":0,"d":"0.00"}]
["82500-414","Transferencias a la seguridad social (etiquetado)",{"$nulls":4},{"v":0,"d":"0.00"}]
["82500-415","Donativos (no etiquetado)",{"$nulls":4},{"v":0,"d":"0.00"}]
["82500-416","Donativos (etiquetado)",{"$nulls":4},{"v":0,"d":"0.00"}]
["82500-417","Transferencias al exterior (no etiquetado)",{"$nulls":4},{"v":0,"d":"0.00"}]
["82500-418","Transferencias al exterior (etiquetado)",{"$nulls":4},{"v":0,"d":"0.00"}]
["82500-500","Bienes muebles, inmuebles e intangibles",null,null,{"$f":"SUM(E1885:E1902)","v":{"v":0,"d":"0.00"}},{"$f":"SUM(F1885:F1902)","v":{"v":0,"d":"0.00"}},{"$f":"SUM(G1885:G1902)","v":{"v":0,"d":"0.00"}}]
["82500-501","Mobiliario y equipo de administración (no etiquetado)",{"$nulls":4},{"$f":"ROUND(E1885-F1885,2)","v":{"v":0,"d":"0.00"}}]
["82500-502","Mobiliario y equipo de administración (etiquetado)",{"$nulls":4},{"v":0,"d":"0.00"}]
["82500-503","Mobiliario y equipo educacional y recreativo (no etiquetado)",{"$nulls":4},{"v":0,"d":"0.00"}]
["82500-504","Mobiliario y equipo educacional y recreativo (etiquetado)",{"$nulls":4},{"v":0,"d":"0.00"}]
["82500-505","Equipo instrumental médico y de laboratorio (no etiquetado)",{"$nulls":4},{"v":0,"d":"0.00"}]
["82500-506","Equipo instrumental médico y de laboratorio (etiquetado)",{"$nulls":4},{"v":0,"d":"0.00"}]
["82500-507","Vehículos y equipo de transporte (no etiquetado)",{"$nulls":4},{"v":0,"d":"0.00"}]
["82500-508","Vehículos y equipo de transporte (etiquetado)",{"$nulls":4},{"v":0,"d":"0.00"}]
["82500-509","Equipo de defensa y seguridad (no etiquetado)",{"$nulls":4},{"v":0,"d":"0.00"}]
["82500-510","Equipo de defensa y seguridad (etiquetado)",{"$nulls":4},{"v":0,"d":"0.00"}]
["82500-511","Maquinaria, otros equipos y herramientas (no etiquetado)",{"$nulls":4},{"v":0,"d":"0.00"}]
["82500-512","Maquinaria, otros equipos y herramientas (etiquetado)",{"$nulls":4},{"v":0,"d":"0.00"}]
["82500-513","Activos biológicos (no etiquetado)",{"$nulls":4},{"v":0,"d":"0.00"}]
["82500-514","Activos biológicos (etiquetado)",{"$nulls":4},{"v":0,"d":"0.00"}]
["82500-515","Bienes inmuebles (no etiquetado)",{"$nulls":4},{"v":0,"d":"0.00"}]
["82500-516","Bienes inmuebles (etiquetado)",{"$nulls":4},{"v":0,"d":"0.00"}]
["82500-517","Activos intangibles (no etiquetado)",{"$nulls":4},{"v":0,"d":"0.00"}]
["82500-518","Activos intangibles (etiquetado)",{"$nulls":4},{"v":0,"d":"0.00"}]
["82500-600","Inversión pública",null,null,{"$f":"SUM(E1904:E1909)","v":{"v":0,"d":"0.00"}},{"$f":"SUM(F1904:F1909)","v":{"v":0,"d":"0.00"}},{"$f":"SUM(G1904:G1909)","v":{"v":0,"d":"0.00"}}]
["82500-601","Obra pública en bienes de dominio público (no etiquetado)",{"$nulls":4},{"$f":"ROUND(E1904-F1904,2)","v":{"v":0,"d":"0.00"}}]
["82500-602","Obra pública en bienes de dominio público (etiquetado)",{"$nulls":4},{"v":0,"d":"0.00"}]
["82500-603","Obra pública en bienes de dominio propios (no etiquetado)",{"$nulls":4},{"v":0,"d":"0.00"}]
["82500-604","Obra pública en bienes de dominio propios (etiquetado)",{"$nulls":4},{"v":0,"d":"0.00"}]
["82500-605","Proyectos productivos y acciones de fomento (no etiquetado)",{"$nulls":4},{"v":0,"d":"0.00"}]
["82500-606","Proyectos productivos y acciones de fomento (etiquetado)",{"$nulls":4},{"v":0,"d":"0.00"}]
["82500-700","Inversiones financieras y otras provisiones",null,null,{"$f":"SUM(E1911:E1924)","v":{"v":0,"d":"0.00"}},{"$f":"SUM(F1911:F1924)","v":{"v":0,"d":"0.00"}},{"$f":"SUM(G1911:G1924)","v":{"v":0,"d":"0.00"}}]
["82500-701","Inversiones para el fomento de actividades productivas (no etiquetado)",{"$nulls":4},{"$f":"ROUND(E1911-F1911,2)","v":{"v":0,"d":"0.00"}}]
["82500-702","Inversiones para el fomento de actividades productivas (etiquetado)",{"$nulls":4},{"v":0,"d":"0.00"}]
["82500-703","Acciones y participaciones de capital (no etiquetado)",{"$nulls":4},{"v":0,"d":"0.00"}]
["82500-704","Acciones y participaciones de capital (etiquetado)",{"$nulls":4},{"v":0,"d":"0.00"}]
["82500-705","Compra de títulos y valores (no etiquetado)",{"$nulls":4},{"v":0,"d":"0.00"}]
["82500-706","Compra de títulos y valores (etiquetado)",{"$nulls":4},{"v":0,"d":"0.00"}]
["82500-707","Concesión de préstamos (no etiquetado)",{"$nulls":4},{"v":0,"d":"0.00"}]
["82500-708","Concesión de préstamos (etiquetado)",{"$nulls":4},{"v":0,"d":"0.00"}]
["82500-709","Inversiones en fideicomisos, mandatos y otros análogos (no etiquetado)",{"$nulls":4},{"v":0,"d":"0.00"}]
["82500-710","Inversiones en fideicomisos, mandatos y otros análogos (etiquetado)",{"$nulls":4},{"v":0,"d":"0.00"}]
["82500-711","Otras inversiones financieras (no etiquetado)",{"$nulls":4},{"v":0,"d":"0.00"}]
["82500-712","Otras inversiones financieras (etiquetado)",{"$nulls":4},{"v":0,"d":"0.00"}]
["82500-713","Provisiones para contingencias y otras erogaciones especiales (no etiquetado)",{"$nulls":4},{"v":0,"d":"0.00"}]
["82500-714","Provisiones para contingencias y otras erogaciones especiales (etiquetado)",{"$nulls":4},{"v":0,"d":"0.00"}]
["82500-800","Participaciones y aportaciones",null,null,{"$f":"SUM(E1926:E1931)","v":{"v":0,"d":"0.00"}},{"$f":"SUM(F1926:F1931)","v":{"v":0,"d":"0.00"}},{"$f":"SUM(G1926:G1931)","v":{"v":0,"d":"0.00"}}]
["82500-801","Participaciones (no etiquetado)",{"$nulls":4},{"$f":"ROUND(E1926-F1926,2)","v":{"v":0,"d":"0.00"}}]
["82500-802","Participaciones (etiquetado)",{"$nulls":4},{"v":0,"d":"0.00"}]
["82500-803","Aportaciones (no etiquetado)",{"$nulls":4},{"v":0,"d":"0.00"}]
["82500-804","Aportaciones (etiquetado)",{"$nulls":4},{"v":0,"d":"0.00"}]
["82500-805","Convenios (no etiquetado)",{"$nulls":4},{"v":0,"d":"0.00"}]
["82500-806","Convenios (etiquetado)",{"$nulls":4},{"v":0,"d":"0.00"}]
["82500-900","Deuda pública",null,null,{"$f":"SUM(E1933:E1946)","v":{"v":0,"d":"0.00"}},{"$f":"SUM(F1933:F1946)","v":{"v":0,"d":"0.00"}},{"$f":"SUM(G1933:G1946)","v":{"v":0,"d":"0.00"}}]
["82500-901","Amortización de la deuda pública (no etiquetado)",{"$nulls":4},{"$f":"ROUND(E1933-F1933,2)","v":{"v":0,"d":"0.00"}}]
["82500-902","Amortización de la deuda pública (etiquetado)",{"$nulls":4},{"v":0,"d":"0.00"}]
["82500-903","Intereses de la deuda pública (no etiquetado)",{"$nulls":4},{"v":0,"d":"0.00"}]
["82500-904","Intereses de la deuda pública (etiquetado)",{"$nulls":4},{"v":0,"d":"0.00"}]
["82500-905","Comisiones de la deuda pública (no etiquetado)",{"$nulls":4},{"v":0,"d":"0.00"}]
["82500-906","Comisiones de la deuda pública (etiquetado)",{"$nulls":4},{"v":0,"d":"0.00"}]
["82500-907","Gastos de la deuda pública (no etiquetado)",{"$nulls":4},{"v":0,"d":"0.00"}]
["82500-908","Gastos de la deuda pública (etiquetado)",{"$nulls":4},{"v":0,"d":"0.00"}]
["82500-909","Costo por coberturas (no etiquetado)",{"$nulls":4},{"v":0,"d":"0.00"}]
["82500-910","Costo por coberturas (etiquetado)",{"$nulls":4},{"v":0,"d":"0.00"}]
["82500-911","Apoyos financieros (no etiquetado)",{"$nulls":4},{"v":0,"d":"0.00"}]
["82500-912","Apoyos financieros (etiquetado)",{"$nulls":4},{"v":0,"d":"0.00"}]
["82500-913","Adeudos de ejercicios anteriores (adefas) (no etiquetado)",{"$nulls":4},{"v":0,"d":"0.00"}]
["82500-914","Adeudos de ejercicios anteriores (adefas) (etiquetado)",{"$nulls":4},{"v":0,"d":"0.00"}]
[82600,"PRESUPUESTO DE EGRESOS EJERCIDO",null,null,{"$f":"E1948+E1963+E1982+E2001+E2020+E2039+E2046+E2061+E2068","v":{"v":0,"d":"0.00"}},{"$f":"F1948+F1963+F1982+F2001+F2020+F2039+F2046+F2061+F2068","v":{"v":0,"d":"0.00"}},{"$f":"E1947-F1947","v":{"v":0,"d":"0.00"}}]
["82600-100","Servicios personales",null,null,{"$f":"SUM(E1949:E1962)","v":{"v":0,"d":"0.00"}},{"$f":"SUM(F1949:F1962)","v":{"v":0,"d":"0.00"}},{"$f":"SUM(G1949:G1962)","v":{"v":0,"d":"0.00"}}]
["82600-101","Remuneraciones al personal de carácter permanente (no etiquetado)",{"$nulls":4},{"$f":"ROUND(E1949-F1949,2)","v":{"v":0,"d":"0.00"}}]
["82600-102","Remuneraciones al personal de carácter permanente (etiquetado)",{"$nulls":4},{"$f":"ROUND(E1950-F1950,2)","v":{"v":0,"d":"0.00"}}]
["82600-103","Remuneraciones al personal de carácter transitorio (no etiquetado)",{"$nulls":4},{"v":0,"d":"0.00"}]
["82600-104","Remuneraciones al personal de carácter transitorio (etiquetado)",{"$nulls":4},{"v":0,"d":"0.00"}]
["82600-105","Remuneraciones adicionales especiales (no etiquetado)",{"$nulls":4},{"v":0,"d":"0.00"}]
["82600-106","Remuneraciones adicionales especiales (etiquetado)",{"$nulls":4},{"v":0,"d":"0.00"}]
["82600-107","Seguridad social (no etiquetado)",{"$nulls":4},{"v":0,"d":"0.00"}]
["82600-108","Seguridad social (etiquetado)",{"$nulls":4},{"v":0,"d":"0.00"}]
["82600-109","Otras prestaciones sociales y económicas (no etiquetado)",{"$nulls":4},{"v":0,"d":"0.00"}]
["82600-110","Otras prestaciones sociales y económicas (etiquetado)",{"$nulls":4},{"v":0,"d":"0.00"}]
["82600-111","Previsiones (no etiquetado)",{"$nulls":4},{"v":0,"d":"0.00"}]
["82600-112","Previsiones (etiquetado)",{"$nulls":4},{"v":0,"d":"0.00"}]
["82600-113","Pago de estímulos a servidores públicos (no etiquetado)",{"$nulls":4},{"v":0,"d":"0.00"}]
["82600-114","Pago de estímulos a servidores públicos (etiquetado)",{"$nulls":4},{"v":0,"d":"0.00"}]
["82600-200","Materiales y suministros",null,null,{"$f":"SUM(E1964:E1981)","v":{"v":0,"d":"0.00"}},{"$f":"SUM(F1964:F1981)","v":{"v":0,"d":"0.00"}},{"$f":"SUM(G1964:G1981)","v":{"v":0,"d":"0.00"}}]
["82600-201","Materiales de administración, emisión de documentos y artículos oficiales (no etiquetado)",{"$nulls":4},{"$f":"ROUND(E1964-F1964,2)","v":{"v":0,"d":"0.00"}}]
["82600-202","Materiales de administración, emisión de documentos y artículos oficiales (etiquetado)",{"$nulls":4},{"v":0,"d":"0.00"}]
["82600-203","Alimentos y utensilios (no etiquetado)",{"$nulls":4},{"v":0,"d":"0.00"}]
["82600-204","Alimentos y utensilios (etiquetado)",{"$nulls":4},{"v":0,"d":"0.00"}]
["82600-205","Materias primas y materiales de producción y comercialización (no etiquetado)",{"$nulls":4},{"v":0,"d":"0.00"}]
["82600-206","Materias primas y materiales de producción y comercialización (etiquetado)",{"$nulls":4},{"v":0,"d":"0.00"}]
["82600-207","Materiales y artículos de construcción y de reparación (no etiquetado)",{"$nulls":4},{"v":0,"d":"0.00"}]
["82600-208","Materiales y artículos de construcción y de reparación (etiquetado)",{"$nulls":4},{"v":0,"d":"0.00"}]
["82600-209","Productos químicos, farmacéuticos y de laboratorio (no etiquetado)",{"$nulls":4},{"v":0,"d":"0.00"}]
["82600-210","Productos químicos, farmacéuticos y de laboratorio (etiquetado)",{"$nulls":4},{"v":0,"d":"0.00"}]
["82600-211","Combustibles, lubricantes y aditivos (no etiquetado)",{"$nulls":4},{"v":0,"d":"0.00"}]
["82600-212","Combustibles, lubricantes y aditivos (etiquetado)",{"$nulls":4},{"v":0,"d":"0.00"}]
["82600-213","Vestuario, blancos, prendas de protección y artículos deportivos (no etiquetado)",{"$nulls":4},{"v":0,"d":"0.00"}]
["82600-214","Vestuario, blancos, prendas de protección y artículos deportivos (etiquetado)",{"$nulls":4},{"v":0,"d":"0.00"}]
["82600-215","Materiales y suministros de seguridad (no etiquetado)",{"$nulls":4},{"v":0,"d":"0.00"}]
["82600-216","Materiales y suministros de seguridad (etiquetado)",{"$nulls":4},{"v":0,"d":"0.00"}]
["82600-217","Herramientas, refacciones y accesorios menores (no etiquetado)",{"$nulls":4},{"v":0,"d":"0.00"}]
["82600-218","Herramientas, refacciones y accesorios menores (etiquetado)",{"$nulls":4},{"v":0,"d":"0.00"}]
["82600-300","Servicios generales",null,null,{"$f":"SUM(E1983:E2000)","v":{"v":0,"d":"0.00"}},{"$f":"SUM(F1983:F2000)","v":{"v":0,"d":"0.00"}},{"$f":"SUM(G1983:G2000)","v":{"v":0,"d":"0.00"}}]
["82600-301","Servicios básicos (no etiquetado)",{"$nulls":4},{"$f":"ROUND(E1983-F1983,2)","v":{"v":0,"d":"0.00"}}]
["82600-302","Servicios básicos (etiquetado)",{"$nulls":4},{"v":0,"d":"0.00"}]
["82600-303","Servicios de arrendamiento (no etiquetado)",{"$nulls":4},{"v":0,"d":"0.00"}]
["82600-304","Servicios de arrendamiento (etiquetado)",{"$nulls":4},{"v":0,"d":"0.00"}]
["82600-305","Servicios profesionales, científicos, técnicos y otros servicios (no etiquetado)",{"$nulls":4},{"v":0,"d":"0.00"}]
["82600-306","Servicios profesionales, científicos, técnicos y otros servicios (etiquetado)",{"$nulls":4},{"v":0,"d":"0.00"}]
["82600-307","Servicios financieros, bancarios y comerciales (no etiquetado)",{"$nulls":4},{"v":0,"d":"0.00"}]
["82600-308","Servicios financieros, bancarios y comerciales (etiquetado)",{"$nulls":4},{"v":0,"d":"0.00"}]
["82600-309","Servicios de instalación, reparación, mantenimiento y conservación (no etiquetado)",{"$nulls":4},{"v":0,"d":"0.00"}]
["82600-310","Servicios de instalación, reparación, mantenimiento y conservación (etiquetado)",{"$nulls":4},{"v":0,"d":"0.00"}]
["82600-311","Servicios de comunicación social y publicidad (no etiquetado)",{"$nulls":4},{"v":0,"d":"0.00"}]
["82600-312","Servicios de comunicación social y publicidad (etiquetado)",{"$nulls":4},{"v":0,"d":"0.00"}]
["82600-313","Servicios de traslado y viáticos (no etiquetado)",{"$nulls":4},{"v":0,"d":"0.00"}]
["82600-314","Servicios de traslado y viáticos (etiquetado)",{"$nulls":4},{"v":0,"d":"0.00"}]
["82600-315","Servicios oficiales (no etiquetado)",{"$nulls":4},{"v":0,"d":"0.00"}]
["82600-316","Servicios oficiales (etiquetado)",{"$nulls":4},{"v":0,"d":"0.00"}]
["82600-317","Otros servicios generales (no etiquetado)",{"$nulls":4},{"v":0,"d":"0.00"}]
["82600-318","Otros servicios generales (etiquetado)",{"$nulls":4},{"v":0,"d":"0.00"}]
["82600-400","Transferencias, asignaciones, subsidios y otras ayudas ",null,null,{"$f":"SUM(E2002:E2019)","v":{"v":0,"d":"0.00"}},{"$f":"SUM(F2002:F2019)","v":{"v":0,"d":"0.00"}},{"$f":"SUM(G2002:G2019)","v":{"v":0,"d":"0.00"}}]
["82600-401","Transferencias internas y asignaciones al sector público (no etiquetado)",{"$nulls":4},{"$f":"ROUND(E2002-F2002,2)","v":{"v":0,"d":"0.00"}}]
["82600-402","Transferencias internas y asignaciones al sector público (etiquetado)",{"$nulls":4},{"v":0,"d":"0.00"}]
["82600-403","Transferencias al resto del sector público (no etiquetado)",{"$nulls":4},{"v":0,"d":"0.00"}]
["82600-404","Transferencias al resto del sector público (etiquetado)",{"$nulls":4},{"v":0,"d":"0.00"}]
["82600-405","Subsidios y subvenciones (no etiquetado)",{"$nulls":4},{"v":0,"d":"0.00"}]
["82600-406","Subsidios y subvenciones (etiquetado)",{"$nulls":4},{"v":0,"d":"0.00"}]
["82600-407","Ayudas sociales (no etiquetado)",{"$nulls":4},{"v":0,"d":"0.00"}]
["82600-408","Ayudas sociales  (etiquetado)",{"$nulls":4},{"v":0,"d":"0.00"}]
["82600-409","Pensiones y jubilaciones (no etiquetado)",{"$nulls":4},{"v":0,"d":"0.00"}]
["82600-410","Pensiones y jubilaciones (etiquetado)",{"$nulls":4},{"v":0,"d":"0.00"}]
["82600-411","Transferencias a fideicomisos, mandatos y otros análogos (no etiquetado)",{"$nulls":4},{"v":0,"d":"0.00"}]
["82600-412","Transferencias a fideicomisos, mandatos y otros análogos (etiquetado)",{"$nulls":4},{"v":0,"d":"0.00"}]
["82600-413","Transferencias a la seguridad social (no etiquetado)",{"$nulls":4},{"v":0,"d":"0.00"}]
["82600-414","Transferencias a la seguridad social (etiquetado)",{"$nulls":4},{"v":0,"d":"0.00"}]
["82600-415","Donativos (no etiquetado)",{"$nulls":4},{"v":0,"d":"0.00"}]
["82600-416","Donativos (etiquetado)",{"$nulls":4},{"v":0,"d":"0.00"}]
["82600-417","Transferencias al exterior (no etiquetado)",{"$nulls":4},{"v":0,"d":"0.00"}]
["82600-418","Transferencias al exterior (etiquetado)",{"$nulls":4},{"v":0,"d":"0.00"}]
["82600-500","Bienes muebles, inmuebles e intangibles",null,null,{"$f":"SUM(E2021:E2038)","v":{"v":0,"d":"0.00"}},{"$f":"SUM(F2021:F2038)","v":{"v":0,"d":"0.00"}},{"$f":"SUM(G2021:G2038)","v":{"v":0,"d":"0.00"}}]
["82600-501","Mobiliario y equipo de administración (no etiquetado)",{"$nulls":4},{"$f":"ROUND(E2021-F2021,2)","v":{"v":0,"d":"0.00"}}]
["82600-502","Mobiliario y equipo de administración (etiquetado)",{"$nulls":4},{"v":0,"d":"0.00"}]
["82600-503","Mobiliario y equipo educacional y recreativo (no etiquetado)",{"$nulls":4},{"v":0,"d":"0.00"}]
["82600-504","Mobiliario y equipo educacional y recreativo (etiquetado)",{"$nulls":4},{"v":0,"d":"0.00"}]
["82600-505","Equipo instrumental médico y de laboratorio (no etiquetado)",{"$nulls":4},{"v":0,"d":"0.00"}]
["82600-506","Equipo instrumental médico y de laboratorio (etiquetado)",{"$nulls":4},{"v":0,"d":"0.00"}]
["82600-507","Vehículos y equipo de transporte (no etiquetado)",{"$nulls":4},{"v":0,"d":"0.00"}]
["82600-508","Vehículos y equipo de transporte (etiquetado)",{"$nulls":4},{"v":0,"d":"0.00"}]
["82600-509","Equipo de defensa y seguridad (no etiquetado)",{"$nulls":4},{"v":0,"d":"0.00"}]
["82600-510","Equipo de defensa y seguridad (etiquetado)",{"$nulls":4},{"v":0,"d":"0.00"}]
["82600-511","Maquinaria, otros equipos y herramientas (no etiquetado)",{"$nulls":4},{"v":0,"d":"0.00"}]
["82600-512","Maquinaria, otros equipos y herramientas (etiquetado)",{"$nulls":4},{"v":0,"d":"0.00"}]
["82600-513","Activos biológicos (no etiquetado)",{"$nulls":4},{"v":0,"d":"0.00"}]
["82600-514","Activos biológicos (etiquetado)",{"$nulls":4},{"v":0,"d":"0.00"}]
["82600-515","Bienes inmuebles (no etiquetado)",{"$nulls":4},{"v":0,"d":"0.00"}]
["82600-516","Bienes inmuebles (etiquetado)",{"$nulls":4},{"v":0,"d":"0.00"}]
["82600-517","Activos intangibles (no etiquetado)",{"$nulls":4},{"v":0,"d":"0.00"}]
["82600-518","Activos intangibles (etiquetado)",{"$nulls":4},{"v":0,"d":"0.00"}]
["82600-600","Inversión pública",null,null,{"$f":"SUM(E2040:E2045)","v":{"v":0,"d":"0.00"}},{"$f":"SUM(F2040:F2045)","v":{"v":0,"d":"0.00"}},{"$f":"SUM(G2040:G2045)","v":{"v":0,"d":"0.00"}}]
["82600-601","Obra pública en bienes de dominio público (no etiquetado)",{"$nulls":4},{"$f":"ROUND(E2040-F2040,2)","v":{"v":0,"d":"0.00"}}]
["82600-602","Obra pública en bienes de dominio público (etiquetado)",{"$nulls":4},{"v":0,"d":"0.00"}]
["82600-603","Obra pública en bienes de dominio propios (no etiquetado)",{"$nulls":4},{"v":0,"d":"0.00"}]
["82600-604","Obra pública en bienes de dominio propios (etiquetado)",{"$nulls":4},{"v":0,"d":"0.00"}]
["82600-605","Proyectos productivos y acciones de fomento (no etiquetado)",{"$nulls":4},{"v":0,"d":"0.00"}]
["82600-606","Proyectos productivos y acciones de fomento (etiquetado)",{"$nulls":4},{"v":0,"d":"0.00"}]
["82600-700","Inversiones financieras y otras provisiones",null,null,{"$f":"SUM(E2047:E2060)","v":{"v":0,"d":"0.00"}},{"$f":"SUM(F2047:F2060)","v":{"v":0,"d":"0.00"}},{"$f":"SUM(G2047:G2060)","v":{"v":0,"d":"0.00"}}]
["82600-701","Inversiones para el fomento de actividades productivas (no etiquetado)",{"$nulls":4},{"$f":"ROUND(E2047-F2047,2)","v":{"v":0,"d":"0.00"}}]
["82600-702","Inversiones para el fomento de actividades productivas (etiquetado)",{"$nulls":4},{"v":0,"d":"0.00"}]
["82600-703","Acciones y participaciones de capital (no etiquetado)",{"$nulls":4},{"v":0,"d":"0.00"}]
["82600-704","Acciones y participaciones de capital (etiquetado)",{"$nulls":4},{"v":0,"d":"0.00"}]
["82600-705","Compra de títulos y valores (no etiquetado)",{"$nulls":4},{"v":0,"d":"0.00"}]
["82600-706","Compra de títulos y valores (etiquetado)",{"$nulls":4},{"v":0,"d":"0.00"}]
["82600-707","Concesión de préstamos (no etiquetado)",{"$nulls":4},{"v":0,"d":"0.00"}]
["82600-708","Concesión de préstamos (etiquetado)",{"$nulls":4},{"v":0,"d":"0.00"}]
["82600-709","Inversiones en fideicomisos, mandatos y otros análogos (no etiquetado)",{"$nulls":4},{"v":0,"d":"0.00"}]
["82600-710","Inversiones en fideicomisos, mandatos y otros análogos (etiquetado)",{"$nulls":4},{"v":0,"d":"0.00"}]
["82600-711","Otras inversiones financieras (no etiquetado)",{"$nulls":4},{"v":0,"d":"0.00"}]
["82600-712","Otras inversiones financieras (etiquetado)",{"$nulls":4},{"v":0,"d":"0.00"}]
["82600-713","Provisiones para contingencias y otras erogaciones especiales (no etiquetado)",{"$nulls":4},{"v":0,"d":"0.00"}]
["82600-714","Provisiones para contingencias y otras erogaciones especiales (etiquetado)",{"$nulls":4},{"v":0,"d":"0.00"}]
["82600-800","Participaciones y aportaciones",null,null,{"$f":"SUM(E2062:E2067)","v":{"v":0,"d":"0.00"}},{"$f":"SUM(F2062:F2067)","v":{"v":0,"d":"0.00"}},{"$f":"SUM(G2062:G2067)","v":{"v":0,"d":"0.00"}}]
["82600-801","Participaciones (no etiquetado)",{"$nulls":4},{"$f":"ROUND(E2062-F2062,2)","v":{"v":0,"d":"0.00"}}]
["82600-802","Participaciones (etiquetado)",{"$nulls":4},{"v":0,"d":"0.00"}]
["82600-803","Aportaciones (no etiquetado)",{"$nulls":4},{"v":0,"d":"0.00"}]
["82600-804","Aportaciones (etiquetado)",{"$nulls":4},{"v":0,"d":"0.00"}]
["82600-805","Convenios (no etiquetado)",{"$nulls":4},{"v":0,"d":"0.00"}]
["82600-806","Convenios (etiquetado)",{"$nulls":4},{"v":0,"d":"0.00"}]
["82600-900","Deuda pública",null,null,{"$f":"SUM(E2069:E2082)","v":{"v":0,"d":"0.00"}},{"$f":"SUM(F2069:F2082)","v":{"v":0,"d":"0.00"}},{"$f":"SUM(G2069:G2082)","v":{"v":0,"d":"0.00"}}]
["82600-901","Amortización de la deuda pública (no etiquetado)",{"$nulls":4},{"$f":"ROUND(E2069-F2069,2)","v":{"v":0,"d":"0.00"}}]
["82600-902","Amortización de la deuda pública (etiquetado)",{"$nulls":4},{"v":0,"d":"0.00"}]
["82600-903","Intereses de la deuda pública (no etiquetado)",{"$nulls":4},{"v":0,"d":"0.00"}]
["82600-904","Intereses de la deuda pública (etiquetado)",{"$nulls":4},{"v":0,"d":"0.00"}]
["82600-905","Comisiones de la deuda pública (no etiquetado)",{"$nulls":4},{"v":0,"d":"0.00"}]
["82600-906","Comisiones de la deuda pública (etiquetado)",{"$nulls":4},{"v":0,"d":"0.00"}]
["82600-907","Gastos de la deuda pública (no etiquetado)",{"$nulls":4},{"v":0,"d":"0.00"}]
["82600-908","Gastos de la deuda pública (etiquetado)",{"$nulls":4},{"v":0,"d":"0.00"}]
["82600-909","Costo por coberturas (no etiquetado)",{"$nulls":4},{"v":0,"d":"0.00"}]
["82600-910","Costo por coberturas (etiquetado)",{"$nulls":4},{"v":0,"d":"0.00"}]
["82600-911","Apoyos financieros (no etiquetado)",{"$nulls":4},{"v":0,"d":"0.00"}]
["82600-912","Apoyos financieros (etiquetado)",{"$nulls":4},{"v":0,"d":"0.00"}]
["82600-913","Adeudos de ejercicios anteriores (adefas) (no etiquetado)",{"$nulls":4},{"v":0,"d":"0.00"}]
["82600-914","Adeudos de ejercicios anteriores (adefas) (etiquetado)",{"$nulls":4},{"v":0,"d":"0.00"}]
[82700,"PRESUPUESTO DE EGRESOS PAGADO",null,null,{"$f":"E2084+E2099+E2118+E2137+E2156+E2175+E2182+E2197+E2204","v":{"v":0,"d":"0.00"}},{"$f":"F2084+F2099+F2118+F2137+F2156+F2175+F2182+F2197+F2204","v":{"v":0,"d":"0.00"}},{"$f":"E2083-F2083","v":{"v":0,"d":"0.00"}}]
["82700-100","Servicios personales",null,null,{"$f":"SUM(E2085:E2098)","v":{"v":0,"d":"0.00"}},{"$f":"SUM(F2085:F2098)","v":{"v":0,"d":"0.00"}},{"$f":"SUM(G2085:G2098)","v":{"v":0,"d":"0.00"}}]
["82700-101","Remuneraciones al personal de carácter permanente (no etiquetado)",{"$nulls":4},{"$f":"ROUND(E2085-F2085,2)","v":{"v":0,"d":"0.00"}}]
["82700-102","Remuneraciones al personal de carácter permanente (etiquetado)",{"$nulls":4},{"$f":"ROUND(E2086-F2086,2)","v":{"v":0,"d":"0.00"}}]
["82700-103","Remuneraciones al personal de carácter transitorio (no etiquetado)",{"$nulls":4},{"v":0,"d":"0.00"}]
["82700-104","Remuneraciones al personal de carácter transitorio (etiquetado)",{"$nulls":4},{"v":0,"d":"0.00"}]
["82700-105","Remuneraciones adicionales especiales (no etiquetado)",{"$nulls":4},{"v":0,"d":"0.00"}]
["82700-106","Remuneraciones adicionales especiales (etiquetado)",{"$nulls":4},{"v":0,"d":"0.00"}]
["82700-107","Seguridad social (no etiquetado)",{"$nulls":4},{"v":0,"d":"0.00"}]
["82700-108","Seguridad social (etiquetado)",{"$nulls":4},{"v":0,"d":"0.00"}]
["82700-109","Otras prestaciones sociales y económicas (no etiquetado)",{"$nulls":4},{"v":0,"d":"0.00"}]
["82700-110","Otras prestaciones sociales y económicas (etiquetado)",{"$nulls":4},{"v":0,"d":"0.00"}]
["82700-111","Previsiones (no etiquetado)",{"$nulls":4},{"v":0,"d":"0.00"}]
["82700-112","Previsiones (etiquetado)",{"$nulls":4},{"v":0,"d":"0.00"}]
["82700-113","Pago de estímulos a servidores públicos (no etiquetado)",{"$nulls":4},{"v":0,"d":"0.00"}]
["82700-114","Pago de estímulos a servidores públicos (etiquetado)",{"$nulls":4},{"v":0,"d":"0.00"}]
["82700-200","Materiales y suministros",null,null,{"$f":"SUM(E2100:E2117)","v":{"v":0,"d":"0.00"}},{"$f":"SUM(F2100:F2117)","v":{"v":0,"d":"0.00"}},{"$f":"SUM(G2100:G2117)","v":{"v":0,"d":"0.00"}}]
["82700-201","Materiales de administración, emisión de documentos y artículos oficiales (no etiquetado)",{"$nulls":4},{"$f":"ROUND(E2100-F2100,2)","v":{"v":0,"d":"0.00"}}]
["82700-202","Materiales de administración, emisión de documentos y artículos oficiales (etiquetado)",{"$nulls":4},{"v":0,"d":"0.00"}]
["82700-203","Alimentos y utensilios (no etiquetado)",{"$nulls":4},{"v":0,"d":"0.00"}]
["82700-204","Alimentos y utensilios (etiquetado)",{"$nulls":4},{"v":0,"d":"0.00"}]
["82700-205","Materias primas y materiales de producción y comercialización (no etiquetado)",{"$nulls":4},{"v":0,"d":"0.00"}]
["82700-206","Materias primas y materiales de producción y comercialización (etiquetado)",{"$nulls":4},{"v":0,"d":"0.00"}]
["82700-207","Materiales y artículos de construcción y de reparación (no etiquetado)",{"$nulls":4},{"v":0,"d":"0.00"}]
["82700-208","Materiales y artículos de construcción y de reparación (etiquetado)",{"$nulls":4},{"v":0,"d":"0.00"}]
["82700-209","Productos químicos, farmacéuticos y de laboratorio (no etiquetado)",{"$nulls":4},{"v":0,"d":"0.00"}]
["82700-210","Productos químicos, farmacéuticos y de laboratorio (etiquetado)",{"$nulls":4},{"v":0,"d":"0.00"}]
["82700-211","Combustibles, lubricantes y aditivos (no etiquetado)",{"$nulls":4},{"v":0,"d":"0.00"}]
["82700-212","Combustibles, lubricantes y aditivos (etiquetado)",{"$nulls":4},{"v":0,"d":"0.00"}]
["82700-213","Vestuario, blancos, prendas de protección y artículos deportivos (no etiquetado)",{"$nulls":4},{"v":0,"d":"0.00"}]
["82700-214","Vestuario, blancos, prendas de protección y artículos deportivos (etiquetado)",{"$nulls":4},{"v":0,"d":"0.00"}]
["82700-215","Materiales y suministros de seguridad (no etiquetado)",{"$nulls":4},{"v":0,"d":"0.00"}]
["82700-216","Materiales y suministros de seguridad (etiquetado)",{"$nulls":4},{"v":0,"d":"0.00"}]
["82700-217","Herramientas, refacciones y accesorios menores (no etiquetado)",{"$nulls":4},{"v":0,"d":"0.00"}]
["82700-218","Herramientas, refacciones y accesorios menores (etiquetado)",{"$nulls":4},{"v":0,"d":"0.00"}]
["82700-300","Servicios generales",null,null,{"$f":"SUM(E2119:E2136)","v":{"v":0,"d":"0.00"}},{"$f":"SUM(F2119:F2136)","v":{"v":0,"d":"0.00"}},{"$f":"SUM(G2119:G2136)","v":{"v":0,"d":"0.00"}}]
["82700-301","Servicios básicos (no etiquetado)",{"$nulls":4},{"$f":"ROUND(E2119-F2119,2)","v":{"v":0,"d":"0.00"}}]
["82700-302","Servicios básicos (etiquetado)",{"$nulls":4},{"v":0,"d":"0.00"}]
["82700-303","Servicios de arrendamiento (no etiquetado)",{"$nulls":4},{"v":0,"d":"0.00"}]
["82700-304","Servicios de arrendamiento (etiquetado)",{"$nulls":4},{"v":0,"d":"0.00"}]
["82700-305","Servicios profesionales, científicos, técnicos y otros servicios (no etiquetado)",{"$nulls":4},{"v":0,"d":"0.00"}]
["82700-306","Servicios profesionales, científicos, técnicos y otros servicios (etiquetado)",{"$nulls":4},{"v":0,"d":"0.00"}]
["82700-307","Servicios financieros, bancarios y comerciales (no etiquetado)",{"$nulls":4},{"v":0,"d":"0.00"}]
["82700-308","Servicios financieros, bancarios y comerciales (etiquetado)",{"$nulls":4},{"v":0,"d":"0.00"}]
["82700-309","Servicios de instalación, reparación, mantenimiento y conservación (no etiquetado)",{"$nulls":4},{"v":0,"d":"0.00"}]
["82700-310","Servicios de instalación, reparación, mantenimiento y conservación (etiquetado)",{"$nulls":4},{"v":0,"d":"0.00"}]
["82700-311","Servicios de comunicación social y publicidad (no etiquetado)",{"$nulls":4},{"v":0,"d":"0.00"}]
["82700-312","Servicios de comunicación social y publicidad (etiquetado)",{"$nulls":4},{"v":0,"d":"0.00"}]
["82700-313","Servicios de traslado y viáticos (no etiquetado)",{"$nulls":4},{"v":0,"d":"0.00"}]
["82700-314","Servicios de traslado y viáticos (etiquetado)",{"$nulls":4},{"v":0,"d":"0.00"}]
["82700-315","Servicios oficiales (no etiquetado)",{"$nulls":4},{"v":0,"d":"0.00"}]
["82700-316","Servicios oficiales (etiquetado)",{"$nulls":4},{"v":0,"d":"0.00"}]
["82700-317","Otros servicios generales (no etiquetado)",{"$nulls":4},{"v":0,"d":"0.00"}]
["82700-318","Otros servicios generales (etiquetado)",{"$nulls":4},{"v":0,"d":"0.00"}]
["82700-400","Transferencias, asignaciones, subsidios y otras ayudas ",null,null,{"$f":"SUM(E2138:E2155)","v":{"v":0,"d":"0.00"}},{"$f":"SUM(F2138:F2155)","v":{"v":0,"d":"0.00"}},{"$f":"SUM(G2138:G2155)","v":{"v":0,"d":"0.00"}}]
["82700-401","Transferencias internas y asignaciones al sector público (no etiquetado)",{"$nulls":4},{"$f":"ROUND(E2138-F2138,2)","v":{"v":0,"d":"0.00"}}]
["82700-402","Transferencias internas y asignaciones al sector público (etiquetado)",{"$nulls":4},{"v":0,"d":"0.00"}]
["82700-403","Transferencias al resto del sector público (no etiquetado)",{"$nulls":4},{"v":0,"d":"0.00"}]
["82700-404","Transferencias al resto del sector público (etiquetado)",{"$nulls":4},{"v":0,"d":"0.00"}]
["82700-405","Subsidios y subvenciones (no etiquetado)",{"$nulls":4},{"v":0,"d":"0.00"}]
["82700-406","Subsidios y subvenciones (etiquetado)",{"$nulls":4},{"v":0,"d":"0.00"}]
["82700-407","Ayudas sociales (no etiquetado)",{"$nulls":4},{"v":0,"d":"0.00"}]
["82700-408","Ayudas sociales  (etiquetado)",{"$nulls":4},{"v":0,"d":"0.00"}]
["82700-409","Pensiones y jubilaciones (no etiquetado)",{"$nulls":4},{"v":0,"d":"0.00"}]
["82700-410","Pensiones y jubilaciones (etiquetado)",{"$nulls":4},{"v":0,"d":"0.00"}]
["82700-411","Transferencias a fideicomisos, mandatos y otros análogos (no etiquetado)",{"$nulls":4},{"v":0,"d":"0.00"}]
["82700-412","Transferencias a fideicomisos, mandatos y otros análogos (etiquetado)",{"$nulls":4},{"v":0,"d":"0.00"}]
["82700-413","Transferencias a la seguridad social (no etiquetado)",{"$nulls":4},{"v":0,"d":"0.00"}]
["82700-414","Transferencias a la seguridad social (etiquetado)",{"$nulls":4},{"v":0,"d":"0.00"}]
["82700-415","Donativos (no etiquetado)",{"$nulls":4},{"v":0,"d":"0.00"}]
["82700-416","Donativos (etiquetado)",{"$nulls":4},{"v":0,"d":"0.00"}]
["82700-417","Transferencias al exterior (no etiquetado)",{"$nulls":4},{"v":0,"d":"0.00"}]
["82700-418","Transferencias al exterior (etiquetado)",{"$nulls":4},{"v":0,"d":"0.00"}]
["82700-500","Bienes muebles, inmuebles e intangibles",null,null,{"$f":"SUM(E2157:E2174)","v":{"v":0,"d":"0.00"}},{"$f":"SUM(F2157:F2174)","v":{"v":0,"d":"0.00"}},{"$f":"SUM(G2157:G2174)","v":{"v":0,"d":"0.00"}}]
["82700-501","Mobiliario y equipo de administración (no etiquetado)",{"$nulls":4},{"$f":"ROUND(E2157-F2157,2)","v":{"v":0,"d":"0.00"}}]
["82700-502","Mobiliario y equipo de administración (etiquetado)",{"$nulls":4},{"v":0,"d":"0.00"}]
["82700-503","Mobiliario y equipo educacional y recreativo (no etiquetado)",{"$nulls":4},{"v":0,"d":"0.00"}]
["82700-504","Mobiliario y equipo educacional y recreativo (etiquetado)",{"$nulls":4},{"v":0,"d":"0.00"}]
["82700-505","Equipo instrumental médico y de laboratorio (no etiquetado)",{"$nulls":4},{"v":0,"d":"0.00"}]
["82700-506","Equipo instrumental médico y de laboratorio (etiquetado)",{"$nulls":4},{"v":0,"d":"0.00"}]
["82700-507","Vehículos y equipo de transporte (no etiquetado)",{"$nulls":4},{"v":0,"d":"0.00"}]
["82700-508","Vehículos y equipo de transporte (etiquetado)",{"$nulls":4},{"v":0,"d":"0.00"}]
["82700-509","Equipo de defensa y seguridad (no etiquetado)",{"$nulls":4},{"v":0,"d":"0.00"}]
["82700-510","Equipo de defensa y seguridad (etiquetado)",{"$nulls":4},{"v":0,"d":"0.00"}]
["82700-511","Maquinaria, otros equipos y herramientas (no etiquetado)",{"$nulls":4},{"v":0,"d":"0.00"}]
["82700-512","Maquinaria, otros equipos y herramientas (etiquetado)",{"$nulls":4},{"v":0,"d":"0.00"}]
["82700-513","Activos biológicos (no etiquetado)",{"$nulls":4},{"v":0,"d":"0.00"}]
["82700-514","Activos biológicos (etiquetado)",{"$nulls":4},{"v":0,"d":"0.00"}]
["82700-515","Bienes inmuebles (no etiquetado)",{"$nulls":4},{"v":0,"d":"0.00"}]
["82700-516","Bienes inmuebles (etiquetado)",{"$nulls":4},{"v":0,"d":"0.00"}]
["82700-517","Activos intangibles (no etiquetado)",{"$nulls":4},{"v":0,"d":"0.00"}]
["82700-518","Activos intangibles (etiquetado)",{"$nulls":4},{"v":0,"d":"0.00"}]
["82700-600","Inversión pública",null,null,{"$f":"SUM(E2176:E2181)","v":{"v":0,"d":"0.00"}},{"$f":"SUM(F2176:F2181)","v":{"v":0,"d":"0.00"}},{"$f":"SUM(G2176:G2181)","v":{"v":0,"d":"0.00"}}]
["82700-601","Obra pública en bienes de dominio público (no etiquetado)",{"$nulls":4},{"$f":"ROUND(E2176-F2176,2)","v":{"v":0,"d":"0.00"}}]
["82700-602","Obra pública en bienes de dominio público (etiquetado)",{"$nulls":4},{"v":0,"d":"0.00"}]
["82700-603","Obra pública en bienes de dominio propios (no etiquetado)",{"$nulls":4},{"v":0,"d":"0.00"}]
["82700-604","Obra pública en bienes de dominio propios (etiquetado)",{"$nulls":4},{"v":0,"d":"0.00"}]
["82700-605","Proyectos productivos y acciones de fomento (no etiquetado)",{"$nulls":4},{"v":0,"d":"0.00"}]
["82700-606","Proyectos productivos y acciones de fomento (etiquetado)",{"$nulls":4},{"v":0,"d":"0.00"}]
["82700-700","Inversiones financieras y otras provisiones",null,null,{"$f":"SUM(E2183:E2196)","v":{"v":0,"d":"0.00"}},{"$f":"SUM(F2183:F2196)","v":{"v":0,"d":"0.00"}},{"$f":"SUM(G2183:G2196)","v":{"v":0,"d":"0.00"}}]
["82700-701","Inversiones para el fomento de actividades productivas (no etiquetado)",{"$nulls":4},{"$f":"ROUND(E2183-F2183,2)","v":{"v":0,"d":"0.00"}}]
["82700-702","Inversiones para el fomento de actividades productivas (etiquetado)",{"$nulls":4},{"v":0,"d":"0.00"}]
["82700-703","Acciones y participaciones de capital (no etiquetado)",{"$nulls":4},{"v":0,"d":"0.00"}]
["82700-704","Acciones y participaciones de capital (etiquetado)",{"$nulls":4},{"v":0,"d":"0.00"}]
["82700-705","Compra de títulos y valores (no etiquetado)",{"$nulls":4},{"v":0,"d":"0.00"}]
["82700-706","Compra de títulos y valores (etiquetado)",{"$nulls":4},{"v":0,"d":"0.00"}]
["82700-707","Concesión de préstamos (no etiquetado)",{"$nulls":4},{"v":0,"d":"0.00"}]
["82700-708","Concesión de préstamos (etiquetado)",{"$nulls":4},{"v":0,"d":"0.00"}]
["82700-709","Inversiones en fideicomisos, mandatos y otros análogos (no etiquetado)",{"$nulls":4},{"v":0,"d":"0.00"}]
["82700-710","Inversiones en fideicomisos, mandatos y otros análogos (etiquetado)",{"$nulls":4},{"v":0,"d":"0.00"}]
["82700-711","Otras inversiones financieras (no etiquetado)",{"$nulls":4},{"v":0,"d":"0.00"}]
["82700-712","Otras inversiones financieras (etiquetado)",{"$nulls":4},{"v":0,"d":"0.00"}]
["82700-713","Provisiones para contingencias y otras erogaciones especiales (no etiquetado)",{"$nulls":4},{"v":0,"d":"0.00"}]
["82700-714","Provisiones para contingencias y otras erogaciones especiales (etiquetado)",{"$nulls":4},{"v":0,"d":"0.00"}]
["82700-800","Participaciones y aportaciones",null,null,{"$f":"SUM(E2198:E2203)","v":{"v":0,"d":"0.00"}},{"$f":"SUM(F2198:F2203)","v":{"v":0,"d":"0.00"}},{"$f":"SUM(G2198:G2203)","v":{"v":0,"d":"0.00"}}]
["82700-801","Participaciones (no etiquetado)",{"$nulls":4},{"$f":"ROUND(E2198-F2198,2)","v":{"v":0,"d":"0.00"}}]
["82700-802","Participaciones (etiquetado)",{"$nulls":4},{"v":0,"d":"0.00"}]
["82700-803","Aportaciones (no etiquetado)",{"$nulls":4},{"v":0,"d":"0.00"}]
["82700-804","Aportaciones (etiquetado)",{"$nulls":4},{"v":0,"d":"0.00"}]
["82700-805","Convenios (no etiquetado)",{"$nulls":4},{"v":0,"d":"0.00"}]
["82700-806","Convenios (etiquetado)",{"$nulls":4},{"v":0,"d":"0.00"}]
["82700-900","Deuda pública",null,null,{"$f":"SUM(E2205:E2218)","v":{"v":0,"d":"0.00"}},{"$f":"SUM(F2205:F2218)","v":{"v":0,"d":"0.00"}},{"$f":"SUM(G2205:G2218)","v":{"v":0,"d":"0.00"}}]
["82700-901","Amortización de la deuda pública (no etiquetado)",{"$nulls":4},{"$f":"ROUND(E2205-F2205,2)","v":{"v":0,"d":"0.00"}}]
["82700-902","Amortización de la deuda pública (etiquetado)",{"$nulls":4},{"v":0,"d":"0.00"}]
["82700-903","Intereses de la deuda pública (no etiquetado)",{"$nulls":4},{"v":0,"d":"0.00"}]
["82700-904","Intereses de la deuda pública (etiquetado)",{"$nulls":4},{"v":0,"d":"0.00"}]
["82700-905","Comisiones de la deuda pública (no etiquetado)",{"$nulls":4},{"v":0,"d":"0.00"}]
["82700-906","Comisiones de la deuda pública (etiquetado)",{"$nulls":4},{"v":0,"d":"0.00"}]
["82700-907","Gastos de la deuda pública (no etiquetado)",{"$nulls":4},{"v":0,"d":"0.00"}]
["82700-908","Gastos de la deuda pública (etiquetado)",{"$nulls":4},{"v":0,"d":"0.00"}]
["82700-909","Costo por coberturas (no etiquetado)",{"$nulls":4},{"v":0,"d":"0.00"}]
["82700-910","Costo por coberturas (etiquetado)",{"$nulls":4},{"v":0,"d":"0.00"}]
["82700-911","Apoyos financieros (no etiquetado)",{"$nulls":4},{"v":0,"d":"0.00"}]
["82700-912","Apoyos financieros (etiquetado)",{"$nulls":4},{"v":0,"d":"0.00"}]
["82700-913","Adeudos de ejercicios anteriores (adefas) (no etiquetado)",{"$nulls":4},{"v":0,"d":"0.00"}]
["82700-914","Adeudos de ejercicios anteriores (adefas) (etiquetado)",{"$nulls":4},{"v":0,"d":"0.00"}]
[90000,"CUENTAS DE CIERRE PRESUPUESTARIO",null,null,{"$f":"E2220+E2221+E2222","v":{"v":0,"d":"0.00"}},{"$f":"F2220+F2221+F2222","v":{"v":0,"d":"0.00"}},{"$f":"G2220+G2221+G2222","v":{"v":0,"d":"0.00"}}]
[91000,"SUPERAVIT FINANCIERO",{"$nulls":4},{"$f":"ROUND(E2220-F2220,2)","v":{"v":0,"d":"0.00"}}]
[92000,"DEFICIT FINANCIERO",{"$nulls":4},{"v":0,"d":"0.00"}]
[93000,"ADEUDOS DE EJERCICIOS FISCALES ANTERIORES",{"$nulls":4},{"v":0,"d":"0.00"}]
[" ","SUMAS IGUALES DE CUENTAS DE ORDEN PRESUPUESTAL",{"$f":"C2219+C1266+C795","v":{"v":0,"d":"0.00"}},{"v":0,"d":"0.00"},{"v":0,"d":"0.00"},{"v":0,"d":"0.00"},{"v":0,"d":"0.00"},{"v":0,"d":"0.00"}]

{"sheet":"F3","index":3,"n_rows":69,"n_cols":7,"rows_kept":69,"hidden":true,"merged":[[0,0,0,6],[1,0,1,6],[2,0,2,6],[3,0,3,6],[4,0,4,4],[5,0,5,4],[6,1,6,4],[7,2,7,4],[8,2,8,4],[9,2,9,4],[10,2,10,4],[11,2,11,4],[12,2,12,4],[13,2,13,4],[14,2,14,4],[15,2,15,4],[16,2,16,4],[17,1,17,4],[18,2,18,4],[19,2,19,4],[20,2,20,4],[21,2,21,4],[22,2,22,4],[23,2,23,4],[24,2,24,4],[25,2,25,4],[26,2,26,4],[27,2,27,4],[28,2,28,4],[29,2,29,4],[30,2,30,4],[31,2,31,4],[32,2,32,4],[33,2,33,4],[34,0,34,4],[35,0,35,4],[36,1,36,4],[37,2,37,4],[38,2,38,4],[39,2,39,4],[40,1,40,4],[41,2,41,4],[42,2,42,4],[43,2,43,4],[44,0,44,4],[45,0,45,4],[46,1,46,4],[47,2,47,4],[48,2,48,4],[49,2,49,4],[50,2,50,4],[51,1,51,4],[52,2,52,4],[53,2,53,4],[54,2,54,4],[55,2,55,4],[56,0,56,4],[57,0,57,4],[58,0,58,4],[59,0,59,4],[61,0,63,6],[66,2,67,2],[66,4,67,5],[68,2,69,2],[68,4,69,5]]}
[{"$f":"\"Nombre del Ente Público: \"&Validacion!A2","v":"Nombre del Ente Público: Ixtlahuacán de los Membrillos"}]
["Estado de Flujos de Efectivo"]
[{"$f":"'F6'!A3","v":"DEL 1° DE ENERO AL 31 DE ENERO DE 2026"}]
["(Cifras en pesos)"]
["Concepto",{"$nulls":4},{"$f":"Validacion!F185","v":2026},{"$f":"Validacion!F186","v":2025}]
["Flujos de Efectivo de las Actividades de Operación"]
[null,"Origen",{"$nulls":3},{"$f":"SUM(F8:F17)","v":{"v":0,"d":"0.00"}},{"$f":"SUM(G8:G17)","v":{"v":0,"d":"0.00"}}]
[null,null,"Impuestos"]
[null,null,"Cuotas y Aportaciones de Seguridad Social"]
[null,null,"Contribuciones de Mejoras"]
[null,null,"Derechos"]
[null,null,"Productos"]
[null,null,"Aprovechamientos"]
[null,null,"Ingresos por venta de Bienes y Prestación de Servicios"]
[null,null,"Participaciones, Aportaciones, Convenios, Incentivos Derivados de la Colaboración Fiscal y Fondos Distintos de Aportaciones"]
[null,null,"Transferencias, Asignaciones, Subsidios y Subvenciones, y Pensiones y Jubilaciones"]
[null,null,"Otros Orígenes de Operación"]
[null,"Aplicación",{"$nulls":3},{"$f":"SUM(F19:F34)","v":{"v":0,"d":"0.00"}},{"$f":"SUM(G19:G34)","v":{"v":0,"d":"0.00"}}]
[null,null,"Servicios Personales"]
[null,null,"Materiales y Suministros"]
[null,null,"Servicios Generales"]
[null,null,"Transferencias Internas y Asignaciones al Sector Público"]
[null,null,"Transferencias al Resto del Sector Público"]
[null,null,"Subsidios y Subvenciones "]
[null,null,"Ayudas Sociales"]
[null,null,"Pensiones y Jubilaciones"]
[null,null,"Transferencias a Fideicomisos, Mandatos y Contratos Análogos"]
[null,null,"Transferencias a la Seguridad Social"]
[null,null,"Donativos"]
[null,null,"Transferencias al Exterior"]
[null,null,"Participaciones "]
[null,null,"Aportaciones "]
[null,null,"Convenios"]
[null,null,"Otros Aplicaciones de Operación"]
["Flujos Netos de Efectivo por Actividades de Operación",{"$nulls":4},{"$f":"F7-F18","v":{"v":0,"d":"0.00"}},{"$f":"G7-G18","v":{"v":0,"d":"0.00"}}]
["Flujos de Efectivo de las Actividades de Inversión "]
[null,"Origen",{"$nulls":3},{"$f":"SUM(F38:F40)","v":{"v":0,"d":"0.00"}},{"$f":"SUM(G38:G40)","v":{"v":0,"d":"0.00"}}]
[null,null,"Bienes Inmuebles, Infraestructura y Construcciones en Proceso"]
[null,null,"Bienes Muebles"]
[null,null,"Otros Orígenes de Inversión"]
[null,"Aplicación",{"$nulls":3},{"$f":"SUM(F42:F44)","v":{"v":0,"d":"0.00"}},{"$f":"SUM(G42:G44)","v":{"v":0,"d":"0.00"}}]
[null,null,"Bienes Inmuebles, Infraestructura y Construcciones en Proceso"]
[null,null,"Bienes Muebles"]
[null,null,"Otras Aplicaciones de Inversión"]
["Flujos Netos de Efectivo por Actividades de Inversión",{"$nulls":4},{"$f":"F37-F41","v":{"v":0,"d":"0.00"}},{"$f":"G37-G41","v":{"v":0,"d":"0.00"}}]
["Flujo de Efectivo de las Actividades de Financiamiento"]
[null,"Origen",{"$nulls":3},{"$f":"F48+F51","v":{"v":0,"d":"0.00"}},{"$f":"G48+G51","v":{"v":0,"d":"0.00"}}]
[null,null,"Endeudamiento Neto",null,null,{"$f":"F49+F50","v":{"v":0,"d":"0.00"}},{"$f":"G49+G50","v":{"v":0,"d":"0.00"}}]
[null,null,"   Interno"]
[null,null,"   Externo"]
[null,null,"Otros Orígenes de Financiamiento "]
[null,"Aplicación",{"$nulls":3},{"$f":"F53+F56","v":{"v":0,"d":"0.00"}},{"$f":"G53+G56","v":{"v":0,"d":"0.00"}}]
[null,null,"Servicios de la Deuda",null,null,{"$f":"F54+F55","v":{"v":0,"d":"0.00"}},{"$f":"G54+G55","v":{"v":0,"d":"0.00"}}]
[null,null,"   Interno"]
[null,null,"   Externo"]
[null,null,"Otras Aplicaciones de Financiamiento "]
["Flujos Netos de Efectivo por Actividades de Financiamiento",{"$nulls":4},{"$f":"F47-F52","v":{"v":0,"d":"0.00"}},{"$f":"G47-G52","v":{"v":0,"d":"0.00"}}]
["Incremento/Disminución Neta en el Efectivo y Equivalentes al Efectivo ",{"$nulls":4},{"$f":"F35+F45+F57","v":{"v":0,"d":"0.00"}},{"$f":"G35+G45+G57","v":{"v":0,"d":"0.00"}}]
["Efectivo y Equivalentes al Efectivo al Inicio del Ejercicio",{"$nulls":4},{"$f":"G60","v":{"v":0,"d":"0.00"}}]
["Efectivo y Equivalentes al Efectivo al Final del Ejercicio",{"$nulls":4},{"$f":"F58+F59","v":{"v":0,"d":"0.00"}},{"$f":"+G58+G59","v":{"v":0,"d":"0.00"}}]
[]
["Bajo protesta de decir verdad declaramos que los Estados Financieros y sus notas, son razonablemente correctos y son responsabilidad del emisor."]
[]
[]
[]
[]
[null,null,{"$f":"Validacion!A7","v":"LIC. JOSE HERIBERTO GARCIA MURILLO"},null,{"$f":"Validacion!A9","v":"LAE BRUNO GERMAN ENCISO GUILLEN"}]
[]
[null,null,"Presidente Municipal o Titular del ente público",null,"Encargado de Hacienda Municipal o Responsable de las finanzas del ente público"]

{"sheet":"F7","index":4,"n_rows":46,"n_cols":9,"rows_kept":46,"hidden":true,"merged":[[0,0,0,7],[1,0,1,7],[2,0,2,7],[3,0,3,7],[4,0,5,1],[4,2,4,6],[4,7,5,7],[13,0,13,1],[16,7,17,7],[17,5,17,6],[19,0,20,1],[19,2,19,6],[19,7,20,7],[30,0,30,1],[37,7,38,7],[37,8,38,8],[38,5,38,6],[43,1,44,1],[43,3,44,6],[45,1,46,1],[45,3,46,6]]}
[{"$f":"\"Nombre del Ente Público: \"&Validacion!A2","v":"Nombre del Ente Público: Ixtlahuacán de los Membrillos"}]
["Estado Analítico de Ingresos"]
[{"$f":"'F6'!A3","v":"DEL 1° DE ENERO AL 31 DE ENERO DE 2026"}]
["(Cifras en Pesos)"]
["Rubro de Ingresos / Fuente de Financiamiento",null,"Ingreso",{"$nulls":4},"Diferencia"]
[null,null,"Estimado","Ampliaciones/ (Reducciones)","Modificado","Devengado","Recaudado"]
["Impuestos",null,{"$f":"C23","v":{"v":0,"d":"0.00"}},{"$f":"D23","v":{"v":0,"d":"0.00"}},{"$f":"C7+D7","v":{"v":0,"d":"0.00"}},{"$f":"F23","v":{"v":0,"d":"0.00"}},{"$f":"G23","v":{"v":0,"d":"0.00"}},{"$f":"G7-C7","v":{"v":0,"d":"0.00"}}]
["Cuotas y Aportaciones de Seguridad Social",null,{"$f":"C24+C32","v":{"v":0,"d":"0.00"}},{"$f":"D24+D32","v":{"v":0,"d":"0.00"}},{"v":0,"d":"0.00"},{"$f":"F24+F32","v":{"v":0,"d":"0.00"}},{"$f":"G24+G32","v":{"v":0,"d":"0.00"}},{"v":0,"d":"0.00"}]
["Contribuciones de Mejoras",null,{"$f":"C25","v":{"v":0,"d":"0.00"}},{"$f":"D25","v":{"v":0,"d":"0.00"}},{"v":0,"d":"0.00"},{"$f":"F25","v":{"v":0,"d":"0.00"}},{"$f":"G25","v":{"v":0,"d":"0.00"}},{"v":0,"d":"0.00"}]
["Derechos",null,{"$f":"C26","v":{"v":0,"d":"0.00"}},{"$f":"D26","v":{"v":0,"d":"0.00"}},{"v":0,"d":"0.00"},{"$f":"F26","v":{"v":0,"d":"0.00"}},{"$f":"G26","v":{"v":0,"d":"0.00"}},{"v":0,"d":"0.00"}]
["Productos",null,{"$f":"C27+C33","v":{"v":0,"d":"0.00"}},{"$f":"D27+D33","v":{"v":0,"d":"0.00"}},{"v":0,"d":"0.00"},{"$f":"F27+F33","v":{"v":0,"d":"0.00"}},{"$f":"G27+G33","v":{"v":0,"d":"0.00"}},{"v":0,"d":"0.00"}]
["Aprovechamientos",null,{"$f":"C28","v":{"v":0,"d":"0.00"}},{"$f":"D28","v":{"v":0,"d":"0.00"}},{"v":0,"d":"0.00"},{"$f":"F28","v":{"v":0,"d":"0.00"}},{"$f":"G28","v":{"v":0,"d":"0.00"}},{"v":0,"d":"0.00"}]
["Ingresos por Venta de Bienes, Prestación de Servicios y Otros Ingresos",null,{"$f":"C34","v":{"v":0,"d":"0.00"}},{"$f":"D34","v":{"v":0,"d":"0.00"}},{"v":0,"d":"0.00"},{"$f":"F34","v":{"v":0,"d":"0.00"}},{"$f":"G34","v":{"v":0,"d":"0.00"}},{"v":0,"d":"0.00"}]
["Participaciones, Aportaciones, Convenios, Incentivos Derivados de la Colaboración Fiscal y Fondos Distintos de Aportaciones",null,{"$f":"C29","v":{"v":0,"d":"0.00"}},{"$f":"D29","v":{"v":0,"d":"0.00"}},{"v":0,"d":"0.00"},{"$f":"F29","v":{"v":0,"d":"0.00"}},{"$f":"G29","v":{"v":0,"d":"0.00"}},{"v":0,"d":"0.00"}]
["Transferencias, Asignaciones, Subsidios y Subvenciones, y Pensiones y Jubilaciones",null,{"$f":"C30+C35","v":{"v":0,"d":"0.00"}},{"$f":"D30+D35","v":{"v":0,"d":"0.00"}},{"v":0,"d":"0.00"},{"$f":"F30+F35","v":{"v":0,"d":"0.00"}},{"$f":"G30+G35","v":{"v":0,"d":"0.00"}},{"v":0,"d":"0.00"}]
["Ingresos Derivados de Financiamiento",null,{"$f":"C37","v":{"v":0,"d":"0.00"}},{"$f":"D37","v":{"v":0,"d":"0.00"}},{"v":0,"d":"0.00"},{"$f":"F37","v":{"v":0,"d":"0.00"}},{"$f":"G37","v":{"v":0,"d":"0.00"}},{"v":0,"d":"0.00"}]
[null,"Total",{"$f":"SUM(C7:C16)","v":{"v":0,"d":"0.00"}},{"v":0,"d":"0.00"},{"v":0,"d":"0.00"},{"v":0,"d":"0.00"},{"v":0,"d":"0.00"},{"v":0,"d":"0.00"}]
[{"$nulls":5},"Ingresos excedentes"]
[]
["Rubro de Ingresos / Fuente de Financiamiento",null,"Ingreso",{"$nulls":4},"Diferencia"]
[null,null,"Estimado","Ampliaciones/ (Reducciones)","Modificado","Devengado","Recaudado"]
["Ingresos del Poder Ejecutivo Federal o Estatal y de los Municipios",null,{"$f":"SUM(C23:C30)","v":{"v":0,"d":"0.00"}},{"v":0,"d":"0.00"},{"v":0,"d":"0.00"},{"v":0,"d":"0.00"},{"v":0,"d":"0.00"},{"v":0,"d":"0.00"},{"$f":"H22-D22","v":{"v":0,"d":"0.00"}}]
[null,"Impuestos",{"$f":"Balanza!G797","v":{"v":0,"d":"0.00"}},{"$f":"Balanza!G985","v":{"v":0,"d":"0.00"}},{"$f":"C23+D23","v":{"v":0,"d":"0.00"}},{"$f":"Balanza!F1079","v":{"v":0,"d":"0.00"}},{"$f":"Balanza!H1173","v":{"v":0,"d":"0.00"}},{"$f":"G23-C23","v":{"v":0,"d":"0.00"}},{"v":0,"d":"0.00"}]
[null,"Cuotas y Aportaciones de Seguridad Social",null,null,{"v":0,"d":"0.00"},null,null,{"v":0,"d":"0.00"},{"v":0,"d":"0.00"}]
[null,"Contribuciones de Mejoras",{"$f":"Balanza!G813","v":{"v":0,"d":"0.00"}},{"$f":"Balanza!G1001","v":{"v":0,"d":"0.00"}},{"v":0,"d":"0.00"},{"$f":"Balanza!F1095","v":{"v":0,"d":"0.00"}},{"$f":"Balanza!H1189","v":{"v":0,"d":"0.00"}},{"v":0,"d":"0.00"},{"v":0,"d":"0.00"}]
[null,"Derechos",{"$f":"Balanza!G816","v":{"v":0,"d":"0.00"}},{"$f":"Balanza!G1004","v":{"v":0,"d":"0.00"}},{"v":0,"d":"0.00"},{"$f":"Balanza!F1098","v":{"v":0,"d":"0.00"}},{"$f":"Balanza!H1192","v":{"v":0,"d":"0.00"}},{"v":0,"d":"0.00"},{"v":0,"d":"0.00"}]
[null,"Productos",null,null,{"v":0,"d":"0.00"},null,null,{"v":0,"d":"0.00"},{"v":0,"d":"0.00"}]
[null,"Aprovechamientos",{"$f":"Balanza!G827","v":{"v":0,"d":"0.00"}},{"$f":"Balanza!G1015","v":{"v":0,"d":"0.00"}},{"v":0,"d":"0.00"},{"$f":"Balanza!F1109","v":{"v":0,"d":"0.00"}},{"$f":"Balanza!H1203","v":{"v":0,"d":"0.00"}},{"v":0,"d":"0.00"},{"v":0,"d":"0.00"}]
[null,"Participaciones, Aportaciones, Convenios, Incentivos Derivados de la Colaboración Fiscal y Fondos Distintos de Aportaciones",{"$f":"Balanza!G842","v":{"v":0,"d":"0.00"}},{"$f":"Balanza!G1030","v":{"v":0,"d":"0.00"}},{"v":0,"d":"0.00"},{"$f":"Balanza!F1124","v":{"v":0,"d":"0.00"}},{"$f":"Balanza!H1218","v":{"v":0,"d":"0.00"}},{"v":0,"d":"0.00"},{"v":0,"d":"0.00"}]
[null,"Transferencias, Asignaciones, Subsidios y Subvenciones, y Pensiones y Jubilaciones",null,null,{"v":0,"d":"0.00"},null,null,{"v":0,"d":"0.00"},{"v":0,"d":"0.00"}]
["Ingresos de los Entes Públicos de los Poderes Legislativo y Judicial, de los Órganos Autónomos y del Sector Paraestatal o Paramunicipal, así como de las Empresas Públicas del Estado",null,{"$f":"SUM(C32:C35)","v":{"v":0,"d":"0.00"}},{"v":0,"d":"0.00"},{"v":0,"d":"0.00"},{"v":0,"d":"0.00"},{"v":0,"d":"0.00"},{"v":0,"d":"0.00"},{"v":0,"d":"0.00"}]
[null,"Cuotas y Aportaciones de Seguridad Social",null,null,{"$f":"C32+D32","v":{"v":0,"d":"0.00"}},null,null,{"$f":"G32-C32","v":{"v":0,"d":"0.00"}},{"v":0,"d":"0.00"}]
[null,"Productos",null,null,{"$f":"C33+D33","v":{"v":0,"d":"0.00"}},null,null,{"$f":"G33-C33","v":{"v":0,"d":"0.00"}},{"v":0,"d":"0.00"}]
[null,"Ingresos por Ventas de Bienes, Prestación de Servicios y Otros Ingresos",{"$f":"Balanza!G832","v":{"v":0,"d":"0.00"}},{"$f":"Balanza!G1020","v":{"v":0,"d":"0.00"}},{"$f":"C34+D34","v":{"v":0,"d":"0.00"}},{"$f":"Balanza!F1114","v":{"v":0,"d":"0.00"}},{"$f":"Balanza!H1208","v":{"v":0,"d":"0.00"}},{"$f":"G34-C34","v":{"v":0,"d":"0.00"}},{"v":0,"d":"0.00"}]
[null,"Transferencias, Asignaciones, Subsidios y Subvenciones, y Pensiones y Jubilaciones",null,null,{"$f":"C35+D35","v":{"v":0,"d":"0.00"}},null,null,{"$f":"G35-C35","v":{"v":0,"d":"0.00"}},{"v":0,"d":"0.00"}]
["Ingresos Derivados de Financiamientos",null,{"$f":"C37","v":{"v":0,"d":"0.00"}},{"v":0,"d":"0.00"},{"v":0,"d":"0.00"},{"v":0,"d":"0.00"},{"v":0,"d":"0.00"},{"v":0,"d":"0.00"},{"v":0,"d":"0.00"}]
[null,"Ingresos Derivados de Financiamientos",{"$f":"Balanza!G884","v":{"v":0,"d":"0.00"}},{"$f":"Balanza!G1072","v":{"v":0,"d":"0.00"}},{"$f":"C37+D37","v":{"v":0,"d":"0.00"}},{"$f":"Balanza!F1166","v":{"v":0,"d":"0.00"}},{"$f":"Balanza!H1260","v":{"v":0,"d":"0.00"}},{"$f":"G37-C37","v":{"v":0,"d":"0.00"}},{"v":0,"d":"0.00"}]
[null,"Total",{"$f":"C22+C31+C36","v":{"v":0,"d":"0.00"}},{"v":0,"d":"0.00"},{"v":0,"d":"0.00"},{"v":0,"d":"0.00"},{"v":0,"d":"0.00"},{"v":0,"d":"0.00"}]
[{"$nulls":5},"Ingresos excedentes"]
[]
[null,"Bajo protesta de decir verdad declaramos que los Estados Financieros y sus notas, son razonablemente correctos y son responsabilidad del emisor."]
[]
[]
[null,{"$f":"Validacion!A7","v":"LIC. JOSE HERIBERTO GARCIA MURILLO"},null,{"$f":"Validacion!A9","v":"LAE BRUNO GERMAN ENCISO GUILLEN"}]
[]
[null,"Presidente Municipal o titular del ente público",null,"Encargado de la Hacienda Municipal\no Responsable de las finanzas del ente público"]

{"sheet":"F9-IDP","index":5,"n_rows":25,"n_cols":344,"rows_kept":25,"merged":[[0,0,0,8],[0,9,0,33],[0,35,0,43],[0,44,0,68],[0,70,0,78],[0,79,0,103],[0,105,0,113],[0,114,0,138],[0,140,0,148],[0,149,0,173],[0,175,0,183],[0,184,0,208],[0,210,0,218],[0,219,0,243],[0,245,0,253],[0,254,0,278],[0,280,0,288],[0,289,0,313],[0,315,0,323],[0,324,0,348],[1,0,1,8],[1,11,1,33],[1,35,1,43],[1,46,1,68],[1,70,1,78],[1,81,1,103],[1,105,1,113],[1,116,1,138],[1,140,1,148],[1,151,1,173],[1,175,1,183],[1,186,1,208],[1,210,1,218],[1,221,1,243],[1,245,1,253],[1,256,1,278],[1,280,1,288],[1,291,1,313],[1,315,1,323],[1,326,1,348],[2,0,2,8],[2,9,2,33],[2,35,2,43],[2,44,2,68],[2,70,2,78],[2,79,2,103],[2,105,2,113],[2,114,2,138],[2,140,2,148],[2,149,2,173],[2,175,2,183],[2,184,2,208],[2,210,2,218],[2,219,2,243],[2,245,2,253],[2,254,2,278],[2,280,2,288],[2,289,2,313],[2,315,2,323],[2,324,2,348],[3,0,4,8],[3,9,4,16],[3,17,3,24],[3,25,3,33],[3,35,4,43],[3,44,4,51],[3,52,3,59],[3,60,3,68],[3,70,4,78],[3,79,4,86],[3,87,3,94],[3,95,3,103],[3,105,4,113],[3,114,4,121],[3,122,3,129],[3,130,3,138],[3,140,4,148],[3,149,4,156],[3,157,3,164],[3,165,3,173],[3,175,4,183],[3,184,4,191],[3,192,3,199],[3,200,3,208],[3,210,4,218],[3,219,4,226],[3,227,3,234],[3,235,3,243],[3,245,4,253],[3,254,4,261],[3,262,3,269],[3,270,3,278],[3,280,4,288],[3,289,4,296],[3,297,3,304],[3,305,3,313],[3,315,4,323],[3,324,4,331],[3,332,3,339],[3,340,3,348],[4,17,4,24],[4,25,4,33],[4,52,4,59],[4,60,4,68],[4,87,4,94],[4,95,4,103],[4,122,4,129],[4,130,4,138],[4,157,4,164],[4,165,4,173],[4,192,4,199],[4,200,4,208],[4,227,4,234],[4,235,4,243],[4,262,4,269],[4,270,4,278],[4,297,4,304],[4,305,4,313],[4,332,4,339],[4,340,4,348],[5,0,5,16],[5,17,5,33],[5,35,5,51],[5,52,5,68],[5,70,5,86],[5,87,5,103],[5,105,5,121],[5,122,5,138],[5,140,5,156],[5,157,5,173],[5,175,5,191],[5,192,5,208],[5,210,5,226],[5,227,5,243],[5,245,5,261],[5,262,5,278],[5,280,5,296],[5,297,5,313],[5,315,5,331],[5,332,5,348],[6,0,6,16],[6,17,6,33],[6,35,6,51],[6,52,6,68],[6,70,6,86],[6,87,6,103],[6,105,6,121],[6,122,6,138],[6,140,6,156],[6,157,6,173],[6,175,6,191],[6,192,6,208],[6,210,6,226],[6,227,6,243],[6,245,6,261],[6,262,6,278],[6,280,6,296],[6,297,6,313],[6,315,6,331],[6,332,6,348],[7,0,7,33],[7,35,7,68],[7,70,7,103],[7,105,7,138],[7,140,7,173],[7,175,7,208],[7,210,7,243],[7,245,7,278],[7,280,7,313],[7,315,7,348],[8,0,8,3],[8,4,8,9],[8,16,8,21],[8,22,8,27],[8,28,8,33],[8,35,8,38],[8,39,8,44],[8,45,8,50],[8,51,8,56],[8,57,8,62],[8,63,8,68],[8,70,8,73],[8,74,8,79],[8,80,8,85],[8,86,8,91],[8,92,8,97],[8,98,8,103],[8,105,8,108],[8,109,8,114],[8,115,8,120],[8,121,8,126],[8,127,8,132],[8,133,8,138],[8,140,8,143],[8,144,8,149],[8,150,8,155],[8,156,8,161],[8,162,8,167],[8,168,8,173],[8,175,8,178],[8,179,8,184],[8,185,8,190],[8,191,8,196],[8,197,8,202],[8,203,8,208],[8,210,8,213],[8,214,8,219],[8,220,8,225],[8,226,8,231],[8,232,8,237],[8,238,8,243],[8,245,8,248],[8,249,8,254],[8,255,8,260],[8,261,8,266],[8,267,8,272],[8,273,8,278],[8,280,8,283],[8,284,8,289],[8,290,8,295],[8,296,8,301],[8,302,8,307],[8,308,8,313],[8,315,8,318],[8,319,8,324],[8,325,8,330],[8,331,8,336],[8,337,8,342],[8,343,8,348],[9,35,9,38],[9,39,9,44],[9,98,9,103],[9,175,9,178],[9,179,9,184],[9,185,9,190],[9,191,9,196],[9,197,9,202],[9,203,9,208],[9,210,9,213],[9,214,9,219],[9,220,9,225],[9,226,9,231],[9,232,9,237],[9,238,9,243],[9,245,9,248],[9,249,9,254],[9,255,9,260],[9,261,9,266],[9,267,9,272],[9,273,9,278],[9,280,9,283],[9,284,9,289],[9,290,9,295],[9,296,9,301],[9,302,9,307],[9,308,9,313],[9,315,9,318],[9,319,9,324],[9,325,9,330],[9,331,9,336],[9,337,9,342],[9,343,9,348],[10,175,10,208],[10,210,10,243],[10,245,10,278],[10,280,10,313],[10,315,10,348],[11,175,11,178],[11,179,11,184],[11,185,11,190],[11,191,11,196],[11,197,11,202],[11,203,11,208],[11,210,11,213],[11,214,11,219],[11,220,11,225],[11,226,11,231],[11,232,11,237],[11,238,11,243],[11,245,11,248],[11,249,11,254],[11,255,11,260],[11,261,11,266],[11,267,11,272],[11,273,11,278],[11,280,11,283],[11,284,11,289],[11,290,11,295],[11,296,11,301],[11,302,11,307],[11,308,11,313],[11,315,11,318],[11,319,11,324],[11,325,11,330],[11,331,11,336],[11,337,11,342],[11,343,11,348],[12,175,12,178],[12,179,12,184],[12,185,12,190],[12,191,12,196],[12,197,12,202],[12,203,12,208],[12,210,12,213],[12,214,12,219],[12,220,12,225],[12,226,12,231],[12,232,12,237],[12,238,12,243],[12,245,12,248],[12,249,12,254],[12,255,12,260],[12,261,12,266],[12,267,12,272],[12,273,12,278],[12,280,12,283],[12,284,12,289],[12,290,12,295],[12,296,12,301],[12,302,12,307],[12,308,12,313],[12,315,12,318],[12,319,12,324],[12,325,12,330],[12,331,12,336],[12,337,12,342],[12,343,12,348],[13,175,13,178],[13,179,13,184],[13,185,13,190],[13,191,13,196],[13,197,13,202],[13,203,13,208],[13,210,13,213],[13,214,13,219],[13,220,13,225],[13,226,13,231],[13,232,13,237],[13,238,13,243],[13,245,13,248],[13,249,13,254],[13,255,13,260],[13,261,13,266],[13,267,13,272],[13,273,13,278],[13,280,13,283],[13,284,13,289],[13,290,13,295],[13,296,13,301],[13,302,13,307],[13,308,13,313],[13,315,13,318],[13,319,13,324],[13,325,13,330],[13,331,13,336],[13,337,13,342],[13,343,13,348],[14,80,14,85],[14,86,14,91],[14,92,14,97],[14,98,14,103],[14,105,14,108],[14,109,14,114],[14,133,14,138],[14,140,14,143],[14,144,14,149],[14,150,14,155],[14,156,14,161],[14,162,14,167],[14,168,14,173],[14,175,14,178],[14,179,14,184],[14,185,14,190],[14,191,14,196],[14,197,14,202],[14,203,14,208],[14,210,14,213],[14,214,14,219],[14,220,14,225],[14,226,14,231],[14,232,14,237],[14,238,14,243],[14,245,14,248],[14,249,14,254],[14,255,14,260],[14,261,14,266],[14,267,14,272],[14,273,14,278],[14,280,14,283],[14,284,14,289],[14,290,14,295],[14,296,14,301],[14,302,14,307],[14,308,14,313],[14,315,14,318],[14,319,14,324],[14,325,14,330],[14,331,14,336],[14,337,14,342],[14,343,14,348],[15,0,15,3],[15,4,15,9],[15,10,15,15],[15,16,15,21],[15,22,15,27],[15,28,15,33],[15,35,15,38],[15,39,15,44],[15,45,15,50],[15,51,15,56],[15,57,15,62],[15,63,15,68],[15,70,15,73],[15,74,15,79],[15,80,15,85],[15,86,15,91],[15,92,15,97],[15,98,15,103],[15,105,15,108],[15,109,15,114],[15,115,15,120],[15,121,15,126],[15,127,15,132],[15,133,15,138],[15,140,15,143],[15,144,15,149],[15,150,15,155],[15,156,15,161],[15,162,15,167],[15,168,15,173],[15,175,15,178],[15,179,15,184],[15,185,15,190],[15,191,15,196],[15,197,15,202],[15,203,15,208],[15,210,15,213],[15,214,15,219],[15,220,15,225],[15,226,15,231],[15,232,15,237],[15,238,15,243],[15,245,15,248],[15,249,15,254],[15,255,15,260],[15,261,15,266],[15,267,15,272],[15,273,15,278],[15,280,15,283],[15,284,15,289],[15,290,15,295],[15,296,15,301],[15,302,15,307],[15,308,15,313],[15,315,15,318],[15,319,15,324],[15,325,15,330],[15,331,15,336],[15,337,15,342],[15,343,15,348],[16,0,16,3],[16,4,16,9],[16,10,16,15],[16,16,16,21],[16,22,16,27],[16,28,16,33],[16,35,16,38],[16,39,16,44],[16,45,16,50],[16,51,16,56],[16,57,16,62],[16,63,16,68],[16,70,16,73],[16,74,16,79],[16,80,16,85],[16,86,16,91],[16,92,16,97],[16,98,16,103],[16,105,16,108],[16,109,16,114],[16,115,16,120],[16,121,16,126],[16,127,16,132],[16,133,16,138],[16,140,16,143],[16,144,16,149],[16,150,16,155],[16,156,16,161],[16,162,16,167],[16,168,16,173],[16,175,16,178],[16,179,16,184],[16,185,16,190],[16,191,16,196],[16,197,16,202],[16,203,16,208],[16,210,16,213],[16,214,16,219],[16,220,16,225],[16,226,16,231],[16,232,16,237],[16,238,16,243],[16,245,16,248],[16,249,16,254],[16,255,16,260],[16,261,16,266],[16,267,16,272],[16,273,16,278],[16,280,16,283],[16,284,16,289],[16,290,16,295],[16,296,16,301],[16,302,16,307],[16,308,16,313],[16,315,16,318],[16,319,16,324],[16,325,16,330],[16,331,16,336],[16,337,16,342],[16,343,16,348],[17,0,17,3],[17,4,17,9],[17,10,17,15],[17,16,17,21],[17,22,17,27],[17,28,17,33],[17,35,17,38],[17,39,17,44],[17,45,17,50],[17,51,17,56],[17,57,17,62],[17,63,17,68],[17,70,17,73],[17,74,17,79],[17,80,17,85],[17,86,17,91],[17,92,17,97],[17,98,17,103],[17,105,17,108],[17,109,17,114],[17,115,17,120],[17,121,17,126],[17,127,17,132],[17,133,17,138],[17,140,17,143],[17,144,17,149],[17,150,17,155],[17,156,17,161],[17,162,17,167],[17,168,17,173],[17,175,17,178],[17,179,17,184],[17,185,17,190],[17,191,17,196],[17,197,17,202],[17,203,17,208],[17,210,17,213],[17,214,17,219],[17,220,17,225],[17,226,17,231],[17,232,17,237],[17,238,17,243],[17,245,17,248],[17,249,17,254],[17,255,17,260],[17,261,17,266],[17,267,17,272],[17,273,17,278],[17,280,17,283],[17,284,17,289],[17,290,17,295],[17,296,17,301],[17,302,17,307],[17,308,17,313],[17,315,17,318],[17,319,17,324],[17,325,17,330],[17,331,17,336],[17,337,17,342],[17,343,17,348],[18,0,18,3],[18,4,18,9],[18,10,18,15],[18,16,18,21],[18,22,18,27],[18,28,18,33],[18,35,18,38],[18,39,18,44],[18,45,18,50],[18,51,18,56],[18,57,18,62],[18,63,18,68],[18,70,18,73],[18,74,18,79],[18,80,18,85],[18,86,18,91],[18,92,18,97],[18,98,18,103],[18,105,18,108],[18,109,18,114],[18,115,18,120],[18,121,18,126],[18,127,18,132],[18,133,18,138],[18,140,18,143],[18,144,18,149],[18,150,18,155],[18,156,18,161],[18,162,18,167],[18,168,18,173],[18,175,18,178],[18,179,18,184],[18,185,18,190],[18,191,18,196],[18,197,18,202],[18,203,18,208],[18,210,18,213],[18,214,18,219],[18,220,18,225],[18,226,18,231],[18,232,18,237],[18,238,18,243],[18,245,18,248],[18,249,18,254],[18,255,18,260],[18,261,18,266],[18,267,18,272],[18,273,18,278],[18,280,18,283],[18,284,18,289],[18,290,18,295],[18,296,18,301],[18,302,18,307],[18,308,18,313],[18,315,18,318],[18,319,18,324],[18,325,18,330],[18,331,18,336],[18,337,18,342],[18,343,18,348],[19,0,19,3],[19,4,19,9],[19,10,19,15],[19,16,19,21],[19,22,19,27],[19,28,19,33],[19,35,19,38],[19,39,19,44],[19,45,19,50],[19,51,19,56],[19,57,19,62],[19,63,19,68],[19,70,19,73],[19,74,19,79],[19,80,19,85],[19,86,19,91],[19,92,19,97],[19,98,19,103],[19,105,19,108],[19,109,19,114],[19,115,19,120],[19,121,19,126],[19,127,19,132],[19,133,19,138],[19,140,19,143],[19,144,19,149],[19,150,19,155],[19,156,19,161],[19,162,19,167],[19,168,19,173],[19,175,19,178],[19,179,19,184],[19,185,19,190],[19,191,19,196],[19,197,19,202],[19,203,19,208],[19,210,19,213],[19,214,19,219],[19,220,19,225],[19,226,19,231],[19,232,19,237],[19,238,19,243],[19,245,19,248],[19,249,19,254],[19,255,19,260],[19,261,19,266],[19,267,19,272],[19,273,19,278],[19,280,19,283],[19,284,19,289],[19,290,19,295],[19,296,19,301],[19,302,19,307],[19,308,19,313],[19,315,19,318],[19,319,19,324],[19,325,19,330],[19,331,19,336],[19,337,19,342],[19,343,19,348],[20,0,20,3],[20,4,20,9],[20,10,20,15],[20,16,20,21],[20,22,20,27],[20,28,20,33],[20,35,20,38],[20,39,20,44],[20,45,20,50],[20,51,20,56],[20,57,20,62],[20,63,20,68],[20,70,20,73],[20,74,20,79],[20,80,20,85],[20,86,20,91],[20,92,20,97],[20,98,20,103],[20,105,20,108],[20,109,20,114],[20,115,20,120],[20,121,20,126],[20,127,20,132],[20,133,20,138],[20,140,20,143],[20,144,20,149],[20,150,20,155],[20,156,20,161],[20,162,20,167],[20,168,20,173],[20,175,20,178],[20,179,20,184],[20,185,20,190],[20,191,20,196],[20,197,20,202],[20,203,20,208],[20,210,20,213],[20,214,20,219],[20,220,20,225],[20,226,20,231],[20,232,20,237],[20,238,20,243],[20,245,20,248],[20,249,20,254],[20,255,20,260],[20,261,20,266],[20,267,20,272],[20,273,20,278],[20,280,20,283],[20,284,20,289],[20,290,20,295],[20,296,20,301],[20,302,20,307],[20,308,20,313],[20,315,20,318],[20,319,20,324],[20,325,20,330],[20,331,20,336],[20,337,20,342],[20,343,20,348],[21,0,21,3],[21,4,21,9],[21,10,21,15],[21,16,21,21],[21,22,21,27],[21,28,21,33],[21,35,21,38],[21,39,21,44],[21,45,21,50],[21,51,21,56],[21,57,21,62],[21,63,21,68],[21,70,21,73],[21,74,21,79],[21,80,21,85],[21,86,21,91],[21,92,21,97],[21,98,21,103],[21,105,21,108],[21,109,21,114],[21,115,21,120],[21,121,21,126],[21,127,21,132],[21,133,21,138],[21,140,21,143],[21,144,21,149],[21,150,21,155],[21,156,21,161],[21,162,21,167],[21,168,21,173],[21,175,21,178],[21,179,21,184],[21,185,21,190],[21,191,21,196],[21,197,21,202],[21,203,21,208],[21,210,21,213],[21,214,21,219],[21,220,21,225],[21,226,21,231],[21,232,21,237],[21,238,21,243],[21,245,21,248],[21,249,21,254],[21,255,21,260],[21,261,21,266],[21,267,21,272],[21,273,21,278],[21,280,21,283],[21,284,21,289],[21,290,21,295],[21,296,21,301],[21,302,21,307],[21,308,21,313],[21,315,21,318],[21,319,21,324],[21,325,21,330],[21,331,21,336],[21,337,21,342],[21,343,21,348],[22,0,22,3],[22,4,22,9],[22,10,22,15],[22,16,22,21],[22,22,22,27],[22,28,22,33],[22,35,22,38],[22,39,22,44],[22,45,22,50],[22,51,22,56],[22,57,22,62],[22,63,22,68],[22,70,22,73],[22,74,22,79],[22,80,22,85],[22,86,22,91],[22,92,22,97],[22,98,22,103],[22,105,22,108],[22,109,22,114],[22,115,22,120],[22,121,22,126],[22,127,22,132],[22,133,22,138],[22,140,22,143],[22,144,22,149],[22,150,22,155],[22,156,22,161],[22,162,22,167],[22,168,22,173],[22,175,22,178],[22,179,22,184],[22,185,22,190],[22,191,22,196],[22,197,22,202],[22,203,22,208],[22,210,22,213],[22,214,22,219],[22,220,22,225],[22,226,22,231],[22,232,22,237],[22,238,22,243],[22,245,22,248],[22,249,22,254],[22,255,22,260],[22,261,22,266],[22,267,22,272],[22,273,22,278],[22,280,22,283],[22,284,22,289],[22,290,22,295],[22,296,22,301],[22,302,22,307],[22,308,22,313],[22,315,22,318],[22,319,22,324],[22,325,22,330],[22,331,22,336],[22,337,22,342],[22,343,22,348],[23,0,23,3],[23,4,23,9],[23,10,23,15],[23,16,23,21],[23,22,23,27],[23,28,23,33],[23,35,23,38],[23,39,23,44],[23,45,23,50],[23,51,23,56],[23,57,23,62],[23,63,23,68],[23,70,23,73],[23,74,23,79],[23,80,23,85],[23,86,23,91],[23,92,23,97],[23,98,23,103],[23,105,23,108],[23,109,23,114],[23,115,23,120],[23,121,23,126],[23,127,23,132],[23,133,23,138],[23,140,23,143],[23,144,23,149],[23,150,23,155],[23,156,23,161],[23,162,23,167],[23,168,23,173],[23,175,23,178],[23,179,23,184],[23,185,23,190],[23,191,23,196],[23,197,23,202],[23,203,23,208],[23,210,23,213],[23,214,23,219],[23,220,23,225],[23,226,23,231],[23,232,23,237],[23,238,23,243],[23,245,23,248],[23,249,23,254],[23,255,23,260],[23,261,23,266],[23,267,23,272],[23,273,23,278],[23,280,23,283],[23,284,23,289],[23,290,23,295],[23,296,23,301],[23,302,23,307],[23,308,23,313],[23,315,23,318],[23,319,23,324],[23,325,23,330],[23,331,23,336],[23,337,23,342],[23,343,23,348],[24,0,24,3],[24,4,24,9],[24,10,24,15],[24,16,24,21],[24,22,24,27],[24,28,24,33],[24,35,24,38],[24,39,24,44],[24,45,24,50],[24,51,24,56],[24,57,24,62],[24,63,24,68],[24,70,24,73],[24,74,24,79],[24,80,24,85],[24,86,24,91],[24,92,24,97],[24,98,24,103],[24,105,24,108],[24,109,24,114],[24,115,24,120],[24,121,24,126],[24,127,24,132],[24,133,24,138],[24,140,24,143],[24,144,24,149],[24,150,24,155],[24,156,24,161],[24,162,24,167],[24,168,24,173],[24,175,24,178],[24,179,24,184],[24,185,24,190],[24,191,24,196],[24,197,24,202],[24,203,24,208],[24,210,24,213],[24,214,24,219],[24,220,24,225],[24,226,24,231],[24,232,24,237],[24,238,24,243],[24,245,24,248],[24,249,24,254],[24,255,24,260],[24,261,24,266],[24,267,24,272],[24,273,24,278],[24,280,24,283],[24,284,24,289],[24,290,24,295],[24,296,24,301],[24,302,24,307],[24,308,24,313],[24,315,24,318],[24,319,24,324],[24,325,24,330],[24,331,24,336],[24,337,24,342],[24,343,24,348]],"merged_total":1140,"flags":["merged_cut"]}
["CONCEPTO",{"$nulls":8},"No. 1",{"$nulls":25},"CONCEPTO",{"$nulls":8},"No. 2",{"$nulls":25},"CONCEPTO",{"$nulls":8},"No. 3",{"$nulls":25},"CONCEPTO",{"$nulls":8},"No. 4",{"$nulls":25},"CONCEPTO",{"$nulls":8},"No. 5",{"$nulls":25},"CONCEPTO",{"$nulls":8},"No. 6",{"$nulls":25},"CONCEPTO",{"$nulls":8},"No. 7",{"$nulls":25},"CONCEPTO",{"$nulls":8},"No. 8",{"$nulls":25},"CONCEPTO",{"$nulls":8},"No. 9",{"$nulls":25},"CONCEPTO",{"$nulls":8},"No. 10"]
["TIPO DE OBLIGACIÓN:",{"$nulls":8},{"$f":"IF(L2=\"Institución de crédito\",\"1\",IF(L2=\"Títulos y valores\",\"2\",IF(L2=\"Arrendamiento financiero\",\"3\",\"\")))","v":"1"},{"$f":"IF(L2>0,\".-\",\"\")","v":".-"},"Institución de crédito",{"$nulls":23},"TIPO DE OBLIGACIÓN:",{"$nulls":8},{"$f":"IF(AU2=\"Institución de crédito\",\"1\",IF(AU2=\"Títulos y valores\",\"2\",IF(AU2=\"Arrendamiento financiero\",\"3\",\"\")))","v":""},{"$f":"IF(AU2>0,\".-\",\"\")","v":""},{"$nulls":24},"TIPO DE OBLIGACIÓN:",{"$nulls":8},{"$f":"IF(CD2=\"Institución de crédito\",\"1\",IF(CD2=\"Títulos y valores\",\"2\",IF(CD2=\"Arrendamiento financiero\",\"3\",\"\")))","v":""},{"$f":"IF(CD2>0,\".-\",\"\")","v":""},{"$nulls":24},"TIPO DE OBLIGACIÓN:",{"$nulls":8},{"$f":"IF(DM2=\"Institución de crédito\",\"1\",IF(DM2=\"Títulos y valores\",\"2\",IF(DM2=\"Arrendamiento financiero\",\"3\",\"\")))","v":""},{"$f":"IF(DM2>0,\".-\",\"\")","v":""},{"$nulls":24},"TIPO DE OBLIGACIÓN:",{"$nulls":8},{"$f":"IF(EV2=\"Institución de crédito\",\"1\",IF(EV2=\"Títulos y valores\",\"2\",IF(EV2=\"Arrendamiento financiero\",\"3\",\"\")))","v":""},{"$f":"IF(EV2>0,\".-\",\"\")","v":""},{"$nulls":24},"TIPO DE OBLIGACIÓN:",{"$nulls":8},{"$f":"IF(GE2=\"Institución de crédito\",\"1\",IF(GE2=\"Títulos y valores\",\"2\",IF(GE2=\"Arrendamiento financiero\",\"3\",\"\")))","v":""},{"$f":"IF(GE2>0,\".-\",\"\")","v":""},{"$nulls":24},"TIPO DE OBLIGACIÓN:",{"$nulls":8},{"$f":"IF(HN2=\"Institución de crédito\",\"1\",IF(HN2=\"Títulos y valores\",\"2\",IF(HN2=\"Arrendamiento financiero\",\"3\",\"\")))","v":""},{"$f":"IF(HN2>0,\".-\",\"\")","v":""},{"$nulls":24},"TIPO DE OBLIGACIÓN:",{"$nulls":8},{"$f":"IF(IW2=\"Institución de crédito\",\"1\",IF(IW2=\"Títulos y valores\",\"2\",IF(IW2=\"Arrendamiento financiero\",\"3\",\"\")))","v":""},{"$f":"IF(IW2>0,\".-\",\"\")","v":""},{"$nulls":24},"TIPO DE OBLIGACIÓN:",{"$nulls":8},{"$f":"IF(KF2=\"Institución de crédito\",\"1\",IF(KF2=\"Títulos y valores\",\"2\",IF(KF2=\"Arrendamiento financiero\",\"3\",\"\")))","v":""},{"$f":"IF(KF2>0,\".-\",\"\")","v":""},{"$nulls":24},"TIPO DE OBLIGACIÓN:",{"$nulls":8},{"$f":"IF(LO2=\"Institución de crédito\",\"1\",IF(LO2=\"Títulos y valores\",\"2\",IF(LO2=\"Arrendamiento financiero\",\"3\",\"\")))","v":""},{"$f":"IF(LO2>0,\".-\",\"\")","v":""}]
["NOMBRE DEL ACREEDOR:",{"$nulls":8},"Banco Nacional de Obras y Servicos Publicos S.N.C.",{"$nulls":25},"NOMBRE DEL ACREEDOR:",{"$nulls":34},"NOMBRE DEL ACREEDOR:",{"$nulls":34},"NOMBRE DEL ACREEDOR:",{"$nulls":34},"NOMBRE DEL ACREEDOR:",{"$nulls":34},"NOMBRE DEL ACREEDOR:",{"$nulls":34},"NOMBRE DEL ACREEDOR:",{"$nulls":34},"NOMBRE DEL ACREEDOR:",{"$nulls":34},"NOMBRE DEL ACREEDOR:",{"$nulls":34},"NOMBRE DEL ACREEDOR:"]
["MONTO DISPUESTO:",{"$nulls":8},{"v":32522957.76,"d":"$32,522,957.76"},{"$nulls":7},"FECHA DE INICIO:",{"$nulls":7},"03 de enero 2018",{"$nulls":9},"MONTO DISPUESTO:",{"$nulls":16},"FECHA DE INICIO:",{"$nulls":17},"MONTO DISPUESTO:",{"$nulls":16},"FECHA DE INICIO:",{"$nulls":17},"MONTO DISPUESTO:",{"$nulls":16},"FECHA DE INICIO:",{"$nulls":17},"MONTO DISPUESTO:",{"$nulls":16},"FECHA DE INICIO:",{"$nulls":17},"MONTO DISPUESTO:",{"$nulls":16},"FECHA DE INICIO:",{"$nulls":17},"MONTO DISPUESTO:",{"$nulls":16},"FECHA DE INICIO:",{"$nulls":17},"MONTO DISPUESTO:",{"$nulls":16},"FECHA DE INICIO:",{"$nulls":17},"MONTO DISPUESTO:",{"$nulls":16},"FECHA DE INICIO:",{"$nulls":17},"MONTO DISPUESTO:",{"$nulls":16},"FECHA DE INICIO:"]
[{"$nulls":17},"FECHA DE VENCIMIENTO:",{"$nulls":7},"31 de diciembre 2037",{"$nulls":26},"FECHA DE VENCIMIENTO:",{"$nulls":34},"FECHA DE VENCIMIENTO:",{"$nulls":34},"FECHA DE VENCIMIENTO:",{"$nulls":34},"FECHA DE VENCIMIENTO:",{"$nulls":34},"FECHA DE VENCIMIENTO:",{"$nulls":34},"FECHA DE VENCIMIENTO:",{"$nulls":34},"FECHA DE VENCIMIENTO:",{"$nulls":34},"FECHA DE VENCIMIENTO:",{"$nulls":34},"FECHA DE VENCIMIENTO:"]
[{"$f":"\"SALDO AL 1° DE ENERO DE \"&Validacion!$F$185&\" A CORTO PLAZO:\"","v":"SALDO AL 1° DE ENERO DE 2026 A CORTO PLAZO:"},{"$nulls":16},{"v":920608.54,"d":"$920,608.54"},{"$nulls":17},{"$f":"\"SALDO AL 1° DE ENERO DE \"&Validacion!$F$185&\" A CORTO PLAZO:\"","v":"SALDO AL 1° DE ENERO DE 2026 A CORTO PLAZO:"},{"$nulls":34},{"$f":"\"SALDO AL 1° DE ENERO DE \"&Validacion!$F$185&\" A CORTO PLAZO:\"","v":"SALDO AL 1° DE ENERO DE 2026 A CORTO PLAZO:"},{"$nulls":34},{"$f":"\"SALDO AL 1° DE ENERO DE \"&Validacion!$F$185&\" A CORTO PLAZO:\"","v":"SALDO AL 1° DE ENERO DE 2026 A CORTO PLAZO:"},{"$nulls":34},{"$f":"\"SALDO AL 1° DE ENERO DE \"&Validacion!$F$185&\" A CORTO PLAZO:\"","v":"SALDO AL 1° DE ENERO DE 2026 A CORTO PLAZO:"},{"$nulls":34},{"$f":"\"SALDO AL 1° DE ENERO DE \"&Validacion!$F$185&\" A CORTO PLAZO:\"","v":"SALDO AL 1° DE ENERO DE 2026 A CORTO PLAZO:"},{"$nulls":34},{"$f":"\"SALDO AL 1° DE ENERO DE \"&Validacion!$F$185&\" A CORTO PLAZO:\"","v":"SALDO AL 1° DE ENERO DE 2026 A CORTO PLAZO:"},{"$nulls":34},{"$f":"\"SALDO AL 1° DE ENERO DE \"&Validacion!$F$185&\" A CORTO PLAZO:\"","v":"SALDO AL 1° DE ENERO DE 2026 A CORTO PLAZO:"},{"$nulls":34},{"$f":"\"SALDO AL 1° DE ENERO DE \"&Validacion!$F$185&\" A CORTO PLAZO:\"","v":"SALDO AL 1° DE ENERO DE 2026 A CORTO PLAZO:"},{"$nulls":34},{"$f":"\"SALDO AL 1° DE ENERO DE \"&Validacion!$F$185&\" A CORTO PLAZO:\"","v":"SALDO AL 1° DE ENERO DE 2026 A CORTO PLAZO:"}]
[{"$f":"\"SALDO AL 1° DE ENERO DE \"&Validacion!$F$185&\" A LARGO PLAZO:\"","v":"SALDO AL 1° DE ENERO DE 2026 A LARGO PLAZO:"},{"$nulls":16},{"v":27613307.72,"d":"$27,613,307.72"},{"$nulls":17},{"$f":"\"SALDO AL 1° DE ENERO DE \"&Validacion!$F$185&\" A LARGO PLAZO:\"","v":"SALDO AL 1° DE ENERO DE 2026 A LARGO PLAZO:"},{"$nulls":34},{"$f":"\"SALDO AL 1° DE ENERO DE \"&Validacion!$F$185&\" A LARGO PLAZO:\"","v":"SALDO AL 1° DE ENERO DE 2026 A LARGO PLAZO:"},{"$nulls":34},{"$f":"\"SALDO AL 1° DE ENERO DE \"&Validacion!$F$185&\" A LARGO PLAZO:\"","v":"SALDO AL 1° DE ENERO DE 2026 A LARGO PLAZO:"},{"$nulls":34},{"$f":"\"SALDO AL 1° DE ENERO DE \"&Validacion!$F$185&\" A LARGO PLAZO:\"","v":"SALDO AL 1° DE ENERO DE 2026 A LARGO PLAZO:"},{"$nulls":34},{"$f":"\"SALDO AL 1° DE ENERO DE \"&Validacion!$F$185&\" A LARGO PLAZO:\"","v":"SALDO AL 1° DE ENERO DE 2026 A LARGO PLAZO:"},{"$nulls":34},{"$f":"\"SALDO AL 1° DE ENERO DE \"&Validacion!$F$185&\" A LARGO PLAZO:\"","v":"SALDO AL 1° DE ENERO DE 2026 A LARGO PLAZO:"},{"$nulls":34},{"$f":"\"SALDO AL 1° DE ENERO DE \"&Validacion!$F$185&\" A LARGO PLAZO:\"","v":"SALDO AL 1° DE ENERO DE 2026 A LARGO PLAZO:"},{"$nulls":34},{"$f":"\"SALDO AL 1° DE ENERO DE \"&Validacion!$F$185&\" A LARGO PLAZO:\"","v":"SALDO AL 1° DE ENERO DE 2026 A LARGO PLAZO:"},{"$nulls":34},{"$f":"\"SALDO AL 1° DE ENERO DE \"&Validacion!$F$185&\" A LARGO PLAZO:\"","v":"SALDO AL 1° DE ENERO DE 2026 A LARGO PLAZO:"}]
["OBLIGACIONES A LARGO PLAZO",{"$nulls":34},"OBLIGACIONES A LARGO PLAZO",{"$nulls":34},"OBLIGACIONES A LARGO PLAZO",{"$nulls":34},"OBLIGACIONES A LARGO PLAZO",{"$nulls":34},"OBLIGACIONES A LARGO PLAZO",{"$nulls":34},"OBLIGACIONES A LARGO PLAZO",{"$nulls":34},"OBLIGACIONES A LARGO PLAZO",{"$nulls":34},"OBLIGACIONES A LARGO PLAZO",{"$nulls":34},"OBLIGACIONES A LARGO PLAZO",{"$nulls":34},"OBLIGACIONES A LARGO PLAZO"]
["CONCEPTO",{"$nulls":3},"DISPOSICIÓN",{"$nulls":5},"AMORTIZACIÓN",{"$nulls":5},"REVALUACIONES",{"$nulls":5},"INTERÉS",{"$nulls":5},"COMISIONES",{"$nulls":6},"CONCEPTO",{"$nulls":3},"DISPOSICIÓN",{"$nulls":5},"AMORTIZACIÓN",{"$nulls":5},"REVALUACIONES",{"$nulls":5},"INTERÉS",{"$nulls":5},"COMISIONES",{"$nulls":6},"CONCEPTO",{"$nulls":3},"DISPOSICIÓN",{"$nulls":5},"AMORTIZACIÓN",{"$nulls":5},"REVALUACIONES",{"$nulls":5},"INTERÉS",{"$nulls":5},"COMISIONES",{"$nulls":6},"CONCEPTO",{"$nulls":3},"DISPOSICIÓN",{"$nulls":5},"AMORTIZACIÓN",{"$nulls":5},"REVALUACIONES",{"$nulls":5},"INTERÉS",{"$nulls":5},"COMISIONES",{"$nulls":6},"CONCEPTO",{"$nulls":3},"DISPOSICIÓN",{"$nulls":5},"AMORTIZACIÓN",{"$nulls":5},"REVALUACIONES",{"$nulls":5},"INTERÉS",{"$nulls":5},"COMISIONES",{"$nulls":6},"CONCEPTO",{"$nulls":3},"DISPOSICIÓN",{"$nulls":5},"AMORTIZACIÓN",{"$nulls":5},"REVALUACIONES",{"$nulls":5},"INTERÉS",{"$nulls":5},"COMISIONES",{"$nulls":6},"CONCEPTO",{"$nulls":3},"DISPOSICIÓN",{"$nulls":5},"AMORTIZACIÓN",{"$nulls":5},"REVALUACIONES",{"$nulls":5},"INTERÉS",{"$nulls":5},"COMISIONES",{"$nulls":6},"CONCEPTO",{"$nulls":3},"DISPOSICIÓN",{"$nulls":5},"AMORTIZACIÓN",{"$nulls":5},"REVALUACIONES",{"$nulls":5},"INTERÉS",{"$nulls":5},"COMISIONES",{"$nulls":6},"CONCEPTO",{"$nulls":3},"DISPOSICIÓN",{"$nulls":5},"AMORTIZACIÓN",{"$nulls":5},"REVALUACIONES",{"$nulls":5},"INTERÉS",{"$nulls":5},"COMISIONES",{"$nulls":6},"CONCEPTO",{"$nulls":3},"DISPOSICIÓN",{"$nulls":5},"AMORTIZACIÓN",{"$nulls":5},"REVALUACIONES",{"$nulls":5},"INTERÉS",{"$nulls":5},"COMISIONES"]
["Largo Plazo",{"$nulls":34},"Largo Plazo",{"$nulls":34},"Largo Plazo",{"$nulls":34},"Largo Plazo",{"$nulls":34},"Largo Plazo",{"$nulls":34},"Largo Plazo",{"$nulls":34},"Largo Plazo",{"$nulls":34},"Largo Plazo",{"$nulls":34},"Largo Plazo",{"$nulls":34},"Largo Plazo"]
["OBLIGACIONES A CORTO PLAZO",{"$nulls":34},"OBLIGACIONES A CORTO PLAZO",{"$nulls":34},"OBLIGACIONES A CORTO PLAZO",{"$nulls":34},"OBLIGACIONES A CORTO PLAZO",{"$nulls":34},"OBLIGACIONES A CORTO PLAZO",{"$nulls":34},"OBLIGACIONES A CORTO PLAZO",{"$nulls":34},"OBLIGACIONES A CORTO PLAZO",{"$nulls":34},"OBLIGACIONES A CORTO PLAZO",{"$nulls":34},"OBLIGACIONES A CORTO PLAZO",{"$nulls":34},"OBLIGACIONES A CORTO PLAZO"]
["MES",{"$nulls":3},"DISPOSICIÓN",{"$nulls":5},"AMORTIZACIÓN",{"$nulls":5},"REVALUACIONES",{"$nulls":5},"INTERÉS",{"$nulls":5},"COMISIONES",{"$nulls":6},"MES",{"$nulls":3},"DISPOSICIÓN",{"$nulls":5},"AMORTIZACIÓN",{"$nulls":5},"REVALUACIONES",{"$nulls":5},"INTERÉS",{"$nulls":5},"COMISIONES",{"$nulls":6},"MES",{"$nulls":3},"DISPOSICIÓN",{"$nulls":5},"AMORTIZACIÓN",{"$nulls":5},"REVALUACIONES",{"$nulls":5},"INTERÉS",{"$nulls":5},"COMISIONES",{"$nulls":6},"MES",{"$nulls":3},"DISPOSICIÓN",{"$nulls":5},"AMORTIZACIÓN",{"$nulls":5},"REVALUACIONES",{"$nulls":5},"INTERÉS",{"$nulls":5},"COMISIONES",{"$nulls":6},"MES",{"$nulls":3},"DISPOSICIÓN",{"$nulls":5},"AMORTIZACIÓN",{"$nulls":5},"REVALUACIONES",{"$nulls":5},"INTERÉS",{"$nulls":5},"COMISIONES",{"$nulls":6},"MES",{"$nulls":3},"DISPOSICIÓN",{"$nulls":5},"AMORTIZACIÓN",{"$nulls":5},"REVALUACIONES",{"$nulls":5},"INTERÉS",{"$nulls":5},"COMISIONES",{"$nulls":6},"MES",{"$nulls":3},"DISPOSICIÓN",{"$nulls":5},"AMORTIZACIÓN",{"$nulls":5},"REVALUACIONES",{"$nulls":5},"INTERÉS",{"$nulls":5},"COMISIONES",{"$nulls":6},"MES",{"$nulls":3},"DISPOSICIÓN",{"$nulls":5},"AMORTIZACIÓN",{"$nulls":5},"REVALUACIONES",{"$nulls":5},"INTERÉS",{"$nulls":5},"COMISIONES",{"$nulls":6},"MES",{"$nulls":3},"DISPOSICIÓN",{"$nulls":5},"AMORTIZACIÓN",{"$nulls":5},"REVALUACIONES",{"$nulls":5},"INTERÉS",{"$nulls":5},"COMISIONES",{"$nulls":6},"MES",{"$nulls":3},"DISPOSICIÓN",{"$nulls":5},"AMORTIZACIÓN",{"$nulls":5},"REVALUACIONES",{"$nulls":5},"INTERÉS",{"$nulls":5},"COMISIONES"]
["ENE",{"$nulls":9},{"v":71584.97,"d":"71,584.97"},{"$nulls":11},{"v":238466.34,"d":"238,466.34"},{"$nulls":12},"ENE",{"$nulls":34},"ENE",{"$nulls":34},"ENE",{"$nulls":34},"ENE",{"$nulls":34},"ENE",{"$nulls":34},"ENE",{"$nulls":34},"ENE",{"$nulls":34},"ENE",{"$nulls":34},"ENE"]
["FEB",{"$nulls":34},"FEB",{"$nulls":34},"FEB",{"$nulls":34},"FEB",{"$nulls":34},"FEB",{"$nulls":34},"FEB",{"$nulls":34},"FEB",{"$nulls":34},"FEB",{"$nulls":34},"FEB",{"$nulls":34},"FEB"]
["MAR",{"$nulls":34},"MAR",{"$nulls":34},"MAR",{"$nulls":34},"MAR",{"$nulls":34},"MAR",{"$nulls":34},"MAR",{"$nulls":34},"MAR",{"$nulls":34},"MAR",{"$nulls":34},"MAR",{"$nulls":34},"MAR"]
["ABR",{"$nulls":34},"ABR",{"$nulls":34},"ABR",{"$nulls":34},"ABR",{"$nulls":34},"ABR",{"$nulls":34},"ABR",{"$nulls":34},"ABR",{"$nulls":34},"ABR",{"$nulls":34},"ABR",{"$nulls":34},"ABR"]
["MAY",{"$nulls":34},"MAY",{"$nulls":34},"MAY",{"$nulls":34},"MAY",{"$nulls":34},"MAY",{"$nulls":34},"MAY",{"$nulls":34},"MAY",{"$nulls":34},"MAY",{"$nulls":34},"MAY",{"$nulls":34},"MAY"]
["JUN",{"$nulls":34},"JUN",{"$nulls":34},"JUN",{"$nulls":34},"JUN",{"$nulls":34},"JUN",{"$nulls":34},"JUN",{"$nulls":34},"JUN",{"$nulls":34},"JUN",{"$nulls":34},"JUN",{"$nulls":34},"JUN"]
["JUL",{"$nulls":34},"JUL",{"$nulls":34},"JUL",{"$nulls":34},"JUL",{"$nulls":34},"JUL",{"$nulls":34},"JUL",{"$nulls":34},"JUL",{"$nulls":34},"JUL",{"$nulls":34},"JUL",{"$nulls":34},"JUL"]
["AGO",{"$nulls":34},"AGO",{"$nulls":34},"AGO",{"$nulls":34},"AGO",{"$nulls":34},"AGO",{"$nulls":34},"AGO",{"$nulls":34},"AGO",{"$nulls":34},"AGO",{"$nulls":34},"AGO",{"$nulls":34},"AGO"]
["SEP",{"$nulls":34},"SEP",{"$nulls":34},"SEP",{"$nulls":34},"SEP",{"$nulls":34},"SEP",{"$nulls":34},"SEP",{"$nulls":34},"SEP",{"$nulls":34},"SEP",{"$nulls":34},"SEP",{"$nulls":34},"SEP"]
["OCT",{"$nulls":34},"OCT",{"$nulls":34},"OCT",{"$nulls":34},"OCT",{"$nulls":34},"OCT",{"$nulls":34},"OCT",{"$nulls":34},"OCT",{"$nulls":34},"OCT",{"$nulls":34},"OCT",{"$nulls":34},"OCT"]
["NOV",{"$nulls":34},"NOV",{"$nulls":34},"NOV",{"$nulls":34},"NOV",{"$nulls":34},"NOV",{"$nulls":34},"NOV",{"$nulls":34},"NOV",{"$nulls":34},"NOV",{"$nulls":34},"NOV",{"$nulls":34},"NOV"]
["DIC",{"$nulls":34},"DIC",{"$nulls":34},"DIC",{"$nulls":34},"DIC",{"$nulls":34},"DIC",{"$nulls":34},"DIC",{"$nulls":34},"DIC",{"$nulls":34},"DIC",{"$nulls":34},"DIC",{"$nulls":34},"DIC"]
["SUMA",{"$nulls":3},{"$f":"SUM(E13:J24)","v":{"v":0,"d":"0.00"}},{"$nulls":5},{"$f":"SUM(K13:P24)","v":{"v":71584.97,"d":"71,584.97"}},{"$nulls":5},{"$f":"SUM(Q13:V24)","v":{"v":0,"d":"0.00"}},{"$nulls":5},{"$f":"SUM(W13:AB24)","v":{"v":238466.34,"d":"238,466.34"}},{"$nulls":5},{"$f":"SUM(AC13:AH24)","v":{"v":0,"d":"0.00"}},{"$nulls":6},"SUMA",{"$nulls":3},{"$f":"SUM(AN13:AS24)","v":{"v":0,"d":"0.00"}},{"$nulls":5},{"$f":"SUM(AT13:AY24)","v":{"v":0,"d":"0.00"}},{"$nulls":5},{"$f":"SUM(AZ13:BE24)","v":{"v":0,"d":"0.00"}},{"$nulls":5},{"$f":"SUM(BF13:BK24)","v":{"v":0,"d":"0.00"}},{"$nulls":5},{"$f":"SUM(BL13:BQ24)","v":{"v":0,"d":"0.00"}},{"$nulls":6},"SUMA",{"$nulls":3},{"$f":"SUM(BW13:CB24)","v":{"v":0,"d":"0.00"}},{"$nulls":5},{"$f":"SUM(CC13:CH24)","v":{"v":0,"d":"0.00"}},{"$nulls":5},{"$f":"SUM(CI13:CN24)","v":{"v":0,"d":"0.00"}},{"$nulls":5},{"$f":"SUM(CO13:CT24)","v":{"v":0,"d":"0.00"}},{"$nulls":5},{"$f":"SUM(CU13:CZ24)","v":{"v":0,"d":"0.00"}},{"$nulls":6},"SUMA",{"$nulls":3},{"$f":"SUM(DF13:DK24)","v":{"v":0,"d":"0.00"}},{"$nulls":5},{"$f":"SUM(DL13:DQ24)","v":{"v":0,"d":"0.00"}},{"$nulls":5},{"$f":"SUM(DR13:DW24)","v":{"v":0,"d":"0.00"}},{"$nulls":5},{"$f":"SUM(DX13:EC24)","v":{"v":0,"d":"0.00"}},{"$nulls":5},{"$f":"SUM(ED13:EI24)","v":{"v":0,"d":"0.00"}},{"$nulls":6},"SUMA",{"$nulls":3},{"$f":"SUM(EO13:ET24)","v":{"v":0,"d":"0.00"}},{"$nulls":5},{"$f":"SUM(EU13:EZ24)","v":{"v":0,"d":"0.00"}},{"$nulls":5},{"$f":"SUM(FA13:FF24)","v":{"v":0,"d":"0.00"}},{"$nulls":5},{"$f":"SUM(FG13:FL24)","v":{"v":0,"d":"0.00"}},{"$nulls":5},{"$f":"SUM(FM13:FR24)","v":{"v":0,"d":"0.00"}},{"$nulls":6},"SUMA",{"$nulls":3},{"$f":"SUM(FX13:GC24)","v":{"v":0,"d":"0.00"}},{"$nulls":5},{"$f":"SUM(GD13:GI24)","v":{"v":0,"d":"0.00"}},{"$nulls":5},{"$f":"SUM(GJ13:GO24)","v":{"v":0,"d":"0.00"}},{"$nulls":5},{"$f":"SUM(GP13:GU24)","v":{"v":0,"d":"0.00"}},{"$nulls":5},{"$f":"SUM(GV13:HA24)","v":{"v":0,"d":"0.00"}},{"$nulls":6},"SUMA",{"$nulls":3},{"$f":"SUM(HG13:HL24)","v":{"v":0,"d":"0.00"}},{"$nulls":5},{"$f":"SUM(HM13:HR24)","v":{"v":0,"d":"0.00"}},{"$nulls":5},{"$f":"SUM(HS13:HX24)","v":{"v":0,"d":"0.00"}},{"$nulls":5},{"$f":"SUM(HY13:ID24)","v":{"v":0,"d":"0.00"}},{"$nulls":5},{"$f":"SUM(IE13:IJ24)","v":{"v":0,"d":"0.00"}},{"$nulls":6},"SUMA",{"$nulls":3},{"$f":"SUM(IP13:IU24)","v":{"v":0,"d":"0.00"}},{"$nulls":5},{"$f":"SUM(IV13:JA24)","v":{"v":0,"d":"0.00"}},{"$nulls":5},{"$f":"SUM(JB13:JG24)","v":{"v":0,"d":"0.00"}},{"$nulls":5},{"$f":"SUM(JH13:JM24)","v":{"v":0,"d":"0.00"}},{"$nulls":5},{"$f":"SUM(JN13:JS24)","v":{"v":0,"d":"0.00"}},{"$nulls":6},"SUMA",{"$nulls":3},{"$f":"SUM(JY13:KD24)","v":{"v":0,"d":"0.00"}},{"$nulls":5},{"$f":"SUM(KE13:KJ24)","v":{"v":0,"d":"0.00"}},{"$nulls":5},{"$f":"SUM(KK13:KP24)","v":{"v":0,"d":"0.00"}},{"$nulls":5},{"$f":"SUM(KQ13:KV24)","v":{"v":0,"d":"0.00"}},{"$nulls":5},{"$f":"SUM(KW13:LB24)","v":{"v":0,"d":"0.00"}},{"$nulls":6},"SUMA",{"$nulls":3},{"$f":"SUM(LH13:LM24)","v":{"v":0,"d":"0.00"}},{"$nulls":5},{"$f":"SUM(LN13:LS24)","v":{"v":0,"d":"0.00"}},{"$nulls":5},{"$f":"SUM(LT13:LY24)","v":{"v":0,"d":"0.00"}},{"$nulls":5},{"$f":"SUM(LZ13:ME24)","v":{"v":0,"d":"0.00"}},{"$nulls":5},{"$f":"SUM(MF13:MK24)","v":{"v":0,"d":"0.00"}}]

{"sheet":"F9-EDP","index":6,"n_rows":58,"n_cols":56,"rows_kept":58,"merged":[[0,0,0,61],[1,0,1,61],[2,0,2,61],[3,0,3,61],[4,0,7,12],[4,13,7,19],[4,20,7,26],[4,27,7,33],[4,34,7,40],[4,41,7,47],[4,48,7,54],[4,55,7,61],[9,0,9,12],[9,13,9,19],[9,20,9,26],[9,27,9,33],[9,34,9,40],[9,41,9,47],[9,48,9,54],[9,55,9,61],[10,1,10,12],[10,13,10,19],[10,20,10,26],[10,27,10,33],[10,34,10,40],[10,41,10,47],[10,48,10,54],[10,55,10,61],[11,2,11,12],[11,13,11,19],[11,20,11,26],[11,27,11,33],[11,34,11,40],[11,41,11,47],[11,48,11,54],[11,55,11,61],[12,2,12,12],[12,13,12,19],[12,20,12,26],[12,27,12,33],[12,34,12,40],[12,41,12,47],[12,48,12,54],[12,55,12,61],[13,2,13,12],[13,13,13,19],[13,20,13,26],[13,27,13,33],[13,34,13,40],[13,41,13,47],[13,48,13,54],[13,55,13,61],[14,1,14,12],[14,13,14,19],[14,20,14,26],[14,27,14,33],[14,34,14,40],[14,41,14,47],[14,48,14,54],[14,55,14,61],[15,2,15,12],[15,13,15,19],[15,20,15,26],[15,27,15,33],[15,34,15,40],[15,41,15,47],[15,48,15,54],[15,55,15,61],[16,2,16,12],[16,13,16,19],[16,20,16,26],[16,27,16,33],[16,34,16,40],[16,41,16,47],[16,48,16,54],[16,55,16,61],[17,2,17,12],[17,13,17,19],[17,20,17,26],[17,27,17,33],[17,34,17,40],[17,41,17,47],[17,48,17,54],[17,55,17,61],[18,0,18,12],[18,13,18,19],[18,20,18,26],[18,27,18,33],[18,34,18,40],[18,41,18,47],[18,48,18,54],[18,55,18,61],[19,0,19,12],[19,13,19,19],[19,20,19,26],[19,27,19,33],[19,34,19,40],[19,41,19,47],[19,48,19,54],[19,55,19,61],[22,1,22,12],[22,13,22,19],[22,20,22,26],[22,27,22,33],[22,34,22,40],[22,41,22,47],[22,48,22,54],[22,55,22,61],[23,1,23,12],[23,13,23,19],[23,20,23,26],[23,27,23,33],[23,34,23,40],[23,41,23,47],[23,48,23,54],[23,55,23,61],[24,1,24,12],[24,13,24,19],[24,20,24,26],[24,27,24,33],[24,34,24,40],[24,41,24,47],[24,48,24,54],[24,55,24,61],[25,1,25,12],[25,13,25,19],[25,20,25,26],[25,27,25,33],[25,34,25,40],[25,41,25,47],[25,48,25,54],[25,55,25,61],[26,0,26,12],[27,1,27,12],[27,13,27,19],[27,20,27,26],[27,27,27,33],[27,34,27,40],[27,41,27,47],[27,48,27,54],[27,55,27,61],[28,1,28,12],[28,13,28,19],[28,20,28,26],[28,27,28,33],[28,34,28,40],[28,41,28,47],[28,48,28,54],[28,55,28,61],[29,1,29,12],[29,13,29,19],[29,20,29,26],[29,27,29,33],[29,34,29,40],[29,41,29,47],[29,48,29,54],[29,55,29,61],[30,1,30,12],[30,13,30,19],[30,20,30,26],[30,27,30,33],[30,34,30,40],[30,41,30,47],[30,48,30,54],[30,55,30,61],[31,0,32,12],[31,13,32,22],[31,23,32,32],[31,33,32,42],[31,43,32,52],[31,53,32,61],[33,13,33,22],[33,23,33,32],[33,33,33,42],[33,43,33,52],[33,53,33,61],[34,1,34,12],[34,13,34,22],[34,23,34,32],[34,33,34,42],[34,43,34,52],[34,53,34,61],[35,1,35,12],[35,13,35,22],[35,23,35,32],[35,33,35,42],[35,43,35,52],[35,53,35,61],[36,1,36,12],[36,13,36,22],[36,23,36,32],[36,33,36,42],[36,43,36,52],[36,53,36,61],[37,1,37,12],[37,13,37,22],[37,23,37,32],[37,33,37,42],[37,43,37,52],[37,53,37,61],[38,1,38,12],[38,13,38,22],[38,23,38,32],[38,33,38,42],[38,43,38,52],[38,53,38,61],[39,1,39,12],[39,13,39,22],[39,23,39,32],[39,33,39,42],[39,43,39,52],[39,53,39,61],[40,1,40,12],[40,13,40,22],[40,23,40,32],[40,33,40,42],[40,43,40,52],[40,53,40,61],[41,13,42,22],[41,23,42,32],[41,33,42,42],[41,43,42,52],[41,53,42,61],[43,1,43,12],[43,13,43,22],[43,23,43,32],[43,33,43,42],[43,43,43,52],[43,53,43,61],[44,1,44,12],[44,13,44,22],[44,23,44,32],[44,33,44,42],[44,43,44,52],[44,53,44,61],[45,1,45,12],[45,13,45,22],[45,23,45,32],[45,33,45,42],[45,43,45,52],[45,53,45,61],[46,1,46,12],[46,13,46,22],[46,23,46,32],[46,33,46,42],[46,43,46,52],[46,53,46,61],[47,1,47,12],[47,13,47,22],[47,23,47,32],[47,33,47,42],[47,43,47,52],[47,53,47,61],[48,1,48,12],[48,13,48,22],[48,23,48,32],[48,33,48,42],[48,43,48,52],[48,53,48,61],[55,5,55,24],[55,32,55,52],[56,5,56,24],[56,32,56,52],[57,21,58,37]]}
["MUNICIPIO IXTLAHUACÁN DE LOS MEMBRILLOS"]
["Informe Analítico de la Deuda Pública y Otros Pasivos - LDF"]
["DEL 1° DE ENERO AL 31 DE ENERO DE 2026"]
["(PESOS)"]
["Denominación de la\nDeuda Pública y Otros Pasivos",{"$nulls":12},{"$f":"\"Saldo al 31 de\ndiciembre de \"&Validacion!F186","v":"Saldo al 31 de\ndiciembre de 2025"},{"$nulls":6},"Disposiciones del Periodo",{"$nulls":6},"Amortizaciones del Periodo",{"$nulls":6},"Revaluaciones, Reclasificaciones y Otros Ajustes",{"$nulls":6},"Saldo Final\ndel Periodo",{"$nulls":6},"Pago de Intereses del Periodo",{"$nulls":6},"Pago de Comisiones y demás costos asociados durante el Periodo"]
[]
[]
[]
[]
["1. Deuda Pública"]
[null,"A. Corto Plazo",{"$nulls":11},{"$f":"SUM(N12:T14)","v":{"v":920608.54,"d":"920,608.54"}},{"$nulls":6},{"$f":"SUM(U12:AA14)","v":{"v":0,"d":"0.00"}},{"$nulls":6},{"$f":"SUM(AB12:AH14)","v":{"v":71584.97,"d":"71,584.97"}},{"$nulls":6},{"$f":"SUM(AI12:AO14)","v":{"v":0,"d":"0.00"}},{"$nulls":6},{"$f":"SUM(AP12:AV14)","v":{"v":849023.5700000001,"d":"849,023.57"}},{"$nulls":6},{"$f":"SUM(AW12:BC14)","v":{"v":238466.34,"d":"238,466.34"}},{"$nulls":6},{"$f":"SUM(BD12:BJ14)","v":{"v":0,"d":"0.00"}}]
[null,null,"a1) Instituciones de Crédito",{"$nulls":10},{"$f":"IF('F9-IDP'!$J$2=\"1\",'F9-IDP'!$R$6,0)+IF('F9-IDP'!$AS$2=\"1\",'F9-IDP'!$BA$6,0)+IF('F9-IDP'!$CB$2=\"1\",'F9-IDP'!$CJ$6,0)+IF('F9-IDP'!$DK$2=\"1\",'F9-IDP'!$DS$6,0)+IF('F9-IDP'!$ET$2=\"1\",'F9-IDP'!$FB$6,0)+IF('F9-IDP'!$GC$2=\"1\",'F9-IDP'!$GK$6,0)+IF('F9-IDP'!$HL$2=\"1\",'F9-IDP'!$HT$6,0)+IF('F9-IDP'!$IU$2=\"1\",'F9-IDP'!$JC$6,0)+IF('F9-IDP'!$KD$2=\"1\",'F9-IDP'!$KL$6,0)+IF('F9-IDP'!$LM$2=\"1\",'F9-IDP'!$LU$6,0)","v":{"v":920608.54,"d":"920,608.54"}},{"$nulls":6},{"$f":"IF('F9-IDP'!$J$2=\"1\",'F9-IDP'!$E$25,0)+IF('F9-IDP'!$AS$2=\"1\",'F9-IDP'!$AN$25,0)+IF('F9-IDP'!$CB$2=\"1\",'F9-IDP'!$BW$25,0)+IF('F9-IDP'!$DK$2=\"1\",'F9-IDP'!$DF$25,0)+IF('F9-IDP'!$ET$2=\"1\",'F9-IDP'!$EO$25,0)+IF('F9-IDP'!$GC$2=\"1\",'F9-IDP'!$FX$25,0)+IF('F9-IDP'!$HL$2=\"1\",'F9-IDP'!$HG$25,0)+IF('F9-IDP'!$IU$2=\"1\",'F9-IDP'!$IP$25,0)+IF('F9-IDP'!$KD$2=\"1\",'F9-IDP'!$JY$25,0)+IF('F9-IDP'!$LM$2=\"1\",'F9-IDP'!$LH$25,0)","v":{"v":0,"d":"0.00"}},{"$nulls":6},{"$f":"IF('F9-IDP'!$J$2=\"1\",'F9-IDP'!$K$25,0)+IF('F9-IDP'!$AS$2=\"1\",'F9-IDP'!$AT$25,0)+IF('F9-IDP'!$CB$2=\"1\",'F9-IDP'!$CC$25,0)+IF('F9-IDP'!$DK$2=\"1\",'F9-IDP'!$DL$25,0)+IF('F9-IDP'!$ET$2=\"1\",'F9-IDP'!$EU$25,0)+IF('F9-IDP'!$GC$2=\"1\",'F9-IDP'!$GD$25,0)+IF('F9-IDP'!$HL$2=\"1\",'F9-IDP'!$HM$25,0)+IF('F9-IDP'!$IU$2=\"1\",'F9-IDP'!$IV$25,0)+IF('F9-IDP'!$KD$2=\"1\",'F9-IDP'!$KE$25,0)+IF('F9-IDP'!$LM$2=\"1\",'F9-IDP'!$LN$25,0)","v":{"v":71584.97,"d":"71,584.97"}},{"$nulls":6},{"$f":"IF('F9-IDP'!$J$2=\"1\",'F9-IDP'!$Q$25,0)+IF('F9-IDP'!$AS$2=\"1\",'F9-IDP'!$AZ$25,0)+IF('F9-IDP'!$CB$2=\"1\",'F9-IDP'!$CI$25,0)+IF('F9-IDP'!$DK$2=\"1\",'F9-IDP'!$DR$25,0)+IF('F9-IDP'!$ET$2=\"1\",'F9-IDP'!$FA$25,0)+IF('F9-IDP'!$GC$2=\"1\",'F9-IDP'!$GJ$25,0)+IF('F9-IDP'!$HL$2=\"1\",'F9-IDP'!$HS$25,0)+IF('F9-IDP'!$IU$2=\"1\",'F9-IDP'!$JB$25,0)+IF('F9-IDP'!$KD$2=\"1\",'F9-IDP'!$KK$25,0)+IF('F9-IDP'!$LM$2=\"1\",'F9-IDP'!$LT$25,0)","v":{"v":0,"d":"0.00"}},{"$nulls":6},{"$f":"N12+U12-AB12+AI12","v":{"v":849023.5700000001,"d":"849,023.57"}},{"$nulls":6},{"$f":"IF('F9-IDP'!$J$2=\"1\",'F9-IDP'!$W$25,0)+IF('F9-IDP'!$AS$2=\"1\",'F9-IDP'!$BF$25,0)+IF('F9-IDP'!$CB$2=\"1\",'F9-IDP'!$CO$25,0)+IF('F9-IDP'!$DK$2=\"1\",'F9-IDP'!$DX$25,0)+IF('F9-IDP'!$ET$2=\"1\",'F9-IDP'!$FG$25,0)+IF('F9-IDP'!$GC$2=\"1\",'F9-IDP'!$GP$25,0)+IF('F9-IDP'!$HL$2=\"1\",'F9-IDP'!$HY$25,0)+IF('F9-IDP'!$IU$2=\"1\",'F9-IDP'!$JH$25,0)+IF('F9-IDP'!$KD$2=\"1\",'F9-IDP'!$KQ$25,0)+IF('F9-IDP'!$LM$2=\"1\",'F9-IDP'!$LZ$25,0)","v":{"v":238466.34,"d":"238,466.34"}},{"$nulls":6},{"$f":"IF('F9-IDP'!$J$2=\"1\",'F9-IDP'!$AC$25,0)+IF('F9-IDP'!$AS$2=\"1\",'F9-IDP'!$BL$25,0)+IF('F9-IDP'!$CB$2=\"1\",'F9-IDP'!$CU$25,0)+IF('F9-IDP'!$DK$2=\"1\",'F9-IDP'!$ED$25,0)+IF('F9-IDP'!$ET$2=\"1\",'F9-IDP'!$FM$25,0)+IF('F9-IDP'!$GC$2=\"1\",'F9-IDP'!$GV$25,0)+IF('F9-IDP'!$HL$2=\"1\",'F9-IDP'!$IE$25,0)+IF('F9-IDP'!$IU$2=\"1\",'F9-IDP'!$JN$25,0)+IF('F9-IDP'!$KD$2=\"1\",'F9-IDP'!$KW$25,0)+IF('F9-IDP'!$LM$2=\"1\",'F9-IDP'!$MF$25,0)","v":{"v":0,"d":"0.00"}}]
[null,null,"a2) Títulos y Valores",{"$nulls":10},{"$f":"IF('F9-IDP'!$J$2=\"2\",'F9-IDP'!$R$6,0)+IF('F9-IDP'!$AS$2=\"2\",'F9-IDP'!$BA$6,0)+IF('F9-IDP'!$CB$2=\"2\",'F9-IDP'!$CJ$6,0)+IF('F9-IDP'!$DK$2=\"2\",'F9-IDP'!$DS$6,0)+IF('F9-IDP'!$ET$2=\"2\",'F9-IDP'!$FB$6,0)+IF('F9-IDP'!$GC$2=\"2\",'F9-IDP'!$GK$6,0)+IF('F9-IDP'!$HL$2=\"2\",'F9-IDP'!$HT$6,0)+IF('F9-IDP'!$IU$2=\"2\",'F9-IDP'!$JC$6,0)+IF('F9-IDP'!$KD$2=\"2\",'F9-IDP'!$KL$6,0)+IF('F9-IDP'!$LM$2=\"2\",'F9-IDP'!$LU$6,0)","v":{"v":0,"d":"0.00"}},{"$nulls":6},{"$f":"IF('F9-IDP'!$J$2=\"2\",'F9-IDP'!$E$25,0)+IF('F9-IDP'!$AS$2=\"2\",'F9-IDP'!$AN$25,0)+IF('F9-IDP'!$CB$2=\"2\",'F9-IDP'!$BW$25,0)+IF('F9-IDP'!$DK$2=\"2\",'F9-IDP'!$DF$25,0)+IF('F9-IDP'!$ET$2=\"2\",'F9-IDP'!$EO$25,0)+IF('F9-IDP'!$GC$2=\"2\",'F9-IDP'!$FX$25,0)+IF('F9-IDP'!$HL$2=\"2\",'F9-IDP'!$HG$25,0)+IF('F9-IDP'!$IU$2=\"2\",'F9-IDP'!$IP$25,0)+IF('F9-IDP'!$KD$2=\"2\",'F9-IDP'!$JY$25,0)+IF('F9-IDP'!$LM$2=\"2\",'F9-IDP'!$LH$25,0)","v":{"v":0,"d":"0.00"}},{"$nulls":6},{"$f":"IF('F9-IDP'!$J$2=\"2\",'F9-IDP'!$K$25,0)+IF('F9-IDP'!$AS$2=\"2\",'F9-IDP'!$AT$25,0)+IF('F9-IDP'!$CB$2=\"2\",'F9-IDP'!$CC$25,0)+IF('F9-IDP'!$DK$2=\"2\",'F9-IDP'!$DL$25,0)+IF('F9-IDP'!$ET$2=\"2\",'F9-IDP'!$EU$25,0)+IF('F9-IDP'!$GC$2=\"2\",'F9-IDP'!$GD$25,0)+IF('F9-IDP'!$HL$2=\"2\",'F9-IDP'!$HM$25,0)+IF('F9-IDP'!$IU$2=\"2\",'F9-IDP'!$IV$25,0)+IF('F9-IDP'!$KD$2=\"2\",'F9-IDP'!$KE$25,0)+IF('F9-IDP'!$LM$2=\"2\",'F9-IDP'!$LN$25,0)","v":{"v":0,"d":"0.00"}},{"$nulls":6},{"$f":"IF('F9-IDP'!$J$2=\"2\",'F9-IDP'!$Q$25,0)+IF('F9-IDP'!$AS$2=\"2\",'F9-IDP'!$AZ$25,0)+IF('F9-IDP'!$CB$2=\"2\",'F9-IDP'!$CI$25,0)+IF('F9-IDP'!$DK$2=\"2\",'F9-IDP'!$DR$25,0)+IF('F9-IDP'!$ET$2=\"2\",'F9-IDP'!$FA$25,0)+IF('F9-IDP'!$GC$2=\"2\",'F9-IDP'!$GJ$25,0)+IF('F9-IDP'!$HL$2=\"2\",'F9-IDP'!$HS$25,0)+IF('F9-IDP'!$IU$2=\"2\",'F9-IDP'!$JB$25,0)+IF('F9-IDP'!$KD$2=\"2\",'F9-IDP'!$KK$25,0)+IF('F9-IDP'!$LM$2=\"2\",'F9-IDP'!$LT$25,0)","v":{"v":0,"d":"0.00"}},{"$nulls":6},{"$f":"N13+U13-AB13+AI13","v":{"v":0,"d":"0.00"}},{"$nulls":6},{"$f":"IF('F9-IDP'!$J$2=\"2\",'F9-IDP'!$W$25,0)+IF('F9-IDP'!$AS$2=\"2\",'F9-IDP'!$BF$25,0)+IF('F9-IDP'!$CB$2=\"2\",'F9-IDP'!$CO$25,0)+IF('F9-IDP'!$DK$2=\"2\",'F9-IDP'!$DX$25,0)+IF('F9-IDP'!$ET$2=\"2\",'F9-IDP'!$FG$25,0)+IF('F9-IDP'!$GC$2=\"2\",'F9-IDP'!$GP$25,0)+IF('F9-IDP'!$HL$2=\"2\",'F9-IDP'!$HY$25,0)+IF('F9-IDP'!$IU$2=\"2\",'F9-IDP'!$JH$25,0)+IF('F9-IDP'!$KD$2=\"2\",'F9-IDP'!$KQ$25,0)+IF('F9-IDP'!$LM$2=\"2\",'F9-IDP'!$LZ$25,0)","v":{"v":0,"d":"0.00"}},{"$nulls":6},{"$f":"IF('F9-IDP'!$J$2=\"2\",'F9-IDP'!$AC$25,0)+IF('F9-IDP'!$AS$2=\"2\",'F9-IDP'!$BL$25,0)+IF('F9-IDP'!$CB$2=\"2\",'F9-IDP'!$CU$25,0)+IF('F9-IDP'!$DK$2=\"2\",'F9-IDP'!$ED$25,0)+IF('F9-IDP'!$ET$2=\"2\",'F9-IDP'!$FM$25,0)+IF('F9-IDP'!$GC$2=\"2\",'F9-IDP'!$GV$25,0)+IF('F9-IDP'!$HL$2=\"2\",'F9-IDP'!$IE$25,0)+IF('F9-IDP'!$IU$2=\"2\",'F9-IDP'!$JN$25,0)+IF('F9-IDP'!$KD$2=\"2\",'F9-IDP'!$KW$25,0)+IF('F9-IDP'!$LM$2=\"2\",'F9-IDP'!$MF$25,0)","v":{"v":0,"d":"0.00"}}]
[null,null,"a3) Arrendamientos Financieros",{"$nulls":10},{"$f":"IF('F9-IDP'!$J$2=\"3\",'F9-IDP'!$R$6,0)+IF('F9-IDP'!$AS$2=\"3\",'F9-IDP'!$BA$6,0)+IF('F9-IDP'!$CB$2=\"3\",'F9-IDP'!$CJ$6,0)+IF('F9-IDP'!$DK$2=\"3\",'F9-IDP'!$DS$6,0)+IF('F9-IDP'!$ET$2=\"3\",'F9-IDP'!$FB$6,0)+IF('F9-IDP'!$GC$2=\"3\",'F9-IDP'!$GK$6,0)+IF('F9-IDP'!$HL$2=\"3\",'F9-IDP'!$HT$6,0)+IF('F9-IDP'!$IU$2=\"3\",'F9-IDP'!$JC$6,0)+IF('F9-IDP'!$KD$2=\"3\",'F9-IDP'!$KL$6,0)+IF('F9-IDP'!$LM$2=\"3\",'F9-IDP'!$LU$6,0)","v":{"v":0,"d":"0.00"}},{"$nulls":6},{"$f":"IF('F9-IDP'!$J$2=\"3\",'F9-IDP'!$E$25,0)+IF('F9-IDP'!$AS$2=\"3\",'F9-IDP'!$AN$25,0)+IF('F9-IDP'!$CB$2=\"3\",'F9-IDP'!$BW$25,0)+IF('F9-IDP'!$DK$2=\"3\",'F9-IDP'!$DF$25,0)+IF('F9-IDP'!$ET$2=\"3\",'F9-IDP'!$EO$25,0)+IF('F9-IDP'!$GC$2=\"3\",'F9-IDP'!$FX$25,0)+IF('F9-IDP'!$HL$2=\"3\",'F9-IDP'!$HG$25,0)+IF('F9-IDP'!$IU$2=\"3\",'F9-IDP'!$IP$25,0)+IF('F9-IDP'!$KD$2=\"3\",'F9-IDP'!$JY$25,0)+IF('F9-IDP'!$LM$2=\"3\",'F9-IDP'!$LH$25,0)","v":{"v":0,"d":"0.00"}},{"$nulls":6},{"$f":"IF('F9-IDP'!$J$2=\"3\",'F9-IDP'!$K$25,0)+IF('F9-IDP'!$AS$2=\"3\",'F9-IDP'!$AT$25,0)+IF('F9-IDP'!$CB$2=\"3\",'F9-IDP'!$CC$25,0)+IF('F9-IDP'!$DK$2=\"3\",'F9-IDP'!$DL$25,0)+IF('F9-IDP'!$ET$2=\"3\",'F9-IDP'!$EU$25,0)+IF('F9-IDP'!$GC$2=\"3\",'F9-IDP'!$GD$25,0)+IF('F9-IDP'!$HL$2=\"3\",'F9-IDP'!$HM$25,0)+IF('F9-IDP'!$IU$2=\"3\",'F9-IDP'!$IV$25,0)+IF('F9-IDP'!$KD$2=\"3\",'F9-IDP'!$KE$25,0)+IF('F9-IDP'!$LM$2=\"3\",'F9-IDP'!$LN$25,0)","v":{"v":0,"d":"0.00"}},{"$nulls":6},{"$f":"IF('F9-IDP'!$J$2=\"3\",'F9-IDP'!$Q$25,0)+IF('F9-IDP'!$AS$2=\"3\",'F9-IDP'!$AZ$25,0)+IF('F9-IDP'!$CB$2=\"3\",'F9-IDP'!$CI$25,0)+IF('F9-IDP'!$DK$2=\"3\",'F9-IDP'!$DR$25,0)+IF('F9-IDP'!$ET$2=\"3\",'F9-IDP'!$FA$25,0)+IF('F9-IDP'!$GC$2=\"3\",'F9-IDP'!$GJ$25,0)+IF('F9-IDP'!$HL$2=\"3\",'F9-IDP'!$HS$25,0)+IF('F9-IDP'!$IU$2=\"3\",'F9-IDP'!$JB$25,0)+IF('F9-IDP'!$KD$2=\"3\",'F9-IDP'!$KK$25,0)+IF('F9-IDP'!$LM$2=\"3\",'F9-IDP'!$LT$25,0)","v":{"v":0,"d":"0.00"}},{"$nulls":6},{"$f":"N14+U14-AB14+AI14","v":{"v":0,"d":"0.00"}},{"$nulls":6},{"$f":"IF('F9-IDP'!$J$2=\"3\",'F9-IDP'!$W$25,0)+IF('F9-IDP'!$AS$2=\"3\",'F9-IDP'!$BF$25,0)+IF('F9-IDP'!$CB$2=\"3\",'F9-IDP'!$CO$25,0)+IF('F9-IDP'!$DK$2=\"3\",'F9-IDP'!$DX$25,0)+IF('F9-IDP'!$ET$2=\"3\",'F9-IDP'!$FG$25,0)+IF('F9-IDP'!$GC$2=\"3\",'F9-IDP'!$GP$25,0)+IF('F9-IDP'!$HL$2=\"3\",'F9-IDP'!$HY$25,0)+IF('F9-IDP'!$IU$2=\"3\",'F9-IDP'!$JH$25,0)+IF('F9-IDP'!$KD$2=\"3\",'F9-IDP'!$KQ$25,0)+IF('F9-IDP'!$LM$2=\"3\",'F9-IDP'!$LZ$25,0)","v":{"v":0,"d":"0.00"}},{"$nulls":6},{"$f":"IF('F9-IDP'!$J$2=\"3\",'F9-IDP'!$AC$25,0)+IF('F9-IDP'!$AS$2=\"3\",'F9-IDP'!$BL$25,0)+IF('F9-IDP'!$CB$2=\"3\",'F9-IDP'!$CU$25,0)+IF('F9-IDP'!$DK$2=\"3\",'F9-IDP'!$ED$25,0)+IF('F9-IDP'!$ET$2=\"3\",'F9-IDP'!$FM$25,0)+IF('F9-IDP'!$GC$2=\"3\",'F9-IDP'!$GV$25,0)+IF('F9-IDP'!$HL$2=\"3\",'F9-IDP'!$IE$25,0)+IF('F9-IDP'!$IU$2=\"3\",'F9-IDP'!$JN$25,0)+IF('F9-IDP'!$KD$2=\"3\",'F9-IDP'!$KW$25,0)+IF('F9-IDP'!$LM$2=\"3\",'F9-IDP'!$MF$25,0)","v":{"v":0,"d":"0.00"}}]
[null,"B. Largo Plazo",{"$nulls":11},{"$f":"SUM(N16:T18)","v":{"v":27613307.72,"d":"27,613,307.72"}},{"$nulls":6},{"$f":"SUM(U16:AA18)","v":{"v":0,"d":"0.00"}},{"$nulls":6},{"$f":"SUM(AB16:AH18)","v":{"v":0,"d":"0.00"}},{"$nulls":6},{"$f":"SUM(AI16:AO18)","v":{"v":0,"d":"0.00"}},{"$nulls":6},{"$f":"SUM(AP16:AV18)","v":{"v":27613307.72,"d":"27,613,307.72"}},{"$nulls":6},{"$f":"SUM(AW16:BC18)","v":{"v":0,"d":"0.00"}},{"$nulls":6},{"$f":"SUM(BD16:BJ18)","v":{"v":0,"d":"0.00"}}]
[null,null,"b1) Instituciones de Crédito",{"$nulls":10},{"$f":"IF('F9-IDP'!$J$2=\"1\",'F9-IDP'!$R$7,0)+IF('F9-IDP'!$AS$2=\"1\",'F9-IDP'!$BA$7,0)+IF('F9-IDP'!$CB$2=\"1\",'F9-IDP'!$CJ$7,0)+IF('F9-IDP'!$DK$2=\"1\",'F9-IDP'!$DS$7,0)+IF('F9-IDP'!$ET$2=\"1\",'F9-IDP'!$FB$7,0)+IF('F9-IDP'!$GC$2=\"1\",'F9-IDP'!$GK$7,0)+IF('F9-IDP'!$HL$2=\"1\",'F9-IDP'!$HT$7,0)+IF('F9-IDP'!$IU$2=\"1\",'F9-IDP'!$JC$7,0)+IF('F9-IDP'!$KD$2=\"1\",'F9-IDP'!$KL$7,0)+IF('F9-IDP'!$LM$2=\"1\",'F9-IDP'!$LU$7,0)","v":{"v":27613307.72,"d":"27,613,307.72"}},{"$nulls":6},{"$f":"IF('F9-IDP'!$J$2=\"1\",'F9-IDP'!$E$10,0)+IF('F9-IDP'!$AS$2=\"1\",'F9-IDP'!$AN$10,0)+IF('F9-IDP'!$CB$2=\"1\",'F9-IDP'!$BW$10,0)+IF('F9-IDP'!$DK$2=\"1\",'F9-IDP'!$DF$10,0)+IF('F9-IDP'!$ET$2=\"1\",'F9-IDP'!$EO$10,0)+IF('F9-IDP'!$GC$2=\"1\",'F9-IDP'!$FX$10,0)+IF('F9-IDP'!$HL$2=\"1\",'F9-IDP'!$HG$10,0)+IF('F9-IDP'!$IU$2=\"1\",'F9-IDP'!$IP$10,0)+IF('F9-IDP'!$KD$2=\"1\",'F9-IDP'!$JY$10,0)+IF('F9-IDP'!$LM$2=\"1\",'F9-IDP'!$LH$10,0)","v":{"v":0,"d":"0.00"}},{"$nulls":6},{"$f":"IF('F9-IDP'!$J$2=\"1\",'F9-IDP'!$K$10,0)+IF('F9-IDP'!$AS$2=\"1\",'F9-IDP'!$AT$10,0)+IF('F9-IDP'!$CB$2=\"1\",'F9-IDP'!$CC$10,0)+IF('F9-IDP'!$DK$2=\"1\",'F9-IDP'!$DL$10,0)+IF('F9-IDP'!$ET$2=\"1\",'F9-IDP'!$EU$10,0)+IF('F9-IDP'!$GC$2=\"1\",'F9-IDP'!$GD$10,0)+IF('F9-IDP'!$HL$2=\"1\",'F9-IDP'!$HM$10,0)+IF('F9-IDP'!$IU$2=\"1\",'F9-IDP'!$IV$10,0)+IF('F9-IDP'!$KD$2=\"1\",'F9-IDP'!$KE$10,0)+IF('F9-IDP'!$LM$2=\"1\",'F9-IDP'!$LN$10,0)","v":{"v":0,"d":"0.00"}},{"$nulls":6},{"$f":"IF('F9-IDP'!$J$2=\"1\",'F9-IDP'!$Q$10,0)+IF('F9-IDP'!$AS$2=\"1\",'F9-IDP'!$AZ$10,0)+IF('F9-IDP'!$CB$2=\"1\",'F9-IDP'!$CI$10,0)+IF('F9-IDP'!$DK$2=\"1\",'F9-IDP'!$DR$10,0)+IF('F9-IDP'!$ET$2=\"1\",'F9-IDP'!$FA$10,0)+IF('F9-IDP'!$GC$2=\"1\",'F9-IDP'!$GJ$10,0)+IF('F9-IDP'!$HL$2=\"1\",'F9-IDP'!$HS$10,0)+IF('F9-IDP'!$IU$2=\"1\",'F9-IDP'!$JB$10,0)+IF('F9-IDP'!$KD$2=\"1\",'F9-IDP'!$KK$10,0)+IF('F9-IDP'!$LM$2=\"1\",'F9-IDP'!$LT$10,0)","v":{"v":0,"d":"0.00"}},{"$nulls":6},{"$f":"N16+U16-AB16+AI16","v":{"v":27613307.72,"d":"27,613,307.72"}},{"$nulls":6},{"$f":"IF('F9-IDP'!$J$2=\"1\",'F9-IDP'!$W$10,0)+IF('F9-IDP'!$AS$2=\"1\",'F9-IDP'!$BF$10,0)+IF('F9-IDP'!$CB$2=\"1\",'F9-IDP'!$CO$10,0)+IF('F9-IDP'!$DK$2=\"1\",'F9-IDP'!$DX$10,0)+IF('F9-IDP'!$ET$2=\"1\",'F9-IDP'!$FG$10,0)+IF('F9-IDP'!$GC$2=\"1\",'F9-IDP'!$GP$10,0)+IF('F9-IDP'!$HL$2=\"1\",'F9-IDP'!$HY$10,0)+IF('F9-IDP'!$IU$2=\"1\",'F9-IDP'!$JH$10,0)+IF('F9-IDP'!$KD$2=\"1\",'F9-IDP'!$KQ$10,0)+IF('F9-IDP'!$LM$2=\"1\",'F9-IDP'!$LZ$10,0)","v":{"v":0,"d":"0.00"}},{"$nulls":6},{"$f":"IF('F9-IDP'!$J$2=\"1\",'F9-IDP'!$AC$10,0)+IF('F9-IDP'!$AS$2=\"1\",'F9-IDP'!$BL$10,0)+IF('F9-IDP'!$CB$2=\"1\",'F9-IDP'!$CU$10,0)+IF('F9-IDP'!$DK$2=\"1\",'F9-IDP'!$ED$10,0)+IF('F9-IDP'!$ET$2=\"1\",'F9-IDP'!$FM$10,0)+IF('F9-IDP'!$GC$2=\"1\",'F9-IDP'!$GV$10,0)+IF('F9-IDP'!$HL$2=\"1\",'F9-IDP'!$IE$10,0)+IF('F9-IDP'!$IU$2=\"1\",'F9-IDP'!$JN$10,0)+IF('F9-IDP'!$KD$2=\"1\",'F9-IDP'!$KW$10,0)+IF('F9-IDP'!$LM$2=\"1\",'F9-IDP'!$MF$10,0)","v":{"v":0,"d":"0.00"}}]
[null,null,"b2) Títulos y Valores",{"$nulls":10},{"$f":"IF('F9-IDP'!$J$2=\"2\",'F9-IDP'!$R$7,0)+IF('F9-IDP'!$AS$2=\"2\",'F9-IDP'!$BA$7,0)+IF('F9-IDP'!$CB$2=\"2\",'F9-IDP'!$CJ$7,0)+IF('F9-IDP'!$DK$2=\"2\",'F9-IDP'!$DS$7,0)+IF('F9-IDP'!$ET$2=\"2\",'F9-IDP'!$FB$7,0)+IF('F9-IDP'!$GC$2=\"2\",'F9-IDP'!$GK$7,0)+IF('F9-IDP'!$HL$2=\"2\",'F9-IDP'!$HT$7,0)+IF('F9-IDP'!$IU$2=\"2\",'F9-IDP'!$JC$7,0)+IF('F9-IDP'!$KD$2=\"2\",'F9-IDP'!$KL$7,0)+IF('F9-IDP'!$LM$2=\"2\",'F9-IDP'!$LU$7,0)","v":{"v":0,"d":"0.00"}},{"$nulls":6},{"$f":"IF('F9-IDP'!$J$2=\"2\",'F9-IDP'!$E$10,0)+IF('F9-IDP'!$AS$2=\"2\",'F9-IDP'!$AN$10,0)+IF('F9-IDP'!$CB$2=\"2\",'F9-IDP'!$BW$10,0)+IF('F9-IDP'!$DK$2=\"2\",'F9-IDP'!$DF$10,0)+IF('F9-IDP'!$ET$2=\"2\",'F9-IDP'!$EO$10,0)+IF('F9-IDP'!$GC$2=\"2\",'F9-IDP'!$FX$10,0)+IF('F9-IDP'!$HL$2=\"2\",'F9-IDP'!$HG$10,0)+IF('F9-IDP'!$IU$2=\"2\",'F9-IDP'!$IP$10,0)+IF('F9-IDP'!$KD$2=\"2\",'F9-IDP'!$JY$10,0)+IF('F9-IDP'!$LM$2=\"2\",'F9-IDP'!$LH$10,0)","v":{"v":0,"d":"0.00"}},{"$nulls":6},{"$f":"IF('F9-IDP'!$J$2=\"2\",'F9-IDP'!$K$10,0)+IF('F9-IDP'!$AS$2=\"2\",'F9-IDP'!$AT$10,0)+IF('F9-IDP'!$CB$2=\"2\",'F9-IDP'!$CC$10,0)+IF('F9-IDP'!$DK$2=\"2\",'F9-IDP'!$DL$10,0)+IF('F9-IDP'!$ET$2=\"2\",'F9-IDP'!$EU$10,0)+IF('F9-IDP'!$GC$2=\"2\",'F9-IDP'!$GD$10,0)+IF('F9-IDP'!$HL$2=\"2\",'F9-IDP'!$HM$10,0)+IF('F9-IDP'!$IU$2=\"2\",'F9-IDP'!$IV$10,0)+IF('F9-IDP'!$KD$2=\"2\",'F9-IDP'!$KE$10,0)+IF('F9-IDP'!$LM$2=\"2\",'F9-IDP'!$LN$10,0)","v":{"v":0,"d":"0.00"}},{"$nulls":6},{"$f":"IF('F9-IDP'!$J$2=\"2\",'F9-IDP'!$Q$10,0)+IF('F9-IDP'!$AS$2=\"2\",'F9-IDP'!$AZ$10,0)+IF('F9-IDP'!$CB$2=\"2\",'F9-IDP'!$CI$10,0)+IF('F9-IDP'!$DK$2=\"2\",'F9-IDP'!$DR$10,0)+IF('F9-IDP'!$ET$2=\"2\",'F9-IDP'!$FA$10,0)+IF('F9-IDP'!$GC$2=\"2\",'F9-IDP'!$GJ$10,0)+IF('F9-IDP'!$HL$2=\"2\",'F9-IDP'!$HS$10,0)+IF('F9-IDP'!$IU$2=\"2\",'F9-IDP'!$JB$10,0)+IF('F9-IDP'!$KD$2=\"2\",'F9-IDP'!$KK$10,0)+IF('F9-IDP'!$LM$2=\"2\",'F9-IDP'!$LT$10,0)","v":{"v":0,"d":"0.00"}},{"$nulls":6},{"$f":"N17+U17-AB17+AI17","v":{"v":0,"d":"0.00"}},{"$nulls":6},{"$f":"IF('F9-IDP'!$J$2=\"2\",'F9-IDP'!$W$10,0)+IF('F9-IDP'!$AS$2=\"2\",'F9-IDP'!$BF$10,0)+IF('F9-IDP'!$CB$2=\"2\",'F9-IDP'!$CO$10,0)+IF('F9-IDP'!$DK$2=\"2\",'F9-IDP'!$DX$10,0)+IF('F9-IDP'!$ET$2=\"2\",'F9-IDP'!$FG$10,0)+IF('F9-IDP'!$GC$2=\"2\",'F9-IDP'!$GP$10,0)+IF('F9-IDP'!$HL$2=\"2\",'F9-IDP'!$HY$10,0)+IF('F9-IDP'!$IU$2=\"2\",'F9-IDP'!$JH$10,0)+IF('F9-IDP'!$KD$2=\"2\",'F9-IDP'!$KQ$10,0)+IF('F9-IDP'!$LM$2=\"2\",'F9-IDP'!$LZ$10,0)","v":{"v":0,"d":"0.00"}},{"$nulls":6},{"$f":"IF('F9-IDP'!$J$2=\"2\",'F9-IDP'!$AC$10,0)+IF('F9-IDP'!$AS$2=\"2\",'F9-IDP'!$BL$10,0)+IF('F9-IDP'!$CB$2=\"2\",'F9-IDP'!$CU$10,0)+IF('F9-IDP'!$DK$2=\"2\",'F9-IDP'!$ED$10,0)+IF('F9-IDP'!$ET$2=\"2\",'F9-IDP'!$FM$10,0)+IF('F9-IDP'!$GC$2=\"2\",'F9-IDP'!$GV$10,0)+IF('F9-IDP'!$HL$2=\"2\",'F9-IDP'!$IE$10,0)+IF('F9-IDP'!$IU$2=\"2\",'F9-IDP'!$JN$10,0)+IF('F9-IDP'!$KD$2=\"2\",'F9-IDP'!$KW$10,0)+IF('F9-IDP'!$LM$2=\"2\",'F9-IDP'!$MF$10,0)","v":{"v":0,"d":"0.00"}}]
[null,null,"b3) Arrendamientos Financieros",{"$nulls":10},{"$f":"IF('F9-IDP'!$J$2=\"3\",'F9-IDP'!$R$7,0)+IF('F9-IDP'!$AS$2=\"3\",'F9-IDP'!$BA$7,0)+IF('F9-IDP'!$CB$2=\"3\",'F9-IDP'!$CJ$7,0)+IF('F9-IDP'!$DK$2=\"3\",'F9-IDP'!$DS$7,0)+IF('F9-IDP'!$ET$2=\"3\",'F9-IDP'!$FB$7,0)+IF('F9-IDP'!$GC$2=\"3\",'F9-IDP'!$GK$7,0)+IF('F9-IDP'!$HL$2=\"3\",'F9-IDP'!$HT$7,0)+IF('F9-IDP'!$IU$2=\"3\",'F9-IDP'!$JC$7,0)+IF('F9-IDP'!$KD$2=\"3\",'F9-IDP'!$KL$7,0)+IF('F9-IDP'!$LM$2=\"3\",'F9-IDP'!$LU$7,0)","v":{"v":0,"d":"0.00"}},{"$nulls":6},{"$f":"IF('F9-IDP'!$J$2=\"3\",'F9-IDP'!$E$10,0)+IF('F9-IDP'!$AS$2=\"3\",'F9-IDP'!$AN$10,0)+IF('F9-IDP'!$CB$2=\"3\",'F9-IDP'!$BW$10,0)+IF('F9-IDP'!$DK$2=\"3\",'F9-IDP'!$DF$10,0)+IF('F9-IDP'!$ET$2=\"3\",'F9-IDP'!$EO$10,0)+IF('F9-IDP'!$GC$2=\"3\",'F9-IDP'!$FX$10,0)+IF('F9-IDP'!$HL$2=\"3\",'F9-IDP'!$HG$10,0)+IF('F9-IDP'!$IU$2=\"3\",'F9-IDP'!$IP$10,0)+IF('F9-IDP'!$KD$2=\"3\",'F9-IDP'!$JY$10,0)+IF('F9-IDP'!$LM$2=\"3\",'F9-IDP'!$LH$10,0)","v":{"v":0,"d":"0.00"}},{"$nulls":6},{"$f":"IF('F9-IDP'!$J$2=\"3\",'F9-IDP'!$K$10,0)+IF('F9-IDP'!$AS$2=\"3\",'F9-IDP'!$AT$10,0)+IF('F9-IDP'!$CB$2=\"3\",'F9-IDP'!$CC$10,0)+IF('F9-IDP'!$DK$2=\"3\",'F9-IDP'!$DL$10,0)+IF('F9-IDP'!$ET$2=\"3\",'F9-IDP'!$EU$10,0)+IF('F9-IDP'!$GC$2=\"3\",'F9-IDP'!$GD$10,0)+IF('F9-IDP'!$HL$2=\"3\",'F9-IDP'!$HM$10,0)+IF('F9-IDP'!$IU$2=\"3\",'F9-IDP'!$IV$10,0)+IF('F9-IDP'!$KD$2=\"3\",'F9-IDP'!$KE$10,0)+IF('F9-IDP'!$LM$2=\"3\",'F9-IDP'!$LN$10,0)","v":{"v":0,"d":"0.00"}},{"$nulls":6},{"$f":"IF('F9-IDP'!$J$2=\"3\",'F9-IDP'!$Q$10,0)+IF('F9-IDP'!$AS$2=\"3\",'F9-IDP'!$AZ$10,0)+IF('F9-IDP'!$CB$2=\"3\",'F9-IDP'!$CI$10,0)+IF('F9-IDP'!$DK$2=\"3\",'F9-IDP'!$DR$10,0)+IF('F9-IDP'!$ET$2=\"3\",'F9-IDP'!$FA$10,0)+IF('F9-IDP'!$GC$2=\"3\",'F9-IDP'!$GJ$10,0)+IF('F9-IDP'!$HL$2=\"3\",'F9-IDP'!$HS$10,0)+IF('F9-IDP'!$IU$2=\"3\",'F9-IDP'!$JB$10,0)+IF('F9-IDP'!$KD$2=\"3\",'F9-IDP'!$KK$10,0)+IF('F9-IDP'!$LM$2=\"3\",'F9-IDP'!$LT$10,0)","v":{"v":0,"d":"0.00"}},{"$nulls":6},{"$f":"N18+U18-AB18+AI18","v":{"v":0,"d":"0.00"}},{"$nulls":6},{"$f":"IF('F9-IDP'!$J$2=\"3\",'F9-IDP'!$W$10,0)+IF('F9-IDP'!$AS$2=\"3\",'F9-IDP'!$BF$10,0)+IF('F9-IDP'!$CB$2=\"3\",'F9-IDP'!$CO$10,0)+IF('F9-IDP'!$DK$2=\"3\",'F9-IDP'!$DX$10,0)+IF('F9-IDP'!$ET$2=\"3\",'F9-IDP'!$FG$10,0)+IF('F9-IDP'!$GC$2=\"3\",'F9-IDP'!$GP$10,0)+IF('F9-IDP'!$HL$2=\"3\",'F9-IDP'!$HY$10,0)+IF('F9-IDP'!$IU$2=\"3\",'F9-IDP'!$JH$10,0)+IF('F9-IDP'!$KD$2=\"3\",'F9-IDP'!$KQ$10,0)+IF('F9-IDP'!$LM$2=\"3\",'F9-IDP'!$LZ$10,0)","v":{"v":0,"d":"0.00"}},{"$nulls":6},{"$f":"IF('F9-IDP'!$J$2=\"3\",'F9-IDP'!$AC$10,0)+IF('F9-IDP'!$AS$2=\"3\",'F9-IDP'!$BL$10,0)+IF('F9-IDP'!$CB$2=\"3\",'F9-IDP'!$CU$10,0)+IF('F9-IDP'!$DK$2=\"3\",'F9-IDP'!$ED$10,0)+IF('F9-IDP'!$ET$2=\"3\",'F9-IDP'!$FM$10,0)+IF('F9-IDP'!$GC$2=\"3\",'F9-IDP'!$GV$10,0)+IF('F9-IDP'!$HL$2=\"3\",'F9-IDP'!$IE$10,0)+IF('F9-IDP'!$IU$2=\"3\",'F9-IDP'!$JN$10,0)+IF('F9-IDP'!$KD$2=\"3\",'F9-IDP'!$KW$10,0)+IF('F9-IDP'!$LM$2=\"3\",'F9-IDP'!$MF$10,0)","v":{"v":0,"d":"0.00"}}]
["2. Otros Pasivos",{"$nulls":12},{"$f":"Balanza!D101-'F9-EDP'!N11:T11-'F9-EDP'!N15:T15","v":{"v":7412358.3500000015,"d":"7,412,358.35"}},{"$nulls":27},{"$f":"Balanza!H101-'F9-EDP'!AP11:AV11-'F9-EDP'!AP15:AV15","v":{"v":7197531.939999998,"d":"7,197,531.94"}}]
["3. Total de la Deuda Pública y Otros Pasivos",{"$nulls":12},{"$f":"N11+N19+N15","v":{"v":35946274.61,"d":"35,946,274.61"}},{"$nulls":6},{"$f":"U11+U19+U15","v":{"v":0,"d":"0.00"}},{"$nulls":6},{"$f":"AB11+AB19+AB15","v":{"v":71584.97,"d":"71,584.97"}},{"$nulls":6},{"$f":"AI11+AI19+AI15","v":{"v":0,"d":"0.00"}},{"$nulls":6},{"$f":"AP11+AP19+AP15","v":{"v":35659863.23,"d":"35,659,863.23"}},{"$nulls":6},{"$f":"AW11+AW19+AW15","v":{"v":238466.34,"d":"238,466.34"}},{"$nulls":6},{"$f":"BD11+BD19+BD15","v":{"v":0,"d":"0.00"}}]
[]
["4. Deuda Contingente (informativo)"]
["A.",{"$nulls":40},{"$f":"N23+U23-AB23+AI23","v":{"v":0,"d":"0.00"}}]
["B.",{"$nulls":40},{"$f":"N24+U24-AB24+AI24","v":{"v":0,"d":"0.00"}}]
["C.",{"$nulls":40},{"$f":"N25+U25-AB25+AI25","v":{"v":0,"d":"0.00"}}]
[]
["5. Valor de Instrumentos Bonos Cupón Cero (Informativo)"]
["A.",{"$nulls":40},{"$f":"N28+U28-AB28+AI28","v":{"v":0,"d":"0.00"}}]
["B.",{"$nulls":40},{"$f":"N29+U29-AB29+AI29","v":{"v":0,"d":"0.00"}}]
["C.",{"$nulls":40},{"$f":"N30+U30-AB30+AI30","v":{"v":0,"d":"0.00"}}]
[]
["Obligaciones a Corto Plazo",{"$nulls":12},"Monto Contratado",{"$nulls":9},"Plazo Pactado",{"$nulls":9},"Tasa de Interés",{"$nulls":9},"Comisiones y Costos Relacionados",{"$nulls":9},"Tasa Efectiva"]
[]
["6. Obligaciones a Corto Plazo (Informativo)"]
["A."]
["B."]
["C."]
{"$rows_empty":13}
[null,null,"Bajo protesta de decir verdad declaramos que los Estados Financieros y sus notas, son razonablemente correctos y responsabilidad del emisor."]
[]
[]
[]
[]
[{"$nulls":5},"LIC. JOSE HERIBERTO GARCIA MURILLO",{"$nulls":26},"LAE BRUNO GERMAN ENCISO GUILLEN"]
[{"$nulls":5},"PRESIDENTE MUNICIPAL",{"$nulls":26},"ENCARGADO DE LA HACIENDA MUNICIPAL"]
[{"$nulls":21},"ASEJ2026-01-31-03-2026-1"]

{"sheet":"F9-IAO","index":7,"n_rows":31,"n_cols":64,"rows_kept":31,"merged":[[0,0,0,68],[1,0,1,68],[2,0,2,68],[3,0,3,68],[4,0,9,12],[4,13,9,17],[4,18,9,22],[4,23,9,27],[4,28,9,33],[4,34,9,38],[4,39,9,44],[4,45,9,50],[4,51,9,56],[4,57,9,62],[4,63,9,68],[10,0,10,12],[10,13,10,17],[10,18,10,22],[10,23,10,27],[10,28,10,33],[10,34,10,38],[10,39,10,44],[10,45,10,50],[10,51,10,56],[10,57,10,62],[10,63,10,68],[11,2,11,12],[11,13,11,17],[11,18,11,22],[11,23,11,27],[11,28,11,33],[11,34,11,38],[11,39,11,44],[11,45,11,50],[11,51,11,56],[11,57,11,62],[11,63,11,68],[12,2,12,12],[12,13,12,17],[12,18,12,22],[12,23,12,27],[12,28,12,33],[12,34,12,38],[12,39,12,44],[12,45,12,50],[12,51,12,56],[12,57,12,62],[12,63,12,68],[13,2,13,12],[13,13,13,17],[13,18,13,22],[13,23,13,27],[13,28,13,33],[13,34,13,38],[13,39,13,44],[13,45,13,50],[13,51,13,56],[13,57,13,62],[13,63,13,68],[14,2,14,12],[14,13,14,17],[14,18,14,22],[14,23,14,27],[14,28,14,33],[14,34,14,38],[14,39,14,44],[14,45,14,50],[14,51,14,56],[14,57,14,62],[14,63,14,68],[15,0,15,12],[15,13,15,17],[15,18,15,22],[15,23,15,27],[15,28,15,33],[15,34,15,38],[15,39,15,44],[15,45,15,50],[15,51,15,56],[15,57,15,62],[15,63,15,68],[16,2,16,12],[16,13,16,17],[16,18,16,22],[16,23,16,27],[16,28,16,33],[16,34,16,38],[16,39,16,44],[16,45,16,50],[16,51,16,56],[16,57,16,62],[16,63,16,68],[17,2,17,12],[17,13,17,17],[17,18,17,22],[17,23,17,27],[17,28,17,33],[17,34,17,38],[17,39,17,44],[17,45,17,50],[17,51,17,56],[17,57,17,62],[17,63,17,68],[18,2,18,12],[18,13,18,17],[18,18,18,22],[18,23,18,27],[18,28,18,33],[18,34,18,38],[18,39,18,44],[18,45,18,50],[18,51,18,56],[18,57,18,62],[18,63,18,68],[19,2,19,12],[19,13,19,17],[19,18,19,22],[19,23,19,27],[19,28,19,33],[19,34,19,38],[19,39,19,44],[19,45,19,50],[19,51,19,56],[19,57,19,62],[19,63,19,68],[20,0,20,12],[20,28,20,33],[20,34,20,38],[20,39,20,44],[20,45,20,50],[20,51,20,56],[20,57,20,62],[20,63,20,68],[28,5,28,24],[28,41,28,61],[29,5,29,24],[29,41,29,61],[30,22,31,40]]}
["MUNICIPIO IXTLAHUACÁN DE LOS MEMBRILLOS"]
["Informe Analítico de Obligaciones Diferentes de Financiamiento - LDF"]
["DEL 1° DE ENERO AL 31 DE ENERO DE 2026"]
["(PESOS)"]
["Denominación de las Obligaciones Diferentes de Financiamiento",{"$nulls":12},"Fecha del Contrato",{"$nulls":4},"Fecha de inicio de operaciones del proyecto",{"$nulls":4},"Fecha de vencimiento",{"$nulls":4},"Monto de la inversión pactado",{"$nulls":5},"Plazo pactado",{"$nulls":4},"Monto promedio mensual del pago de la contraprestación",{"$nulls":5},"Monto promedio mensual del pago de la contraprestación correspondiente al pago de inversión",{"$nulls":5},{"$f":"\"Monto pagado de la inversión al \"&INDEX(Validacion!D185:D196,MATCH(Validacion!A11,Validacion!C185:C196,0))","v":"Monto pagado de la inversión al 31 de Enero de 2026"},{"$nulls":5},{"$f":"\"Monto pagado de la inversión actualizado al \"&INDEX(Validacion!D185:D196,MATCH(Validacion!A11,Validacion!C185:C196,0))","v":"Monto pagado de la inversión actualizado al 31 de Enero de 2026"},{"$nulls":5},{"$f":"\"Saldo pendiente por pagar de la inversión al \"&INDEX(Validacion!D185:D196,MATCH(Validacion!A11,Validacion!C185:C196,0))","v":"Saldo pendiente por pagar de la inversión al 31 de Enero de 2026"}]
[]
[]
[]
[]
[]
["A. Asociaciones Público Privadas (APP´s)",{"$nulls":27},{"$f":"SUM(AC12:AH15)","v":{"v":0,"d":"0.00"}},{"$nulls":10},{"$f":"SUM(AN12:AS15)","v":{"v":0,"d":"0.00"}},{"$nulls":5},{"$f":"SUM(AT12:AY15)","v":{"v":0,"d":"0.00"}},{"$nulls":5},{"$f":"SUM(AZ12:BE15)","v":{"v":0,"d":"0.00"}},{"$nulls":5},{"$f":"SUM(BF12:BK15)","v":{"v":0,"d":"0.00"}},{"$nulls":5},{"$f":"SUM(BL12:BQ15)","v":{"v":0,"d":"0.00"}}]
[null,"a)","NO APLICA",{"$nulls":60},{"$f":"AC12-BF12","v":{"v":0,"d":"0.00"}}]
[null,"b)",{"$nulls":61},{"$f":"AC13-BF13","v":{"v":0,"d":"0.00"}}]
[null,"c)",{"$nulls":61},{"$f":"AC14-BF14","v":{"v":0,"d":"0.00"}}]
[null,"d)",{"$nulls":61},{"$f":"AC15-BF15","v":{"v":0,"d":"0.00"}}]
["B. Otros Instrumentos",{"$nulls":27},{"$f":"SUM(AC17:AH20)","v":{"v":0,"d":"0.00"}},{"$nulls":10},{"$f":"SUM(AN17:AS20)","v":{"v":0,"d":"0.00"}},{"$nulls":5},{"$f":"SUM(AT17:AY20)","v":{"v":0,"d":"0.00"}},{"$nulls":5},{"$f":"SUM(AZ17:BE20)","v":{"v":0,"d":"0.00"}},{"$nulls":5},{"$f":"SUM(BF17:BK20)","v":{"v":0,"d":"0.00"}},{"$nulls":5},{"$f":"SUM(BL17:BQ20)","v":{"v":0,"d":"0.00"}}]
[null,"a)",{"$nulls":61},{"$f":"AC17-BF17","v":{"v":0,"d":"0.00"}}]
[null,"b)",{"$nulls":61},{"$f":"AC18-BF18","v":{"v":0,"d":"0.00"}}]
[null,"c)",{"$nulls":61},{"$f":"AC19-BF19","v":{"v":0,"d":"0.00"}}]
[null,"d)",{"$nulls":61},{"$f":"AC20-BF20","v":{"v":0,"d":"0.00"}}]
["C. Total de Obligaciones Diferentes de Financiamiento",{"$nulls":27},{"$f":"AC11+AC16","v":{"v":0,"d":"0.00"}},{"$nulls":10},{"$f":"AN11+AN16","v":{"v":0,"d":"0.00"}},{"$nulls":5},{"$f":"AT11+AT16","v":{"v":0,"d":"0.00"}},{"$nulls":5},{"$f":"AZ11+AZ16","v":{"v":0,"d":"0.00"}},{"$nulls":5},{"$f":"BF11+BF16","v":{"v":0,"d":"0.00"}},{"$nulls":5},{"$f":"BL11+BL16","v":{"v":0,"d":"0.00"}}]
[]
[]
[null,null,"Bajo protesta de decir verdad declaramos que los Estados Financieros y sus notas, son razonablemente correctos y responsabilidad del emisor."]
[]
[]
[]
[]
[{"$nulls":5},"LIC. JOSE HERIBERTO GARCIA MURILLO",{"$nulls":35},"LAE BRUNO GERMAN ENCISO GUILLEN"]
[{"$nulls":5},"PRESIDENTE MUNICIPAL",{"$nulls":35},"ENCARGADO DE LA HACIENDA MUNICIPAL"]
[{"$nulls":22},"ASEJ2026-01-31-03-2026-1"]

{"sheet":"F10","index":8,"n_rows":157,"n_cols":13,"rows_kept":157,"merged":[[0,0,0,12],[1,0,1,12],[2,0,2,12],[3,0,3,12],[150,0,150,7],[156,2,157,3],[156,5,157,7],[156,9,157,11]]}
["MUNICIPIO IXTLAHUACÁN DE LOS MEMBRILLOS"]
["INFORMATIVA DE PROVEEDORES"]
["DEL 1° AL 31 DE ENERO DE 2026"]
["(Cifras en pesos)"]
["N°","PROVEEDOR Y/O PRESTADOR","R.F.C.","DOMICILIO","CIUDAD","CODIGO POSTAL","FUENTE DE FINANCIAMIENTO","ORIGEN DEL RECURSO POR CUENTA BANCARIA","FORMA DE PAGO","DESCRIPCIÓN DEL GASTO","IMPORTE","FECHA DE LA FACTURA","FOLIO DE FACTURA"]
[1," ALEJANDRO AMBRIZ CABRERA","AICA740709N13","CIRCUITO VALLE DORADO 124L-3 ","TLAJOMULCO DE ZUÑIGA",45653,1.1,"Cta. 01720129762312 IMTOS. (NO ETIQ)","Transferencia","MEDICAMENTO PARA CLINICA DE SMM.   ",{"v":291852.86,"d":"291,852.86"},"2026-01-16","d39aafd6-cf6d-4361-824e-b8041106a81e"]
[2," ALEJANDRO AMBRIZ CABRERA","AICA740709N13","CIRCUITO VALLE DORADO 124L-3 ","TLAJOMULCO DE ZUÑIGA",45653,1.1,"INGRESOS CLINICA NO","Transferencia","MEDICAMENTO PARA CLINICA DE SMM.   ",{"v":15094,"d":"15,094.00"},"2026-01-16","5e505a5e-28a2-45a5-aa53-dcd7c826d973"]
[3," ALEJANDRO AMBRIZ CABRERA","AICA740709N13","CIRCUITO VALLE DORADO 124L-3 ","TLAJOMULCO DE ZUÑIGA",45653,1.1,"INGRESOS CLINICA NO","Transferencia","MEDICAMENTO PARA CLINICA DE SMM.   ",{"v":57196.4,"d":"57,196.40"},"2026-01-16","2f28fcfd-88e7-4053-a04d-b52f6c75561a"]
[4," ALEJANDRO AMBRIZ CABRERA","AICA740709N13","CIRCUITO VALLE DORADO 124L-3 ","TLAJOMULCO DE ZUÑIGA",45653,1.1,"INGRESOS CLINICA NO","Transferencia","MEDICAMENTO PARA CLINICA DE SMM.   ",{"v":45457.16,"d":"45,457.16"},"2026-01-16","21142905-e161-4828-8172-390a4856f99c"]
[5," SUSANA BARON PADILLA","BAPS930411JG1","N/P  ","N/P  ",45920,1.1,"Cta. 01720129762312 IMTOS. (NO ETIQ)","Transferencia","REPARACION Y MANTENIMIENTO DESBROZADORAS CAMPOS DEPORTIVOS Y PARQUES Y JARDINES.   ",{"v":17342,"d":"17,342.00"},"2026-01-08","2CFC6F90-7295-4024-B4FB-D88D71DD1C36"]
[6," SUSANA BARON PADILLA","BAPS930411JG1","N/P  ","N/P  ",45920,1.1,"Cta. 01720129762312 IMTOS. (NO ETIQ)","Transferencia","MATERIAL DEPORTIVO DE ENTRENAMIENTO DE BOXEO.  ",{"v":9860,"d":"9,860.00"},"2026-01-28","06F99A7C-EA39-47FA-AB96-4A72E9582B11"]
[7," SUSANA BARON PADILLA","BAPS930411JG1","N/P  ","N/P  ",45920,1.1,"Cta. 01720129762312 IMTOS. (NO ETIQ)","Transferencia","REPARACION Y MANTENIMIENTO DESBROZADORAS Y MOTOSIERRAS DE AREAS DEPORTIVAS.  ",{"v":14604.4,"d":"14,604.40"},"2026-01-16","AAC79254-FAF4-4236-AD4E-C5693AEB0798"]
[8,"AFA PROYECTOS","APR181128GV1","SANTA JULIA 1165 VICENTE GUERRERO","GUADALAJARA",44690,1.1,"Cta. 01720129762312 IMTOS. (NO ETIQ)","Transferencia","MATERIAL ELECTRICO PARA MANTENIMIENTOS DE ALUMBRADO PUBLICO.   ",{"v":148463.76,"d":"148,463.76"},"2026-01-06","DD987A67-35EA-4F55-AD22-5D615EFAD58D"]
[9,"AFA PROYECTOS","APR181128GV1","SANTA JULIA 1165 VICENTE GUERRERO","GUADALAJARA",44690,1.1,"Cta.01720133352464 VOUCHER IMTOS. (NO ETQ.)","Transferencia","MATERIAL ELECTRICO PARA MANTENIMIENTOS DE ALUMBRADO PUBLICO.   ",{"v":47686.95,"d":"47,686.95"},"2026-01-08","1C3EDED2-70D7-4091-98F6-A5CF65646331"]
[10,"AFA PROYECTOS","APR181128GV1","SANTA JULIA 1165 VICENTE GUERRERO","GUADALAJARA",44690,1.1,"Cta. 01720129762312 IMTOS. (NO ETIQ)","Transferencia","MATERIAL ELECTRICO PARA MANTENIMIENTOS ALUMBRADO PUBLICO DEL MUNICIPIO.   ",{"v":38304.59,"d":"38,304.59"},"2026-01-14","28F33E25-BCC1-4394-B4F8-8C684C30C3D7"]
[11,"AFA PROYECTOS","APR181128GV1","SANTA JULIA 1165 VICENTE GUERRERO","GUADALAJARA",44690,1.1,"Cta. 01720129762312 IMTOS. (NO ETIQ)","Transferencia","MATERIAL ELECTRICO PARA MNTTO. ALUMBRADO PUBLICO.   ",{"v":130710.66,"d":"130,710.66"},"2026-01-27","1D227789-950A-4194-B5D3-D1D447A21223"]
[12,"Afianzadora Sofimex SA de CV","ASG950531ID1","BLVD ADOLFO LOPEZ MATEOS 1941  ","CD DE MEXICO",1010,1.1,"Cta. 01720129762312 IMTOS. (NO ETIQ)","Transferencia","SEGURO DE RESPONSABILIDAD PATRIMONIAL Y FIANZA PRESIDENTE MUNICIPAL.   ",{"v":8534.7,"d":"8,534.70"},"2026-01-26","7E97A385-D1F4-4E35-8171-D1B8E7C71073"]
[13,"Afianzadora Sofimex SA de CV","ASG950531ID1","BLVD ADOLFO LOPEZ MATEOS 1941  ","CD DE MEXICO",1010,1.1,"Cta. 01720129762312 IMTOS. (NO ETIQ)","Transferencia","SEGURO DE RESPONSABILIDAD PATRIMONIAL Y FIANZA SINDICO.  ",{"v":8534.7,"d":"8,534.70"},"2026-01-27","E6E34E97-D1C5-4511-BAE9-5795195D0BCC"]
[14,"Afianzadora Sofimex SA de CV","ASG950531ID1","BLVD ADOLFO LOPEZ MATEOS 1941  ","CD DE MEXICO",1010,1.1,"Cta. 01720129762312 IMTOS. (NO ETIQ)","Transferencia","SEGURO DE RESPONSABILIDAD PATRIMONIAL Y FIANZA SECRETARIO GENERAL.  ",{"v":8534.7,"d":"8,534.70"},"2026-01-26","D08CC66D-DD84-4CCE-A08D-58B6077D0060"]
[15,"Afianzadora Sofimex SA de CV","ASG950531ID1","BLVD ADOLFO LOPEZ MATEOS 1941  ","CD DE MEXICO",1010,1.1,"Cta. 01720129762312 IMTOS. (NO ETIQ)","Transferencia","SEGURO DE RESPONSABILIDAD PATRIMONIAL Y FIANZA TESORERO.  ",{"v":8534.7,"d":"8,534.70"},"2026-01-26","D8910171-7484-461F-AF7B-1F40D61B8F96"]
[16,"Afianzadora Sofimex SA de CV","ASG950531ID1","BLVD ADOLFO LOPEZ MATEOS 1941  ","CD DE MEXICO",1010,1.1,"Cta. 01720129762312 IMTOS. (NO ETIQ)","Transferencia","SEGURO DE RESPONSABILIDAD PATRIMONIAL Y FIANZA CONTRALORA.  ",{"v":8534.7,"d":"8,534.70"},"2026-01-27","45CBD45E-B8F2-457C-B572-F45A11D6F7FB"]
[17,"Afianzadora Sofimex SA de CV","ASG950531ID1","BLVD ADOLFO LOPEZ MATEOS 1941  ","CD DE MEXICO",1010,1.1,"Cta. 01720129762312 IMTOS. (NO ETIQ)","Transferencia","SEGURO DE RESPONSABILIDAD PATRIMONIAL Y FIANZA OFICIAL MAYOR ADMINISTRATIVO.   ",{"v":8534.7,"d":"8,534.70"},"2026-01-26","9AD49546-E6ED-4989-B8DA-C901ABDAB203"]
[18,"Afianzadora Sofimex SA de CV","ASG950531ID1","BLVD ADOLFO LOPEZ MATEOS 1941  ","CD DE MEXICO",1010,1.1,"Cta. 01720129762312 IMTOS. (NO ETIQ)","Transferencia","SEGURO DE RESPONSABILIDAD PATRIMONIAL Y FIANZA  DIRECTOR OBRAS PUBLICAS.   ",{"v":8534.7,"d":"8,534.70"},"2026-01-26","0A7EAA4F-586C-4011-8C58-D44B376513B7"]
[19,"Afianzadora Sofimex SA de CV","ASG950531ID1","BLVD ADOLFO LOPEZ MATEOS 1941  ","CD DE MEXICO",1010,1.1,"Cta. 01720129762312 IMTOS. (NO ETIQ)","Transferencia","SEGURO DE RESPONSABILIDAD PATRIMONIAL Y FIANZA ENCARGADA DE COMPRAS.  ",{"v":8534.7,"d":"8,534.70"},"2026-01-27","358D042E-94FC-44CC-80B8-FF45CD3887C9"]
[20,"ALVACRUZ CONSTRUCTORA","ACO070118AWA","N/P  ","N/P  ",44600,1.1,"Cta. 01720129762312 IMTOS. (NO ETIQ)","Transferencia","RENTA DE MAQUINARIA PARA OBRA PUBLICA.  ",{"v":232000,"d":"232,000.00"},"2026-01-21","4F54F375-E836-474D-897E-85C3F5490645"]
[21,"ANDRE IVAN HERRERA BARBA","HEBA021009QZ3","N/P  ","XTLAHUACAN DE LOS MEMBRILLOS",45850,1.1,"Cta. 01720129762312 IMTOS. (NO ETIQ)","Transferencia","RENTA DE MUEBLE PARA ACTIVIDAD NAVIDEÑA EN PLAZA PRINCIPAL.  ",{"v":9180,"d":"9,180.00"},"2026-01-07","D55F5035-37E3-4CDA-B8F0-31F60E1702B7"]
[22,"ANDRE IVAN HERRERA BARBA","HEBA021009QZ3","N/P  ","XTLAHUACAN DE LOS MEMBRILLOS",45850,1.1,"Cta. 01720129762312 IMTOS. (NO ETIQ)","Transferencia","RENTA DE MUEBLE PARA APOYO FUNERARIO EN OJO DE AGUA IXTLAHUACAN.  ",{"v":5737.5,"d":"5,737.50"},"2026-01-20","97E50BE7-125F-496D-A674-69EB284ABB9D"]
[23,"ANDRE IVAN HERRERA BARBA","HEBA021009QZ3","N/P  ","XTLAHUACAN DE LOS MEMBRILLOS",45850,1.1,"Cta. 01720129762312 IMTOS. (NO ETIQ)","Transferencia","RENTA DE MUEBLE PARA PARTIR ROSCA DE REYES  PARA TRABAJADORES.  ",{"v":5186.7,"d":"5,186.70"},"2026-01-20","9C8BFB06-537A-47B4-9838-420819E28586"]
[24,"ANDRE IVAN HERRERA BARBA","HEBA021009QZ3","N/P  ","XTLAHUACAN DE LOS MEMBRILLOS",45850,1.1,"Cta. 01720129762312 IMTOS. (NO ETIQ)","Transferencia","RENTA DE MUEBLE PARA PARTIR ROSCA DE REYES PLAZA PRINCIPAL IXTLAHUACAN.  ",{"v":6299.77,"d":"6,299.77"},"2026-01-13","F8E363A8-F12F-4CBD-B4BF-18A97841423F"]
[25,"Arcenio Gomez Gutierrez","GOGA9708205C5","SANTA ROSA 27 LA CAPILLA  ","IXTLAHUACAN DE LOS MEMBRILLOS",45870,1.1,"Cta. 01720129762312 IMTOS. (NO ETIQ)","Transferencia","MATERIAL DE REPARACION T MNTTO. EN LA CAPILLA.  ",{"v":6398.09,"d":"6,398.09"},"2026-01-13","ABF04508-4233-414A-95DC-712E868E2C1E"]
[26,"ARMANI CONSTRUCCIONES Y EDIFICACIONES","ACE211125DC7","N/P  ","N/P  ",44440,1.1,"Cta. 01720129762312 IMTOS. (NO ETIQ)","Transferencia","RENTA DE MAQUINARIA PARA TRABAJOS DE OBRAS PUBLICA.   ",{"v":348000,"d":"348,000.00"},"2026-01-21","59FECB01-28B1-4940-A27D-8824D8D52D6C"]
[27,"Aro Asfaltos y Riesgos de Occidente s.a. de c.v.","AAR120507VA9","N/P  ","N/P",45690,1.1,"Cta. 01720129762312 IMTOS. (NO ETIQ)","Transferencia","MEZCLA  SFALTICA DE 3/8 A FINOS PARA REPARACION Y MNTTO. AVENIDAS DEL MUNICIPIO.   ",{"v":580000,"d":"580,000.00"},"2026-01-30","65C85A29-128F-4CEF-9537-F921B78C1365"]
[28,"Autonova SA de CV","AUT850115V47","N/P  ","N/P",44190,1.1,"Cta. 01720129762312 IMTOS. (NO ETIQ)","Transferencia","REPARACION Y MNTTO. UNIDAD S-10 SEGURIDAD PUBLICA.   ",{"v":12259,"d":"12,259.00"},"2026-01-29","c0dc592e-3ad6-41b7-bce3-16e3132a24cd"]
[29,"Autonova SA de CV","AUT850115V47","N/P  ","N/P",44190,1.1,"Cta. 01720129762312 IMTOS. (NO ETIQ)","Transferencia","REPARACION Y MANTENIMIENTO UNIDAD IM-01 SEGURIDAD PUBLICA.   ",{"v":13773,"d":"13,773.00"},"2026-01-30","c3ca87f3-8550-4523-80b7-9000bf0f3dda"]
[30,"Camarena Automotriz de Occidente s.a. de c.v.","CAO850307HY1","AV. 8 DE JULIO 2206, ESQ. LÁZARO CÁRDENAS 206 ZONA IND.  ","GUADALAJARA",44940,1.1,"Cta. 01720129762312 IMTOS. (NO ETIQ)","Transferencia","REPARACION Y MANTENIMIENTO UNIDA DE VIALIDAD.   ",{"v":8332.36,"d":"8,332.36"},"2026-01-13","82a90ab7-cad5-4f84-b610-4e4a942311b0"]
[31,"Camarena Automotriz de Occidente s.a. de c.v.","CAO850307HY1","AV. 8 DE JULIO 2206, ESQ. LÁZARO CÁRDENAS 206 ZONA IND.  ","GUADALAJARA",44940,1.1,"Cta. 01720129762312 IMTOS. (NO ETIQ)","Transferencia","REPARACION Y MNTTO. UNIDAD DE VIALIDAD.   ",{"v":7129,"d":"7,129.00"},"2026-01-29","a2fe31d0-693a-4444-954f-2bbd9a0a96aa"]
[32,"Camarena Automotriz de Occidente s.a. de c.v.","CAO850307HY1","AV. 8 DE JULIO 2206, ESQ. LÁZARO CÁRDENAS 206 ZONA IND.  ","GUADALAJARA",44940,1.1,"Cta. 01720129762312 IMTOS. (NO ETIQ)","Transferencia","REPARACION Y MANTENIMIENTO VEHICULO DE OFICIALIA MAYOR.  ",{"v":5983,"d":"5,983.00"},"2026-01-28","546ea0e0-9ef0-4d96-bce5-89c4ba676fd1"]
[33,"Carlos Elias Sanchez Soto","SASC561014M26","N/P  ","N/P",45550,1.1,"Cta. 01720129762312 IMTOS. (NO ETIQ)","Transferencia","IMPRESION  FORMATOS PARA REGISTRO DETENIDOS DERECHOS IMPUTADO T/C Y T/O PARA SEGURIDAD PUBLICA.   ",{"v":9860,"d":"9,860.00"},"2026-01-14","8B931B37-A87E-4375-9B9D-BB6A21C1FE0B"]
[34,"Carlos Elias Sanchez Soto","SASC561014M26","N/P  ","N/P",45550,1.1,"INGRESOS CLINICA NO","Transferencia","IMPRESION DE RECIBOS DE CUOTAS Y REGISTRO DE CLINICA DE SMM.  ",{"v":17748,"d":"17,748.00"},"2026-01-29","01897F3A-2E61-49A7-A984-F80EB0ACD066"]
[35,"Carlos Nafarrate SA de CV","CNA8602174V2","N/P  ","N/P",44100,1.1,"INGRESOS CLINICA NO","Transferencia","CARGADOR UNIVERSAL ESCRITORIO MANGOS FO Y MANGO LARINGOSCOPICO RECARGABLE PARA CLINICA DE SMM.   ",{"v":11600.7,"d":"11,600.70"},"2026-01-24","5EB5EBDD-345D-4641-AEDE-676274B5FB7D"]
[36,"Cecilia  Gutierrez Moreida","GUMC630909RF8","N/P  ","IXTLAHUACAN DE LOS MEMBRILLOS",45850,1.1,"Cta. 01720129762312 IMTOS. (NO ETIQ)","Transferencia","SERVICIO DE HOSPEDAJE PARA PERSONAL QUE TRABAJO INDICADORE EN PLAN DE DESARRO URBANO.   ",{"v":11200,"d":"11,200.00"},"2026-01-03","BDBD2BAC-CCF8-4C46-9FC6-EFA40F16C3E8"]
[37,"CEGA PROMOCION CORPORATIVA ","CPC080218B94","N/P  ","N/P  ",44190,1.1,"Cta. 01720129762312 IMTOS. (NO ETIQ)","Transferencia","5 BANDERAS CONFECCIONADAS EN TELA DE RAZO 60X105 CM,ESCUDO NACIONAL BODADO(COLORES),BANDERA CONFECCIONADA EN RAZO 90X1.58 MTS.,ESCUDOS NACIONAL BORDADO",{"v":78648,"d":"78,648.00"},"2026-01-06","9CB9A051-5541-428F-9381-A648BC7CA483"]
[38,"Chubb Seguros Mexico sa","ASE901221SM4","N/P  ","N/P  ",660,1.1,"Cta. 01720129762312 IMTOS. (NO ETIQ)","Transferencia","SEGURO MAQUINARIA DE OBRAS PUBLICAS.   ",{"v":158197.14,"d":"158,197.14"},"2026-01-20","c0d17401-427c-4f0a-968d-4a37ff055886"]
[39,"COFIDUE COMERCIOS Y SERVICIOS","CCS231127G27","MARISANO OTERO 3643 LA CALMA","ZAPOPAN",45070,1.1,"Cta. 01720129762312 IMTOS. (NO ETIQ)","Transferencia","PAPELERIA PARA DIFERENTES OFICINAS  ADMVAS.Y SERV.PUBLICO.  ",{"v":51183.38,"d":"51,183.38"},"2026-01-15","6f57cafa-1e14-4181-a3db-30142c2e7ff8"]
[40,"COFIDUE COMERCIOS Y SERVICIOS","CCS231127G27","MARISANO OTERO 3643 LA CALMA","ZAPOPAN",45070,1.1,"Cta. 01720129762312 IMTOS. (NO ETIQ)","Transferencia","MATERIAL DE PAPELERIA PARA DIFERENTES OFICINAS.  ",{"v":23521.82,"d":"23,521.82"},"2026-01-15","9879f30a-1434-4346-b8cb-08237386e45c"]
[41,"Comision Federal de Electricidad","CFE370814QI0","N/P  ","N/P  ",44100,1.1,"Cta. 01720129762312 IMTOS. (NO ETIQ)","Cheque","AJUSTE CONSUMO ENERGIA ELECTRICA,CAMPO FUTBOL LOALIDAD EL RODEO.   ",{"v":32833.08,"d":"32,833.08"},"2026-01-07","DB6E3CAA-9421-49B3-9E27-C206C40CC21C"]
[42,"Comision Federal de Electricidad","CFE370814QI0","N/P  ","N/P  ",44100,1.1,"Cta. 01720129762312 IMTOS. (NO ETIQ)","Cheque","CONSUMO ENERGIA ELECTRICA CALLES Y AVENIDAS DEL MUNICIPIO  DICIEMBRE 2025.  ",{"v":221217,"d":"221,217.00"},"2026-01-09"]
[43,"Comision Federal de Electricidad","CFE370814QI0","N/P  ","N/P  ",44100,1.1,"Cta. 01720129762312 IMTOS. (NO ETIQ)","Cheque","CONSUMO ENERGIA ELECTRICA CALLES LOPEZ COTILLA ATEQUIZA MES DE  DICIEMBRE 2025.  ",{"v":99736,"d":"99,736.00"},"2026-01-09"]
[44,"Comision Federal de Electricidad","CFE370814QI0","N/P  ","N/P  ",44100,2.5,"Cta. 0720129762277 FGP (NO ETIQ)","Transferencia","CONSUMO ENERGIA ELECTRICA DEL MES DE DICIEMBRE 2025.  ",{"v":948207,"d":"948,207.00"},"2026-01-09","B3453F88-9267-4751-A149-14CE0E4BA5EA"]
[45,"Consultores en auaditorias Legatus sa de cv","CAL190730GL4","N/P  ","AGUASCALIENTES",44130,1.1,"Cta. 01720129762312 IMTOS. (NO ETIQ)","Transferencia","ASESORIA PROFESIONAL DE CAPACITACION Y TEMAS DE ADMINISTRACION PUBLICA.   ",{"v":578211.28,"d":"578,211.28"},"2026-01-27","F209CCFF-FF24-4755-9A30-90C7741C78D4"]
[46,"Consultores en auaditorias Legatus sa de cv","CAL190730GL4","N/P  ","AGUASCALIENTES",44130,1.1,"Cta. 01720129762312 IMTOS. (NO ETIQ)","Transferencia","ASESORAMIENTO Y CAPACITACION EN ADMINISTRACIONES PUBLICAS.   ",{"v":813788.72,"d":"813,788.72"},"2026-01-27","4D6144F5-FF42-42FF-92FE-0B87430525BE"]
[47,"DANIELA  NOEMI LOPEZ DEL CASTILLO","LOCD891118HP1","EL COLLI 5423 EL COLLI URBANO","ZAPOPAN",45070,1.1,"Cta. 01720129762312 IMTOS. (NO ETIQ)","Transferencia","GASTOS MEDICOS POR  REVISION CALCULOS VILIARES.  ",{"v":8400,"d":"8,400.00"},"2026-01-09","B896E0C1-93CD-4032-AB5D-552CED1F4752"]
[48,"DLON COMERCIALIZADORA EMPRESARIAL NACIONAL","CEN2002056V3","JUAN ALVAREZ 73 EL RETIRO","GUADALAJARA",44280,1.1,"Cta. 01720129762312 IMTOS. (NO ETIQ)","Transferencia","ORGANIZACION Y PRODUCCION PARA LOS EVENTOS SOCIALES Y CULTURALES DEL POBLADO DE LA CAÑADA.  ",{"v":40600,"d":"40,600.00"},"2026-01-08","0ff4d5f7-c7cb-401d-ad74-89ae0ccd3bce"]
[49,"DLON COMERCIALIZADORA EMPRESARIAL NACIONAL","CEN2002056V3","JUAN ALVAREZ 73 EL RETIRO","GUADALAJARA",44280,1.1,"Cta. 01720129762312 IMTOS. (NO ETIQ)","Transferencia","ORGANIZACION Y PRODUCCION PARA LOS EVENTOS SOCIALES Y CULTURALES DE LAS AGUILILLAS.   ",{"v":176900,"d":"176,900.00"},"2026-01-13","714218cc-e06d-4dc2-84da-80564225174d"]
[50,"DLON COMERCIALIZADORA EMPRESARIAL NACIONAL","CEN2002056V3","JUAN ALVAREZ 73 EL RETIRO","GUADALAJARA",44280,1.1,"Cta. 01720129762312 IMTOS. (NO ETIQ)","Transferencia","ORGANIZACION Y PRODUCCION PARA LOS EVENTOS SOCIALES Y CULTURALES DE EL RODEO.   ",{"v":166460,"d":"166,460.00"},"2026-01-13","aaa6f859-66c0-4ce0-b356-e1af59d59a52"]
[51,"DLON COMERCIALIZADORA EMPRESARIAL NACIONAL","CEN2002056V3","JUAN ALVAREZ 73 EL RETIRO","GUADALAJARA",44280,1.1,"Cta. 01720129762312 IMTOS. (NO ETIQ)","Transferencia","COORDINACION Y PRODUCCION EVENTO SOCIAL Y CULTURAL  LOCALIDAD BUENAVISTA.  ",{"v":176320,"d":"176,320.00"},"2026-01-26","fcdd08d7-29e1-42e2-bf94-094e84e328a3"]
[52,"Edgar Jesus Ascencio Torres","AETE9310224V5","N/P  ","IXTLAHUACAN DE LOS MEMBRILLOS",45850,1.1,"Cta. 01720129762312 IMTOS. (NO ETIQ)","Transferencia","RENTA DE MUEBLE PARA GRADUACION EN TEATRO DE ATEQUIZA.  ",{"v":10904,"d":"10,904.00"},"2026-01-13","AAA193F0-0F66-4BFE-890A-99539195258D"]
[53,"ELEAZAR VALDIVIA OLIVARES","VAOE891203BG8","N/P  ","N/P  ",45860,1.1,"Cta. 01720129762312 IMTOS. (NO ETIQ)","Transferencia","REGISTRO DE DOMINIO IMEMBRILLOS(PAGINA WEB)  ",{"v":27478.08,"d":"27,478.08"},"2026-01-15","89C8ACC1-F89C-4E90-B95A-BAA0C722AFED"]
[54,"Enrique Enciso Diaz","EIDE520706MUA","AV. SANTIAGO 30 CENTRO  ","XTLAHUACAN DE LOS MEMBRILLOS",45850,1.5,"Cta. 0720129762277 FGP (NO ETIQ)","Transferencia","COMBUSTIBLE DE VEHICULOS OFICIALES DEL 1-6 ENERO 2026.-  ",{"v":284605.73,"d":"284,605.73"},"2026-01-08","ED20B284-3D21-42B1-BC78-A95B40F0E5B6"]
[55,"Enrique Enciso Diaz","EIDE520706MUA","AV. SANTIAGO 30 CENTRO  ","XTLAHUACAN DE LOS MEMBRILLOS",45850,1.5,"Cta. 0720129762277 FGP (NO ETIQ)","Transferencia","COMBUSTIBLE DE VEHICULOS OFICIALES DEL 7-13 ENERO 2026.  ",{"v":342569.87,"d":"342,569.87"},"2026-01-15","D1525493-E3D8-440B-B3F6-67485864B733"]
[56,"Enrique Enciso Diaz","EIDE520706MUA","AV. SANTIAGO 30 CENTRO  ","XTLAHUACAN DE LOS MEMBRILLOS",45850,1.5,"Cta. 0720129762277 FGP (NO ETIQ)","Transferencia","COMBUSTIBLE DEL 14-20 ENERO 2026.-  ",{"v":356533.24,"d":"356,533.24"},"2026-01-22","8F719DD1-0867-4B71-BE55-1F12A92C4B77"]
[57,"FATIMA GALILEA LOPEZ RAMIREZ","LORF960101QR2","N/P  ","N/P  ",45030,1.1,"Cta. 01720129762312 IMTOS. (NO ETIQ)","Transferencia","ATENCION Y SEGUIMIENTO MEDICO, DAVID CORTEZ GONZALEZ.  ",{"v":20000,"d":"20,000.00"},"2026-01-17","174D91EF-3224-45B9-B269-032E868AA063"]
[58,"Felipe Herrera Enciso","HEEF8209061C5","CUAHUATEMOC  CENTRO  ","IXTLAHUACAN DE LOS MEMBRILLOS",45850,1.1,"Cta. 01720129762312 IMTOS. (NO ETIQ)","Transferencia","MATERIALES VARIOS DE FERRETERIA DE VARIS UR .  ",{"v":13914.42,"d":"13,914.42"},"2026-01-08","D589688E-AEC4-444D-963F-D393BB166ABB"]
[59,"Felipe Herrera Enciso","HEEF8209061C5","CUAHUATEMOC  CENTRO  ","IXTLAHUACAN DE LOS MEMBRILLOS",45850,1.1,"Cta. 01720129762312 IMTOS. (NO ETIQ)","Transferencia","MATERIAL DE FERRETERIA PARA REPARACION Y MANTENIMIENTOS POR OBRAS PUBLICAS.   ",{"v":88384.84,"d":"88,384.84"},"2026-01-08","71F8BA48-F125-4C2C-AF5D-81BAD6E9F9FD"]
[60,"Felipe Herrera Enciso","HEEF8209061C5","CUAHUATEMOC  CENTRO  ","IXTLAHUACAN DE LOS MEMBRILLOS",45850,1.1,"Cta. 01720129762312 IMTOS. (NO ETIQ)","Transferencia","MATERIAL DE FERRETERIA PARA REPARACION Y MANTENIMIENTOS POR OBRAS PUBLICAS.   ",{"v":16420.32,"d":"16,420.32"},"2026-01-08","0494739C-E103-492F-85E6-C87029E98807"]
[61,"Felipe Herrera Enciso","HEEF8209061C5","CUAHUATEMOC  CENTRO  ","IXTLAHUACAN DE LOS MEMBRILLOS",45850,1.1,"Cta. 01720129762312 IMTOS. (NO ETIQ)","Transferencia","MATERIALES VARIOS DE FERRETERIA DE VARIS UR .-  ",{"v":35324.6,"d":"35,324.60"},"2026-01-15","C9D49188-0E7A-4704-B89B-99C5574182D7"]
[62,"Felipe Herrera Enciso","HEEF8209061C5","CUAHUATEMOC  CENTRO  ","IXTLAHUACAN DE LOS MEMBRILLOS",45850,1.1,"Cta. 01720129762312 IMTOS. (NO ETIQ)","Transferencia","MATERIAL DE FERRETERIA PARA MNTTOS. POR OBRAS PUBLICAS.   ",{"v":6909.99,"d":"6,909.99"},"2026-01-15","95ce9591-8d18-4887-9532-83f19bdd91b8"]
[63,"Felipe Herrera Enciso","HEEF8209061C5","CUAHUATEMOC  CENTRO  ","IXTLAHUACAN DE LOS MEMBRILLOS",45850,1.1,"Cta. 01720129762312 IMTOS. (NO ETIQ)","Transferencia","ANTICIPO MATERIAL  ",{"v":74500,"d":"74,500.00"},"2026-01-16"]
[64,"Felipe Herrera Enciso","HEEF8209061C5","CUAHUATEMOC  CENTRO  ","IXTLAHUACAN DE LOS MEMBRILLOS",45850,1.1,"Cta. 01720129762312 IMTOS. (NO ETIQ)","Transferencia","MATERIAL DE FERRETERIA PARA MNTTO.POR OBRAS PUBLICAS.   ",{"v":12629.59,"d":"12,629.59"},"2026-01-15","3D62C530-BBE7-476D-A6D4-B83A73141781"]
[65,"Felipe Herrera Enciso","HEEF8209061C5","CUAHUATEMOC  CENTRO  ","IXTLAHUACAN DE LOS MEMBRILLOS",45850,1.1,"Cta. 01720129762312 IMTOS. (NO ETIQ)","Transferencia","MATERIAL DE FERRETERIA.-  ",{"v":62620.57,"d":"62,620.57"},"2026-01-22","0754B585-548B-4AC8-B222-84DE69C8C80C"]
[66,"Felipe Herrera Enciso","HEEF8209061C5","CUAHUATEMOC  CENTRO  ","IXTLAHUACAN DE LOS MEMBRILLOS",45850,1.1,"Cta. 01720129762312 IMTOS. (NO ETIQ)","Transferencia","MATERIAL DE FERRETERIA PARA MNTTO. POR OBRAS PUBLICAS.   ",{"v":46066.55,"d":"46,066.55"},"2026-01-22","A867B1DF-E835-43AA-9E89-27E212FAF85F"]
[67,"Felipe Herrera Enciso","HEEF8209061C5","CUAHUATEMOC  CENTRO  ","IXTLAHUACAN DE LOS MEMBRILLOS",45850,1.1,"Cta. 01720129762312 IMTOS. (NO ETIQ)","Transferencia","MATERIAL DE FERRETERIA PARA MNTTOS. OBRAS PUBLICAS.   ",{"v":10962,"d":"10,962.00"},"2026-01-29","C25F77F9-D07B-41F1-8FEC-57DEB6658A3C"]
[68,"Felipe Herrera Enciso","HEEF8209061C5","CUAHUATEMOC  CENTRO  ","IXTLAHUACAN DE LOS MEMBRILLOS",45850,1.1,"Cta. 01720129762312 IMTOS. (NO ETIQ)","Transferencia","MATERIAL DE FERRETERIA DIFERENTES UR.  ",{"v":29940.33,"d":"29,940.33"},"2026-01-29","71883F1C-5498-49B9-AE4B-CA01E818E50D"]
[69,"Francisco Javier Hernandez Cano","HECF811117359","FLORES MAGON 38 B LAS COLONIAS  ","CHAPALA",45930,1.1,"Cta. 01720129762312 IMTOS. (NO ETIQ)","Transferencia","INSERCION PUBLICITARIA MES DE ENERO 2026.  ",{"v":5276.86,"d":"5,276.86"},"2026-01-12","1D64215D-13FE-40DD-A6CF-66860D8D8B0A"]
[70,"GOBPAY SA DE CV ","GOB2202015T5","N/P  ","N/P  ",44500,1.1,"Cta.01720133352464 VOUCHER IMTOS. (NO ETQ.)","Transferencia","5 HORAS DE SOPORTE  CON MESA DE TRABAJO CON SISTEMA DE CATASTRO.  ",{"v":7453,"d":"7,453.00"},"2026-01-07","50a0436e-bce5-4aa1-a6e3-8931a2000779"]
[71,"GRUPO DE  PINTURAS EN ACCION","GPA9704239M7","N/P  ","N/P  ",45860,1.1,"Cta. 01720129762312 IMTOS. (NO ETIQ)","Transferencia","PINTURA Y ACCESORIOS PARA LA REAHABILITACION DE LA PLAZA BUENAVISTA Y DELEGACIONES DEL MPIO.   ",{"v":54427.3,"d":"54,427.30"},"2026-01-14","9BEB1415-6747-4EE8-AE22-926148670A78"]
[72,"GRUPO DE  PINTURAS EN ACCION","GPA9704239M7","N/P  ","N/P  ",45860,1.1,"Cta. 01720129762312 IMTOS. (NO ETIQ)","Transferencia","PINTURA Y ACCESORIOS  PARA LA REHABILITACION DE LA PLAZA DE AGUILILLAS.   ",{"v":10563.97,"d":"10,563.97"},"2026-01-14","0C751ED8-B6F2-4C7F-B75B-FBBA046355AA"]
[73,"HDI Seguros SA de CV","HSE701218532","PASEO INSUGENTES  ","LEON",44620,2.5,"Cta. 01720129762312 IMTOS. (NO ETIQ)","Transferencia","DEDUCIBLE UNIDAD DE SEGURIDAD PUBLICA.   ",{"v":15230,"d":"15,230.00"},"2026-01-21","5923357c-ba33-4f3e-9af3-4ee6c709d8bd"]
[74,"IMAGENOLOGIA DIAGNOSTICA DE LA RIVERA CHAPALA","IDR190611JJ1","N/P  ","N/P  ",48312,1.1,"Cta. 01720129762312 IMTOS. (NO ETIQ)","Transferencia","SERVICIO DE RAYOS X PARA TRABAJADOR.   ",{"v":8563,"d":"8,563.00"},"2026-01-17","BFE335E1-66E5-40C5-A25A-AD007F0EB846"]
[75,"Imprenta Gorilitas S de RL de CV","IGO210714RL4","N/P  ","N/P",44410,1.1,"Cta. 01720129762312 IMTOS. (NO ETIQ)","Transferencia","IMPRESION DE  LONAS,CORTE VINIL,10 MILLARES HOJAS MEMBRETADAS T/C,2 MILLARES VALES GASOLINA,3 MILLAR VOLANTES POR COM.SOCIAL.   ",{"v":59919.8,"d":"59,919.80"},"2026-01-21","B04FC962-A5EE-4254-A591-B92B40681D37"]
[76,"Imprenta Gorilitas S de RL de CV","IGO210714RL4","N/P  ","N/P",44410,1.1,"Cta. 01720191284201 FORTAMUN 2026 (Etiquetado)","Transferencia","IMPRESION DE CORTE VINIL ROTULACION ,INSTALACION DE VEHICULOS  OFICIALES.   ",{"v":21576,"d":"21,576.00"},"2026-01-23","FA11542E-43F1-48F9-AADC-954F0C75EF41"]
[77,"INSTITUTO MUNICIPAL DE LAS MUJERES DE IXTLAHUACAN DE LOS MEMBRILLOS JALISCO","IMM100125B81","FCO I MADERO  CENTRO","IXTLAHUACAN DE LOS MEMBRILLOS",45850,1.5,"Cta. 0720129762277 FGP (NO ETIQ)","Transferencia","SUBSIDIO INSTITUTO DE LA MUJER 1RA. QUINCENA 1RA. QUINCENA ENERO 2026.   ",{"v":75000,"d":"75,000.00"},"2026-01-12","DA1A46C5-9AD3-488C-95CE-3F83455A6D9C"]
[78,"INSTITUTO MUNICIPAL DE LAS MUJERES DE IXTLAHUACAN DE LOS MEMBRILLOS JALISCO","IMM100125B81","FCO I MADERO  CENTRO","IXTLAHUACAN DE LOS MEMBRILLOS",45850,1.5,"Cta. 0720129762277 FGP (NO ETIQ)","Transferencia","SUBSIDIO  INSTITUTO DE LA MUJER  2DA. QUINCENA ENERO 2026.   ",{"v":75000,"d":"75,000.00"},"2026-01-12","FA9DFFE2-B9D9-4E11-B6B7-F602E7F1475D"]
[79,"Isabella Navarro Barajas","NABI861120685","N/P  ","N/P",45675,1.1,"Cta. 01720129762312 IMTOS. (NO ETIQ)","Transferencia","MATERIAL DE LIMPIEZA PARA OFICINAS ADMINISTRATIVAS Y SERVICIOS PUBLICOS.  ",{"v":14585.85,"d":"14,585.85"},"2026-01-05","985AACBD-5E80-4273-9E63-1550F6E0B574"]
[80,"JOSE LUIS  MARTINEZ MARTINEZ","MAML600430B22","N/P  ","N/P  ",50904,1.1,"Cta. 01720129762312 IMTOS. (NO ETIQ)","Cheque","PIROMUSICAL PARA PRSENTACION EVENTO EN ATEQUIZA.  ",{"v":197200,"d":"197,200.00"},"2026-01-20","935F6EF8-E992-4E4A-9CC1-B8646981F5F6"]
[81,"Juan Carlos Martinez Garcia","MAGJ950509CG7","N/P  ","N/P",45133,1.1,"Cta. 01720129762312 IMTOS. (NO ETIQ)","Transferencia","MATERIAL DE TONER  PARA DIFERENTES OFICINAS.  ",{"v":66343.3,"d":"66,343.30"},"2026-01-15","B5B4C19D-D2DE-4529-8FFC-9C740E9A75F3"]
[82,"Juan Carlos Martinez Garcia","MAGJ950509CG7","N/P  ","N/P",45133,1.1,"Cta. 01720129762312 IMTOS. (NO ETIQ)","Transferencia","TONERS PARA IMPRESORAS DE TURISMO.   ",{"v":10880.8,"d":"10,880.80"},"2026-01-22","580ACD70-D9DC-4CFD-ABF6-A60DECF0537A"]
[83,"Juan Carlos Martinez Garcia","MAGJ950509CG7","N/P  ","N/P",45133,1.1,"Cta. 01720129762312 IMTOS. (NO ETIQ)","Transferencia","TINTAS Y  USB PARA  COPIADORA DE REGISTRO CIVIL.   ",{"v":7312.87,"d":"7,312.87"},"2026-01-29","689BE7E9-A6F0-482C-81B2-332224A3D620"]
[84,"LIMITED ELECTRONIC DEVICES","CTP181214HU0","CALANDRIA 137 RESIDENCIAL SANTA BARBARA","COLIMA",28017,1.1,"Cta. 01720129762312 IMTOS. (NO ETIQ)","Transferencia","LUMINARIAS Y REFLECTORES PARA RENOVACION DE ALUMBRADO PUBLICO DEL MPIO  ",{"v":380984.42,"d":"380,984.42"},"2025-02-07","102F737E-9609-1846-85B4-965166E2AD1F"]
[85,"LUIS OCTAVIO TAVARES CONTRERAS","TACL0112262ZA","N/P  ","XTLAHUACAN DE LOS MEMBRILLOS",45850,1.5,"Cta. 0720129762277 FGP (NO ETIQ)","Cheque","REPARACION Y MANTENIMIENTO CAMIONES Y MAQUINARIA DE OBRAS PUBLICAS.   ",{"v":84900.4,"d":"84,900.40"},"2026-01-07","954B454E-2EBF-4581-B6EE-96D73E5CEF95"]
[86,"LUIS OCTAVIO TAVARES CONTRERAS","TACL0112262ZA","N/P  ","XTLAHUACAN DE LOS MEMBRILLOS",45850,1.5,"Cta. 0720129762277 FGP (NO ETIQ)","Cheque","REPARACION Y MANTENIMIENTO CAMIONES DE ASEO  PUBLICO.   ",{"v":118917.4,"d":"118,917.40"},"2026-01-07","9D59B618-4EAE-4C22-8497-68A8E55968D5"]
[87,"LUIS OCTAVIO TAVARES CONTRERAS","TACL0112262ZA","N/P  ","XTLAHUACAN DE LOS MEMBRILLOS",45850,1.5,"Cta. 0720129762277 FGP (NO ETIQ)","Cheque","REPARACION Y MANTENIMIENTO CAMIONES DE PARQUES Y JARDINES.  ",{"v":39266,"d":"39,266.00"},"2026-01-07","789D03AD-2D40-46E9-85E2-FE32C42D5007"]
[88,"LUIS OCTAVIO TAVARES CONTRERAS","TACL0112262ZA","N/P  ","XTLAHUACAN DE LOS MEMBRILLOS",45850,1.5,"Cta. 0720129762277 FGP (NO ETIQ)","Cheque","REPARACION Y MANTENIMIENTO VEHICULOS DE CATASTRO.   ",{"v":24800.8,"d":"24,800.80"},"2026-01-07","90AA46A4-A0C5-4EA9-BDBB-A483379776BA"]
[89,"LUIS OCTAVIO TAVARES CONTRERAS","TACL0112262ZA","N/P  ","XTLAHUACAN DE LOS MEMBRILLOS",45850,1.5,"Cta. 0720129762277 FGP (NO ETIQ)","Cheque","REPARACION Y MANTENIMIENTO UNIDADES DE PROTECCION CIVIL.   ",{"v":22875.2,"d":"22,875.20"},"2026-01-09","2AA43B0B-4EB8-4887-BF3F-67B7AB8EB0EE"]
[90,"LUIS OCTAVIO TAVARES CONTRERAS","TACL0112262ZA","N/P  ","XTLAHUACAN DE LOS MEMBRILLOS",45850,1.5,"Cta. 0720129762277 FGP (NO ETIQ)","Cheque","REPARACION Y MANTENIMIENTO CAMIONES Y MAQUINARIA DE OBRAS PUBLICAS.   ",{"v":50692,"d":"50,692.00"},"2026-01-15","D6AE8BB4-BBE8-466F-B735-0E405B0D4693"]
[91,"LUIS OCTAVIO TAVARES CONTRERAS","TACL0112262ZA","N/P  ","XTLAHUACAN DE LOS MEMBRILLOS",45850,1.5,"Cta. 0720129762277 FGP (NO ETIQ)","Cheque","REPARACION Y MANTENIMIENTO CAMIONES Y MAQUINARIA DE OBRAS PUBLICAS.   ",{"v":57031.4,"d":"57,031.40"},"2026-01-14","735DE66E-F826-40A9-BE10-2495F1EF66E7"]
[92,"LUIS OCTAVIO TAVARES CONTRERAS","TACL0112262ZA","N/P  ","XTLAHUACAN DE LOS MEMBRILLOS",45850,1.5,"Cta. 0720129762277 FGP (NO ETIQ)","Cheque","REPARACION Y MANTENIMIENTO CAMIONES DE ASEO PUBLICO.   ",{"v":144559.2,"d":"144,559.20"},"2026-01-14","0C938F9A-B417-4D65-AC3C-28EC40909CC2"]
[93,"LUIS OCTAVIO TAVARES CONTRERAS","TACL0112262ZA","N/P  ","XTLAHUACAN DE LOS MEMBRILLOS",45850,1.5,"Cta. 0720129762277 FGP (NO ETIQ)","Cheque","REPARACION Y MANTENIMIENTO CAMIONES DE PROTECCION CIVIL.  ",{"v":13264.6,"d":"13,264.60"},"2026-01-14","0E2D6437-0621-4838-BC09-21B17844B89F"]
[94,"LUIS OCTAVIO TAVARES CONTRERAS","TACL0112262ZA","N/P  ","XTLAHUACAN DE LOS MEMBRILLOS",45850,1.5,"Cta. 0720129762277 FGP (NO ETIQ)","Cheque","REPARACION Y MANTENIMIENTO VEHICULO DELEGACION ATEQUIZA.  ",{"v":46864,"d":"46,864.00"},"2026-01-22","E0A66E03-C1B9-4088-969D-75105381DF8A"]
[95,"LUIS OCTAVIO TAVARES CONTRERAS","TACL0112262ZA","N/P  ","XTLAHUACAN DE LOS MEMBRILLOS",45850,1.5,"Cta. 0720129762277 FGP (NO ETIQ)","Cheque","REPARACION Y MANTENIMIENTO CAMIONES Y MAQUINARIA DE OBRAS PUBLICAS.   ",{"v":68683.6,"d":"68,683.60"},"2026-01-21","2DF08232-A65F-42AA-9B6B-016A92AB390B"]
[96,"LUIS OCTAVIO TAVARES CONTRERAS","TACL0112262ZA","N/P  ","XTLAHUACAN DE LOS MEMBRILLOS",45850,1.5,"Cta. 0720129762277 FGP (NO ETIQ)","Cheque","REPARACION Y MANTENIMIENTO CAMIONES Y MAQUINARIA DE OBRAS PUBLICAS.   ",{"v":91228.2,"d":"91,228.20"},"2026-01-21","848BB3E8-5066-41CA-A222-8462958F285C"]
[97,"LUIS OCTAVIO TAVARES CONTRERAS","TACL0112262ZA","N/P  ","XTLAHUACAN DE LOS MEMBRILLOS",45850,1.5,"Cta. 0720129762277 FGP (NO ETIQ)","Cheque","REPARACION Y MANTENIMIENTO CAMIONES DE ASEO PUBLICO.  ",{"v":30044,"d":"30,044.00"},"2026-01-21","F101AFE7-218F-4123-A913-2D6A9C7CD9C6"]
[98,"LUIS OCTAVIO TAVARES CONTRERAS","TACL0112262ZA","N/P  ","XTLAHUACAN DE LOS MEMBRILLOS",45850,1.5,"Cta. 0720129762277 FGP (NO ETIQ)","Cheque","REPARACION Y MANTENIMIENTO CAMIONES DE PROTECCION CIVIL.   ",{"v":13769.2,"d":"13,769.20"},"2026-01-21","4622EA4D-7FAA-4CEF-B3B8-058F6AEE4139"]
[99,"LUIS OCTAVIO TAVARES CONTRERAS","TACL0112262ZA","N/P  ","XTLAHUACAN DE LOS MEMBRILLOS",45850,1.5,"Cta. 0720129762277 FGP (NO ETIQ)","Cheque","REPARACION Y MANTENIMIENTO CAMIONES DE OBRAS PUBLICAS.   ",{"v":40600,"d":"40,600.00"},"2026-01-21","3B4E30AB-93A1-40B2-B770-3C83CCB88618"]
[100,"LUIS OCTAVIO TAVARES CONTRERAS","TACL0112262ZA","N/P  ","XTLAHUACAN DE LOS MEMBRILLOS",45850,1.5,"Cta. 0720129762277 FGP (NO ETIQ)","Cheque","MANTENIMIENTO Y REPARACION TRANSMISION Y CAMBIO DE CLUTCH FORD FIESTA GRIS DE CATASTRO.  ",{"v":37676.8,"d":"37,676.80"},"2026-01-21","59AA656C-0764-4B24-8E8F-1919C6CC88CD"]
[101,"LUIS OCTAVIO TAVARES CONTRERAS","TACL0112262ZA","N/P  ","XTLAHUACAN DE LOS MEMBRILLOS",45850,1.5,"Cta. 0720129762277 FGP (NO ETIQ)","Cheque","MANTENIMIENTO Y REPARACION VEHICULO  PARQUE VEHICULAR.   ",{"v":23537.23,"d":"23,537.23"},"2026-01-21","E1351490-BCF5-4A93-9A12-89EEB59B4F71"]
[102,"LUIS OCTAVIO TAVARES CONTRERAS","TACL0112262ZA","N/P  ","XTLAHUACAN DE LOS MEMBRILLOS",45850,1.5,"Cta. 0720129762277 FGP (NO ETIQ)","Cheque","REPARACION T MANTENIMIENTO UNIDADES DE PROTECCION CIVIL.   ",{"v":15822.4,"d":"15,822.40"},"2026-01-28","B7BF3646-7A6A-4AC7-813C-CC110709E0C4"]
[103,"LUIS OCTAVIO TAVARES CONTRERAS","TACL0112262ZA","N/P  ","XTLAHUACAN DE LOS MEMBRILLOS",45850,1.5,"Cta. 0720129762277 FGP (NO ETIQ)","Cheque","REPARACION T MANTENIMIENTO UNIDADES DE  OBRAS PUBLICAS  ",{"v":17179.6,"d":"17,179.60"},"2026-01-28","F3BC1025-C3E4-46D9-A334-30C1357784A9"]
[104,"LUIS OCTAVIO TAVARES CONTRERAS","TACL0112262ZA","N/P  ","XTLAHUACAN DE LOS MEMBRILLOS",45850,1.5,"Cta. 0720129762277 FGP (NO ETIQ)","Cheque","REPARACION T MANTENIMIENTO UNIDADES DE  ASEO PUBLICO.   ",{"v":123064.4,"d":"123,064.40"},"2026-01-28","9BF096D4-3AEF-4798-9F16-A3B8BC932B69"]
[105,"MA CRUZ RODRIGUEZ FLORES","ROFC6605037D4","N/P  ","XTLAHUACAN DE LOS MEMBRILLOS",45850,1.1,"Cta. 01720129762312 IMTOS. (NO ETIQ)","Transferencia","REFACCIONES PARA VEHICULOS POR PARQUE VEHICULAR.   ",{"v":27689.14,"d":"27,689.14"},"2026-01-04","92BC057B-4C49-4F34-972A-B9BFA31455D8"]
[106,"MA CRUZ RODRIGUEZ FLORES","ROFC6605037D4","N/P  ","XTLAHUACAN DE LOS MEMBRILLOS",45850,1.1,"Cta. 01720129762312 IMTOS. (NO ETIQ)","Transferencia","REFACCIONES PARA VEHICULOS POR PARQUE VEHICULAR.   ",{"v":138893.39,"d":"138,893.39"},"2026-01-04","9D802FFB-DFA7-415F-A8A9-5420B165D845"]
[107,"MA CRUZ RODRIGUEZ FLORES","ROFC6605037D4","N/P  ","XTLAHUACAN DE LOS MEMBRILLOS",45850,1.1,"Cta. 01720129762312 IMTOS. (NO ETIQ)","Transferencia","TAMBO DE ACEITE PARA VEHICULOS PARQUE VEHICULAR.   ",{"v":22950,"d":"22,950.00"},"2026-01-25","16E47A22-B8AF-468C-8EDE-048DDB402C1F"]
[108,"Ma De la Luz  Flores Castellanos","FOCL630910UV2","N/P  ","XTLAHUACAN DE LOS MEMBRILLOS",45850,1.1,"Cta. 01720129762312 IMTOS. (NO ETIQ)","Transferencia","ARTICULOS DE ABARROTES PARA OFICINAS ADMINISTRATIVAS.   ",{"v":19599.76,"d":"19,599.76"},"2026-01-27","986D6DB5-D423-446F-9332-F9B91EDFCF5D"]
[109,"Maria Guadalupe Hernandez Garcia","HEGG730212212","N/P  ","XTLAHUACAN DE LOS MEMBRILLOS",45900,1.1,"Cta. 01720129762312 IMTOS. (NO ETIQ)","Transferencia","EXMENES DE LABORATORIO PARA TRABAJADORES DEL 30 DICIEMBRE AL 15 ENERO  2026.  ",{"v":14656.6,"d":"14,656.60"},"2026-01-16","5D44EC71-97AA-4E94-9EF1-D486B249D303"]
[110,"Maria Guadalupe Vazquez Pulido","VAPG641029GVA","N/P  ","N/P  ",44100,1.1,"Cta. 01720129762312 IMTOS. (NO ETIQ)","Cheque","DANZA FOLCKLORICA  DE LA 3RA. EDAD EN CASA DE CULTURA, CORRESPONDIENTE ALOS MESES DE  ENERO-JUNIO 2025.   ",{"v":7200,"d":"7,200.00"},"2026-01-12","8F404888-A5D2-434B-B977-4CED895DB875"]
[111,"Maria Guadalupe Vazquez Pulido","VAPG641029GVA","N/P  ","N/P  ",44100,1.1,"Cta. 01720129762312 IMTOS. (NO ETIQ)","Cheque","DANZA FOLCKLORICA  DE LA 3RA. EDAD EN CASA DE CULTURA, CORRESPONDIENTE ALOS MESES DE  JULIO A DICIEMBRE  2025.   ",{"v":7200,"d":"7,200.00"},"2026-01-13","C7DA2C4D-AE2B-478D-8EFF-68BC2E71CB7F"]
[112,"MIGUEL ANGEL VALDEZ  CASILLAS","VACM630608NU1","N/P  ","N/P  ",45950,1.1,"Cta. 01720129762312 IMTOS. (NO ETIQ)","Transferencia","ATENCION Y SEGUIMIENTO MEDICO, DAVID CORTEZ GONZALEZ.  ",{"v":20000,"d":"20,000.00"},"2026-01-17","0CB7E302-EEA1-4478-A9B7-910EDE190A3C"]
[113,"MONUMA JURIDICOS","MJU190624S29","MANUEL ACUÑA 295210 PRADOS PROVIDENCIA","GUADALAJARA",44670,1.1,"Cta. 01720129762312 IMTOS. (NO ETIQ)","Transferencia","ASESORAMIENTO Y CAPACITACION EN ADMINISTRACIONES PUBLICAS,MES ENERO 2026.   ",{"v":53360,"d":"53,360.00"},"2026-01-06","33D03FEB-8AE8-4703-80BE-4059A54E9290"]
[114,"Norma Yadira  Cervantes Gaytan","CEGN8808056F8","N/P  ","IXTLAHUACAN DE LOS MEMBRILLOS",45850,1.1,"Cta. 01720129762312 IMTOS. (NO ETIQ)","Cheque","CORONAS PARA SERVICIOS FUNERARIOS COMO APOYO A DIFERENTES LOCALIDADES.   ",{"v":6500,"d":"6,500.00"},"2026-01-06","9E482450-497F-434A-A022-43EA548F63D7"]
[115,"Nueva Walmart de Mexico SA de CV","NWM9709244W4","N/P  ","N/P",45915,1.1,"Cta. 01720129762312 IMTOS. (NO ETIQ)","Transferencia","ACCESORIOS PARA OFICINA.  ",{"v":5358.98,"d":"5,358.98"},"2026-01-21","DD011C0C-018D-405C-B3A5-71870A14EC6E"]
[116,"Pablo Daniel Ramirez Hernandez","RAHP6807206X1","PRIVADA ZARAGOZA 8 CENTRO  ","IXTLAHUACAN DE LOS MEMBRILLOS",45850,1.1,"Cta. 01720129762312 IMTOS. (NO ETIQ)","Transferencia","RENTA DE MUEBLE PARA REUNION DE TRABAJO EN CEDROS.   ",{"v":6032,"d":"6,032.00"},"2026-01-20","AEE24F8D-6D69-43D8-9037-AC02E1EA9E67"]
[117,"Praxair Mexico de Rl de cv","PME960701GG0","N/P  ","N/P  ",44910,1.1,"INGRESOS CLINICA NO","Transferencia","OXIGENO MEDICAL PARA CLINICA DE SMM.   ",{"v":5300.55,"d":"5,300.55"},"2026-01-23","86b75727-64c1-44d0-9355-9e9de7871c9d"]
[118,"Praxair Mexico de Rl de cv","PME960701GG0","N/P  ","N/P  ",44910,1.1,"INGRESOS CLINICA NO","Transferencia","OXIGENO MEDICAL PARA CLINICA DE SMM.   ",{"v":5248.42,"d":"5,248.42"},"2026-01-03","8ce98b5c-f219-40df-9744-2cdeb62bb4b4"]
[119,"Proveedora de Rines y Llantas Monterry sa de cv","PRL1103158E7","N/P  ","N/P",64820,2.5,"Cta. 01720129762312 IMTOS. (NO ETIQ)","Transferencia","LLANTAS PARA UNIDADES DE SEGURIDAD PUBLICA  ",{"v":130680,"d":"130,680.00"},"2026-01-27"]
[120,"Proveedora de Rines y Llantas Monterry sa de cv","PRL1103158E7","N/P  ","N/P",64820,1.1,"Cta. 01720129762312 IMTOS. (NO ETIQ)","Transferencia","LLANTAS PATA CAMIONES DE ASEO PUBLICO  ",{"v":46080,"d":"46,080.00"},"2026-01-28","D824C94B-1706-45D9-AFAF-8CAA66FB7E17"]
[121,"Qualitas Compañia de Seguros, s.a. de c.v.","QCS931209G49","N/P  ","N/P  ",5200,2.5,"Cta. 01720129762312 IMTOS. (NO ETIQ)","Transferencia","SEGURO FLOTILLA DE PATRULLAS EN COMODATO.   ",{"v":72462.77,"d":"72,462.77"},"2025-09-19","AFC9CD23-0D16-4069-A349-0C63D875FA48"]
[122,"Qualitas Compañia de Seguros, s.a. de c.v.","QCS931209G49","N/P  ","N/P  ",5200,2.5,"Cta. 01720129762312 IMTOS. (NO ETIQ)","Transferencia","DEDUCIBLE UNIDAD IM-05 SEGURIDAD PUBLICA.  ",{"v":17405,"d":"17,405.00"},"2026-01-26","FD3A3954-548D-4F25-BCE8-EBD903AA9F62"]
[123,"Ramon Ramirez Hernandez","RAHR630324M21","ZARAGOZA  CENTRO  ","IXTLAHUACAN DE LOS MEMBRILLOS",45850,1.1,"Cta. 01720129762312 IMTOS. (NO ETIQ)","Transferencia","MATERIAL DE ABARROTES PARA DIFERENTES OFICINAS ADMVAS.   ",{"v":6685.52,"d":"6,685.52"},"2026-01-24","7EF5FB83-D346-4E40-B105-EC97F74207BA"]
[124,"RUFINO SANCHEZ ALMANZA","SAAR700220RX9","N/P  ","XTLAHUACAN DE LOS MEMBRILLOS",45850,1.1,"Cta. 01720129762312 IMTOS. (NO ETIQ)","Cheque","RENTA DE MUEBLE PARA EVENTO EN LA EX HACIENDA DE CEDROS.   ",{"v":7795.2,"d":"7,795.20"},"2026-01-13","87F16B51-5025-4D3F-9269-4D3F09FB2180"]
[125,"RUFINO SANCHEZ ALMANZA","SAAR700220RX9","N/P  ","XTLAHUACAN DE LOS MEMBRILLOS",45850,1.1,"Cta. 01720129762312 IMTOS. (NO ETIQ)","Cheque","RENTA DE MUEBLE PARA EVENTO FERIA DEL MEMBRILLO PLAZA PRINCIPAL.   ",{"v":20810.4,"d":"20,810.40"},"2026-01-13","4A877E9A-6C13-4F93-9FED-2B7E6A23CDED"]
[126,"SAFECO CONSTRUCCIONES ","SCO141105IB3","N/P  ","N/P  ",44800,1.1,"Cta. 01720129762312 IMTOS. (NO ETIQ)","Transferencia","RENTA INMUEBLE PARA OFICINAS ADMINISTRATIVAS DEL AYUNTAMIENTO MES DE  ENERO 2026.   ",{"v":120000,"d":"120,000.00"},"2026-01-28","2D41D78B-7156-43A2-B582-41A8DAA5F22E"]
[127,"Sanatorio y Maternidad Colonias S.A de C.V.","SMC040318EX9","N/P  ","N/P  ",44600,1.1,"Cta. 01720129762312 IMTOS. (NO ETIQ)","Transferencia","GASTOS MEDICOS DE MATERNIDAD,ESPOSA DE TRABAJADOR.  ",{"v":15500,"d":"15,500.00"},"2026-01-13","0ed5034b-f19a-453c-b83e-cd6408877d68"]
[128,"SECRETARIA DE LA HACIENDA PUBLICA ","SPC130227L99","N/P  ","GUADALAJARA",44100,2.5,"Cta 01720178360244 FAIS 2025","Transferencia","REINTEGRO  FAISMUN 2025  ",{"v":11268.87,"d":"11,268.87"},"2026-01-30","2b881661-72cb-463b-a811-648719d7a530"]
[129,"SECRETARIA DE LA HACIENDA PUBLICA ","SPC130227L99","N/P  ","GUADALAJARA",44100,1.1,"Cta. 01720129762312 IMTOS. (NO ETIQ)","Transferencia","FORMAS VALORADAS DE ORDEN DE SACRIFICIO DE GANADO PARA RASTRO MUNICIPAL.   ",{"v":9600,"d":"9,600.00"},"2026-01-19","41d69179-fa62-4a99-bd90-8bbd2ea56726"]
[130,"SECRETARIA DE LA HACIENDA PUBLICA ","SPC130227L99","N/P  ","GUADALAJARA",44100,1.6,"Cta. 0720129762277 FGP (NO ETIQ)","Transferencia","RETENCION POR APORTACION A FIDEICOMISO TURISMO MPIOS ZONA FORANEA DEL MES DE ENERO 2026  ",{"v":23753.97,"d":"23,753.97"},"2026-01-30"]
[131,"SECRETARIA DE LA HACIENDA PUBLICA ","SPC130227L99","N/P  ","GUADALAJARA",44100,1.5,"Cta. 0720129762277 FGP (NO ETIQ)","Transferencia","DESCUENTO DE POTENCIOACION AL FEIEF AL FGP DEL MES DE ENERO 2026  ",{"v":77251.61,"d":"77,251.61"},"2026-01-30"]
[132,"Sistema DIF del Municipio de Ixtlahuacán de los Membrillos","SDI870314982","N/P  ","Ixtlahuacan de los Membrillos",45850,1.5,"Cta. 0720129762277 FGP (NO ETIQ)","Transferencia","SUBSIDIO  SISTEMA DIF IXTLAHUACA,  1RA. QUINCENA ENERO 2026.   ",{"v":466817.6,"d":"466,817.60"},"2026-01-14","AE180CF8-75FA-4405-897A-312C9028BDD3"]
[133,"Sistema DIF del Municipio de Ixtlahuacán de los Membrillos","SDI870314982","N/P  ","Ixtlahuacan de los Membrillos",45850,1.5,"Cta. 0720129762277 FGP (NO ETIQ)","Transferencia","SUBSIDIO DIF MUNICIPAL, 2DA. QUINCENA ENERO 2026.   ",{"v":466817.6,"d":"466,817.60"},"2026-01-15","E2DE97E9-36F6-4F4E-948A-8AB4862630FF"]
[134,"Tuberias y Conexiones del Lago SA de CV","TCL110112NR9","N/P  ","CHAPALA",45900,1.1,"Cta. 01720129762312 IMTOS. (NO ETIQ)","Transferencia","MOTOBOMBA 2HP PARA EX HACIENDA DE CEDROS.   ",{"v":5590,"d":"5,590.00"},"2026-01-21","4DFAC0D0-1F67-43E4-B4C1-EC00706CA59F"]
[135,"TV Rey de Occidente SA de CV","TRO950518DM2","N/P  ","N/P  ",59000,1.1,"Cta. 01720129762312 IMTOS. (NO ETIQ)","Transferencia","SERVICIO DE INTERNET  TRONCALES DE CONMUTADOR MES DE ENERO 2026.   ",{"v":62780.79,"d":"62,780.79"},"2026-01-21","3C97E97C-B194-41B6-9106-0F41CD2686BB"]
[136,"UN PROYECTO DE VIDA Y LIBERTAD","UPV160913RU5","N/P  ","N/P  ",44470,1.1,"Cta. 01720129762312 IMTOS. (NO ETIQ)","Transferencia","ESTANCIA DE MENORES DEL 17 DICIEMBRE 26 ENERO 2026.   ",{"v":8200,"d":"8,200.00"},"2026-01-18","CBC8F532-60BC-447A-8541-81F8ED0D8816"]
[137,"UNIDAD DE CIRUGIA ESTETICA PROVIDENCIA","UCE1212177Y5","N/P  ","N/P  ",44680,1.1,"INGRESOS CLINICA NO","Transferencia","GASTOS DE HOSPITALIZACION  DE MARIA DE JESUS CORTES ESPOSA TRABAJADOR.  ",{"v":40000,"d":"40,000.00"},"2026-01-13","db9e6e83-0bdc-4287-a9c1-0bb7a6e06227"]
[138,"UNIDAD DE CIRUGIA ESTETICA PROVIDENCIA","UCE1212177Y5","N/P  ","N/P  ",44680,1.1,"Cta. 01720129762312 IMTOS. (NO ETIQ)","Cheque","HOSPITALIZACION DAVID GARCIA VAZQUEZ.  ",{"v":40000,"d":"40,000.00"},"2026-01-27","36bd8fcd-0659-4217-bea7-ff8acffd2351"]
[139,"Urbanizadora y Pavimentadora MONLE SA","UPM1608305A4","N/P  ","N/P",44270,1.1,"Cta. 01720129762312 IMTOS. (NO ETIQ)","Transferencia","CONSTRUCCION DE 4 GAVETAS COMUNITARIAS VERTICALES CON 36 ESPACIOS EN EL PANTEON DE CABECERA MPAL  ",{"v":334840,"d":"334,840.00"},"2026-01-09","B1DE773F-5C50-4AB7-885D-BC50377471B0"]
[140,"Urbanizadora y Pavimentadora MONLE SA","UPM1608305A4","N/P  ","N/P",44270,1.1,"Cta. 01720129762312 IMTOS. (NO ETIQ)","Transferencia","MATERIAL DE TEZONTLE  Y DESPOLVE PARA REHABILITACION DE CAMINOS EN EL MUNICIPIO.   ",{"v":582771.82,"d":"582,771.82"},"2026-01-20","E17BDF86-E448-4636-A67E-53DB6B3996F9"]
[141,"Urbanizadora y Pavimentadora MONLE SA","UPM1608305A4","N/P  ","N/P",44270,1.1,"Cta. 01720129762312 IMTOS. (NO ETIQ)","Transferencia","RENTA DE GRUA ELECTRICA TIPO JENNY CON ALCANCE DE 13M DE ALTURA POR UN MES.  ",{"v":40600,"d":"40,600.00"},"2026-01-29","B5C9B703-A485-4DFC-BFD4-9A97A2C881C2"]
[]
[]
[]
[]
["Bajo protesta de decir verdad declaramos que los Estados Financieros y sus Notas son razonablemente correctos y responsabilidad del emisor."]
[]
[]
[]
[]
[]
[null,null,"LIC. JOSE HERIBERTO GARCIA MURILLO\r\nPRESIDENTE MUNICIPAL",null,null,"LAE BRUNO GERMAN ENCISO GUILLEN\r\nENCARGADO DE LA HACIENDA MUNICIPAL",{"$nulls":3},"ASEJ2026-01-31-03-2026-1"]

{"sheet":"F11","index":9,"n_rows":212,"n_cols":31,"rows_kept":212,"merged":[[0,0,0,30],[1,0,1,30],[2,0,2,30],[3,0,3,30],[4,0,4,29],[5,0,6,29],[5,30,6,30],[7,0,8,29],[7,30,8,30],[9,0,10,29],[9,30,10,30],[11,0,12,29],[11,30,12,30],[13,0,14,29],[13,30,14,30],[15,0,16,29],[15,30,16,30],[17,0,18,29],[17,30,18,30],[19,0,20,29],[19,30,20,30],[21,0,22,29],[21,30,22,30],[23,0,24,29],[23,30,24,30],[25,0,26,29],[25,30,26,30],[27,0,28,29],[27,30,28,30],[29,0,30,29],[29,30,30,30],[31,0,32,29],[31,30,32,30],[33,0,34,29],[33,30,34,30],[35,0,36,29],[35,30,36,30],[37,0,38,29],[37,30,38,30],[39,0,40,29],[39,30,40,30],[41,0,42,29],[41,30,42,30],[43,0,44,29],[43,30,44,30],[45,0,46,29],[45,30,46,30],[47,0,48,29],[47,30,48,30],[49,0,50,29],[49,30,50,30],[51,0,52,29],[51,30,52,30],[53,0,54,29],[53,30,54,30],[55,0,56,29],[55,30,56,30],[57,0,58,29],[57,30,58,30],[59,0,60,29],[59,30,60,30],[61,0,62,29],[61,30,62,30],[63,0,64,29],[63,30,64,30],[65,0,66,29],[65,30,66,30],[67,0,68,29],[67,30,68,30],[69,0,70,29],[69,30,70,30],[71,0,72,29],[71,30,72,30],[73,0,74,29],[73,30,74,30],[75,0,76,29],[75,30,76,30],[77,0,78,29],[77,30,78,30],[79,0,80,29],[79,30,80,30],[81,0,82,29],[81,30,82,30],[83,0,84,29],[83,30,84,30],[85,0,86,29],[85,30,86,30],[87,0,88,29],[87,30,88,30],[89,0,90,29],[89,30,90,30],[91,0,92,29],[91,30,92,30],[93,0,94,29],[93,30,94,30],[95,0,96,29],[95,30,96,30],[97,0,98,29],[97,30,98,30],[99,0,100,29],[99,30,100,30],[101,0,102,29],[101,30,102,30],[103,0,104,29],[103,30,104,30],[105,0,106,29],[105,30,106,30],[107,0,108,29],[107,30,108,30],[109,0,110,29],[109,30,110,30],[111,0,112,29],[111,30,112,30],[113,0,114,29],[113,30,114,30],[115,0,116,29],[115,30,116,30],[117,0,118,29],[117,30,118,30],[119,0,120,29],[119,30,120,30],[121,0,122,29],[121,30,122,30],[123,0,124,29],[123,30,124,30],[125,0,126,29],[125,30,126,30],[127,0,128,29],[127,30,128,30],[129,0,130,29],[129,30,130,30],[131,0,132,29],[131,30,132,30],[133,0,134,29],[133,30,134,30],[135,0,136,29],[135,30,136,30],[137,0,138,29],[137,30,138,30],[139,0,140,29],[139,30,140,30],[141,0,142,29],[141,30,142,30],[143,0,144,29],[143,30,144,30],[145,0,146,29],[145,30,146,30],[147,0,148,29],[147,30,148,30],[149,0,150,29],[149,30,150,30],[151,0,152,29],[151,30,152,30],[153,0,154,29],[153,30,154,30],[155,0,156,29],[155,30,156,30],[157,0,158,29],[157,30,158,30],[159,0,160,29],[159,30,160,30],[161,0,162,29],[161,30,162,30],[163,0,164,29],[163,30,164,30],[165,0,166,29],[165,30,166,30],[167,0,168,29],[167,30,168,30],[169,0,170,29],[169,30,170,30],[171,0,172,29],[171,30,172,30],[173,0,174,29],[173,30,174,30],[175,0,176,29],[175,30,176,30],[177,0,178,29],[177,30,178,30],[179,0,180,29],[179,30,180,30],[181,0,182,29],[181,30,182,30],[183,0,184,29],[183,30,184,30],[185,0,186,29],[185,30,186,30],[187,0,188,29],[187,30,188,30],[189,0,190,29],[189,30,190,30],[191,0,192,29],[191,30,192,30],[193,0,194,29],[193,30,194,30],[195,0,196,29],[195,30,196,30],[197,0,198,29],[197,30,198,30],[199,0,200,29],[199,30,200,30],[201,0,202,29],[201,30,202,30],[203,0,204,29],[203,30,204,30],[206,0,207,30],[209,1,210,17],[209,22,210,30],[211,1,212,17],[211,22,212,30],[214,0,214,30]]}
["MUNICIPIO IXTLAHUACÁN DE LOS MEMBRILLOS"]
["INFORME SOBRE PASIVOS CONTINGENTES"]
["AL 31 DE ENERO DE 2026"]
["(Cifras en pesos)"]
["DESCRIPCIÓN",{"$nulls":29},"IMPORTE"]
["ROSA NAVARRO SIORDIA (LAUDO)",{"$nulls":29},{"v":657806.25,"d":"657,806.25"}]
[]
["MA. DEL REFUGIO RAMIREZ RIVERA (MAGDALENO PELESTOR) (APORT. PENSIONES ESTADO, GASTOS FUNERARIOS)",{"$nulls":29},{"v":10148.4,"d":"10,148.40"}]
[]
["MAGALY LILIANA GOMEZ PEREZ (LAUDO) (1 AÑO DE SUELDO E INTERESES AL 2% MENSUAL HASTA QUE SE LIQUIDE)",{"$nulls":29},{"v":0,"d":"0.00"}]
[]
["IGNACIO CEJA (SE ENCUENTRA PENDIENTE DE LAUDO NO OFRECIERON PRUEBAS)",{"$nulls":29},{"v":0,"d":"0.00"}]
[]
["OLGA KARINA ENCISO SIORDIA (AUN NO SE PRESENTA AUDENCIA DE DESAHOGO)",{"$nulls":29},{"v":0,"d":"0.00"}]
[]
["MIGUEL ANGEL PADILLA RODRIGUEZ (SENTENCIA 29 AGOSTO 2016)",{"$nulls":29},{"v":0,"d":"0.00"}]
[]
["JESUS ORTES SANTILLAS (SE ACABA DE DICTAR SENTENCIA EL 26 NOV. 2019, AUN NO SE NOTIFICA)",{"$nulls":29},{"v":0,"d":"0.00"}]
[]
["JUAN PABLO REAL MARTINEZ (SENTENCIA 30 MARZO 2017)",{"$nulls":29},{"v":0,"d":"0.00"}]
[]
["OLGA KARINA ENCISO SIORDIA (AUN NO SE PRESENTA AUDENCIA DE DESAHOGO)",{"$nulls":29},{"v":0,"d":"0.00"}]
[]
["SUMA TOTAL",{"$nulls":29},{"$f":"SUM(AE6:AE23)","v":{"v":667954.65,"d":"667,954.65"}}]
[]
[]
[]
["Bajo protesta de decir verdad declaramos que los Estados Financieros y sus Notas son razonablemente correctos y responsabilidad del emisor."]
{"$rows_empty":7}
["LIC. JOSE HERIBERTO GARCIA MURILLO\r\nPRESIDENTE MUNICIPAL"]
{"$rows_empty":7}
["LAE BRUNO GERMAN ENCISO GUILLEN\r\nENCARGADO DE LA HACIENDA MUNICIPAL"]
[]
[]
[]
["ASEJ2026-01-31-03-2026-1"]
{"$rows_empty":158}
["Bajo protesta de decir verdad declaramos que los Estados Financieros y sus notas, son razonablemente correctos y resposabilidad del emisor"]
[]
[]
[null,{"$f":"Validacion!A7","v":"LIC. JOSE HERIBERTO GARCIA MURILLO"},{"$nulls":20},{"$f":"Validacion!A9","v":"LAE BRUNO GERMAN ENCISO GUILLEN"}]
[]
[null,"Presidente Municipal o Titular del ente público",{"$nulls":20},"Encargado de la Hacienda Municipal o Responsable de las finanzas del ente público"]

{"sheet":"F13","index":10,"n_rows":1006,"n_cols":35,"rows_kept":1006,"hidden":true,"merged":[[4,0,5,0],[4,1,5,1],[4,2,5,2],[4,3,5,3],[4,4,5,4],[4,5,5,5],[4,6,5,6],[4,7,5,7],[4,8,5,8],[4,9,5,9],[4,10,5,10],[4,11,5,11],[4,12,5,12],[4,13,5,13],[4,14,5,14]]}
[{"$f":"'F9-EDP'!A1:BJ1","v":"MUNICIPIO IXTLAHUACÁN DE LOS MEMBRILLOS"}]
["AVANCE DE PROGRAMAS Y/O PROCESOS CONCLUIDOS"]
[{"$f":"'F9-EDP'!A3:BJ3","v":"DEL 1° DE ENERO AL 31 DE ENERO DE 2026"}]
["(Cifras en pesos)"]
["ID","Denominación del programa","Tipo de programa","Finalidad","Función","Sub-función","Nivel MIR","Código del nivel MIR","Resumen Narrativo (objetivos)","Nombre del indicador","Método de cálculo del indicador","Valor meta programado 1 (Numerador)","Valor meta programado 2 (Denominador)","Frecuencia de medición del indicador","Tipo de indicador","Capítulo 1000\n(Modificado)","Capítulo 2000\n(Modificado)","Capítulo 3000\n(Modificado)","Capítulo 4000\n(Modificado)","Capítulo 5000\n(Modificado)","Capítulo 6000\n(Modificado)","Capítulo 7000\n(Modificado)","Capítulo 8000\n(Modificado)","Capítulo 9000\n(Modificado)","Avance del Valor programado 1 (Numerador)","Avance del Valor programado 2 (Denominador)","Avance del Capítulo 1000 (Devengado)","Avance del Capítulo 2000 (Devengado)","Avance del Capítulo 3000 (Devengado)","Avance del Capítulo 4000 (Devengado)","Avance del Capítulo 5000 (Devengado)","Avance del Capítulo 6000 (Devengado)","Avance del Capítulo 7000 (Devengado)","Avance del Capítulo 8000 (Devengado)","Avance del Capítulo 9000 (Devengado)"]
[{"$nulls":15},{"$f":"SUM(P7:P1006)","v":{"v":0,"d":"0.00"}},{"v":0,"d":"0.00"},{"v":0,"d":"0.00"},{"v":0,"d":"0.00"},{"v":0,"d":"0.00"},{"v":0,"d":"0.00"},{"v":0,"d":"0.00"},{"v":0,"d":"0.00"},{"v":0,"d":"0.00"},null,null,{"$f":"SUM(AA7:AA1006)","v":{"v":0,"d":"0.00"}},{"v":0,"d":"0.00"},{"v":0,"d":"0.00"},{"v":0,"d":"0.00"},{"v":0,"d":"0.00"},{"v":0,"d":"0.00"},{"v":0,"d":"0.00"},{"v":0,"d":"0.00"},{"v":0,"d":"0.00"}]
[{"$f":"IF(B7>0,1,\"\")","v":""},null,null,{"$f":"IF(F7=\"\",\"\",INDEX(EF!$A$2:$A$112,MATCH(F7,EF!$C$2:$C$112,0)))","v":""},{"$f":"IF(F7=\"\",\"\",INDEX(EF!$B$2:$B$112,MATCH(F7,EF!$C$2:$C$112,0)))","v":""}]
[{"$f":"IF(B8>0,A7+1,\"\")","v":""},null,null,{"$f":"IF(F8=\"\",\"\",INDEX(EF!$A$2:$A$112,MATCH(F8,EF!$C$2:$C$112,0)))","v":""},{"$f":"IF(F8=\"\",\"\",INDEX(EF!$B$2:$B$112,MATCH(F8,EF!$C$2:$C$112,0)))","v":""}]
[{"$f":"IF(B9>0,A8+1,\"\")","v":""},null,null,{"$f":"IF(F9=\"\",\"\",INDEX(EF!$A$2:$A$112,MATCH(F9,EF!$C$2:$C$112,0)))","v":""},{"$f":"IF(F9=\"\",\"\",INDEX(EF!$B$2:$B$112,MATCH(F9,EF!$C$2:$C$112,0)))","v":""}]
["",null,null,{"$f":"IF(F10=\"\",\"\",INDEX(EF!$A$2:$A$112,MATCH(F10,EF!$C$2:$C$112,0)))","v":""},{"$f":"IF(F10=\"\",\"\",INDEX(EF!$B$2:$B$112,MATCH(F10,EF!$C$2:$C$112,0)))","v":""}]
["",null,null,{"$f":"IF(F11=\"\",\"\",INDEX(EF!$A$2:$A$112,MATCH(F11,EF!$C$2:$C$112,0)))","v":""},{"$f":"IF(F11=\"\",\"\",INDEX(EF!$B$2:$B$112,MATCH(F11,EF!$C$2:$C$112,0)))","v":""}]
["",null,null,{"$f":"IF(F12=\"\",\"\",INDEX(EF!$A$2:$A$112,MATCH(F12,EF!$C$2:$C$112,0)))","v":""},{"$f":"IF(F12=\"\",\"\",INDEX(EF!$B$2:$B$112,MATCH(F12,EF!$C$2:$C$112,0)))","v":""}]
["",null,null,{"$f":"IF(F13=\"\",\"\",INDEX(EF!$A$2:$A$112,MATCH(F13,EF!$C$2:$C$112,0)))","v":""},{"$f":"IF(F13=\"\",\"\",INDEX(EF!$B$2:$B$112,MATCH(F13,EF!$C$2:$C$112,0)))","v":""}]
["",null,null,{"$f":"IF(F14=\"\",\"\",INDEX(EF!$A$2:$A$112,MATCH(F14,EF!$C$2:$C$112,0)))","v":""},{"$f":"IF(F14=\"\",\"\",INDEX(EF!$B$2:$B$112,MATCH(F14,EF!$C$2:$C$112,0)))","v":""}]
["",null,null,{"$f":"IF(F15=\"\",\"\",INDEX(EF!$A$2:$A$112,MATCH(F15,EF!$C$2:$C$112,0)))","v":""},{"$f":"IF(F15=\"\",\"\",INDEX(EF!$B$2:$B$112,MATCH(F15,EF!$C$2:$C$112,0)))","v":""}]
["",null,null,{"$f":"IF(F16=\"\",\"\",INDEX(EF!$A$2:$A$112,MATCH(F16,EF!$C$2:$C$112,0)))","v":""},{"$f":"IF(F16=\"\",\"\",INDEX(EF!$B$2:$B$112,MATCH(F16,EF!$C$2:$C$112,0)))","v":""}]
["",null,null,{"$f":"IF(F17=\"\",\"\",INDEX(EF!$A$2:$A$112,MATCH(F17,EF!$C$2:$C$112,0)))","v":""},{"$f":"IF(F17=\"\",\"\",INDEX(EF!$B$2:$B$112,MATCH(F17,EF!$C$2:$C$112,0)))","v":""}]
["",null,null,{"$f":"IF(F18=\"\",\"\",INDEX(EF!$A$2:$A$112,MATCH(F18,EF!$C$2:$C$112,0)))","v":""},{"$f":"IF(F18=\"\",\"\",INDEX(EF!$B$2:$B$112,MATCH(F18,EF!$C$2:$C$112,0)))","v":""}]
["",null,null,{"$f":"IF(F19=\"\",\"\",INDEX(EF!$A$2:$A$112,MATCH(F19,EF!$C$2:$C$112,0)))","v":""},{"$f":"IF(F19=\"\",\"\",INDEX(EF!$B$2:$B$112,MATCH(F19,EF!$C$2:$C$112,0)))","v":""}]
["",null,null,{"$f":"IF(F20=\"\",\"\",INDEX(EF!$A$2:$A$112,MATCH(F20,EF!$C$2:$C$112,0)))","v":""},{"$f":"IF(F20=\"\",\"\",INDEX(EF!$B$2:$B$112,MATCH(F20,EF!$C$2:$C$112,0)))","v":""}]
["",null,null,{"$f":"IF(F21=\"\",\"\",INDEX(EF!$A$2:$A$112,MATCH(F21,EF!$C$2:$C$112,0)))","v":""},{"$f":"IF(F21=\"\",\"\",INDEX(EF!$B$2:$B$112,MATCH(F21,EF!$C$2:$C$112,0)))","v":""}]
["",null,null,{"$f":"IF(F22=\"\",\"\",INDEX(EF!$A$2:$A$112,MATCH(F22,EF!$C$2:$C$112,0)))","v":""},{"$f":"IF(F22=\"\",\"\",INDEX(EF!$B$2:$B$112,MATCH(F22,EF!$C$2:$C$112,0)))","v":""}]
["",null,null,{"$f":"IF(F23=\"\",\"\",INDEX(EF!$A$2:$A$112,MATCH(F23,EF!$C$2:$C$112,0)))","v":""},{"$f":"IF(F23=\"\",\"\",INDEX(EF!$B$2:$B$112,MATCH(F23,EF!$C$2:$C$112,0)))","v":""}]
["",null,null,{"$f":"IF(F24=\"\",\"\",INDEX(EF!$A$2:$A$112,MATCH(F24,EF!$C$2:$C$112,0)))","v":""},{"$f":"IF(F24=\"\",\"\",INDEX(EF!$B$2:$B$112,MATCH(F24,EF!$C$2:$C$112,0)))","v":""}]
["",null,null,{"$f":"IF(F25=\"\",\"\",INDEX(EF!$A$2:$A$112,MATCH(F25,EF!$C$2:$C$112,0)))","v":""},{"$f":"IF(F25=\"\",\"\",INDEX(EF!$B$2:$B$112,MATCH(F25,EF!$C$2:$C$112,0)))","v":""}]
["",null,null,{"$f":"IF(F26=\"\",\"\",INDEX(EF!$A$2:$A$112,MATCH(F26,EF!$C$2:$C$112,0)))","v":""},{"$f":"IF(F26=\"\",\"\",INDEX(EF!$B$2:$B$112,MATCH(F26,EF!$C$2:$C$112,0)))","v":""}]
["",null,null,{"$f":"IF(F27=\"\",\"\",INDEX(EF!$A$2:$A$112,MATCH(F27,EF!$C$2:$C$112,0)))","v":""},{"$f":"IF(F27=\"\",\"\",INDEX(EF!$B$2:$B$112,MATCH(F27,EF!$C$2:$C$112,0)))","v":""}]
["",null,null,{"$f":"IF(F28=\"\",\"\",INDEX(EF!$A$2:$A$112,MATCH(F28,EF!$C$2:$C$112,0)))","v":""},{"$f":"IF(F28=\"\",\"\",INDEX(EF!$B$2:$B$112,MATCH(F28,EF!$C$2:$C$112,0)))","v":""}]
["",null,null,{"$f":"IF(F29=\"\",\"\",INDEX(EF!$A$2:$A$112,MATCH(F29,EF!$C$2:$C$112,0)))","v":""},{"$f":"IF(F29=\"\",\"\",INDEX(EF!$B$2:$B$112,MATCH(F29,EF!$C$2:$C$112,0)))","v":""}]
["",null,null,{"$f":"IF(F30=\"\",\"\",INDEX(EF!$A$2:$A$112,MATCH(F30,EF!$C$2:$C$112,0)))","v":""},{"$f":"IF(F30=\"\",\"\",INDEX(EF!$B$2:$B$112,MATCH(F30,EF!$C$2:$C$112,0)))","v":""}]
["",null,null,{"$f":"IF(F31=\"\",\"\",INDEX(EF!$A$2:$A$112,MATCH(F31,EF!$C$2:$C$112,0)))","v":""},{"$f":"IF(F31=\"\",\"\",INDEX(EF!$B$2:$B$112,MATCH(F31,EF!$C$2:$C$112,0)))","v":""}]
["",null,null,{"$f":"IF(F32=\"\",\"\",INDEX(EF!$A$2:$A$112,MATCH(F32,EF!$C$2:$C$112,0)))","v":""},{"$f":"IF(F32=\"\",\"\",INDEX(EF!$B$2:$B$112,MATCH(F32,EF!$C$2:$C$112,0)))","v":""}]
["",null,null,{"$f":"IF(F33=\"\",\"\",INDEX(EF!$A$2:$A$112,MATCH(F33,EF!$C$2:$C$112,0)))","v":""},{"$f":"IF(F33=\"\",\"\",INDEX(EF!$B$2:$B$112,MATCH(F33,EF!$C$2:$C$112,0)))","v":""}]
["",null,null,{"$f":"IF(F34=\"\",\"\",INDEX(EF!$A$2:$A$112,MATCH(F34,EF!$C$2:$C$112,0)))","v":""},{"$f":"IF(F34=\"\",\"\",INDEX(EF!$B$2:$B$112,MATCH(F34,EF!$C$2:$C$112,0)))","v":""}]
["",null,null,{"$f":"IF(F35=\"\",\"\",INDEX(EF!$A$2:$A$112,MATCH(F35,EF!$C$2:$C$112,0)))","v":""},{"$f":"IF(F35=\"\",\"\",INDEX(EF!$B$2:$B$112,MATCH(F35,EF!$C$2:$C$112,0)))","v":""}]
["",null,null,{"$f":"IF(F36=\"\",\"\",INDEX(EF!$A$2:$A$112,MATCH(F36,EF!$C$2:$C$112,0)))","v":""},{"$f":"IF(F36=\"\",\"\",INDEX(EF!$B$2:$B$112,MATCH(F36,EF!$C$2:$C$112,0)))","v":""}]
["",null,null,{"$f":"IF(F37=\"\",\"\",INDEX(EF!$A$2:$A$112,MATCH(F37,EF!$C$2:$C$112,0)))","v":""},{"$f":"IF(F37=\"\",\"\",INDEX(EF!$B$2:$B$112,MATCH(F37,EF!$C$2:$C$112,0)))","v":""}]
["",null,null,{"$f":"IF(F38=\"\",\"\",INDEX(EF!$A$2:$A$112,MATCH(F38,EF!$C$2:$C$112,0)))","v":""},{"$f":"IF(F38=\"\",\"\",INDEX(EF!$B$2:$B$112,MATCH(F38,EF!$C$2:$C$112,0)))","v":""}]
["",null,null,{"$f":"IF(F39=\"\",\"\",INDEX(EF!$A$2:$A$112,MATCH(F39,EF!$C$2:$C$112,0)))","v":""},{"$f":"IF(F39=\"\",\"\",INDEX(EF!$B$2:$B$112,MATCH(F39,EF!$C$2:$C$112,0)))","v":""}]
["",null,null,{"$f":"IF(F40=\"\",\"\",INDEX(EF!$A$2:$A$112,MATCH(F40,EF!$C$2:$C$112,0)))","v":""},{"$f":"IF(F40=\"\",\"\",INDEX(EF!$B$2:$B$112,MATCH(F40,EF!$C$2:$C$112,0)))","v":""}]
["",null,null,{"$f":"IF(F41=\"\",\"\",INDEX(EF!$A$2:$A$112,MATCH(F41,EF!$C$2:$C$112,0)))","v":""},{"$f":"IF(F41=\"\",\"\",INDEX(EF!$B$2:$B$112,MATCH(F41,EF!$C$2:$C$112,0)))","v":""}]
["",null,null,{"$f":"IF(F42=\"\",\"\",INDEX(EF!$A$2:$A$112,MATCH(F42,EF!$C$2:$C$112,0)))","v":""},{"$f":"IF(F42=\"\",\"\",INDEX(EF!$B$2:$B$112,MATCH(F42,EF!$C$2:$C$112,0)))","v":""}]
["",null,null,{"$f":"IF(F43=\"\",\"\",INDEX(EF!$A$2:$A$112,MATCH(F43,EF!$C$2:$C$112,0)))","v":""},{"$f":"IF(F43=\"\",\"\",INDEX(EF!$B$2:$B$112,MATCH(F43,EF!$C$2:$C$112,0)))","v":""}]
["",null,null,{"$f":"IF(F44=\"\",\"\",INDEX(EF!$A$2:$A$112,MATCH(F44,EF!$C$2:$C$112,0)))","v":""},{"$f":"IF(F44=\"\",\"\",INDEX(EF!$B$2:$B$112,MATCH(F44,EF!$C$2:$C$112,0)))","v":""}]
["",null,null,{"$f":"IF(F45=\"\",\"\",INDEX(EF!$A$2:$A$112,MATCH(F45,EF!$C$2:$C$112,0)))","v":""},{"$f":"IF(F45=\"\",\"\",INDEX(EF!$B$2:$B$112,MATCH(F45,EF!$C$2:$C$112,0)))","v":""}]
["",null,null,{"$f":"IF(F46=\"\",\"\",INDEX(EF!$A$2:$A$112,MATCH(F46,EF!$C$2:$C$112,0)))","v":""},{"$f":"IF(F46=\"\",\"\",INDEX(EF!$B$2:$B$112,MATCH(F46,EF!$C$2:$C$112,0)))","v":""}]
["",null,null,{"$f":"IF(F47=\"\",\"\",INDEX(EF!$A$2:$A$112,MATCH(F47,EF!$C$2:$C$112,0)))","v":""},{"$f":"IF(F47=\"\",\"\",INDEX(EF!$B$2:$B$112,MATCH(F47,EF!$C$2:$C$112,0)))","v":""}]
["",null,null,{"$f":"IF(F48=\"\",\"\",INDEX(EF!$A$2:$A$112,MATCH(F48,EF!$C$2:$C$112,0)))","v":""},{"$f":"IF(F48=\"\",\"\",INDEX(EF!$B$2:$B$112,MATCH(F48,EF!$C$2:$C$112,0)))","v":""}]
["",null,null,{"$f":"IF(F49=\"\",\"\",INDEX(EF!$A$2:$A$112,MATCH(F49,EF!$C$2:$C$112,0)))","v":""},{"$f":"IF(F49=\"\",\"\",INDEX(EF!$B$2:$B$112,MATCH(F49,EF!$C$2:$C$112,0)))","v":""}]
["",null,null,{"$f":"IF(F50=\"\",\"\",INDEX(EF!$A$2:$A$112,MATCH(F50,EF!$C$2:$C$112,0)))","v":""},{"$f":"IF(F50=\"\",\"\",INDEX(EF!$B$2:$B$112,MATCH(F50,EF!$C$2:$C$112,0)))","v":""}]
["",null,null,{"$f":"IF(F51=\"\",\"\",INDEX(EF!$A$2:$A$112,MATCH(F51,EF!$C$2:$C$112,0)))","v":""},{"$f":"IF(F51=\"\",\"\",INDEX(EF!$B$2:$B$112,MATCH(F51,EF!$C$2:$C$112,0)))","v":""}]
["",null,null,{"$f":"IF(F52=\"\",\"\",INDEX(EF!$A$2:$A$112,MATCH(F52,EF!$C$2:$C$112,0)))","v":""},{"$f":"IF(F52=\"\",\"\",INDEX(EF!$B$2:$B$112,MATCH(F52,EF!$C$2:$C$112,0)))","v":""}]
["",null,null,{"$f":"IF(F53=\"\",\"\",INDEX(EF!$A$2:$A$112,MATCH(F53,EF!$C$2:$C$112,0)))","v":""},{"$f":"IF(F53=\"\",\"\",INDEX(EF!$B$2:$B$112,MATCH(F53,EF!$C$2:$C$112,0)))","v":""}]
["",null,null,{"$f":"IF(F54=\"\",\"\",INDEX(EF!$A$2:$A$112,MATCH(F54,EF!$C$2:$C$112,0)))","v":""},{"$f":"IF(F54=\"\",\"\",INDEX(EF!$B$2:$B$112,MATCH(F54,EF!$C$2:$C$112,0)))","v":""}]
["",null,null,{"$f":"IF(F55=\"\",\"\",INDEX(EF!$A$2:$A$112,MATCH(F55,EF!$C$2:$C$112,0)))","v":""},{"$f":"IF(F55=\"\",\"\",INDEX(EF!$B$2:$B$112,MATCH(F55,EF!$C$2:$C$112,0)))","v":""}]
["",null,null,{"$f":"IF(F56=\"\",\"\",INDEX(EF!$A$2:$A$112,MATCH(F56,EF!$C$2:$C$112,0)))","v":""},{"$f":"IF(F56=\"\",\"\",INDEX(EF!$B$2:$B$112,MATCH(F56,EF!$C$2:$C$112,0)))","v":""}]
["",null,null,{"$f":"IF(F57=\"\",\"\",INDEX(EF!$A$2:$A$112,MATCH(F57,EF!$C$2:$C$112,0)))","v":""},{"$f":"IF(F57=\"\",\"\",INDEX(EF!$B$2:$B$112,MATCH(F57,EF!$C$2:$C$112,0)))","v":""}]
["",null,null,{"$f":"IF(F58=\"\",\"\",INDEX(EF!$A$2:$A$112,MATCH(F58,EF!$C$2:$C$112,0)))","v":""},{"$f":"IF(F58=\"\",\"\",INDEX(EF!$B$2:$B$112,MATCH(F58,EF!$C$2:$C$112,0)))","v":""}]
["",null,null,{"$f":"IF(F59=\"\",\"\",INDEX(EF!$A$2:$A$112,MATCH(F59,EF!$C$2:$C$112,0)))","v":""},{"$f":"IF(F59=\"\",\"\",INDEX(EF!$B$2:$B$112,MATCH(F59,EF!$C$2:$C$112,0)))","v":""}]
["",null,null,{"$f":"IF(F60=\"\",\"\",INDEX(EF!$A$2:$A$112,MATCH(F60,EF!$C$2:$C$112,0)))","v":""},{"$f":"IF(F60=\"\",\"\",INDEX(EF!$B$2:$B$112,MATCH(F60,EF!$C$2:$C$112,0)))","v":""}]
["",null,null,{"$f":"IF(F61=\"\",\"\",INDEX(EF!$A$2:$A$112,MATCH(F61,EF!$C$2:$C$112,0)))","v":""},{"$f":"IF(F61=\"\",\"\",INDEX(EF!$B$2:$B$112,MATCH(F61,EF!$C$2:$C$112,0)))","v":""}]
["",null,null,{"$f":"IF(F62=\"\",\"\",INDEX(EF!$A$2:$A$112,MATCH(F62,EF!$C$2:$C$112,0)))","v":""},{"$f":"IF(F62=\"\",\"\",INDEX(EF!$B$2:$B$112,MATCH(F62,EF!$C$2:$C$112,0)))","v":""}]
["",null,null,{"$f":"IF(F63=\"\",\"\",INDEX(EF!$A$2:$A$112,MATCH(F63,EF!$C$2:$C$112,0)))","v":""},{"$f":"IF(F63=\"\",\"\",INDEX(EF!$B$2:$B$112,MATCH(F63,EF!$C$2:$C$112,0)))","v":""}]
["",null,null,{"$f":"IF(F64=\"\",\"\",INDEX(EF!$A$2:$A$112,MATCH(F64,EF!$C$2:$C$112,0)))","v":""},{"$f":"IF(F64=\"\",\"\",INDEX(EF!$B$2:$B$112,MATCH(F64,EF!$C$2:$C$112,0)))","v":""}]
["",null,null,{"$f":"IF(F65=\"\",\"\",INDEX(EF!$A$2:$A$112,MATCH(F65,EF!$C$2:$C$112,0)))","v":""},{"$f":"IF(F65=\"\",\"\",INDEX(EF!$B$2:$B$112,MATCH(F65,EF!$C$2:$C$112,0)))","v":""}]
["",null,null,{"$f":"IF(F66=\"\",\"\",INDEX(EF!$A$2:$A$112,MATCH(F66,EF!$C$2:$C$112,0)))","v":""},{"$f":"IF(F66=\"\",\"\",INDEX(EF!$B$2:$B$112,MATCH(F66,EF!$C$2:$C$112,0)))","v":""}]
["",null,null,{"$f":"IF(F67=\"\",\"\",INDEX(EF!$A$2:$A$112,MATCH(F67,EF!$C$2:$C$112,0)))","v":""},{"$f":"IF(F67=\"\",\"\",INDEX(EF!$B$2:$B$112,MATCH(F67,EF!$C$2:$C$112,0)))","v":""}]
["",null,null,{"$f":"IF(F68=\"\",\"\",INDEX(EF!$A$2:$A$112,MATCH(F68,EF!$C$2:$C$112,0)))","v":""},{"$f":"IF(F68=\"\",\"\",INDEX(EF!$B$2:$B$112,MATCH(F68,EF!$C$2:$C$112,0)))","v":""}]
["",null,null,{"$f":"IF(F69=\"\",\"\",INDEX(EF!$A$2:$A$112,MATCH(F69,EF!$C$2:$C$112,0)))","v":""},{"$f":"IF(F69=\"\",\"\",INDEX(EF!$B$2:$B$112,MATCH(F69,EF!$C$2:$C$112,0)))","v":""}]
["",null,null,{"$f":"IF(F70=\"\",\"\",INDEX(EF!$A$2:$A$112,MATCH(F70,EF!$C$2:$C$112,0)))","v":""},{"$f":"IF(F70=\"\",\"\",INDEX(EF!$B$2:$B$112,MATCH(F70,EF!$C$2:$C$112,0)))","v":""}]
["",null,null,{"$f":"IF(F71=\"\",\"\",INDEX(EF!$A$2:$A$112,MATCH(F71,EF!$C$2:$C$112,0)))","v":""},{"$f":"IF(F71=\"\",\"\",INDEX(EF!$B$2:$B$112,MATCH(F71,EF!$C$2:$C$112,0)))","v":""}]
["",null,null,{"$f":"IF(F72=\"\",\"\",INDEX(EF!$A$2:$A$112,MATCH(F72,EF!$C$2:$C$112,0)))","v":""},{"$f":"IF(F72=\"\",\"\",INDEX(EF!$B$2:$B$112,MATCH(F72,EF!$C$2:$C$112,0)))","v":""}]
[{"$f":"IF(B73>0,A72+1,\"\")","v":""},null,null,{"$f":"IF(F73=\"\",\"\",INDEX(EF!$A$2:$A$112,MATCH(F73,EF!$C$2:$C$112,0)))","v":""},{"$f":"IF(F73=\"\",\"\",INDEX(EF!$B$2:$B$112,MATCH(F73,EF!$C$2:$C$112,0)))","v":""}]
["",null,null,{"$f":"IF(F74=\"\",\"\",INDEX(EF!$A$2:$A$112,MATCH(F74,EF!$C$2:$C$112,0)))","v":""},{"$f":"IF(F74=\"\",\"\",INDEX(EF!$B$2:$B$112,MATCH(F74,EF!$C$2:$C$112,0)))","v":""}]
["",null,null,{"$f":"IF(F75=\"\",\"\",INDEX(EF!$A$2:$A$112,MATCH(F75,EF!$C$2:$C$112,0)))","v":""},{"$f":"IF(F75=\"\",\"\",INDEX(EF!$B$2:$B$112,MATCH(F75,EF!$C$2:$C$112,0)))","v":""}]
["",null,null,{"$f":"IF(F76=\"\",\"\",INDEX(EF!$A$2:$A$112,MATCH(F76,EF!$C$2:$C$112,0)))","v":""},{"$f":"IF(F76=\"\",\"\",INDEX(EF!$B$2:$B$112,MATCH(F76,EF!$C$2:$C$112,0)))","v":""}]
["",null,null,{"$f":"IF(F77=\"\",\"\",INDEX(EF!$A$2:$A$112,MATCH(F77,EF!$C$2:$C$112,0)))","v":""},{"$f":"IF(F77=\"\",\"\",INDEX(EF!$B$2:$B$112,MATCH(F77,EF!$C$2:$C$112,0)))","v":""}]
["",null,null,{"$f":"IF(F78=\"\",\"\",INDEX(EF!$A$2:$A$112,MATCH(F78,EF!$C$2:$C$112,0)))","v":""},{"$f":"IF(F78=\"\",\"\",INDEX(EF!$B$2:$B$112,MATCH(F78,EF!$C$2:$C$112,0)))","v":""}]
["",null,null,{"$f":"IF(F79=\"\",\"\",INDEX(EF!$A$2:$A$112,MATCH(F79,EF!$C$2:$C$112,0)))","v":""},{"$f":"IF(F79=\"\",\"\",INDEX(EF!$B$2:$B$112,MATCH(F79,EF!$C$2:$C$112,0)))","v":""}]
["",null,null,{"$f":"IF(F80=\"\",\"\",INDEX(EF!$A$2:$A$112,MATCH(F80,EF!$C$2:$C$112,0)))","v":""},{"$f":"IF(F80=\"\",\"\",INDEX(EF!$B$2:$B$112,MATCH(F80,EF!$C$2:$C$112,0)))","v":""}]
["",null,null,{"$f":"IF(F81=\"\",\"\",INDEX(EF!$A$2:$A$112,MATCH(F81,EF!$C$2:$C$112,0)))","v":""},{"$f":"IF(F81=\"\",\"\",INDEX(EF!$B$2:$B$112,MATCH(F81,EF!$C$2:$C$112,0)))","v":""}]
["",null,null,{"$f":"IF(F82=\"\",\"\",INDEX(EF!$A$2:$A$112,MATCH(F82,EF!$C$2:$C$112,0)))","v":""},{"$f":"IF(F82=\"\",\"\",INDEX(EF!$B$2:$B$112,MATCH(F82,EF!$C$2:$C$112,0)))","v":""}]
["",null,null,{"$f":"IF(F83=\"\",\"\",INDEX(EF!$A$2:$A$112,MATCH(F83,EF!$C$2:$C$112,0)))","v":""},{"$f":"IF(F83=\"\",\"\",INDEX(EF!$B$2:$B$112,MATCH(F83,EF!$C$2:$C$112,0)))","v":""}]
["",null,null,{"$f":"IF(F84=\"\",\"\",INDEX(EF!$A$2:$A$112,MATCH(F84,EF!$C$2:$C$112,0)))","v":""},{"$f":"IF(F84=\"\",\"\",INDEX(EF!$B$2:$B$112,MATCH(F84,EF!$C$2:$C$112,0)))","v":""}]
["",null,null,{"$f":"IF(F85=\"\",\"\",INDEX(EF!$A$2:$A$112,MATCH(F85,EF!$C$2:$C$112,0)))","v":""},{"$f":"IF(F85=\"\",\"\",INDEX(EF!$B$2:$B$112,MATCH(F85,EF!$C$2:$C$112,0)))","v":""}]
["",null,null,{"$f":"IF(F86=\"\",\"\",INDEX(EF!$A$2:$A$112,MATCH(F86,EF!$C$2:$C$112,0)))","v":""},{"$f":"IF(F86=\"\",\"\",INDEX(EF!$B$2:$B$112,MATCH(F86,EF!$C$2:$C$112,0)))","v":""}]
["",null,null,{"$f":"IF(F87=\"\",\"\",INDEX(EF!$A$2:$A$112,MATCH(F87,EF!$C$2:$C$112,0)))","v":""},{"$f":"IF(F87=\"\",\"\",INDEX(EF!$B$2:$B$112,MATCH(F87,EF!$C$2:$C$112,0)))","v":""}]
["",null,null,{"$f":"IF(F88=\"\",\"\",INDEX(EF!$A$2:$A$112,MATCH(F88,EF!$C$2:$C$112,0)))","v":""},{"$f":"IF(F88=\"\",\"\",INDEX(EF!$B$2:$B$112,MATCH(F88,EF!$C$2:$C$112,0)))","v":""}]
["",null,null,{"$f":"IF(F89=\"\",\"\",INDEX(EF!$A$2:$A$112,MATCH(F89,EF!$C$2:$C$112,0)))","v":""},{"$f":"IF(F89=\"\",\"\",INDEX(EF!$B$2:$B$112,MATCH(F89,EF!$C$2:$C$112,0)))","v":""}]
["",null,null,{"$f":"IF(F90=\"\",\"\",INDEX(EF!$A$2:$A$112,MATCH(F90,EF!$C$2:$C$112,0)))","v":""},{"$f":"IF(F90=\"\",\"\",INDEX(EF!$B$2:$B$112,MATCH(F90,EF!$C$2:$C$112,0)))","v":""}]
["",null,null,{"$f":"IF(F91=\"\",\"\",INDEX(EF!$A$2:$A$112,MATCH(F91,EF!$C$2:$C$112,0)))","v":""},{"$f":"IF(F91=\"\",\"\",INDEX(EF!$B$2:$B$112,MATCH(F91,EF!$C$2:$C$112,0)))","v":""}]
["",null,null,{"$f":"IF(F92=\"\",\"\",INDEX(EF!$A$2:$A$112,MATCH(F92,EF!$C$2:$C$112,0)))","v":""},{"$f":"IF(F92=\"\",\"\",INDEX(EF!$B$2:$B$112,MATCH(F92,EF!$C$2:$C$112,0)))","v":""}]
["",null,null,{"$f":"IF(F93=\"\",\"\",INDEX(EF!$A$2:$A$112,MATCH(F93,EF!$C$2:$C$112,0)))","v":""},{"$f":"IF(F93=\"\",\"\",INDEX(EF!$B$2:$B$112,MATCH(F93,EF!$C$2:$C$112,0)))","v":""}]
["",null,null,{"$f":"IF(F94=\"\",\"\",INDEX(EF!$A$2:$A$112,MATCH(F94,EF!$C$2:$C$112,0)))","v":""},{"$f":"IF(F94=\"\",\"\",INDEX(EF!$B$2:$B$112,MATCH(F94,EF!$C$2:$C$112,0)))","v":""}]
["",null,null,{"$f":"IF(F95=\"\",\"\",INDEX(EF!$A$2:$A$112,MATCH(F95,EF!$C$2:$C$112,0)))","v":""},{"$f":"IF(F95=\"\",\"\",INDEX(EF!$B$2:$B$112,MATCH(F95,EF!$C$2:$C$112,0)))","v":""}]
["",null,null,{"$f":"IF(F96=\"\",\"\",INDEX(EF!$A$2:$A$112,MATCH(F96,EF!$C$2:$C$112,0)))","v":""},{"$f":"IF(F96=\"\",\"\",INDEX(EF!$B$2:$B$112,MATCH(F96,EF!$C$2:$C$112,0)))","v":""}]
["",null,null,{"$f":"IF(F97=\"\",\"\",INDEX(EF!$A$2:$A$112,MATCH(F97,EF!$C$2:$C$112,0)))","v":""},{"$f":"IF(F97=\"\",\"\",INDEX(EF!$B$2:$B$112,MATCH(F97,EF!$C$2:$C$112,0)))","v":""}]
["",null,null,{"$f":"IF(F98=\"\",\"\",INDEX(EF!$A$2:$A$112,MATCH(F98,EF!$C$2:$C$112,0)))","v":""},{"$f":"IF(F98=\"\",\"\",INDEX(EF!$B$2:$B$112,MATCH(F98,EF!$C$2:$C$112,0)))","v":""}]
["",null,null,{"$f":"IF(F99=\"\",\"\",INDEX(EF!$A$2:$A$112,MATCH(F99,EF!$C$2:$C$112,0)))","v":""},{"$f":"IF(F99=\"\",\"\",INDEX(EF!$B$2:$B$112,MATCH(F99,EF!$C$2:$C$112,0)))","v":""}]
["",null,null,{"$f":"IF(F100=\"\",\"\",INDEX(EF!$A$2:$A$112,MATCH(F100,EF!$C$2:$C$112,0)))","v":""},{"$f":"IF(F100=\"\",\"\",INDEX(EF!$B$2:$B$112,MATCH(F100,EF!$C$2:$C$112,0)))","v":""}]
["",null,null,{"$f":"IF(F101=\"\",\"\",INDEX(EF!$A$2:$A$112,MATCH(F101,EF!$C$2:$C$112,0)))","v":""},{"$f":"IF(F101=\"\",\"\",INDEX(EF!$B$2:$B$112,MATCH(F101,EF!$C$2:$C$112,0)))","v":""}]
["",null,null,{"$f":"IF(F102=\"\",\"\",INDEX(EF!$A$2:$A$112,MATCH(F102,EF!$C$2:$C$112,0)))","v":""},{"$f":"IF(F102=\"\",\"\",INDEX(EF!$B$2:$B$112,MATCH(F102,EF!$C$2:$C$112,0)))","v":""}]
["",null,null,{"$f":"IF(F103=\"\",\"\",INDEX(EF!$A$2:$A$112,MATCH(F103,EF!$C$2:$C$112,0)))","v":""},{"$f":"IF(F103=\"\",\"\",INDEX(EF!$B$2:$B$112,MATCH(F103,EF!$C$2:$C$112,0)))","v":""}]
["",null,null,{"$f":"IF(F104=\"\",\"\",INDEX(EF!$A$2:$A$112,MATCH(F104,EF!$C$2:$C$112,0)))","v":""},{"$f":"IF(F104=\"\",\"\",INDEX(EF!$B$2:$B$112,MATCH(F104,EF!$C$2:$C$112,0)))","v":""}]
["",null,null,{"$f":"IF(F105=\"\",\"\",INDEX(EF!$A$2:$A$112,MATCH(F105,EF!$C$2:$C$112,0)))","v":""},{"$f":"IF(F105=\"\",\"\",INDEX(EF!$B$2:$B$112,MATCH(F105,EF!$C$2:$C$112,0)))","v":""}]
["",null,null,{"$f":"IF(F106=\"\",\"\",INDEX(EF!$A$2:$A$112,MATCH(F106,EF!$C$2:$C$112,0)))","v":""},{"$f":"IF(F106=\"\",\"\",INDEX(EF!$B$2:$B$112,MATCH(F106,EF!$C$2:$C$112,0)))","v":""}]
["",null,null,{"$f":"IF(F107=\"\",\"\",INDEX(EF!$A$2:$A$112,MATCH(F107,EF!$C$2:$C$112,0)))","v":""},{"$f":"IF(F107=\"\",\"\",INDEX(EF!$B$2:$B$112,MATCH(F107,EF!$C$2:$C$112,0)))","v":""}]
["",null,null,{"$f":"IF(F108=\"\",\"\",INDEX(EF!$A$2:$A$112,MATCH(F108,EF!$C$2:$C$112,0)))","v":""},{"$f":"IF(F108=\"\",\"\",INDEX(EF!$B$2:$B$112,MATCH(F108,EF!$C$2:$C$112,0)))","v":""}]
["",null,null,{"$f":"IF(F109=\"\",\"\",INDEX(EF!$A$2:$A$112,MATCH(F109,EF!$C$2:$C$112,0)))","v":""},{"$f":"IF(F109=\"\",\"\",INDEX(EF!$B$2:$B$112,MATCH(F109,EF!$C$2:$C$112,0)))","v":""}]
["",null,null,{"$f":"IF(F110=\"\",\"\",INDEX(EF!$A$2:$A$112,MATCH(F110,EF!$C$2:$C$112,0)))","v":""},{"$f":"IF(F110=\"\",\"\",INDEX(EF!$B$2:$B$112,MATCH(F110,EF!$C$2:$C$112,0)))","v":""}]
["",null,null,{"$f":"IF(F111=\"\",\"\",INDEX(EF!$A$2:$A$112,MATCH(F111,EF!$C$2:$C$112,0)))","v":""},{"$f":"IF(F111=\"\",\"\",INDEX(EF!$B$2:$B$112,MATCH(F111,EF!$C$2:$C$112,0)))","v":""}]
["",null,null,{"$f":"IF(F112=\"\",\"\",INDEX(EF!$A$2:$A$112,MATCH(F112,EF!$C$2:$C$112,0)))","v":""},{"$f":"IF(F112=\"\",\"\",INDEX(EF!$B$2:$B$112,MATCH(F112,EF!$C$2:$C$112,0)))","v":""}]
["",null,null,{"$f":"IF(F113=\"\",\"\",INDEX(EF!$A$2:$A$112,MATCH(F113,EF!$C$2:$C$112,0)))","v":""},{"$f":"IF(F113=\"\",\"\",INDEX(EF!$B$2:$B$112,MATCH(F113,EF!$C$2:$C$112,0)))","v":""}]
["",null,null,{"$f":"IF(F114=\"\",\"\",INDEX(EF!$A$2:$A$112,MATCH(F114,EF!$C$2:$C$112,0)))","v":""},{"$f":"IF(F114=\"\",\"\",INDEX(EF!$B$2:$B$112,MATCH(F114,EF!$C$2:$C$112,0)))","v":""}]
["",null,null,{"$f":"IF(F115=\"\",\"\",INDEX(EF!$A$2:$A$112,MATCH(F115,EF!$C$2:$C$112,0)))","v":""},{"$f":"IF(F115=\"\",\"\",INDEX(EF!$B$2:$B$112,MATCH(F115,EF!$C$2:$C$112,0)))","v":""}]
["",null,null,{"$f":"IF(F116=\"\",\"\",INDEX(EF!$A$2:$A$112,MATCH(F116,EF!$C$2:$C$112,0)))","v":""},{"$f":"IF(F116=\"\",\"\",INDEX(EF!$B$2:$B$112,MATCH(F116,EF!$C$2:$C$112,0)))","v":""}]
["",null,null,{"$f":"IF(F117=\"\",\"\",INDEX(EF!$A$2:$A$112,MATCH(F117,EF!$C$2:$C$112,0)))","v":""},{"$f":"IF(F117=\"\",\"\",INDEX(EF!$B$2:$B$112,MATCH(F117,EF!$C$2:$C$112,0)))","v":""}]
["",null,null,{"$f":"IF(F118=\"\",\"\",INDEX(EF!$A$2:$A$112,MATCH(F118,EF!$C$2:$C$112,0)))","v":""},{"$f":"IF(F118=\"\",\"\",INDEX(EF!$B$2:$B$112,MATCH(F118,EF!$C$2:$C$112,0)))","v":""}]
["",null,null,{"$f":"IF(F119=\"\",\"\",INDEX(EF!$A$2:$A$112,MATCH(F119,EF!$C$2:$C$112,0)))","v":""},{"$f":"IF(F119=\"\",\"\",INDEX(EF!$B$2:$B$112,MATCH(F119,EF!$C$2:$C$112,0)))","v":""}]
["",null,null,{"$f":"IF(F120=\"\",\"\",INDEX(EF!$A$2:$A$112,MATCH(F120,EF!$C$2:$C$112,0)))","v":""},{"$f":"IF(F120=\"\",\"\",INDEX(EF!$B$2:$B$112,MATCH(F120,EF!$C$2:$C$112,0)))","v":""}]
["",null,null,{"$f":"IF(F121=\"\",\"\",INDEX(EF!$A$2:$A$112,MATCH(F121,EF!$C$2:$C$112,0)))","v":""},{"$f":"IF(F121=\"\",\"\",INDEX(EF!$B$2:$B$112,MATCH(F121,EF!$C$2:$C$112,0)))","v":""}]
["",null,null,{"$f":"IF(F122=\"\",\"\",INDEX(EF!$A$2:$A$112,MATCH(F122,EF!$C$2:$C$112,0)))","v":""},{"$f":"IF(F122=\"\",\"\",INDEX(EF!$B$2:$B$112,MATCH(F122,EF!$C$2:$C$112,0)))","v":""}]
["",null,null,{"$f":"IF(F123=\"\",\"\",INDEX(EF!$A$2:$A$112,MATCH(F123,EF!$C$2:$C$112,0)))","v":""},{"$f":"IF(F123=\"\",\"\",INDEX(EF!$B$2:$B$112,MATCH(F123,EF!$C$2:$C$112,0)))","v":""}]
["",null,null,{"$f":"IF(F124=\"\",\"\",INDEX(EF!$A$2:$A$112,MATCH(F124,EF!$C$2:$C$112,0)))","v":""},{"$f":"IF(F124=\"\",\"\",INDEX(EF!$B$2:$B$112,MATCH(F124,EF!$C$2:$C$112,0)))","v":""}]
["",null,null,{"$f":"IF(F125=\"\",\"\",INDEX(EF!$A$2:$A$112,MATCH(F125,EF!$C$2:$C$112,0)))","v":""},{"$f":"IF(F125=\"\",\"\",INDEX(EF!$B$2:$B$112,MATCH(F125,EF!$C$2:$C$112,0)))","v":""}]
["",null,null,{"$f":"IF(F126=\"\",\"\",INDEX(EF!$A$2:$A$112,MATCH(F126,EF!$C$2:$C$112,0)))","v":""},{"$f":"IF(F126=\"\",\"\",INDEX(EF!$B$2:$B$112,MATCH(F126,EF!$C$2:$C$112,0)))","v":""}]
["",null,null,{"$f":"IF(F127=\"\",\"\",INDEX(EF!$A$2:$A$112,MATCH(F127,EF!$C$2:$C$112,0)))","v":""},{"$f":"IF(F127=\"\",\"\",INDEX(EF!$B$2:$B$112,MATCH(F127,EF!$C$2:$C$112,0)))","v":""}]
["",null,null,{"$f":"IF(F128=\"\",\"\",INDEX(EF!$A$2:$A$112,MATCH(F128,EF!$C$2:$C$112,0)))","v":""},{"$f":"IF(F128=\"\",\"\",INDEX(EF!$B$2:$B$112,MATCH(F128,EF!$C$2:$C$112,0)))","v":""}]
["",null,null,{"$f":"IF(F129=\"\",\"\",INDEX(EF!$A$2:$A$112,MATCH(F129,EF!$C$2:$C$112,0)))","v":""},{"$f":"IF(F129=\"\",\"\",INDEX(EF!$B$2:$B$112,MATCH(F129,EF!$C$2:$C$112,0)))","v":""}]
["",null,null,{"$f":"IF(F130=\"\",\"\",INDEX(EF!$A$2:$A$112,MATCH(F130,EF!$C$2:$C$112,0)))","v":""},{"$f":"IF(F130=\"\",\"\",INDEX(EF!$B$2:$B$112,MATCH(F130,EF!$C$2:$C$112,0)))","v":""}]
["",null,null,{"$f":"IF(F131=\"\",\"\",INDEX(EF!$A$2:$A$112,MATCH(F131,EF!$C$2:$C$112,0)))","v":""},{"$f":"IF(F131=\"\",\"\",INDEX(EF!$B$2:$B$112,MATCH(F131,EF!$C$2:$C$112,0)))","v":""}]
["",null,null,{"$f":"IF(F132=\"\",\"\",INDEX(EF!$A$2:$A$112,MATCH(F132,EF!$C$2:$C$112,0)))","v":""},{"$f":"IF(F132=\"\",\"\",INDEX(EF!$B$2:$B$112,MATCH(F132,EF!$C$2:$C$112,0)))","v":""}]
["",null,null,{"$f":"IF(F133=\"\",\"\",INDEX(EF!$A$2:$A$112,MATCH(F133,EF!$C$2:$C$112,0)))","v":""},{"$f":"IF(F133=\"\",\"\",INDEX(EF!$B$2:$B$112,MATCH(F133,EF!$C$2:$C$112,0)))","v":""}]
["",null,null,{"$f":"IF(F134=\"\",\"\",INDEX(EF!$A$2:$A$112,MATCH(F134,EF!$C$2:$C$112,0)))","v":""},{"$f":"IF(F134=\"\",\"\",INDEX(EF!$B$2:$B$112,MATCH(F134,EF!$C$2:$C$112,0)))","v":""}]
["",null,null,{"$f":"IF(F135=\"\",\"\",INDEX(EF!$A$2:$A$112,MATCH(F135,EF!$C$2:$C$112,0)))","v":""},{"$f":"IF(F135=\"\",\"\",INDEX(EF!$B$2:$B$112,MATCH(F135,EF!$C$2:$C$112,0)))","v":""}]
["",null,null,{"$f":"IF(F136=\"\",\"\",INDEX(EF!$A$2:$A$112,MATCH(F136,EF!$C$2:$C$112,0)))","v":""},{"$f":"IF(F136=\"\",\"\",INDEX(EF!$B$2:$B$112,MATCH(F136,EF!$C$2:$C$112,0)))","v":""}]
[{"$f":"IF(B137>0,A136+1,\"\")","v":""},null,null,{"$f":"IF(F137=\"\",\"\",INDEX(EF!$A$2:$A$112,MATCH(F137,EF!$C$2:$C$112,0)))","v":""},{"$f":"IF(F137=\"\",\"\",INDEX(EF!$B$2:$B$112,MATCH(F137,EF!$C$2:$C$112,0)))","v":""}]
["",null,null,{"$f":"IF(F138=\"\",\"\",INDEX(EF!$A$2:$A$112,MATCH(F138,EF!$C$2:$C$112,0)))","v":""},{"$f":"IF(F138=\"\",\"\",INDEX(EF!$B$2:$B$112,MATCH(F138,EF!$C$2:$C$112,0)))","v":""}]
["",null,null,{"$f":"IF(F139=\"\",\"\",INDEX(EF!$A$2:$A$112,MATCH(F139,EF!$C$2:$C$112,0)))","v":""},{"$f":"IF(F139=\"\",\"\",INDEX(EF!$B$2:$B$112,MATCH(F139,EF!$C$2:$C$112,0)))","v":""}]
["",null,null,{"$f":"IF(F140=\"\",\"\",INDEX(EF!$A$2:$A$112,MATCH(F140,EF!$C$2:$C$112,0)))","v":""},{"$f":"IF(F140=\"\",\"\",INDEX(EF!$B$2:$B$112,MATCH(F140,EF!$C$2:$C$112,0)))","v":""}]
["",null,null,{"$f":"IF(F141=\"\",\"\",INDEX(EF!$A$2:$A$112,MATCH(F141,EF!$C$2:$C$112,0)))","v":""},{"$f":"IF(F141=\"\",\"\",INDEX(EF!$B$2:$B$112,MATCH(F141,EF!$C$2:$C$112,0)))","v":""}]
["",null,null,{"$f":"IF(F142=\"\",\"\",INDEX(EF!$A$2:$A$112,MATCH(F142,EF!$C$2:$C$112,0)))","v":""},{"$f":"IF(F142=\"\",\"\",INDEX(EF!$B$2:$B$112,MATCH(F142,EF!$C$2:$C$112,0)))","v":""}]
["",null,null,{"$f":"IF(F143=\"\",\"\",INDEX(EF!$A$2:$A$112,MATCH(F143,EF!$C$2:$C$112,0)))","v":""},{"$f":"IF(F143=\"\",\"\",INDEX(EF!$B$2:$B$112,MATCH(F143,EF!$C$2:$C$112,0)))","v":""}]
["",null,null,{"$f":"IF(F144=\"\",\"\",INDEX(EF!$A$2:$A$112,MATCH(F144,EF!$C$2:$C$112,0)))","v":""},{"$f":"IF(F144=\"\",\"\",INDEX(EF!$B$2:$B$112,MATCH(F144,EF!$C$2:$C$112,0)))","v":""}]
["",null,null,{"$f":"IF(F145=\"\",\"\",INDEX(EF!$A$2:$A$112,MATCH(F145,EF!$C$2:$C$112,0)))","v":""},{"$f":"IF(F145=\"\",\"\",INDEX(EF!$B$2:$B$112,MATCH(F145,EF!$C$2:$C$112,0)))","v":""}]
["",null,null,{"$f":"IF(F146=\"\",\"\",INDEX(EF!$A$2:$A$112,MATCH(F146,EF!$C$2:$C$112,0)))","v":""},{"$f":"IF(F146=\"\",\"\",INDEX(EF!$B$2:$B$112,MATCH(F146,EF!$C$2:$C$112,0)))","v":""}]
["",null,null,{"$f":"IF(F147=\"\",\"\",INDEX(EF!$A$2:$A$112,MATCH(F147,EF!$C$2:$C$112,0)))","v":""},{"$f":"IF(F147=\"\",\"\",INDEX(EF!$B$2:$B$112,MATCH(F147,EF!$C$2:$C$112,0)))","v":""}]
["",null,null,{"$f":"IF(F148=\"\",\"\",INDEX(EF!$A$2:$A$112,MATCH(F148,EF!$C$2:$C$112,0)))","v":""},{"$f":"IF(F148=\"\",\"\",INDEX(EF!$B$2:$B$112,MATCH(F148,EF!$C$2:$C$112,0)))","v":""}]
["",null,null,{"$f":"IF(F149=\"\",\"\",INDEX(EF!$A$2:$A$112,MATCH(F149,EF!$C$2:$C$112,0)))","v":""},{"$f":"IF(F149=\"\",\"\",INDEX(EF!$B$2:$B$112,MATCH(F149,EF!$C$2:$C$112,0)))","v":""}]
["",null,null,{"$f":"IF(F150=\"\",\"\",INDEX(EF!$A$2:$A$112,MATCH(F150,EF!$C$2:$C$112,0)))","v":""},{"$f":"IF(F150=\"\",\"\",INDEX(EF!$B$2:$B$112,MATCH(F150,EF!$C$2:$C$112,0)))","v":""}]
["",null,null,{"$f":"IF(F151=\"\",\"\",INDEX(EF!$A$2:$A$112,MATCH(F151,EF!$C$2:$C$112,0)))","v":""},{"$f":"IF(F151=\"\",\"\",INDEX(EF!$B$2:$B$112,MATCH(F151,EF!$C$2:$C$112,0)))","v":""}]
["",null,null,{"$f":"IF(F152=\"\",\"\",INDEX(EF!$A$2:$A$112,MATCH(F152,EF!$C$2:$C$112,0)))","v":""},{"$f":"IF(F152=\"\",\"\",INDEX(EF!$B$2:$B$112,MATCH(F152,EF!$C$2:$C$112,0)))","v":""}]
["",null,null,{"$f":"IF(F153=\"\",\"\",INDEX(EF!$A$2:$A$112,MATCH(F153,EF!$C$2:$C$112,0)))","v":""},{"$f":"IF(F153=\"\",\"\",INDEX(EF!$B$2:$B$112,MATCH(F153,EF!$C$2:$C$112,0)))","v":""}]
["",null,null,{"$f":"IF(F154=\"\",\"\",INDEX(EF!$A$2:$A$112,MATCH(F154,EF!$C$2:$C$112,0)))","v":""},{"$f":"IF(F154=\"\",\"\",INDEX(EF!$B$2:$B$112,MATCH(F154,EF!$C$2:$C$112,0)))","v":""}]
["",null,null,{"$f":"IF(F155=\"\",\"\",INDEX(EF!$A$2:$A$112,MATCH(F155,EF!$C$2:$C$112,0)))","v":""},{"$f":"IF(F155=\"\",\"\",INDEX(EF!$B$2:$B$112,MATCH(F155,EF!$C$2:$C$112,0)))","v":""}]
["",null,null,{"$f":"IF(F156=\"\",\"\",INDEX(EF!$A$2:$A$112,MATCH(F156,EF!$C$2:$C$112,0)))","v":""},{"$f":"IF(F156=\"\",\"\",INDEX(EF!$B$2:$B$112,MATCH(F156,EF!$C$2:$C$112,0)))","v":""}]
["",null,null,{"$f":"IF(F157=\"\",\"\",INDEX(EF!$A$2:$A$112,MATCH(F157,EF!$C$2:$C$112,0)))","v":""},{"$f":"IF(F157=\"\",\"\",INDEX(EF!$B$2:$B$112,MATCH(F157,EF!$C$2:$C$112,0)))","v":""}]
["",null,null,{"$f":"IF(F158=\"\",\"\",INDEX(EF!$A$2:$A$112,MATCH(F158,EF!$C$2:$C$112,0)))","v":""},{"$f":"IF(F158=\"\",\"\",INDEX(EF!$B$2:$B$112,MATCH(F158,EF!$C$2:$C$112,0)))","v":""}]
["",null,null,{"$f":"IF(F159=\"\",\"\",INDEX(EF!$A$2:$A$112,MATCH(F159,EF!$C$2:$C$112,0)))","v":""},{"$f":"IF(F159=\"\",\"\",INDEX(EF!$B$2:$B$112,MATCH(F159,EF!$C$2:$C$112,0)))","v":""}]
["",null,null,{"$f":"IF(F160=\"\",\"\",INDEX(EF!$A$2:$A$112,MATCH(F160,EF!$C$2:$C$112,0)))","v":""},{"$f":"IF(F160=\"\",\"\",INDEX(EF!$B$2:$B$112,MATCH(F160,EF!$C$2:$C$112,0)))","v":""}]
["",null,null,{"$f":"IF(F161=\"\",\"\",INDEX(EF!$A$2:$A$112,MATCH(F161,EF!$C$2:$C$112,0)))","v":""},{"$f":"IF(F161=\"\",\"\",INDEX(EF!$B$2:$B$112,MATCH(F161,EF!$C$2:$C$112,0)))","v":""}]
["",null,null,{"$f":"IF(F162=\"\",\"\",INDEX(EF!$A$2:$A$112,MATCH(F162,EF!$C$2:$C$112,0)))","v":""},{"$f":"IF(F162=\"\",\"\",INDEX(EF!$B$2:$B$112,MATCH(F162,EF!$C$2:$C$112,0)))","v":""}]
["",null,null,{"$f":"IF(F163=\"\",\"\",INDEX(EF!$A$2:$A$112,MATCH(F163,EF!$C$2:$C$112,0)))","v":""},{"$f":"IF(F163=\"\",\"\",INDEX(EF!$B$2:$B$112,MATCH(F163,EF!$C$2:$C$112,0)))","v":""}]
["",null,null,{"$f":"IF(F164=\"\",\"\",INDEX(EF!$A$2:$A$112,MATCH(F164,EF!$C$2:$C$112,0)))","v":""},{"$f":"IF(F164=\"\",\"\",INDEX(EF!$B$2:$B$112,MATCH(F164,EF!$C$2:$C$112,0)))","v":""}]
["",null,null,{"$f":"IF(F165=\"\",\"\",INDEX(EF!$A$2:$A$112,MATCH(F165,EF!$C$2:$C$112,0)))","v":""},{"$f":"IF(F165=\"\",\"\",INDEX(EF!$B$2:$B$112,MATCH(F165,EF!$C$2:$C$112,0)))","v":""}]
["",null,null,{"$f":"IF(F166=\"\",\"\",INDEX(EF!$A$2:$A$112,MATCH(F166,EF!$C$2:$C$112,0)))","v":""},{"$f":"IF(F166=\"\",\"\",INDEX(EF!$B$2:$B$112,MATCH(F166,EF!$C$2:$C$112,0)))","v":""}]
["",null,null,{"$f":"IF(F167=\"\",\"\",INDEX(EF!$A$2:$A$112,MATCH(F167,EF!$C$2:$C$112,0)))","v":""},{"$f":"IF(F167=\"\",\"\",INDEX(EF!$B$2:$B$112,MATCH(F167,EF!$C$2:$C$112,0)))","v":""}]
["",null,null,{"$f":"IF(F168=\"\",\"\",INDEX(EF!$A$2:$A$112,MATCH(F168,EF!$C$2:$C$112,0)))","v":""},{"$f":"IF(F168=\"\",\"\",INDEX(EF!$B$2:$B$112,MATCH(F168,EF!$C$2:$C$112,0)))","v":""}]
["",null,null,{"$f":"IF(F169=\"\",\"\",INDEX(EF!$A$2:$A$112,MATCH(F169,EF!$C$2:$C$112,0)))","v":""},{"$f":"IF(F169=\"\",\"\",INDEX(EF!$B$2:$B$112,MATCH(F169,EF!$C$2:$C$112,0)))","v":""}]
["",null,null,{"$f":"IF(F170=\"\",\"\",INDEX(EF!$A$2:$A$112,MATCH(F170,EF!$C$2:$C$112,0)))","v":""},{"$f":"IF(F170=\"\",\"\",INDEX(EF!$B$2:$B$112,MATCH(F170,EF!$C$2:$C$112,0)))","v":""}]
["",null,null,{"$f":"IF(F171=\"\",\"\",INDEX(EF!$A$2:$A$112,MATCH(F171,EF!$C$2:$C$112,0)))","v":""},{"$f":"IF(F171=\"\",\"\",INDEX(EF!$B$2:$B$112,MATCH(F171,EF!$C$2:$C$112,0)))","v":""}]
["",null,null,{"$f":"IF(F172=\"\",\"\",INDEX(EF!$A$2:$A$112,MATCH(F172,EF!$C$2:$C$112,0)))","v":""},{"$f":"IF(F172=\"\",\"\",INDEX(EF!$B$2:$B$112,MATCH(F172,EF!$C$2:$C$112,0)))","v":""}]
["",null,null,{"$f":"IF(F173=\"\",\"\",INDEX(EF!$A$2:$A$112,MATCH(F173,EF!$C$2:$C$112,0)))","v":""},{"$f":"IF(F173=\"\",\"\",INDEX(EF!$B$2:$B$112,MATCH(F173,EF!$C$2:$C$112,0)))","v":""}]
["",null,null,{"$f":"IF(F174=\"\",\"\",INDEX(EF!$A$2:$A$112,MATCH(F174,EF!$C$2:$C$112,0)))","v":""},{"$f":"IF(F174=\"\",\"\",INDEX(EF!$B$2:$B$112,MATCH(F174,EF!$C$2:$C$112,0)))","v":""}]
["",null,null,{"$f":"IF(F175=\"\",\"\",INDEX(EF!$A$2:$A$112,MATCH(F175,EF!$C$2:$C$112,0)))","v":""},{"$f":"IF(F175=\"\",\"\",INDEX(EF!$B$2:$B$112,MATCH(F175,EF!$C$2:$C$112,0)))","v":""}]
["",null,null,{"$f":"IF(F176=\"\",\"\",INDEX(EF!$A$2:$A$112,MATCH(F176,EF!$C$2:$C$112,0)))","v":""},{"$f":"IF(F176=\"\",\"\",INDEX(EF!$B$2:$B$112,MATCH(F176,EF!$C$2:$C$112,0)))","v":""}]
["",null,null,{"$f":"IF(F177=\"\",\"\",INDEX(EF!$A$2:$A$112,MATCH(F177,EF!$C$2:$C$112,0)))","v":""},{"$f":"IF(F177=\"\",\"\",INDEX(EF!$B$2:$B$112,MATCH(F177,EF!$C$2:$C$112,0)))","v":""}]
["",null,null,{"$f":"IF(F178=\"\",\"\",INDEX(EF!$A$2:$A$112,MATCH(F178,EF!$C$2:$C$112,0)))","v":""},{"$f":"IF(F178=\"\",\"\",INDEX(EF!$B$2:$B$112,MATCH(F178,EF!$C$2:$C$112,0)))","v":""}]
["",null,null,{"$f":"IF(F179=\"\",\"\",INDEX(EF!$A$2:$A$112,MATCH(F179,EF!$C$2:$C$112,0)))","v":""},{"$f":"IF(F179=\"\",\"\",INDEX(EF!$B$2:$B$112,MATCH(F179,EF!$C$2:$C$112,0)))","v":""}]
["",null,null,{"$f":"IF(F180=\"\",\"\",INDEX(EF!$A$2:$A$112,MATCH(F180,EF!$C$2:$C$112,0)))","v":""},{"$f":"IF(F180=\"\",\"\",INDEX(EF!$B$2:$B$112,MATCH(F180,EF!$C$2:$C$112,0)))","v":""}]
["",null,null,{"$f":"IF(F181=\"\",\"\",INDEX(EF!$A$2:$A$112,MATCH(F181,EF!$C$2:$C$112,0)))","v":""},{"$f":"IF(F181=\"\",\"\",INDEX(EF!$B$2:$B$112,MATCH(F181,EF!$C$2:$C$112,0)))","v":""}]
["",null,null,{"$f":"IF(F182=\"\",\"\",INDEX(EF!$A$2:$A$112,MATCH(F182,EF!$C$2:$C$112,0)))","v":""},{"$f":"IF(F182=\"\",\"\",INDEX(EF!$B$2:$B$112,MATCH(F182,EF!$C$2:$C$112,0)))","v":""}]
["",null,null,{"$f":"IF(F183=\"\",\"\",INDEX(EF!$A$2:$A$112,MATCH(F183,EF!$C$2:$C$112,0)))","v":""},{"$f":"IF(F183=\"\",\"\",INDEX(EF!$B$2:$B$112,MATCH(F183,EF!$C$2:$C$112,0)))","v":""}]
["",null,null,{"$f":"IF(F184=\"\",\"\",INDEX(EF!$A$2:$A$112,MATCH(F184,EF!$C$2:$C$112,0)))","v":""},{"$f":"IF(F184=\"\",\"\",INDEX(EF!$B$2:$B$112,MATCH(F184,EF!$C$2:$C$112,0)))","v":""}]
["",null,null,{"$f":"IF(F185=\"\",\"\",INDEX(EF!$A$2:$A$112,MATCH(F185,EF!$C$2:$C$112,0)))","v":""},{"$f":"IF(F185=\"\",\"\",INDEX(EF!$B$2:$B$112,MATCH(F185,EF!$C$2:$C$112,0)))","v":""}]
["",null,null,{"$f":"IF(F186=\"\",\"\",INDEX(EF!$A$2:$A$112,MATCH(F186,EF!$C$2:$C$112,0)))","v":""},{"$f":"IF(F186=\"\",\"\",INDEX(EF!$B$2:$B$112,MATCH(F186,EF!$C$2:$C$112,0)))","v":""}]
["",null,null,{"$f":"IF(F187=\"\",\"\",INDEX(EF!$A$2:$A$112,MATCH(F187,EF!$C$2:$C$112,0)))","v":""},{"$f":"IF(F187=\"\",\"\",INDEX(EF!$B$2:$B$112,MATCH(F187,EF!$C$2:$C$112,0)))","v":""}]
["",null,null,{"$f":"IF(F188=\"\",\"\",INDEX(EF!$A$2:$A$112,MATCH(F188,EF!$C$2:$C$112,0)))","v":""},{"$f":"IF(F188=\"\",\"\",INDEX(EF!$B$2:$B$112,MATCH(F188,EF!$C$2:$C$112,0)))","v":""}]
["",null,null,{"$f":"IF(F189=\"\",\"\",INDEX(EF!$A$2:$A$112,MATCH(F189,EF!$C$2:$C$112,0)))","v":""},{"$f":"IF(F189=\"\",\"\",INDEX(EF!$B$2:$B$112,MATCH(F189,EF!$C$2:$C$112,0)))","v":""}]
["",null,null,{"$f":"IF(F190=\"\",\"\",INDEX(EF!$A$2:$A$112,MATCH(F190,EF!$C$2:$C$112,0)))","v":""},{"$f":"IF(F190=\"\",\"\",INDEX(EF!$B$2:$B$112,MATCH(F190,EF!$C$2:$C$112,0)))","v":""}]
["",null,null,{"$f":"IF(F191=\"\",\"\",INDEX(EF!$A$2:$A$112,MATCH(F191,EF!$C$2:$C$112,0)))","v":""},{"$f":"IF(F191=\"\",\"\",INDEX(EF!$B$2:$B$112,MATCH(F191,EF!$C$2:$C$112,0)))","v":""}]
["",null,null,{"$f":"IF(F192=\"\",\"\",INDEX(EF!$A$2:$A$112,MATCH(F192,EF!$C$2:$C$112,0)))","v":""},{"$f":"IF(F192=\"\",\"\",INDEX(EF!$B$2:$B$112,MATCH(F192,EF!$C$2:$C$112,0)))","v":""}]
["",null,null,{"$f":"IF(F193=\"\",\"\",INDEX(EF!$A$2:$A$112,MATCH(F193,EF!$C$2:$C$112,0)))","v":""},{"$f":"IF(F193=\"\",\"\",INDEX(EF!$B$2:$B$112,MATCH(F193,EF!$C$2:$C$112,0)))","v":""}]
["",null,null,{"$f":"IF(F194=\"\",\"\",INDEX(EF!$A$2:$A$112,MATCH(F194,EF!$C$2:$C$112,0)))","v":""},{"$f":"IF(F194=\"\",\"\",INDEX(EF!$B$2:$B$112,MATCH(F194,EF!$C$2:$C$112,0)))","v":""}]
["",null,null,{"$f":"IF(F195=\"\",\"\",INDEX(EF!$A$2:$A$112,MATCH(F195,EF!$C$2:$C$112,0)))","v":""},{"$f":"IF(F195=\"\",\"\",INDEX(EF!$B$2:$B$112,MATCH(F195,EF!$C$2:$C$112,0)))","v":""}]
["",null,null,{"$f":"IF(F196=\"\",\"\",INDEX(EF!$A$2:$A$112,MATCH(F196,EF!$C$2:$C$112,0)))","v":""},{"$f":"IF(F196=\"\",\"\",INDEX(EF!$B$2:$B$112,MATCH(F196,EF!$C$2:$C$112,0)))","v":""}]
["",null,null,{"$f":"IF(F197=\"\",\"\",INDEX(EF!$A$2:$A$112,MATCH(F197,EF!$C$2:$C$112,0)))","v":""},{"$f":"IF(F197=\"\",\"\",INDEX(EF!$B$2:$B$112,MATCH(F197,EF!$C$2:$C$112,0)))","v":""}]
["",null,null,{"$f":"IF(F198=\"\",\"\",INDEX(EF!$A$2:$A$112,MATCH(F198,EF!$C$2:$C$112,0)))","v":""},{"$f":"IF(F198=\"\",\"\",INDEX(EF!$B$2:$B$112,MATCH(F198,EF!$C$2:$C$112,0)))","v":""}]
["",null,null,{"$f":"IF(F199=\"\",\"\",INDEX(EF!$A$2:$A$112,MATCH(F199,EF!$C$2:$C$112,0)))","v":""},{"$f":"IF(F199=\"\",\"\",INDEX(EF!$B$2:$B$112,MATCH(F199,EF!$C$2:$C$112,0)))","v":""}]
["",null,null,{"$f":"IF(F200=\"\",\"\",INDEX(EF!$A$2:$A$112,MATCH(F200,EF!$C$2:$C$112,0)))","v":""},{"$f":"IF(F200=\"\",\"\",INDEX(EF!$B$2:$B$112,MATCH(F200,EF!$C$2:$C$112,0)))","v":""}]
[{"$f":"IF(B201>0,A200+1,\"\")","v":""},null,null,{"$f":"IF(F201=\"\",\"\",INDEX(EF!$A$2:$A$112,MATCH(F201,EF!$C$2:$C$112,0)))","v":""},{"$f":"IF(F201=\"\",\"\",INDEX(EF!$B$2:$B$112,MATCH(F201,EF!$C$2:$C$112,0)))","v":""}]
["",null,null,{"$f":"IF(F202=\"\",\"\",INDEX(EF!$A$2:$A$112,MATCH(F202,EF!$C$2:$C$112,0)))","v":""},{"$f":"IF(F202=\"\",\"\",INDEX(EF!$B$2:$B$112,MATCH(F202,EF!$C$2:$C$112,0)))","v":""}]
["",null,null,{"$f":"IF(F203=\"\",\"\",INDEX(EF!$A$2:$A$112,MATCH(F203,EF!$C$2:$C$112,0)))","v":""},{"$f":"IF(F203=\"\",\"\",INDEX(EF!$B$2:$B$112,MATCH(F203,EF!$C$2:$C$112,0)))","v":""}]
["",null,null,{"$f":"IF(F204=\"\",\"\",INDEX(EF!$A$2:$A$112,MATCH(F204,EF!$C$2:$C$112,0)))","v":""},{"$f":"IF(F204=\"\",\"\",INDEX(EF!$B$2:$B$112,MATCH(F204,EF!$C$2:$C$112,0)))","v":""}]
["",null,null,{"$f":"IF(F205=\"\",\"\",INDEX(EF!$A$2:$A$112,MATCH(F205,EF!$C$2:$C$112,0)))","v":""},{"$f":"IF(F205=\"\",\"\",INDEX(EF!$B$2:$B$112,MATCH(F205,EF!$C$2:$C$112,0)))","v":""}]
["",null,null,{"$f":"IF(F206=\"\",\"\",INDEX(EF!$A$2:$A$112,MATCH(F206,EF!$C$2:$C$112,0)))","v":""},{"$f":"IF(F206=\"\",\"\",INDEX(EF!$B$2:$B$112,MATCH(F206,EF!$C$2:$C$112,0)))","v":""}]
[{"$f":"IF(B207>0,A206+1,\"\")","v":""},null,null,{"$f":"IF(F207=\"\",\"\",INDEX(EF!$A$2:$A$112,MATCH(F207,EF!$C$2:$C$112,0)))","v":""},{"$f":"IF(F207=\"\",\"\",INDEX(EF!$B$2:$B$112,MATCH(F207,EF!$C$2:$C$112,0)))","v":""}]
[{"$f":"IF(B208>0,A207+1,\"\")","v":""},null,null,{"$f":"IF(F208=\"\",\"\",INDEX(EF!$A$2:$A$112,MATCH(F208,EF!$C$2:$C$112,0)))","v":""},{"$f":"IF(F208=\"\",\"\",INDEX(EF!$B$2:$B$112,MATCH(F208,EF!$C$2:$C$112,0)))","v":""}]
["",null,null,{"$f":"IF(F209=\"\",\"\",INDEX(EF!$A$2:$A$112,MATCH(F209,EF!$C$2:$C$112,0)))","v":""},{"$f":"IF(F209=\"\",\"\",INDEX(EF!$B$2:$B$112,MATCH(F209,EF!$C$2:$C$112,0)))","v":""}]
["",null,null,{"$f":"IF(F210=\"\",\"\",INDEX(EF!$A$2:$A$112,MATCH(F210,EF!$C$2:$C$112,0)))","v":""},{"$f":"IF(F210=\"\",\"\",INDEX(EF!$B$2:$B$112,MATCH(F210,EF!$C$2:$C$112,0)))","v":""}]
["",null,null,{"$f":"IF(F211=\"\",\"\",INDEX(EF!$A$2:$A$112,MATCH(F211,EF!$C$2:$C$112,0)))","v":""},{"$f":"IF(F211=\"\",\"\",INDEX(EF!$B$2:$B$112,MATCH(F211,EF!$C$2:$C$112,0)))","v":""}]
["",null,null,{"$f":"IF(F212=\"\",\"\",INDEX(EF!$A$2:$A$112,MATCH(F212,EF!$C$2:$C$112,0)))","v":""},{"$f":"IF(F212=\"\",\"\",INDEX(EF!$B$2:$B$112,MATCH(F212,EF!$C$2:$C$112,0)))","v":""}]
["",null,null,{"$f":"IF(F213=\"\",\"\",INDEX(EF!$A$2:$A$112,MATCH(F213,EF!$C$2:$C$112,0)))","v":""},{"$f":"IF(F213=\"\",\"\",INDEX(EF!$B$2:$B$112,MATCH(F213,EF!$C$2:$C$112,0)))","v":""}]
["",null,null,{"$f":"IF(F214=\"\",\"\",INDEX(EF!$A$2:$A$112,MATCH(F214,EF!$C$2:$C$112,0)))","v":""},{"$f":"IF(F214=\"\",\"\",INDEX(EF!$B$2:$B$112,MATCH(F214,EF!$C$2:$C$112,0)))","v":""}]
["",null,null,{"$f":"IF(F215=\"\",\"\",INDEX(EF!$A$2:$A$112,MATCH(F215,EF!$C$2:$C$112,0)))","v":""},{"$f":"IF(F215=\"\",\"\",INDEX(EF!$B$2:$B$112,MATCH(F215,EF!$C$2:$C$112,0)))","v":""}]
["",null,null,{"$f":"IF(F216=\"\",\"\",INDEX(EF!$A$2:$A$112,MATCH(F216,EF!$C$2:$C$112,0)))","v":""},{"$f":"IF(F216=\"\",\"\",INDEX(EF!$B$2:$B$112,MATCH(F216,EF!$C$2:$C$112,0)))","v":""}]
["",null,null,{"$f":"IF(F217=\"\",\"\",INDEX(EF!$A$2:$A$112,MATCH(F217,EF!$C$2:$C$112,0)))","v":""},{"$f":"IF(F217=\"\",\"\",INDEX(EF!$B$2:$B$112,MATCH(F217,EF!$C$2:$C$112,0)))","v":""}]
["",null,null,{"$f":"IF(F218=\"\",\"\",INDEX(EF!$A$2:$A$112,MATCH(F218,EF!$C$2:$C$112,0)))","v":""},{"$f":"IF(F218=\"\",\"\",INDEX(EF!$B$2:$B$112,MATCH(F218,EF!$C$2:$C$112,0)))","v":""}]
["",null,null,{"$f":"IF(F219=\"\",\"\",INDEX(EF!$A$2:$A$112,MATCH(F219,EF!$C$2:$C$112,0)))","v":""},{"$f":"IF(F219=\"\",\"\",INDEX(EF!$B$2:$B$112,MATCH(F219,EF!$C$2:$C$112,0)))","v":""}]
["",null,null,{"$f":"IF(F220=\"\",\"\",INDEX(EF!$A$2:$A$112,MATCH(F220,EF!$C$2:$C$112,0)))","v":""},{"$f":"IF(F220=\"\",\"\",INDEX(EF!$B$2:$B$112,MATCH(F220,EF!$C$2:$C$112,0)))","v":""}]
["",null,null,{"$f":"IF(F221=\"\",\"\",INDEX(EF!$A$2:$A$112,MATCH(F221,EF!$C$2:$C$112,0)))","v":""},{"$f":"IF(F221=\"\",\"\",INDEX(EF!$B$2:$B$112,MATCH(F221,EF!$C$2:$C$112,0)))","v":""}]
["",null,null,{"$f":"IF(F222=\"\",\"\",INDEX(EF!$A$2:$A$112,MATCH(F222,EF!$C$2:$C$112,0)))","v":""},{"$f":"IF(F222=\"\",\"\",INDEX(EF!$B$2:$B$112,MATCH(F222,EF!$C$2:$C$112,0)))","v":""}]
["",null,null,{"$f":"IF(F223=\"\",\"\",INDEX(EF!$A$2:$A$112,MATCH(F223,EF!$C$2:$C$112,0)))","v":""},{"$f":"IF(F223=\"\",\"\",INDEX(EF!$B$2:$B$112,MATCH(F223,EF!$C$2:$C$112,0)))","v":""}]
["",null,null,{"$f":"IF(F224=\"\",\"\",INDEX(EF!$A$2:$A$112,MATCH(F224,EF!$C$2:$C$112,0)))","v":""},{"$f":"IF(F224=\"\",\"\",INDEX(EF!$B$2:$B$112,MATCH(F224,EF!$C$2:$C$112,0)))","v":""}]
["",null,null,{"$f":"IF(F225=\"\",\"\",INDEX(EF!$A$2:$A$112,MATCH(F225,EF!$C$2:$C$112,0)))","v":""},{"$f":"IF(F225=\"\",\"\",INDEX(EF!$B$2:$B$112,MATCH(F225,EF!$C$2:$C$112,0)))","v":""}]
["",null,null,{"$f":"IF(F226=\"\",\"\",INDEX(EF!$A$2:$A$112,MATCH(F226,EF!$C$2:$C$112,0)))","v":""},{"$f":"IF(F226=\"\",\"\",INDEX(EF!$B$2:$B$112,MATCH(F226,EF!$C$2:$C$112,0)))","v":""}]
["",null,null,{"$f":"IF(F227=\"\",\"\",INDEX(EF!$A$2:$A$112,MATCH(F227,EF!$C$2:$C$112,0)))","v":""},{"$f":"IF(F227=\"\",\"\",INDEX(EF!$B$2:$B$112,MATCH(F227,EF!$C$2:$C$112,0)))","v":""}]
["",null,null,{"$f":"IF(F228=\"\",\"\",INDEX(EF!$A$2:$A$112,MATCH(F228,EF!$C$2:$C$112,0)))","v":""},{"$f":"IF(F228=\"\",\"\",INDEX(EF!$B$2:$B$112,MATCH(F228,EF!$C$2:$C$112,0)))","v":""}]
["",null,null,{"$f":"IF(F229=\"\",\"\",INDEX(EF!$A$2:$A$112,MATCH(F229,EF!$C$2:$C$112,0)))","v":""},{"$f":"IF(F229=\"\",\"\",INDEX(EF!$B$2:$B$112,MATCH(F229,EF!$C$2:$C$112,0)))","v":""}]
["",null,null,{"$f":"IF(F230=\"\",\"\",INDEX(EF!$A$2:$A$112,MATCH(F230,EF!$C$2:$C$112,0)))","v":""},{"$f":"IF(F230=\"\",\"\",INDEX(EF!$B$2:$B$112,MATCH(F230,EF!$C$2:$C$112,0)))","v":""}]
["",null,null,{"$f":"IF(F231=\"\",\"\",INDEX(EF!$A$2:$A$112,MATCH(F231,EF!$C$2:$C$112,0)))","v":""},{"$f":"IF(F231=\"\",\"\",INDEX(EF!$B$2:$B$112,MATCH(F231,EF!$C$2:$C$112,0)))","v":""}]
["",null,null,{"$f":"IF(F232=\"\",\"\",INDEX(EF!$A$2:$A$112,MATCH(F232,EF!$C$2:$C$112,0)))","v":""},{"$f":"IF(F232=\"\",\"\",INDEX(EF!$B$2:$B$112,MATCH(F232,EF!$C$2:$C$112,0)))","v":""}]
["",null,null,{"$f":"IF(F233=\"\",\"\",INDEX(EF!$A$2:$A$112,MATCH(F233,EF!$C$2:$C$112,0)))","v":""},{"$f":"IF(F233=\"\",\"\",INDEX(EF!$B$2:$B$112,MATCH(F233,EF!$C$2:$C$112,0)))","v":""}]
["",null,null,{"$f":"IF(F234=\"\",\"\",INDEX(EF!$A$2:$A$112,MATCH(F234,EF!$C$2:$C$112,0)))","v":""},{"$f":"IF(F234=\"\",\"\",INDEX(EF!$B$2:$B$112,MATCH(F234,EF!$C$2:$C$112,0)))","v":""}]
["",null,null,{"$f":"IF(F235=\"\",\"\",INDEX(EF!$A$2:$A$112,MATCH(F235,EF!$C$2:$C$112,0)))","v":""},{"$f":"IF(F235=\"\",\"\",INDEX(EF!$B$2:$B$112,MATCH(F235,EF!$C$2:$C$112,0)))","v":""}]
["",null,null,{"$f":"IF(F236=\"\",\"\",INDEX(EF!$A$2:$A$112,MATCH(F236,EF!$C$2:$C$112,0)))","v":""},{"$f":"IF(F236=\"\",\"\",INDEX(EF!$B$2:$B$112,MATCH(F236,EF!$C$2:$C$112,0)))","v":""}]
["",null,null,{"$f":"IF(F237=\"\",\"\",INDEX(EF!$A$2:$A$112,MATCH(F237,EF!$C$2:$C$112,0)))","v":""},{"$f":"IF(F237=\"\",\"\",INDEX(EF!$B$2:$B$112,MATCH(F237,EF!$C$2:$C$112,0)))","v":""}]
["",null,null,{"$f":"IF(F238=\"\",\"\",INDEX(EF!$A$2:$A$112,MATCH(F238,EF!$C$2:$C$112,0)))","v":""},{"$f":"IF(F238=\"\",\"\",INDEX(EF!$B$2:$B$112,MATCH(F238,EF!$C$2:$C$112,0)))","v":""}]
["",null,null,{"$f":"IF(F239=\"\",\"\",INDEX(EF!$A$2:$A$112,MATCH(F239,EF!$C$2:$C$112,0)))","v":""},{"$f":"IF(F239=\"\",\"\",INDEX(EF!$B$2:$B$112,MATCH(F239,EF!$C$2:$C$112,0)))","v":""}]
["",null,null,{"$f":"IF(F240=\"\",\"\",INDEX(EF!$A$2:$A$112,MATCH(F240,EF!$C$2:$C$112,0)))","v":""},{"$f":"IF(F240=\"\",\"\",INDEX(EF!$B$2:$B$112,MATCH(F240,EF!$C$2:$C$112,0)))","v":""}]
["",null,null,{"$f":"IF(F241=\"\",\"\",INDEX(EF!$A$2:$A$112,MATCH(F241,EF!$C$2:$C$112,0)))","v":""},{"$f":"IF(F241=\"\",\"\",INDEX(EF!$B$2:$B$112,MATCH(F241,EF!$C$2:$C$112,0)))","v":""}]
["",null,null,{"$f":"IF(F242=\"\",\"\",INDEX(EF!$A$2:$A$112,MATCH(F242,EF!$C$2:$C$112,0)))","v":""},{"$f":"IF(F242=\"\",\"\",INDEX(EF!$B$2:$B$112,MATCH(F242,EF!$C$2:$C$112,0)))","v":""}]
["",null,null,{"$f":"IF(F243=\"\",\"\",INDEX(EF!$A$2:$A$112,MATCH(F243,EF!$C$2:$C$112,0)))","v":""},{"$f":"IF(F243=\"\",\"\",INDEX(EF!$B$2:$B$112,MATCH(F243,EF!$C$2:$C$112,0)))","v":""}]
["",null,null,{"$f":"IF(F244=\"\",\"\",INDEX(EF!$A$2:$A$112,MATCH(F244,EF!$C$2:$C$112,0)))","v":""},{"$f":"IF(F244=\"\",\"\",INDEX(EF!$B$2:$B$112,MATCH(F244,EF!$C$2:$C$112,0)))","v":""}]
["",null,null,{"$f":"IF(F245=\"\",\"\",INDEX(EF!$A$2:$A$112,MATCH(F245,EF!$C$2:$C$112,0)))","v":""},{"$f":"IF(F245=\"\",\"\",INDEX(EF!$B$2:$B$112,MATCH(F245,EF!$C$2:$C$112,0)))","v":""}]
["",null,null,{"$f":"IF(F246=\"\",\"\",INDEX(EF!$A$2:$A$112,MATCH(F246,EF!$C$2:$C$112,0)))","v":""},{"$f":"IF(F246=\"\",\"\",INDEX(EF!$B$2:$B$112,MATCH(F246,EF!$C$2:$C$112,0)))","v":""}]
["",null,null,{"$f":"IF(F247=\"\",\"\",INDEX(EF!$A$2:$A$112,MATCH(F247,EF!$C$2:$C$112,0)))","v":""},{"$f":"IF(F247=\"\",\"\",INDEX(EF!$B$2:$B$112,MATCH(F247,EF!$C$2:$C$112,0)))","v":""}]
["",null,null,{"$f":"IF(F248=\"\",\"\",INDEX(EF!$A$2:$A$112,MATCH(F248,EF!$C$2:$C$112,0)))","v":""},{"$f":"IF(F248=\"\",\"\",INDEX(EF!$B$2:$B$112,MATCH(F248,EF!$C$2:$C$112,0)))","v":""}]
["",null,null,{"$f":"IF(F249=\"\",\"\",INDEX(EF!$A$2:$A$112,MATCH(F249,EF!$C$2:$C$112,0)))","v":""},{"$f":"IF(F249=\"\",\"\",INDEX(EF!$B$2:$B$112,MATCH(F249,EF!$C$2:$C$112,0)))","v":""}]
["",null,null,{"$f":"IF(F250=\"\",\"\",INDEX(EF!$A$2:$A$112,MATCH(F250,EF!$C$2:$C$112,0)))","v":""},{"$f":"IF(F250=\"\",\"\",INDEX(EF!$B$2:$B$112,MATCH(F250,EF!$C$2:$C$112,0)))","v":""}]
["",null,null,{"$f":"IF(F251=\"\",\"\",INDEX(EF!$A$2:$A$112,MATCH(F251,EF!$C$2:$C$112,0)))","v":""},{"$f":"IF(F251=\"\",\"\",INDEX(EF!$B$2:$B$112,MATCH(F251,EF!$C$2:$C$112,0)))","v":""}]
["",null,null,{"$f":"IF(F252=\"\",\"\",INDEX(EF!$A$2:$A$112,MATCH(F252,EF!$C$2:$C$112,0)))","v":""},{"$f":"IF(F252=\"\",\"\",INDEX(EF!$B$2:$B$112,MATCH(F252,EF!$C$2:$C$112,0)))","v":""}]
["",null,null,{"$f":"IF(F253=\"\",\"\",INDEX(EF!$A$2:$A$112,MATCH(F253,EF!$C$2:$C$112,0)))","v":""},{"$f":"IF(F253=\"\",\"\",INDEX(EF!$B$2:$B$112,MATCH(F253,EF!$C$2:$C$112,0)))","v":""}]
["",null,null,{"$f":"IF(F254=\"\",\"\",INDEX(EF!$A$2:$A$112,MATCH(F254,EF!$C$2:$C$112,0)))","v":""},{"$f":"IF(F254=\"\",\"\",INDEX(EF!$B$2:$B$112,MATCH(F254,EF!$C$2:$C$112,0)))","v":""}]
["",null,null,{"$f":"IF(F255=\"\",\"\",INDEX(EF!$A$2:$A$112,MATCH(F255,EF!$C$2:$C$112,0)))","v":""},{"$f":"IF(F255=\"\",\"\",INDEX(EF!$B$2:$B$112,MATCH(F255,EF!$C$2:$C$112,0)))","v":""}]
["",null,null,{"$f":"IF(F256=\"\",\"\",INDEX(EF!$A$2:$A$112,MATCH(F256,EF!$C$2:$C$112,0)))","v":""},{"$f":"IF(F256=\"\",\"\",INDEX(EF!$B$2:$B$112,MATCH(F256,EF!$C$2:$C$112,0)))","v":""}]
["",null,null,{"$f":"IF(F257=\"\",\"\",INDEX(EF!$A$2:$A$112,MATCH(F257,EF!$C$2:$C$112,0)))","v":""},{"$f":"IF(F257=\"\",\"\",INDEX(EF!$B$2:$B$112,MATCH(F257,EF!$C$2:$C$112,0)))","v":""}]
["",null,null,{"$f":"IF(F258=\"\",\"\",INDEX(EF!$A$2:$A$112,MATCH(F258,EF!$C$2:$C$112,0)))","v":""},{"$f":"IF(F258=\"\",\"\",INDEX(EF!$B$2:$B$112,MATCH(F258,EF!$C$2:$C$112,0)))","v":""}]
["",null,null,{"$f":"IF(F259=\"\",\"\",INDEX(EF!$A$2:$A$112,MATCH(F259,EF!$C$2:$C$112,0)))","v":""},{"$f":"IF(F259=\"\",\"\",INDEX(EF!$B$2:$B$112,MATCH(F259,EF!$C$2:$C$112,0)))","v":""}]
["",null,null,{"$f":"IF(F260=\"\",\"\",INDEX(EF!$A$2:$A$112,MATCH(F260,EF!$C$2:$C$112,0)))","v":""},{"$f":"IF(F260=\"\",\"\",INDEX(EF!$B$2:$B$112,MATCH(F260,EF!$C$2:$C$112,0)))","v":""}]
["",null,null,{"$f":"IF(F261=\"\",\"\",INDEX(EF!$A$2:$A$112,MATCH(F261,EF!$C$2:$C$112,0)))","v":""},{"$f":"IF(F261=\"\",\"\",INDEX(EF!$B$2:$B$112,MATCH(F261,EF!$C$2:$C$112,0)))","v":""}]
["",null,null,{"$f":"IF(F262=\"\",\"\",INDEX(EF!$A$2:$A$112,MATCH(F262,EF!$C$2:$C$112,0)))","v":""},{"$f":"IF(F262=\"\",\"\",INDEX(EF!$B$2:$B$112,MATCH(F262,EF!$C$2:$C$112,0)))","v":""}]
["",null,null,{"$f":"IF(F263=\"\",\"\",INDEX(EF!$A$2:$A$112,MATCH(F263,EF!$C$2:$C$112,0)))","v":""},{"$f":"IF(F263=\"\",\"\",INDEX(EF!$B$2:$B$112,MATCH(F263,EF!$C$2:$C$112,0)))","v":""}]
["",null,null,{"$f":"IF(F264=\"\",\"\",INDEX(EF!$A$2:$A$112,MATCH(F264,EF!$C$2:$C$112,0)))","v":""},{"$f":"IF(F264=\"\",\"\",INDEX(EF!$B$2:$B$112,MATCH(F264,EF!$C$2:$C$112,0)))","v":""}]
["",null,null,{"$f":"IF(F265=\"\",\"\",INDEX(EF!$A$2:$A$112,MATCH(F265,EF!$C$2:$C$112,0)))","v":""},{"$f":"IF(F265=\"\",\"\",INDEX(EF!$B$2:$B$112,MATCH(F265,EF!$C$2:$C$112,0)))","v":""}]
["",null,null,{"$f":"IF(F266=\"\",\"\",INDEX(EF!$A$2:$A$112,MATCH(F266,EF!$C$2:$C$112,0)))","v":""},{"$f":"IF(F266=\"\",\"\",INDEX(EF!$B$2:$B$112,MATCH(F266,EF!$C$2:$C$112,0)))","v":""}]
["",null,null,{"$f":"IF(F267=\"\",\"\",INDEX(EF!$A$2:$A$112,MATCH(F267,EF!$C$2:$C$112,0)))","v":""},{"$f":"IF(F267=\"\",\"\",INDEX(EF!$B$2:$B$112,MATCH(F267,EF!$C$2:$C$112,0)))","v":""}]
["",null,null,{"$f":"IF(F268=\"\",\"\",INDEX(EF!$A$2:$A$112,MATCH(F268,EF!$C$2:$C$112,0)))","v":""},{"$f":"IF(F268=\"\",\"\",INDEX(EF!$B$2:$B$112,MATCH(F268,EF!$C$2:$C$112,0)))","v":""}]
["",null,null,{"$f":"IF(F269=\"\",\"\",INDEX(EF!$A$2:$A$112,MATCH(F269,EF!$C$2:$C$112,0)))","v":""},{"$f":"IF(F269=\"\",\"\",INDEX(EF!$B$2:$B$112,MATCH(F269,EF!$C$2:$C$112,0)))","v":""}]
["",null,null,{"$f":"IF(F270=\"\",\"\",INDEX(EF!$A$2:$A$112,MATCH(F270,EF!$C$2:$C$112,0)))","v":""},{"$f":"IF(F270=\"\",\"\",INDEX(EF!$B$2:$B$112,MATCH(F270,EF!$C$2:$C$112,0)))","v":""}]
["",null,null,{"$f":"IF(F271=\"\",\"\",INDEX(EF!$A$2:$A$112,MATCH(F271,EF!$C$2:$C$112,0)))","v":""},{"$f":"IF(F271=\"\",\"\",INDEX(EF!$B$2:$B$112,MATCH(F271,EF!$C$2:$C$112,0)))","v":""}]
[{"$f":"IF(B272>0,A271+1,\"\")","v":""},null,null,{"$f":"IF(F272=\"\",\"\",INDEX(EF!$A$2:$A$112,MATCH(F272,EF!$C$2:$C$112,0)))","v":""},{"$f":"IF(F272=\"\",\"\",INDEX(EF!$B$2:$B$112,MATCH(F272,EF!$C$2:$C$112,0)))","v":""}]
["",null,null,{"$f":"IF(F273=\"\",\"\",INDEX(EF!$A$2:$A$112,MATCH(F273,EF!$C$2:$C$112,0)))","v":""},{"$f":"IF(F273=\"\",\"\",INDEX(EF!$B$2:$B$112,MATCH(F273,EF!$C$2:$C$112,0)))","v":""}]
["",null,null,{"$f":"IF(F274=\"\",\"\",INDEX(EF!$A$2:$A$112,MATCH(F274,EF!$C$2:$C$112,0)))","v":""},{"$f":"IF(F274=\"\",\"\",INDEX(EF!$B$2:$B$112,MATCH(F274,EF!$C$2:$C$112,0)))","v":""}]
["",null,null,{"$f":"IF(F275=\"\",\"\",INDEX(EF!$A$2:$A$112,MATCH(F275,EF!$C$2:$C$112,0)))","v":""},{"$f":"IF(F275=\"\",\"\",INDEX(EF!$B$2:$B$112,MATCH(F275,EF!$C$2:$C$112,0)))","v":""}]
["",null,null,{"$f":"IF(F276=\"\",\"\",INDEX(EF!$A$2:$A$112,MATCH(F276,EF!$C$2:$C$112,0)))","v":""},{"$f":"IF(F276=\"\",\"\",INDEX(EF!$B$2:$B$112,MATCH(F276,EF!$C$2:$C$112,0)))","v":""}]
["",null,null,{"$f":"IF(F277=\"\",\"\",INDEX(EF!$A$2:$A$112,MATCH(F277,EF!$C$2:$C$112,0)))","v":""},{"$f":"IF(F277=\"\",\"\",INDEX(EF!$B$2:$B$112,MATCH(F277,EF!$C$2:$C$112,0)))","v":""}]
["",null,null,{"$f":"IF(F278=\"\",\"\",INDEX(EF!$A$2:$A$112,MATCH(F278,EF!$C$2:$C$112,0)))","v":""},{"$f":"IF(F278=\"\",\"\",INDEX(EF!$B$2:$B$112,MATCH(F278,EF!$C$2:$C$112,0)))","v":""}]
["",null,null,{"$f":"IF(F279=\"\",\"\",INDEX(EF!$A$2:$A$112,MATCH(F279,EF!$C$2:$C$112,0)))","v":""},{"$f":"IF(F279=\"\",\"\",INDEX(EF!$B$2:$B$112,MATCH(F279,EF!$C$2:$C$112,0)))","v":""}]
["",null,null,{"$f":"IF(F280=\"\",\"\",INDEX(EF!$A$2:$A$112,MATCH(F280,EF!$C$2:$C$112,0)))","v":""},{"$f":"IF(F280=\"\",\"\",INDEX(EF!$B$2:$B$112,MATCH(F280,EF!$C$2:$C$112,0)))","v":""}]
["",null,null,{"$f":"IF(F281=\"\",\"\",INDEX(EF!$A$2:$A$112,MATCH(F281,EF!$C$2:$C$112,0)))","v":""},{"$f":"IF(F281=\"\",\"\",INDEX(EF!$B$2:$B$112,MATCH(F281,EF!$C$2:$C$112,0)))","v":""}]
["",null,null,{"$f":"IF(F282=\"\",\"\",INDEX(EF!$A$2:$A$112,MATCH(F282,EF!$C$2:$C$112,0)))","v":""},{"$f":"IF(F282=\"\",\"\",INDEX(EF!$B$2:$B$112,MATCH(F282,EF!$C$2:$C$112,0)))","v":""}]
["",null,null,{"$f":"IF(F283=\"\",\"\",INDEX(EF!$A$2:$A$112,MATCH(F283,EF!$C$2:$C$112,0)))","v":""},{"$f":"IF(F283=\"\",\"\",INDEX(EF!$B$2:$B$112,MATCH(F283,EF!$C$2:$C$112,0)))","v":""}]
["",null,null,{"$f":"IF(F284=\"\",\"\",INDEX(EF!$A$2:$A$112,MATCH(F284,EF!$C$2:$C$112,0)))","v":""},{"$f":"IF(F284=\"\",\"\",INDEX(EF!$B$2:$B$112,MATCH(F284,EF!$C$2:$C$112,0)))","v":""}]
["",null,null,{"$f":"IF(F285=\"\",\"\",INDEX(EF!$A$2:$A$112,MATCH(F285,EF!$C$2:$C$112,0)))","v":""},{"$f":"IF(F285=\"\",\"\",INDEX(EF!$B$2:$B$112,MATCH(F285,EF!$C$2:$C$112,0)))","v":""}]
["",null,null,{"$f":"IF(F286=\"\",\"\",INDEX(EF!$A$2:$A$112,MATCH(F286,EF!$C$2:$C$112,0)))","v":""},{"$f":"IF(F286=\"\",\"\",INDEX(EF!$B$2:$B$112,MATCH(F286,EF!$C$2:$C$112,0)))","v":""}]
["",null,null,{"$f":"IF(F287=\"\",\"\",INDEX(EF!$A$2:$A$112,MATCH(F287,EF!$C$2:$C$112,0)))","v":""},{"$f":"IF(F287=\"\",\"\",INDEX(EF!$B$2:$B$112,MATCH(F287,EF!$C$2:$C$112,0)))","v":""}]
["",null,null,{"$f":"IF(F288=\"\",\"\",INDEX(EF!$A$2:$A$112,MATCH(F288,EF!$C$2:$C$112,0)))","v":""},{"$f":"IF(F288=\"\",\"\",INDEX(EF!$B$2:$B$112,MATCH(F288,EF!$C$2:$C$112,0)))","v":""}]
["",null,null,{"$f":"IF(F289=\"\",\"\",INDEX(EF!$A$2:$A$112,MATCH(F289,EF!$C$2:$C$112,0)))","v":""},{"$f":"IF(F289=\"\",\"\",INDEX(EF!$B$2:$B$112,MATCH(F289,EF!$C$2:$C$112,0)))","v":""}]
["",null,null,{"$f":"IF(F290=\"\",\"\",INDEX(EF!$A$2:$A$112,MATCH(F290,EF!$C$2:$C$112,0)))","v":""},{"$f":"IF(F290=\"\",\"\",INDEX(EF!$B$2:$B$112,MATCH(F290,EF!$C$2:$C$112,0)))","v":""}]
["",null,null,{"$f":"IF(F291=\"\",\"\",INDEX(EF!$A$2:$A$112,MATCH(F291,EF!$C$2:$C$112,0)))","v":""},{"$f":"IF(F291=\"\",\"\",INDEX(EF!$B$2:$B$112,MATCH(F291,EF!$C$2:$C$112,0)))","v":""}]
["",null,null,{"$f":"IF(F292=\"\",\"\",INDEX(EF!$A$2:$A$112,MATCH(F292,EF!$C$2:$C$112,0)))","v":""},{"$f":"IF(F292=\"\",\"\",INDEX(EF!$B$2:$B$112,MATCH(F292,EF!$C$2:$C$112,0)))","v":""}]
["",null,null,{"$f":"IF(F293=\"\",\"\",INDEX(EF!$A$2:$A$112,MATCH(F293,EF!$C$2:$C$112,0)))","v":""},{"$f":"IF(F293=\"\",\"\",INDEX(EF!$B$2:$B$112,MATCH(F293,EF!$C$2:$C$112,0)))","v":""}]
["",null,null,{"$f":"IF(F294=\"\",\"\",INDEX(EF!$A$2:$A$112,MATCH(F294,EF!$C$2:$C$112,0)))","v":""},{"$f":"IF(F294=\"\",\"\",INDEX(EF!$B$2:$B$112,MATCH(F294,EF!$C$2:$C$112,0)))","v":""}]
["",null,null,{"$f":"IF(F295=\"\",\"\",INDEX(EF!$A$2:$A$112,MATCH(F295,EF!$C$2:$C$112,0)))","v":""},{"$f":"IF(F295=\"\",\"\",INDEX(EF!$B$2:$B$112,MATCH(F295,EF!$C$2:$C$112,0)))","v":""}]
["",null,null,{"$f":"IF(F296=\"\",\"\",INDEX(EF!$A$2:$A$112,MATCH(F296,EF!$C$2:$C$112,0)))","v":""},{"$f":"IF(F296=\"\",\"\",INDEX(EF!$B$2:$B$112,MATCH(F296,EF!$C$2:$C$112,0)))","v":""}]
["",null,null,{"$f":"IF(F297=\"\",\"\",INDEX(EF!$A$2:$A$112,MATCH(F297,EF!$C$2:$C$112,0)))","v":""},{"$f":"IF(F297=\"\",\"\",INDEX(EF!$B$2:$B$112,MATCH(F297,EF!$C$2:$C$112,0)))","v":""}]
["",null,null,{"$f":"IF(F298=\"\",\"\",INDEX(EF!$A$2:$A$112,MATCH(F298,EF!$C$2:$C$112,0)))","v":""},{"$f":"IF(F298=\"\",\"\",INDEX(EF!$B$2:$B$112,MATCH(F298,EF!$C$2:$C$112,0)))","v":""}]
["",null,null,{"$f":"IF(F299=\"\",\"\",INDEX(EF!$A$2:$A$112,MATCH(F299,EF!$C$2:$C$112,0)))","v":""},{"$f":"IF(F299=\"\",\"\",INDEX(EF!$B$2:$B$112,MATCH(F299,EF!$C$2:$C$112,0)))","v":""}]
["",null,null,{"$f":"IF(F300=\"\",\"\",INDEX(EF!$A$2:$A$112,MATCH(F300,EF!$C$2:$C$112,0)))","v":""},{"$f":"IF(F300=\"\",\"\",INDEX(EF!$B$2:$B$112,MATCH(F300,EF!$C$2:$C$112,0)))","v":""}]
["",null,null,{"$f":"IF(F301=\"\",\"\",INDEX(EF!$A$2:$A$112,MATCH(F301,EF!$C$2:$C$112,0)))","v":""},{"$f":"IF(F301=\"\",\"\",INDEX(EF!$B$2:$B$112,MATCH(F301,EF!$C$2:$C$112,0)))","v":""}]
["",null,null,{"$f":"IF(F302=\"\",\"\",INDEX(EF!$A$2:$A$112,MATCH(F302,EF!$C$2:$C$112,0)))","v":""},{"$f":"IF(F302=\"\",\"\",INDEX(EF!$B$2:$B$112,MATCH(F302,EF!$C$2:$C$112,0)))","v":""}]
["",null,null,{"$f":"IF(F303=\"\",\"\",INDEX(EF!$A$2:$A$112,MATCH(F303,EF!$C$2:$C$112,0)))","v":""},{"$f":"IF(F303=\"\",\"\",INDEX(EF!$B$2:$B$112,MATCH(F303,EF!$C$2:$C$112,0)))","v":""}]
["",null,null,{"$f":"IF(F304=\"\",\"\",INDEX(EF!$A$2:$A$112,MATCH(F304,EF!$C$2:$C$112,0)))","v":""},{"$f":"IF(F304=\"\",\"\",INDEX(EF!$B$2:$B$112,MATCH(F304,EF!$C$2:$C$112,0)))","v":""}]
["",null,null,{"$f":"IF(F305=\"\",\"\",INDEX(EF!$A$2:$A$112,MATCH(F305,EF!$C$2:$C$112,0)))","v":""},{"$f":"IF(F305=\"\",\"\",INDEX(EF!$B$2:$B$112,MATCH(F305,EF!$C$2:$C$112,0)))","v":""}]
["",null,null,{"$f":"IF(F306=\"\",\"\",INDEX(EF!$A$2:$A$112,MATCH(F306,EF!$C$2:$C$112,0)))","v":""},{"$f":"IF(F306=\"\",\"\",INDEX(EF!$B$2:$B$112,MATCH(F306,EF!$C$2:$C$112,0)))","v":""}]
["",null,null,{"$f":"IF(F307=\"\",\"\",INDEX(EF!$A$2:$A$112,MATCH(F307,EF!$C$2:$C$112,0)))","v":""},{"$f":"IF(F307=\"\",\"\",INDEX(EF!$B$2:$B$112,MATCH(F307,EF!$C$2:$C$112,0)))","v":""}]
["",null,null,{"$f":"IF(F308=\"\",\"\",INDEX(EF!$A$2:$A$112,MATCH(F308,EF!$C$2:$C$112,0)))","v":""},{"$f":"IF(F308=\"\",\"\",INDEX(EF!$B$2:$B$112,MATCH(F308,EF!$C$2:$C$112,0)))","v":""}]
["",null,null,{"$f":"IF(F309=\"\",\"\",INDEX(EF!$A$2:$A$112,MATCH(F309,EF!$C$2:$C$112,0)))","v":""},{"$f":"IF(F309=\"\",\"\",INDEX(EF!$B$2:$B$112,MATCH(F309,EF!$C$2:$C$112,0)))","v":""}]
["",null,null,{"$f":"IF(F310=\"\",\"\",INDEX(EF!$A$2:$A$112,MATCH(F310,EF!$C$2:$C$112,0)))","v":""},{"$f":"IF(F310=\"\",\"\",INDEX(EF!$B$2:$B$112,MATCH(F310,EF!$C$2:$C$112,0)))","v":""}]
["",null,null,{"$f":"IF(F311=\"\",\"\",INDEX(EF!$A$2:$A$112,MATCH(F311,EF!$C$2:$C$112,0)))","v":""},{"$f":"IF(F311=\"\",\"\",INDEX(EF!$B$2:$B$112,MATCH(F311,EF!$C$2:$C$112,0)))","v":""}]
["",null,null,{"$f":"IF(F312=\"\",\"\",INDEX(EF!$A$2:$A$112,MATCH(F312,EF!$C$2:$C$112,0)))","v":""},{"$f":"IF(F312=\"\",\"\",INDEX(EF!$B$2:$B$112,MATCH(F312,EF!$C$2:$C$112,0)))","v":""}]
["",null,null,{"$f":"IF(F313=\"\",\"\",INDEX(EF!$A$2:$A$112,MATCH(F313,EF!$C$2:$C$112,0)))","v":""},{"$f":"IF(F313=\"\",\"\",INDEX(EF!$B$2:$B$112,MATCH(F313,EF!$C$2:$C$112,0)))","v":""}]
["",null,null,{"$f":"IF(F314=\"\",\"\",INDEX(EF!$A$2:$A$112,MATCH(F314,EF!$C$2:$C$112,0)))","v":""},{"$f":"IF(F314=\"\",\"\",INDEX(EF!$B$2:$B$112,MATCH(F314,EF!$C$2:$C$112,0)))","v":""}]
["",null,null,{"$f":"IF(F315=\"\",\"\",INDEX(EF!$A$2:$A$112,MATCH(F315,EF!$C$2:$C$112,0)))","v":""},{"$f":"IF(F315=\"\",\"\",INDEX(EF!$B$2:$B$112,MATCH(F315,EF!$C$2:$C$112,0)))","v":""}]
["",null,null,{"$f":"IF(F316=\"\",\"\",INDEX(EF!$A$2:$A$112,MATCH(F316,EF!$C$2:$C$112,0)))","v":""},{"$f":"IF(F316=\"\",\"\",INDEX(EF!$B$2:$B$112,MATCH(F316,EF!$C$2:$C$112,0)))","v":""}]
["",null,null,{"$f":"IF(F317=\"\",\"\",INDEX(EF!$A$2:$A$112,MATCH(F317,EF!$C$2:$C$112,0)))","v":""},{"$f":"IF(F317=\"\",\"\",INDEX(EF!$B$2:$B$112,MATCH(F317,EF!$C$2:$C$112,0)))","v":""}]
["",null,null,{"$f":"IF(F318=\"\",\"\",INDEX(EF!$A$2:$A$112,MATCH(F318,EF!$C$2:$C$112,0)))","v":""},{"$f":"IF(F318=\"\",\"\",INDEX(EF!$B$2:$B$112,MATCH(F318,EF!$C$2:$C$112,0)))","v":""}]
["",null,null,{"$f":"IF(F319=\"\",\"\",INDEX(EF!$A$2:$A$112,MATCH(F319,EF!$C$2:$C$112,0)))","v":""},{"$f":"IF(F319=\"\",\"\",INDEX(EF!$B$2:$B$112,MATCH(F319,EF!$C$2:$C$112,0)))","v":""}]
["",null,null,{"$f":"IF(F320=\"\",\"\",INDEX(EF!$A$2:$A$112,MATCH(F320,EF!$C$2:$C$112,0)))","v":""},{"$f":"IF(F320=\"\",\"\",INDEX(EF!$B$2:$B$112,MATCH(F320,EF!$C$2:$C$112,0)))","v":""}]
["",null,null,{"$f":"IF(F321=\"\",\"\",INDEX(EF!$A$2:$A$112,MATCH(F321,EF!$C$2:$C$112,0)))","v":""},{"$f":"IF(F321=\"\",\"\",INDEX(EF!$B$2:$B$112,MATCH(F321,EF!$C$2:$C$112,0)))","v":""}]
["",null,null,{"$f":"IF(F322=\"\",\"\",INDEX(EF!$A$2:$A$112,MATCH(F322,EF!$C$2:$C$112,0)))","v":""},{"$f":"IF(F322=\"\",\"\",INDEX(EF!$B$2:$B$112,MATCH(F322,EF!$C$2:$C$112,0)))","v":""}]
["",null,null,{"$f":"IF(F323=\"\",\"\",INDEX(EF!$A$2:$A$112,MATCH(F323,EF!$C$2:$C$112,0)))","v":""},{"$f":"IF(F323=\"\",\"\",INDEX(EF!$B$2:$B$112,MATCH(F323,EF!$C$2:$C$112,0)))","v":""}]
["",null,null,{"$f":"IF(F324=\"\",\"\",INDEX(EF!$A$2:$A$112,MATCH(F324,EF!$C$2:$C$112,0)))","v":""},{"$f":"IF(F324=\"\",\"\",INDEX(EF!$B$2:$B$112,MATCH(F324,EF!$C$2:$C$112,0)))","v":""}]
["",null,null,{"$f":"IF(F325=\"\",\"\",INDEX(EF!$A$2:$A$112,MATCH(F325,EF!$C$2:$C$112,0)))","v":""},{"$f":"IF(F325=\"\",\"\",INDEX(EF!$B$2:$B$112,MATCH(F325,EF!$C$2:$C$112,0)))","v":""}]
["",null,null,{"$f":"IF(F326=\"\",\"\",INDEX(EF!$A$2:$A$112,MATCH(F326,EF!$C$2:$C$112,0)))","v":""},{"$f":"IF(F326=\"\",\"\",INDEX(EF!$B$2:$B$112,MATCH(F326,EF!$C$2:$C$112,0)))","v":""}]
["",null,null,{"$f":"IF(F327=\"\",\"\",INDEX(EF!$A$2:$A$112,MATCH(F327,EF!$C$2:$C$112,0)))","v":""},{"$f":"IF(F327=\"\",\"\",INDEX(EF!$B$2:$B$112,MATCH(F327,EF!$C$2:$C$112,0)))","v":""}]
["",null,null,{"$f":"IF(F328=\"\",\"\",INDEX(EF!$A$2:$A$112,MATCH(F328,EF!$C$2:$C$112,0)))","v":""},{"$f":"IF(F328=\"\",\"\",INDEX(EF!$B$2:$B$112,MATCH(F328,EF!$C$2:$C$112,0)))","v":""}]
["",null,null,{"$f":"IF(F329=\"\",\"\",INDEX(EF!$A$2:$A$112,MATCH(F329,EF!$C$2:$C$112,0)))","v":""},{"$f":"IF(F329=\"\",\"\",INDEX(EF!$B$2:$B$112,MATCH(F329,EF!$C$2:$C$112,0)))","v":""}]
["",null,null,{"$f":"IF(F330=\"\",\"\",INDEX(EF!$A$2:$A$112,MATCH(F330,EF!$C$2:$C$112,0)))","v":""},{"$f":"IF(F330=\"\",\"\",INDEX(EF!$B$2:$B$112,MATCH(F330,EF!$C$2:$C$112,0)))","v":""}]
["",null,null,{"$f":"IF(F331=\"\",\"\",INDEX(EF!$A$2:$A$112,MATCH(F331,EF!$C$2:$C$112,0)))","v":""},{"$f":"IF(F331=\"\",\"\",INDEX(EF!$B$2:$B$112,MATCH(F331,EF!$C$2:$C$112,0)))","v":""}]
["",null,null,{"$f":"IF(F332=\"\",\"\",INDEX(EF!$A$2:$A$112,MATCH(F332,EF!$C$2:$C$112,0)))","v":""},{"$f":"IF(F332=\"\",\"\",INDEX(EF!$B$2:$B$112,MATCH(F332,EF!$C$2:$C$112,0)))","v":""}]
["",null,null,{"$f":"IF(F333=\"\",\"\",INDEX(EF!$A$2:$A$112,MATCH(F333,EF!$C$2:$C$112,0)))","v":""},{"$f":"IF(F333=\"\",\"\",INDEX(EF!$B$2:$B$112,MATCH(F333,EF!$C$2:$C$112,0)))","v":""}]
["",null,null,{"$f":"IF(F334=\"\",\"\",INDEX(EF!$A$2:$A$112,MATCH(F334,EF!$C$2:$C$112,0)))","v":""},{"$f":"IF(F334=\"\",\"\",INDEX(EF!$B$2:$B$112,MATCH(F334,EF!$C$2:$C$112,0)))","v":""}]
["",null,null,{"$f":"IF(F335=\"\",\"\",INDEX(EF!$A$2:$A$112,MATCH(F335,EF!$C$2:$C$112,0)))","v":""},{"$f":"IF(F335=\"\",\"\",INDEX(EF!$B$2:$B$112,MATCH(F335,EF!$C$2:$C$112,0)))","v":""}]
[{"$f":"IF(B336>0,A335+1,\"\")","v":""},null,null,{"$f":"IF(F336=\"\",\"\",INDEX(EF!$A$2:$A$112,MATCH(F336,EF!$C$2:$C$112,0)))","v":""},{"$f":"IF(F336=\"\",\"\",INDEX(EF!$B$2:$B$112,MATCH(F336,EF!$C$2:$C$112,0)))","v":""}]
["",null,null,{"$f":"IF(F337=\"\",\"\",INDEX(EF!$A$2:$A$112,MATCH(F337,EF!$C$2:$C$112,0)))","v":""},{"$f":"IF(F337=\"\",\"\",INDEX(EF!$B$2:$B$112,MATCH(F337,EF!$C$2:$C$112,0)))","v":""}]
["",null,null,{"$f":"IF(F338=\"\",\"\",INDEX(EF!$A$2:$A$112,MATCH(F338,EF!$C$2:$C$112,0)))","v":""},{"$f":"IF(F338=\"\",\"\",INDEX(EF!$B$2:$B$112,MATCH(F338,EF!$C$2:$C$112,0)))","v":""}]
["",null,null,{"$f":"IF(F339=\"\",\"\",INDEX(EF!$A$2:$A$112,MATCH(F339,EF!$C$2:$C$112,0)))","v":""},{"$f":"IF(F339=\"\",\"\",INDEX(EF!$B$2:$B$112,MATCH(F339,EF!$C$2:$C$112,0)))","v":""}]
["",null,null,{"$f":"IF(F340=\"\",\"\",INDEX(EF!$A$2:$A$112,MATCH(F340,EF!$C$2:$C$112,0)))","v":""},{"$f":"IF(F340=\"\",\"\",INDEX(EF!$B$2:$B$112,MATCH(F340,EF!$C$2:$C$112,0)))","v":""}]
["",null,null,{"$f":"IF(F341=\"\",\"\",INDEX(EF!$A$2:$A$112,MATCH(F341,EF!$C$2:$C$112,0)))","v":""},{"$f":"IF(F341=\"\",\"\",INDEX(EF!$B$2:$B$112,MATCH(F341,EF!$C$2:$C$112,0)))","v":""}]
["",null,null,{"$f":"IF(F342=\"\",\"\",INDEX(EF!$A$2:$A$112,MATCH(F342,EF!$C$2:$C$112,0)))","v":""},{"$f":"IF(F342=\"\",\"\",INDEX(EF!$B$2:$B$112,MATCH(F342,EF!$C$2:$C$112,0)))","v":""}]
["",null,null,{"$f":"IF(F343=\"\",\"\",INDEX(EF!$A$2:$A$112,MATCH(F343,EF!$C$2:$C$112,0)))","v":""},{"$f":"IF(F343=\"\",\"\",INDEX(EF!$B$2:$B$112,MATCH(F343,EF!$C$2:$C$112,0)))","v":""}]
["",null,null,{"$f":"IF(F344=\"\",\"\",INDEX(EF!$A$2:$A$112,MATCH(F344,EF!$C$2:$C$112,0)))","v":""},{"$f":"IF(F344=\"\",\"\",INDEX(EF!$B$2:$B$112,MATCH(F344,EF!$C$2:$C$112,0)))","v":""}]
["",null,null,{"$f":"IF(F345=\"\",\"\",INDEX(EF!$A$2:$A$112,MATCH(F345,EF!$C$2:$C$112,0)))","v":""},{"$f":"IF(F345=\"\",\"\",INDEX(EF!$B$2:$B$112,MATCH(F345,EF!$C$2:$C$112,0)))","v":""}]
["",null,null,{"$f":"IF(F346=\"\",\"\",INDEX(EF!$A$2:$A$112,MATCH(F346,EF!$C$2:$C$112,0)))","v":""},{"$f":"IF(F346=\"\",\"\",INDEX(EF!$B$2:$B$112,MATCH(F346,EF!$C$2:$C$112,0)))","v":""}]
["",null,null,{"$f":"IF(F347=\"\",\"\",INDEX(EF!$A$2:$A$112,MATCH(F347,EF!$C$2:$C$112,0)))","v":""},{"$f":"IF(F347=\"\",\"\",INDEX(EF!$B$2:$B$112,MATCH(F347,EF!$C$2:$C$112,0)))","v":""}]
["",null,null,{"$f":"IF(F348=\"\",\"\",INDEX(EF!$A$2:$A$112,MATCH(F348,EF!$C$2:$C$112,0)))","v":""},{"$f":"IF(F348=\"\",\"\",INDEX(EF!$B$2:$B$112,MATCH(F348,EF!$C$2:$C$112,0)))","v":""}]
["",null,null,{"$f":"IF(F349=\"\",\"\",INDEX(EF!$A$2:$A$112,MATCH(F349,EF!$C$2:$C$112,0)))","v":""},{"$f":"IF(F349=\"\",\"\",INDEX(EF!$B$2:$B$112,MATCH(F349,EF!$C$2:$C$112,0)))","v":""}]
["",null,null,{"$f":"IF(F350=\"\",\"\",INDEX(EF!$A$2:$A$112,MATCH(F350,EF!$C$2:$C$112,0)))","v":""},{"$f":"IF(F350=\"\",\"\",INDEX(EF!$B$2:$B$112,MATCH(F350,EF!$C$2:$C$112,0)))","v":""}]
["",null,null,{"$f":"IF(F351=\"\",\"\",INDEX(EF!$A$2:$A$112,MATCH(F351,EF!$C$2:$C$112,0)))","v":""},{"$f":"IF(F351=\"\",\"\",INDEX(EF!$B$2:$B$112,MATCH(F351,EF!$C$2:$C$112,0)))","v":""}]
["",null,null,{"$f":"IF(F352=\"\",\"\",INDEX(EF!$A$2:$A$112,MATCH(F352,EF!$C$2:$C$112,0)))","v":""},{"$f":"IF(F352=\"\",\"\",INDEX(EF!$B$2:$B$112,MATCH(F352,EF!$C$2:$C$112,0)))","v":""}]
["",null,null,{"$f":"IF(F353=\"\",\"\",INDEX(EF!$A$2:$A$112,MATCH(F353,EF!$C$2:$C$112,0)))","v":""},{"$f":"IF(F353=\"\",\"\",INDEX(EF!$B$2:$B$112,MATCH(F353,EF!$C$2:$C$112,0)))","v":""}]
["",null,null,{"$f":"IF(F354=\"\",\"\",INDEX(EF!$A$2:$A$112,MATCH(F354,EF!$C$2:$C$112,0)))","v":""},{"$f":"IF(F354=\"\",\"\",INDEX(EF!$B$2:$B$112,MATCH(F354,EF!$C$2:$C$112,0)))","v":""}]
["",null,null,{"$f":"IF(F355=\"\",\"\",INDEX(EF!$A$2:$A$112,MATCH(F355,EF!$C$2:$C$112,0)))","v":""},{"$f":"IF(F355=\"\",\"\",INDEX(EF!$B$2:$B$112,MATCH(F355,EF!$C$2:$C$112,0)))","v":""}]
["",null,null,{"$f":"IF(F356=\"\",\"\",INDEX(EF!$A$2:$A$112,MATCH(F356,EF!$C$2:$C$112,0)))","v":""},{"$f":"IF(F356=\"\",\"\",INDEX(EF!$B$2:$B$112,MATCH(F356,EF!$C$2:$C$112,0)))","v":""}]
["",null,null,{"$f":"IF(F357=\"\",\"\",INDEX(EF!$A$2:$A$112,MATCH(F357,EF!$C$2:$C$112,0)))","v":""},{"$f":"IF(F357=\"\",\"\",INDEX(EF!$B$2:$B$112,MATCH(F357,EF!$C$2:$C$112,0)))","v":""}]
["",null,null,{"$f":"IF(F358=\"\",\"\",INDEX(EF!$A$2:$A$112,MATCH(F358,EF!$C$2:$C$112,0)))","v":""},{"$f":"IF(F358=\"\",\"\",INDEX(EF!$B$2:$B$112,MATCH(F358,EF!$C$2:$C$112,0)))","v":""}]
["",null,null,{"$f":"IF(F359=\"\",\"\",INDEX(EF!$A$2:$A$112,MATCH(F359,EF!$C$2:$C$112,0)))","v":""},{"$f":"IF(F359=\"\",\"\",INDEX(EF!$B$2:$B$112,MATCH(F359,EF!$C$2:$C$112,0)))","v":""}]
["",null,null,{"$f":"IF(F360=\"\",\"\",INDEX(EF!$A$2:$A$112,MATCH(F360,EF!$C$2:$C$112,0)))","v":""},{"$f":"IF(F360=\"\",\"\",INDEX(EF!$B$2:$B$112,MATCH(F360,EF!$C$2:$C$112,0)))","v":""}]
["",null,null,{"$f":"IF(F361=\"\",\"\",INDEX(EF!$A$2:$A$112,MATCH(F361,EF!$C$2:$C$112,0)))","v":""},{"$f":"IF(F361=\"\",\"\",INDEX(EF!$B$2:$B$112,MATCH(F361,EF!$C$2:$C$112,0)))","v":""}]
["",null,null,{"$f":"IF(F362=\"\",\"\",INDEX(EF!$A$2:$A$112,MATCH(F362,EF!$C$2:$C$112,0)))","v":""},{"$f":"IF(F362=\"\",\"\",INDEX(EF!$B$2:$B$112,MATCH(F362,EF!$C$2:$C$112,0)))","v":""}]
["",null,null,{"$f":"IF(F363=\"\",\"\",INDEX(EF!$A$2:$A$112,MATCH(F363,EF!$C$2:$C$112,0)))","v":""},{"$f":"IF(F363=\"\",\"\",INDEX(EF!$B$2:$B$112,MATCH(F363,EF!$C$2:$C$112,0)))","v":""}]
["",null,null,{"$f":"IF(F364=\"\",\"\",INDEX(EF!$A$2:$A$112,MATCH(F364,EF!$C$2:$C$112,0)))","v":""},{"$f":"IF(F364=\"\",\"\",INDEX(EF!$B$2:$B$112,MATCH(F364,EF!$C$2:$C$112,0)))","v":""}]
["",null,null,{"$f":"IF(F365=\"\",\"\",INDEX(EF!$A$2:$A$112,MATCH(F365,EF!$C$2:$C$112,0)))","v":""},{"$f":"IF(F365=\"\",\"\",INDEX(EF!$B$2:$B$112,MATCH(F365,EF!$C$2:$C$112,0)))","v":""}]
["",null,null,{"$f":"IF(F366=\"\",\"\",INDEX(EF!$A$2:$A$112,MATCH(F366,EF!$C$2:$C$112,0)))","v":""},{"$f":"IF(F366=\"\",\"\",INDEX(EF!$B$2:$B$112,MATCH(F366,EF!$C$2:$C$112,0)))","v":""}]
["",null,null,{"$f":"IF(F367=\"\",\"\",INDEX(EF!$A$2:$A$112,MATCH(F367,EF!$C$2:$C$112,0)))","v":""},{"$f":"IF(F367=\"\",\"\",INDEX(EF!$B$2:$B$112,MATCH(F367,EF!$C$2:$C$112,0)))","v":""}]
["",null,null,{"$f":"IF(F368=\"\",\"\",INDEX(EF!$A$2:$A$112,MATCH(F368,EF!$C$2:$C$112,0)))","v":""},{"$f":"IF(F368=\"\",\"\",INDEX(EF!$B$2:$B$112,MATCH(F368,EF!$C$2:$C$112,0)))","v":""}]
["",null,null,{"$f":"IF(F369=\"\",\"\",INDEX(EF!$A$2:$A$112,MATCH(F369,EF!$C$2:$C$112,0)))","v":""},{"$f":"IF(F369=\"\",\"\",INDEX(EF!$B$2:$B$112,MATCH(F369,EF!$C$2:$C$112,0)))","v":""}]
["",null,null,{"$f":"IF(F370=\"\",\"\",INDEX(EF!$A$2:$A$112,MATCH(F370,EF!$C$2:$C$112,0)))","v":""},{"$f":"IF(F370=\"\",\"\",INDEX(EF!$B$2:$B$112,MATCH(F370,EF!$C$2:$C$112,0)))","v":""}]
["",null,null,{"$f":"IF(F371=\"\",\"\",INDEX(EF!$A$2:$A$112,MATCH(F371,EF!$C$2:$C$112,0)))","v":""},{"$f":"IF(F371=\"\",\"\",INDEX(EF!$B$2:$B$112,MATCH(F371,EF!$C$2:$C$112,0)))","v":""}]
["",null,null,{"$f":"IF(F372=\"\",\"\",INDEX(EF!$A$2:$A$112,MATCH(F372,EF!$C$2:$C$112,0)))","v":""},{"$f":"IF(F372=\"\",\"\",INDEX(EF!$B$2:$B$112,MATCH(F372,EF!$C$2:$C$112,0)))","v":""}]
["",null,null,{"$f":"IF(F373=\"\",\"\",INDEX(EF!$A$2:$A$112,MATCH(F373,EF!$C$2:$C$112,0)))","v":""},{"$f":"IF(F373=\"\",\"\",INDEX(EF!$B$2:$B$112,MATCH(F373,EF!$C$2:$C$112,0)))","v":""}]
["",null,null,{"$f":"IF(F374=\"\",\"\",INDEX(EF!$A$2:$A$112,MATCH(F374,EF!$C$2:$C$112,0)))","v":""},{"$f":"IF(F374=\"\",\"\",INDEX(EF!$B$2:$B$112,MATCH(F374,EF!$C$2:$C$112,0)))","v":""}]
["",null,null,{"$f":"IF(F375=\"\",\"\",INDEX(EF!$A$2:$A$112,MATCH(F375,EF!$C$2:$C$112,0)))","v":""},{"$f":"IF(F375=\"\",\"\",INDEX(EF!$B$2:$B$112,MATCH(F375,EF!$C$2:$C$112,0)))","v":""}]
["",null,null,{"$f":"IF(F376=\"\",\"\",INDEX(EF!$A$2:$A$112,MATCH(F376,EF!$C$2:$C$112,0)))","v":""},{"$f":"IF(F376=\"\",\"\",INDEX(EF!$B$2:$B$112,MATCH(F376,EF!$C$2:$C$112,0)))","v":""}]
["",null,null,{"$f":"IF(F377=\"\",\"\",INDEX(EF!$A$2:$A$112,MATCH(F377,EF!$C$2:$C$112,0)))","v":""},{"$f":"IF(F377=\"\",\"\",INDEX(EF!$B$2:$B$112,MATCH(F377,EF!$C$2:$C$112,0)))","v":""}]
["",null,null,{"$f":"IF(F378=\"\",\"\",INDEX(EF!$A$2:$A$112,MATCH(F378,EF!$C$2:$C$112,0)))","v":""},{"$f":"IF(F378=\"\",\"\",INDEX(EF!$B$2:$B$112,MATCH(F378,EF!$C$2:$C$112,0)))","v":""}]
["",null,null,{"$f":"IF(F379=\"\",\"\",INDEX(EF!$A$2:$A$112,MATCH(F379,EF!$C$2:$C$112,0)))","v":""},{"$f":"IF(F379=\"\",\"\",INDEX(EF!$B$2:$B$112,MATCH(F379,EF!$C$2:$C$112,0)))","v":""}]
["",null,null,{"$f":"IF(F380=\"\",\"\",INDEX(EF!$A$2:$A$112,MATCH(F380,EF!$C$2:$C$112,0)))","v":""},{"$f":"IF(F380=\"\",\"\",INDEX(EF!$B$2:$B$112,MATCH(F380,EF!$C$2:$C$112,0)))","v":""}]
["",null,null,{"$f":"IF(F381=\"\",\"\",INDEX(EF!$A$2:$A$112,MATCH(F381,EF!$C$2:$C$112,0)))","v":""},{"$f":"IF(F381=\"\",\"\",INDEX(EF!$B$2:$B$112,MATCH(F381,EF!$C$2:$C$112,0)))","v":""}]
["",null,null,{"$f":"IF(F382=\"\",\"\",INDEX(EF!$A$2:$A$112,MATCH(F382,EF!$C$2:$C$112,0)))","v":""},{"$f":"IF(F382=\"\",\"\",INDEX(EF!$B$2:$B$112,MATCH(F382,EF!$C$2:$C$112,0)))","v":""}]
["",null,null,{"$f":"IF(F383=\"\",\"\",INDEX(EF!$A$2:$A$112,MATCH(F383,EF!$C$2:$C$112,0)))","v":""},{"$f":"IF(F383=\"\",\"\",INDEX(EF!$B$2:$B$112,MATCH(F383,EF!$C$2:$C$112,0)))","v":""}]
["",null,null,{"$f":"IF(F384=\"\",\"\",INDEX(EF!$A$2:$A$112,MATCH(F384,EF!$C$2:$C$112,0)))","v":""},{"$f":"IF(F384=\"\",\"\",INDEX(EF!$B$2:$B$112,MATCH(F384,EF!$C$2:$C$112,0)))","v":""}]
["",null,null,{"$f":"IF(F385=\"\",\"\",INDEX(EF!$A$2:$A$112,MATCH(F385,EF!$C$2:$C$112,0)))","v":""},{"$f":"IF(F385=\"\",\"\",INDEX(EF!$B$2:$B$112,MATCH(F385,EF!$C$2:$C$112,0)))","v":""}]
["",null,null,{"$f":"IF(F386=\"\",\"\",INDEX(EF!$A$2:$A$112,MATCH(F386,EF!$C$2:$C$112,0)))","v":""},{"$f":"IF(F386=\"\",\"\",INDEX(EF!$B$2:$B$112,MATCH(F386,EF!$C$2:$C$112,0)))","v":""}]
["",null,null,{"$f":"IF(F387=\"\",\"\",INDEX(EF!$A$2:$A$112,MATCH(F387,EF!$C$2:$C$112,0)))","v":""},{"$f":"IF(F387=\"\",\"\",INDEX(EF!$B$2:$B$112,MATCH(F387,EF!$C$2:$C$112,0)))","v":""}]
["",null,null,{"$f":"IF(F388=\"\",\"\",INDEX(EF!$A$2:$A$112,MATCH(F388,EF!$C$2:$C$112,0)))","v":""},{"$f":"IF(F388=\"\",\"\",INDEX(EF!$B$2:$B$112,MATCH(F388,EF!$C$2:$C$112,0)))","v":""}]
["",null,null,{"$f":"IF(F389=\"\",\"\",INDEX(EF!$A$2:$A$112,MATCH(F389,EF!$C$2:$C$112,0)))","v":""},{"$f":"IF(F389=\"\",\"\",INDEX(EF!$B$2:$B$112,MATCH(F389,EF!$C$2:$C$112,0)))","v":""}]
["",null,null,{"$f":"IF(F390=\"\",\"\",INDEX(EF!$A$2:$A$112,MATCH(F390,EF!$C$2:$C$112,0)))","v":""},{"$f":"IF(F390=\"\",\"\",INDEX(EF!$B$2:$B$112,MATCH(F390,EF!$C$2:$C$112,0)))","v":""}]
["",null,null,{"$f":"IF(F391=\"\",\"\",INDEX(EF!$A$2:$A$112,MATCH(F391,EF!$C$2:$C$112,0)))","v":""},{"$f":"IF(F391=\"\",\"\",INDEX(EF!$B$2:$B$112,MATCH(F391,EF!$C$2:$C$112,0)))","v":""}]
["",null,null,{"$f":"IF(F392=\"\",\"\",INDEX(EF!$A$2:$A$112,MATCH(F392,EF!$C$2:$C$112,0)))","v":""},{"$f":"IF(F392=\"\",\"\",INDEX(EF!$B$2:$B$112,MATCH(F392,EF!$C$2:$C$112,0)))","v":""}]
["",null,null,{"$f":"IF(F393=\"\",\"\",INDEX(EF!$A$2:$A$112,MATCH(F393,EF!$C$2:$C$112,0)))","v":""},{"$f":"IF(F393=\"\",\"\",INDEX(EF!$B$2:$B$112,MATCH(F393,EF!$C$2:$C$112,0)))","v":""}]
["",null,null,{"$f":"IF(F394=\"\",\"\",INDEX(EF!$A$2:$A$112,MATCH(F394,EF!$C$2:$C$112,0)))","v":""},{"$f":"IF(F394=\"\",\"\",INDEX(EF!$B$2:$B$112,MATCH(F394,EF!$C$2:$C$112,0)))","v":""}]
["",null,null,{"$f":"IF(F395=\"\",\"\",INDEX(EF!$A$2:$A$112,MATCH(F395,EF!$C$2:$C$112,0)))","v":""},{"$f":"IF(F395=\"\",\"\",INDEX(EF!$B$2:$B$112,MATCH(F395,EF!$C$2:$C$112,0)))","v":""}]
["",null,null,{"$f":"IF(F396=\"\",\"\",INDEX(EF!$A$2:$A$112,MATCH(F396,EF!$C$2:$C$112,0)))","v":""},{"$f":"IF(F396=\"\",\"\",INDEX(EF!$B$2:$B$112,MATCH(F396,EF!$C$2:$C$112,0)))","v":""}]
["",null,null,{"$f":"IF(F397=\"\",\"\",INDEX(EF!$A$2:$A$112,MATCH(F397,EF!$C$2:$C$112,0)))","v":""},{"$f":"IF(F397=\"\",\"\",INDEX(EF!$B$2:$B$112,MATCH(F397,EF!$C$2:$C$112,0)))","v":""}]
["",null,null,{"$f":"IF(F398=\"\",\"\",INDEX(EF!$A$2:$A$112,MATCH(F398,EF!$C$2:$C$112,0)))","v":""},{"$f":"IF(F398=\"\",\"\",INDEX(EF!$B$2:$B$112,MATCH(F398,EF!$C$2:$C$112,0)))","v":""}]
["",null,null,{"$f":"IF(F399=\"\",\"\",INDEX(EF!$A$2:$A$112,MATCH(F399,EF!$C$2:$C$112,0)))","v":""},{"$f":"IF(F399=\"\",\"\",INDEX(EF!$B$2:$B$112,MATCH(F399,EF!$C$2:$C$112,0)))","v":""}]
[{"$f":"IF(B400>0,A399+1,\"\")","v":""},null,null,{"$f":"IF(F400=\"\",\"\",INDEX(EF!$A$2:$A$112,MATCH(F400,EF!$C$2:$C$112,0)))","v":""},{"$f":"IF(F400=\"\",\"\",INDEX(EF!$B$2:$B$112,MATCH(F400,EF!$C$2:$C$112,0)))","v":""}]
["",null,null,{"$f":"IF(F401=\"\",\"\",INDEX(EF!$A$2:$A$112,MATCH(F401,EF!$C$2:$C$112,0)))","v":""},{"$f":"IF(F401=\"\",\"\",INDEX(EF!$B$2:$B$112,MATCH(F401,EF!$C$2:$C$112,0)))","v":""}]
["",null,null,{"$f":"IF(F402=\"\",\"\",INDEX(EF!$A$2:$A$112,MATCH(F402,EF!$C$2:$C$112,0)))","v":""},{"$f":"IF(F402=\"\",\"\",INDEX(EF!$B$2:$B$112,MATCH(F402,EF!$C$2:$C$112,0)))","v":""}]
["",null,null,{"$f":"IF(F403=\"\",\"\",INDEX(EF!$A$2:$A$112,MATCH(F403,EF!$C$2:$C$112,0)))","v":""},{"$f":"IF(F403=\"\",\"\",INDEX(EF!$B$2:$B$112,MATCH(F403,EF!$C$2:$C$112,0)))","v":""}]
["",null,null,{"$f":"IF(F404=\"\",\"\",INDEX(EF!$A$2:$A$112,MATCH(F404,EF!$C$2:$C$112,0)))","v":""},{"$f":"IF(F404=\"\",\"\",INDEX(EF!$B$2:$B$112,MATCH(F404,EF!$C$2:$C$112,0)))","v":""}]
[{"$f":"IF(B405>0,A404+1,\"\")","v":""},null,null,{"$f":"IF(F405=\"\",\"\",INDEX(EF!$A$2:$A$112,MATCH(F405,EF!$C$2:$C$112,0)))","v":""},{"$f":"IF(F405=\"\",\"\",INDEX(EF!$B$2:$B$112,MATCH(F405,EF!$C$2:$C$112,0)))","v":""}]
[{"$f":"IF(B406>0,A405+1,\"\")","v":""},null,null,{"$f":"IF(F406=\"\",\"\",INDEX(EF!$A$2:$A$112,MATCH(F406,EF!$C$2:$C$112,0)))","v":""},{"$f":"IF(F406=\"\",\"\",INDEX(EF!$B$2:$B$112,MATCH(F406,EF!$C$2:$C$112,0)))","v":""}]
["",null,null,{"$f":"IF(F407=\"\",\"\",INDEX(EF!$A$2:$A$112,MATCH(F407,EF!$C$2:$C$112,0)))","v":""},{"$f":"IF(F407=\"\",\"\",INDEX(EF!$B$2:$B$112,MATCH(F407,EF!$C$2:$C$112,0)))","v":""}]
["",null,null,{"$f":"IF(F408=\"\",\"\",INDEX(EF!$A$2:$A$112,MATCH(F408,EF!$C$2:$C$112,0)))","v":""},{"$f":"IF(F408=\"\",\"\",INDEX(EF!$B$2:$B$112,MATCH(F408,EF!$C$2:$C$112,0)))","v":""}]
["",null,null,{"$f":"IF(F409=\"\",\"\",INDEX(EF!$A$2:$A$112,MATCH(F409,EF!$C$2:$C$112,0)))","v":""},{"$f":"IF(F409=\"\",\"\",INDEX(EF!$B$2:$B$112,MATCH(F409,EF!$C$2:$C$112,0)))","v":""}]
["",null,null,{"$f":"IF(F410=\"\",\"\",INDEX(EF!$A$2:$A$112,MATCH(F410,EF!$C$2:$C$112,0)))","v":""},{"$f":"IF(F410=\"\",\"\",INDEX(EF!$B$2:$B$112,MATCH(F410,EF!$C$2:$C$112,0)))","v":""}]
["",null,null,{"$f":"IF(F411=\"\",\"\",INDEX(EF!$A$2:$A$112,MATCH(F411,EF!$C$2:$C$112,0)))","v":""},{"$f":"IF(F411=\"\",\"\",INDEX(EF!$B$2:$B$112,MATCH(F411,EF!$C$2:$C$112,0)))","v":""}]
["",null,null,{"$f":"IF(F412=\"\",\"\",INDEX(EF!$A$2:$A$112,MATCH(F412,EF!$C$2:$C$112,0)))","v":""},{"$f":"IF(F412=\"\",\"\",INDEX(EF!$B$2:$B$112,MATCH(F412,EF!$C$2:$C$112,0)))","v":""}]
["",null,null,{"$f":"IF(F413=\"\",\"\",INDEX(EF!$A$2:$A$112,MATCH(F413,EF!$C$2:$C$112,0)))","v":""},{"$f":"IF(F413=\"\",\"\",INDEX(EF!$B$2:$B$112,MATCH(F413,EF!$C$2:$C$112,0)))","v":""}]
["",null,null,{"$f":"IF(F414=\"\",\"\",INDEX(EF!$A$2:$A$112,MATCH(F414,EF!$C$2:$C$112,0)))","v":""},{"$f":"IF(F414=\"\",\"\",INDEX(EF!$B$2:$B$112,MATCH(F414,EF!$C$2:$C$112,0)))","v":""}]
["",null,null,{"$f":"IF(F415=\"\",\"\",INDEX(EF!$A$2:$A$112,MATCH(F415,EF!$C$2:$C$112,0)))","v":""},{"$f":"IF(F415=\"\",\"\",INDEX(EF!$B$2:$B$112,MATCH(F415,EF!$C$2:$C$112,0)))","v":""}]
["",null,null,{"$f":"IF(F416=\"\",\"\",INDEX(EF!$A$2:$A$112,MATCH(F416,EF!$C$2:$C$112,0)))","v":""},{"$f":"IF(F416=\"\",\"\",INDEX(EF!$B$2:$B$112,MATCH(F416,EF!$C$2:$C$112,0)))","v":""}]
["",null,null,{"$f":"IF(F417=\"\",\"\",INDEX(EF!$A$2:$A$112,MATCH(F417,EF!$C$2:$C$112,0)))","v":""},{"$f":"IF(F417=\"\",\"\",INDEX(EF!$B$2:$B$112,MATCH(F417,EF!$C$2:$C$112,0)))","v":""}]
["",null,null,{"$f":"IF(F418=\"\",\"\",INDEX(EF!$A$2:$A$112,MATCH(F418,EF!$C$2:$C$112,0)))","v":""},{"$f":"IF(F418=\"\",\"\",INDEX(EF!$B$2:$B$112,MATCH(F418,EF!$C$2:$C$112,0)))","v":""}]
["",null,null,{"$f":"IF(F419=\"\",\"\",INDEX(EF!$A$2:$A$112,MATCH(F419,EF!$C$2:$C$112,0)))","v":""},{"$f":"IF(F419=\"\",\"\",INDEX(EF!$B$2:$B$112,MATCH(F419,EF!$C$2:$C$112,0)))","v":""}]
["",null,null,{"$f":"IF(F420=\"\",\"\",INDEX(EF!$A$2:$A$112,MATCH(F420,EF!$C$2:$C$112,0)))","v":""},{"$f":"IF(F420=\"\",\"\",INDEX(EF!$B$2:$B$112,MATCH(F420,EF!$C$2:$C$112,0)))","v":""}]
["",null,null,{"$f":"IF(F421=\"\",\"\",INDEX(EF!$A$2:$A$112,MATCH(F421,EF!$C$2:$C$112,0)))","v":""},{"$f":"IF(F421=\"\",\"\",INDEX(EF!$B$2:$B$112,MATCH(F421,EF!$C$2:$C$112,0)))","v":""}]
["",null,null,{"$f":"IF(F422=\"\",\"\",INDEX(EF!$A$2:$A$112,MATCH(F422,EF!$C$2:$C$112,0)))","v":""},{"$f":"IF(F422=\"\",\"\",INDEX(EF!$B$2:$B$112,MATCH(F422,EF!$C$2:$C$112,0)))","v":""}]
["",null,null,{"$f":"IF(F423=\"\",\"\",INDEX(EF!$A$2:$A$112,MATCH(F423,EF!$C$2:$C$112,0)))","v":""},{"$f":"IF(F423=\"\",\"\",INDEX(EF!$B$2:$B$112,MATCH(F423,EF!$C$2:$C$112,0)))","v":""}]
["",null,null,{"$f":"IF(F424=\"\",\"\",INDEX(EF!$A$2:$A$112,MATCH(F424,EF!$C$2:$C$112,0)))","v":""},{"$f":"IF(F424=\"\",\"\",INDEX(EF!$B$2:$B$112,MATCH(F424,EF!$C$2:$C$112,0)))","v":""}]
["",null,null,{"$f":"IF(F425=\"\",\"\",INDEX(EF!$A$2:$A$112,MATCH(F425,EF!$C$2:$C$112,0)))","v":""},{"$f":"IF(F425=\"\",\"\",INDEX(EF!$B$2:$B$112,MATCH(F425,EF!$C$2:$C$112,0)))","v":""}]
["",null,null,{"$f":"IF(F426=\"\",\"\",INDEX(EF!$A$2:$A$112,MATCH(F426,EF!$C$2:$C$112,0)))","v":""},{"$f":"IF(F426=\"\",\"\",INDEX(EF!$B$2:$B$112,MATCH(F426,EF!$C$2:$C$112,0)))","v":""}]
["",null,null,{"$f":"IF(F427=\"\",\"\",INDEX(EF!$A$2:$A$112,MATCH(F427,EF!$C$2:$C$112,0)))","v":""},{"$f":"IF(F427=\"\",\"\",INDEX(EF!$B$2:$B$112,MATCH(F427,EF!$C$2:$C$112,0)))","v":""}]
["",null,null,{"$f":"IF(F428=\"\",\"\",INDEX(EF!$A$2:$A$112,MATCH(F428,EF!$C$2:$C$112,0)))","v":""},{"$f":"IF(F428=\"\",\"\",INDEX(EF!$B$2:$B$112,MATCH(F428,EF!$C$2:$C$112,0)))","v":""}]
["",null,null,{"$f":"IF(F429=\"\",\"\",INDEX(EF!$A$2:$A$112,MATCH(F429,EF!$C$2:$C$112,0)))","v":""},{"$f":"IF(F429=\"\",\"\",INDEX(EF!$B$2:$B$112,MATCH(F429,EF!$C$2:$C$112,0)))","v":""}]
["",null,null,{"$f":"IF(F430=\"\",\"\",INDEX(EF!$A$2:$A$112,MATCH(F430,EF!$C$2:$C$112,0)))","v":""},{"$f":"IF(F430=\"\",\"\",INDEX(EF!$B$2:$B$112,MATCH(F430,EF!$C$2:$C$112,0)))","v":""}]
["",null,null,{"$f":"IF(F431=\"\",\"\",INDEX(EF!$A$2:$A$112,MATCH(F431,EF!$C$2:$C$112,0)))","v":""},{"$f":"IF(F431=\"\",\"\",INDEX(EF!$B$2:$B$112,MATCH(F431,EF!$C$2:$C$112,0)))","v":""}]
["",null,null,{"$f":"IF(F432=\"\",\"\",INDEX(EF!$A$2:$A$112,MATCH(F432,EF!$C$2:$C$112,0)))","v":""},{"$f":"IF(F432=\"\",\"\",INDEX(EF!$B$2:$B$112,MATCH(F432,EF!$C$2:$C$112,0)))","v":""}]
["",null,null,{"$f":"IF(F433=\"\",\"\",INDEX(EF!$A$2:$A$112,MATCH(F433,EF!$C$2:$C$112,0)))","v":""},{"$f":"IF(F433=\"\",\"\",INDEX(EF!$B$2:$B$112,MATCH(F433,EF!$C$2:$C$112,0)))","v":""}]
["",null,null,{"$f":"IF(F434=\"\",\"\",INDEX(EF!$A$2:$A$112,MATCH(F434,EF!$C$2:$C$112,0)))","v":""},{"$f":"IF(F434=\"\",\"\",INDEX(EF!$B$2:$B$112,MATCH(F434,EF!$C$2:$C$112,0)))","v":""}]
["",null,null,{"$f":"IF(F435=\"\",\"\",INDEX(EF!$A$2:$A$112,MATCH(F435,EF!$C$2:$C$112,0)))","v":""},{"$f":"IF(F435=\"\",\"\",INDEX(EF!$B$2:$B$112,MATCH(F435,EF!$C$2:$C$112,0)))","v":""}]
["",null,null,{"$f":"IF(F436=\"\",\"\",INDEX(EF!$A$2:$A$112,MATCH(F436,EF!$C$2:$C$112,0)))","v":""},{"$f":"IF(F436=\"\",\"\",INDEX(EF!$B$2:$B$112,MATCH(F436,EF!$C$2:$C$112,0)))","v":""}]
["",null,null,{"$f":"IF(F437=\"\",\"\",INDEX(EF!$A$2:$A$112,MATCH(F437,EF!$C$2:$C$112,0)))","v":""},{"$f":"IF(F437=\"\",\"\",INDEX(EF!$B$2:$B$112,MATCH(F437,EF!$C$2:$C$112,0)))","v":""}]
["",null,null,{"$f":"IF(F438=\"\",\"\",INDEX(EF!$A$2:$A$112,MATCH(F438,EF!$C$2:$C$112,0)))","v":""},{"$f":"IF(F438=\"\",\"\",INDEX(EF!$B$2:$B$112,MATCH(F438,EF!$C$2:$C$112,0)))","v":""}]
["",null,null,{"$f":"IF(F439=\"\",\"\",INDEX(EF!$A$2:$A$112,MATCH(F439,EF!$C$2:$C$112,0)))","v":""},{"$f":"IF(F439=\"\",\"\",INDEX(EF!$B$2:$B$112,MATCH(F439,EF!$C$2:$C$112,0)))","v":""}]
["",null,null,{"$f":"IF(F440=\"\",\"\",INDEX(EF!$A$2:$A$112,MATCH(F440,EF!$C$2:$C$112,0)))","v":""},{"$f":"IF(F440=\"\",\"\",INDEX(EF!$B$2:$B$112,MATCH(F440,EF!$C$2:$C$112,0)))","v":""}]
["",null,null,{"$f":"IF(F441=\"\",\"\",INDEX(EF!$A$2:$A$112,MATCH(F441,EF!$C$2:$C$112,0)))","v":""},{"$f":"IF(F441=\"\",\"\",INDEX(EF!$B$2:$B$112,MATCH(F441,EF!$C$2:$C$112,0)))","v":""}]
["",null,null,{"$f":"IF(F442=\"\",\"\",INDEX(EF!$A$2:$A$112,MATCH(F442,EF!$C$2:$C$112,0)))","v":""},{"$f":"IF(F442=\"\",\"\",INDEX(EF!$B$2:$B$112,MATCH(F442,EF!$C$2:$C$112,0)))","v":""}]
["",null,null,{"$f":"IF(F443=\"\",\"\",INDEX(EF!$A$2:$A$112,MATCH(F443,EF!$C$2:$C$112,0)))","v":""},{"$f":"IF(F443=\"\",\"\",INDEX(EF!$B$2:$B$112,MATCH(F443,EF!$C$2:$C$112,0)))","v":""}]
["",null,null,{"$f":"IF(F444=\"\",\"\",INDEX(EF!$A$2:$A$112,MATCH(F444,EF!$C$2:$C$112,0)))","v":""},{"$f":"IF(F444=\"\",\"\",INDEX(EF!$B$2:$B$112,MATCH(F444,EF!$C$2:$C$112,0)))","v":""}]
["",null,null,{"$f":"IF(F445=\"\",\"\",INDEX(EF!$A$2:$A$112,MATCH(F445,EF!$C$2:$C$112,0)))","v":""},{"$f":"IF(F445=\"\",\"\",INDEX(EF!$B$2:$B$112,MATCH(F445,EF!$C$2:$C$112,0)))","v":""}]
["",null,null,{"$f":"IF(F446=\"\",\"\",INDEX(EF!$A$2:$A$112,MATCH(F446,EF!$C$2:$C$112,0)))","v":""},{"$f":"IF(F446=\"\",\"\",INDEX(EF!$B$2:$B$112,MATCH(F446,EF!$C$2:$C$112,0)))","v":""}]
["",null,null,{"$f":"IF(F447=\"\",\"\",INDEX(EF!$A$2:$A$112,MATCH(F447,EF!$C$2:$C$112,0)))","v":""},{"$f":"IF(F447=\"\",\"\",INDEX(EF!$B$2:$B$112,MATCH(F447,EF!$C$2:$C$112,0)))","v":""}]
["",null,null,{"$f":"IF(F448=\"\",\"\",INDEX(EF!$A$2:$A$112,MATCH(F448,EF!$C$2:$C$112,0)))","v":""},{"$f":"IF(F448=\"\",\"\",INDEX(EF!$B$2:$B$112,MATCH(F448,EF!$C$2:$C$112,0)))","v":""}]
["",null,null,{"$f":"IF(F449=\"\",\"\",INDEX(EF!$A$2:$A$112,MATCH(F449,EF!$C$2:$C$112,0)))","v":""},{"$f":"IF(F449=\"\",\"\",INDEX(EF!$B$2:$B$112,MATCH(F449,EF!$C$2:$C$112,0)))","v":""}]
["",null,null,{"$f":"IF(F450=\"\",\"\",INDEX(EF!$A$2:$A$112,MATCH(F450,EF!$C$2:$C$112,0)))","v":""},{"$f":"IF(F450=\"\",\"\",INDEX(EF!$B$2:$B$112,MATCH(F450,EF!$C$2:$C$112,0)))","v":""}]
["",null,null,{"$f":"IF(F451=\"\",\"\",INDEX(EF!$A$2:$A$112,MATCH(F451,EF!$C$2:$C$112,0)))","v":""},{"$f":"IF(F451=\"\",\"\",INDEX(EF!$B$2:$B$112,MATCH(F451,EF!$C$2:$C$112,0)))","v":""}]
["",null,null,{"$f":"IF(F452=\"\",\"\",INDEX(EF!$A$2:$A$112,MATCH(F452,EF!$C$2:$C$112,0)))","v":""},{"$f":"IF(F452=\"\",\"\",INDEX(EF!$B$2:$B$112,MATCH(F452,EF!$C$2:$C$112,0)))","v":""}]
["",null,null,{"$f":"IF(F453=\"\",\"\",INDEX(EF!$A$2:$A$112,MATCH(F453,EF!$C$2:$C$112,0)))","v":""},{"$f":"IF(F453=\"\",\"\",INDEX(EF!$B$2:$B$112,MATCH(F453,EF!$C$2:$C$112,0)))","v":""}]
["",null,null,{"$f":"IF(F454=\"\",\"\",INDEX(EF!$A$2:$A$112,MATCH(F454,EF!$C$2:$C$112,0)))","v":""},{"$f":"IF(F454=\"\",\"\",INDEX(EF!$B$2:$B$112,MATCH(F454,EF!$C$2:$C$112,0)))","v":""}]
["",null,null,{"$f":"IF(F455=\"\",\"\",INDEX(EF!$A$2:$A$112,MATCH(F455,EF!$C$2:$C$112,0)))","v":""},{"$f":"IF(F455=\"\",\"\",INDEX(EF!$B$2:$B$112,MATCH(F455,EF!$C$2:$C$112,0)))","v":""}]
["",null,null,{"$f":"IF(F456=\"\",\"\",INDEX(EF!$A$2:$A$112,MATCH(F456,EF!$C$2:$C$112,0)))","v":""},{"$f":"IF(F456=\"\",\"\",INDEX(EF!$B$2:$B$112,MATCH(F456,EF!$C$2:$C$112,0)))","v":""}]
["",null,null,{"$f":"IF(F457=\"\",\"\",INDEX(EF!$A$2:$A$112,MATCH(F457,EF!$C$2:$C$112,0)))","v":""},{"$f":"IF(F457=\"\",\"\",INDEX(EF!$B$2:$B$112,MATCH(F457,EF!$C$2:$C$112,0)))","v":""}]
["",null,null,{"$f":"IF(F458=\"\",\"\",INDEX(EF!$A$2:$A$112,MATCH(F458,EF!$C$2:$C$112,0)))","v":""},{"$f":"IF(F458=\"\",\"\",INDEX(EF!$B$2:$B$112,MATCH(F458,EF!$C$2:$C$112,0)))","v":""}]
["",null,null,{"$f":"IF(F459=\"\",\"\",INDEX(EF!$A$2:$A$112,MATCH(F459,EF!$C$2:$C$112,0)))","v":""},{"$f":"IF(F459=\"\",\"\",INDEX(EF!$B$2:$B$112,MATCH(F459,EF!$C$2:$C$112,0)))","v":""}]
["",null,null,{"$f":"IF(F460=\"\",\"\",INDEX(EF!$A$2:$A$112,MATCH(F460,EF!$C$2:$C$112,0)))","v":""},{"$f":"IF(F460=\"\",\"\",INDEX(EF!$B$2:$B$112,MATCH(F460,EF!$C$2:$C$112,0)))","v":""}]
["",null,null,{"$f":"IF(F461=\"\",\"\",INDEX(EF!$A$2:$A$112,MATCH(F461,EF!$C$2:$C$112,0)))","v":""},{"$f":"IF(F461=\"\",\"\",INDEX(EF!$B$2:$B$112,MATCH(F461,EF!$C$2:$C$112,0)))","v":""}]
["",null,null,{"$f":"IF(F462=\"\",\"\",INDEX(EF!$A$2:$A$112,MATCH(F462,EF!$C$2:$C$112,0)))","v":""},{"$f":"IF(F462=\"\",\"\",INDEX(EF!$B$2:$B$112,MATCH(F462,EF!$C$2:$C$112,0)))","v":""}]
["",null,null,{"$f":"IF(F463=\"\",\"\",INDEX(EF!$A$2:$A$112,MATCH(F463,EF!$C$2:$C$112,0)))","v":""},{"$f":"IF(F463=\"\",\"\",INDEX(EF!$B$2:$B$112,MATCH(F463,EF!$C$2:$C$112,0)))","v":""}]
["",null,null,{"$f":"IF(F464=\"\",\"\",INDEX(EF!$A$2:$A$112,MATCH(F464,EF!$C$2:$C$112,0)))","v":""},{"$f":"IF(F464=\"\",\"\",INDEX(EF!$B$2:$B$112,MATCH(F464,EF!$C$2:$C$112,0)))","v":""}]
["",null,null,{"$f":"IF(F465=\"\",\"\",INDEX(EF!$A$2:$A$112,MATCH(F465,EF!$C$2:$C$112,0)))","v":""},{"$f":"IF(F465=\"\",\"\",INDEX(EF!$B$2:$B$112,MATCH(F465,EF!$C$2:$C$112,0)))","v":""}]
["",null,null,{"$f":"IF(F466=\"\",\"\",INDEX(EF!$A$2:$A$112,MATCH(F466,EF!$C$2:$C$112,0)))","v":""},{"$f":"IF(F466=\"\",\"\",INDEX(EF!$B$2:$B$112,MATCH(F466,EF!$C$2:$C$112,0)))","v":""}]
["",null,null,{"$f":"IF(F467=\"\",\"\",INDEX(EF!$A$2:$A$112,MATCH(F467,EF!$C$2:$C$112,0)))","v":""},{"$f":"IF(F467=\"\",\"\",INDEX(EF!$B$2:$B$112,MATCH(F467,EF!$C$2:$C$112,0)))","v":""}]
["",null,null,{"$f":"IF(F468=\"\",\"\",INDEX(EF!$A$2:$A$112,MATCH(F468,EF!$C$2:$C$112,0)))","v":""},{"$f":"IF(F468=\"\",\"\",INDEX(EF!$B$2:$B$112,MATCH(F468,EF!$C$2:$C$112,0)))","v":""}]
["",null,null,{"$f":"IF(F469=\"\",\"\",INDEX(EF!$A$2:$A$112,MATCH(F469,EF!$C$2:$C$112,0)))","v":""},{"$f":"IF(F469=\"\",\"\",INDEX(EF!$B$2:$B$112,MATCH(F469,EF!$C$2:$C$112,0)))","v":""}]
[{"$f":"IF(B470>0,A469+1,\"\")","v":""},null,null,{"$f":"IF(F470=\"\",\"\",INDEX(EF!$A$2:$A$112,MATCH(F470,EF!$C$2:$C$112,0)))","v":""},{"$f":"IF(F470=\"\",\"\",INDEX(EF!$B$2:$B$112,MATCH(F470,EF!$C$2:$C$112,0)))","v":""}]
["",null,null,{"$f":"IF(F471=\"\",\"\",INDEX(EF!$A$2:$A$112,MATCH(F471,EF!$C$2:$C$112,0)))","v":""},{"$f":"IF(F471=\"\",\"\",INDEX(EF!$B$2:$B$112,MATCH(F471,EF!$C$2:$C$112,0)))","v":""}]
["",null,null,{"$f":"IF(F472=\"\",\"\",INDEX(EF!$A$2:$A$112,MATCH(F472,EF!$C$2:$C$112,0)))","v":""},{"$f":"IF(F472=\"\",\"\",INDEX(EF!$B$2:$B$112,MATCH(F472,EF!$C$2:$C$112,0)))","v":""}]
["",null,null,{"$f":"IF(F473=\"\",\"\",INDEX(EF!$A$2:$A$112,MATCH(F473,EF!$C$2:$C$112,0)))","v":""},{"$f":"IF(F473=\"\",\"\",INDEX(EF!$B$2:$B$112,MATCH(F473,EF!$C$2:$C$112,0)))","v":""}]
["",null,null,{"$f":"IF(F474=\"\",\"\",INDEX(EF!$A$2:$A$112,MATCH(F474,EF!$C$2:$C$112,0)))","v":""},{"$f":"IF(F474=\"\",\"\",INDEX(EF!$B$2:$B$112,MATCH(F474,EF!$C$2:$C$112,0)))","v":""}]
["",null,null,{"$f":"IF(F475=\"\",\"\",INDEX(EF!$A$2:$A$112,MATCH(F475,EF!$C$2:$C$112,0)))","v":""},{"$f":"IF(F475=\"\",\"\",INDEX(EF!$B$2:$B$112,MATCH(F475,EF!$C$2:$C$112,0)))","v":""}]
["",null,null,{"$f":"IF(F476=\"\",\"\",INDEX(EF!$A$2:$A$112,MATCH(F476,EF!$C$2:$C$112,0)))","v":""},{"$f":"IF(F476=\"\",\"\",INDEX(EF!$B$2:$B$112,MATCH(F476,EF!$C$2:$C$112,0)))","v":""}]
["",null,null,{"$f":"IF(F477=\"\",\"\",INDEX(EF!$A$2:$A$112,MATCH(F477,EF!$C$2:$C$112,0)))","v":""},{"$f":"IF(F477=\"\",\"\",INDEX(EF!$B$2:$B$112,MATCH(F477,EF!$C$2:$C$112,0)))","v":""}]
["",null,null,{"$f":"IF(F478=\"\",\"\",INDEX(EF!$A$2:$A$112,MATCH(F478,EF!$C$2:$C$112,0)))","v":""},{"$f":"IF(F478=\"\",\"\",INDEX(EF!$B$2:$B$112,MATCH(F478,EF!$C$2:$C$112,0)))","v":""}]
["",null,null,{"$f":"IF(F479=\"\",\"\",INDEX(EF!$A$2:$A$112,MATCH(F479,EF!$C$2:$C$112,0)))","v":""},{"$f":"IF(F479=\"\",\"\",INDEX(EF!$B$2:$B$112,MATCH(F479,EF!$C$2:$C$112,0)))","v":""}]
["",null,null,{"$f":"IF(F480=\"\",\"\",INDEX(EF!$A$2:$A$112,MATCH(F480,EF!$C$2:$C$112,0)))","v":""},{"$f":"IF(F480=\"\",\"\",INDEX(EF!$B$2:$B$112,MATCH(F480,EF!$C$2:$C$112,0)))","v":""}]
["",null,null,{"$f":"IF(F481=\"\",\"\",INDEX(EF!$A$2:$A$112,MATCH(F481,EF!$C$2:$C$112,0)))","v":""},{"$f":"IF(F481=\"\",\"\",INDEX(EF!$B$2:$B$112,MATCH(F481,EF!$C$2:$C$112,0)))","v":""}]
["",null,null,{"$f":"IF(F482=\"\",\"\",INDEX(EF!$A$2:$A$112,MATCH(F482,EF!$C$2:$C$112,0)))","v":""},{"$f":"IF(F482=\"\",\"\",INDEX(EF!$B$2:$B$112,MATCH(F482,EF!$C$2:$C$112,0)))","v":""}]
["",null,null,{"$f":"IF(F483=\"\",\"\",INDEX(EF!$A$2:$A$112,MATCH(F483,EF!$C$2:$C$112,0)))","v":""},{"$f":"IF(F483=\"\",\"\",INDEX(EF!$B$2:$B$112,MATCH(F483,EF!$C$2:$C$112,0)))","v":""}]
["",null,null,{"$f":"IF(F484=\"\",\"\",INDEX(EF!$A$2:$A$112,MATCH(F484,EF!$C$2:$C$112,0)))","v":""},{"$f":"IF(F484=\"\",\"\",INDEX(EF!$B$2:$B$112,MATCH(F484,EF!$C$2:$C$112,0)))","v":""}]
["",null,null,{"$f":"IF(F485=\"\",\"\",INDEX(EF!$A$2:$A$112,MATCH(F485,EF!$C$2:$C$112,0)))","v":""},{"$f":"IF(F485=\"\",\"\",INDEX(EF!$B$2:$B$112,MATCH(F485,EF!$C$2:$C$112,0)))","v":""}]
["",null,null,{"$f":"IF(F486=\"\",\"\",INDEX(EF!$A$2:$A$112,MATCH(F486,EF!$C$2:$C$112,0)))","v":""},{"$f":"IF(F486=\"\",\"\",INDEX(EF!$B$2:$B$112,MATCH(F486,EF!$C$2:$C$112,0)))","v":""}]
["",null,null,{"$f":"IF(F487=\"\",\"\",INDEX(EF!$A$2:$A$112,MATCH(F487,EF!$C$2:$C$112,0)))","v":""},{"$f":"IF(F487=\"\",\"\",INDEX(EF!$B$2:$B$112,MATCH(F487,EF!$C$2:$C$112,0)))","v":""}]
["",null,null,{"$f":"IF(F488=\"\",\"\",INDEX(EF!$A$2:$A$112,MATCH(F488,EF!$C$2:$C$112,0)))","v":""},{"$f":"IF(F488=\"\",\"\",INDEX(EF!$B$2:$B$112,MATCH(F488,EF!$C$2:$C$112,0)))","v":""}]
["",null,null,{"$f":"IF(F489=\"\",\"\",INDEX(EF!$A$2:$A$112,MATCH(F489,EF!$C$2:$C$112,0)))","v":""},{"$f":"IF(F489=\"\",\"\",INDEX(EF!$B$2:$B$112,MATCH(F489,EF!$C$2:$C$112,0)))","v":""}]
["",null,null,{"$f":"IF(F490=\"\",\"\",INDEX(EF!$A$2:$A$112,MATCH(F490,EF!$C$2:$C$112,0)))","v":""},{"$f":"IF(F490=\"\",\"\",INDEX(EF!$B$2:$B$112,MATCH(F490,EF!$C$2:$C$112,0)))","v":""}]
["",null,null,{"$f":"IF(F491=\"\",\"\",INDEX(EF!$A$2:$A$112,MATCH(F491,EF!$C$2:$C$112,0)))","v":""},{"$f":"IF(F491=\"\",\"\",INDEX(EF!$B$2:$B$112,MATCH(F491,EF!$C$2:$C$112,0)))","v":""}]
["",null,null,{"$f":"IF(F492=\"\",\"\",INDEX(EF!$A$2:$A$112,MATCH(F492,EF!$C$2:$C$112,0)))","v":""},{"$f":"IF(F492=\"\",\"\",INDEX(EF!$B$2:$B$112,MATCH(F492,EF!$C$2:$C$112,0)))","v":""}]
["",null,null,{"$f":"IF(F493=\"\",\"\",INDEX(EF!$A$2:$A$112,MATCH(F493,EF!$C$2:$C$112,0)))","v":""},{"$f":"IF(F493=\"\",\"\",INDEX(EF!$B$2:$B$112,MATCH(F493,EF!$C$2:$C$112,0)))","v":""}]
["",null,null,{"$f":"IF(F494=\"\",\"\",INDEX(EF!$A$2:$A$112,MATCH(F494,EF!$C$2:$C$112,0)))","v":""},{"$f":"IF(F494=\"\",\"\",INDEX(EF!$B$2:$B$112,MATCH(F494,EF!$C$2:$C$112,0)))","v":""}]
["",null,null,{"$f":"IF(F495=\"\",\"\",INDEX(EF!$A$2:$A$112,MATCH(F495,EF!$C$2:$C$112,0)))","v":""},{"$f":"IF(F495=\"\",\"\",INDEX(EF!$B$2:$B$112,MATCH(F495,EF!$C$2:$C$112,0)))","v":""}]
["",null,null,{"$f":"IF(F496=\"\",\"\",INDEX(EF!$A$2:$A$112,MATCH(F496,EF!$C$2:$C$112,0)))","v":""},{"$f":"IF(F496=\"\",\"\",INDEX(EF!$B$2:$B$112,MATCH(F496,EF!$C$2:$C$112,0)))","v":""}]
["",null,null,{"$f":"IF(F497=\"\",\"\",INDEX(EF!$A$2:$A$112,MATCH(F497,EF!$C$2:$C$112,0)))","v":""},{"$f":"IF(F497=\"\",\"\",INDEX(EF!$B$2:$B$112,MATCH(F497,EF!$C$2:$C$112,0)))","v":""}]
["",null,null,{"$f":"IF(F498=\"\",\"\",INDEX(EF!$A$2:$A$112,MATCH(F498,EF!$C$2:$C$112,0)))","v":""},{"$f":"IF(F498=\"\",\"\",INDEX(EF!$B$2:$B$112,MATCH(F498,EF!$C$2:$C$112,0)))","v":""}]
["",null,null,{"$f":"IF(F499=\"\",\"\",INDEX(EF!$A$2:$A$112,MATCH(F499,EF!$C$2:$C$112,0)))","v":""},{"$f":"IF(F499=\"\",\"\",INDEX(EF!$B$2:$B$112,MATCH(F499,EF!$C$2:$C$112,0)))","v":""}]
["",null,null,{"$f":"IF(F500=\"\",\"\",INDEX(EF!$A$2:$A$112,MATCH(F500,EF!$C$2:$C$112,0)))","v":""},{"$f":"IF(F500=\"\",\"\",INDEX(EF!$B$2:$B$112,MATCH(F500,EF!$C$2:$C$112,0)))","v":""}]
["",null,null,{"$f":"IF(F501=\"\",\"\",INDEX(EF!$A$2:$A$112,MATCH(F501,EF!$C$2:$C$112,0)))","v":""},{"$f":"IF(F501=\"\",\"\",INDEX(EF!$B$2:$B$112,MATCH(F501,EF!$C$2:$C$112,0)))","v":""}]
["",null,null,{"$f":"IF(F502=\"\",\"\",INDEX(EF!$A$2:$A$112,MATCH(F502,EF!$C$2:$C$112,0)))","v":""},{"$f":"IF(F502=\"\",\"\",INDEX(EF!$B$2:$B$112,MATCH(F502,EF!$C$2:$C$112,0)))","v":""}]
["",null,null,{"$f":"IF(F503=\"\",\"\",INDEX(EF!$A$2:$A$112,MATCH(F503,EF!$C$2:$C$112,0)))","v":""},{"$f":"IF(F503=\"\",\"\",INDEX(EF!$B$2:$B$112,MATCH(F503,EF!$C$2:$C$112,0)))","v":""}]
["",null,null,{"$f":"IF(F504=\"\",\"\",INDEX(EF!$A$2:$A$112,MATCH(F504,EF!$C$2:$C$112,0)))","v":""},{"$f":"IF(F504=\"\",\"\",INDEX(EF!$B$2:$B$112,MATCH(F504,EF!$C$2:$C$112,0)))","v":""}]
["",null,null,{"$f":"IF(F505=\"\",\"\",INDEX(EF!$A$2:$A$112,MATCH(F505,EF!$C$2:$C$112,0)))","v":""},{"$f":"IF(F505=\"\",\"\",INDEX(EF!$B$2:$B$112,MATCH(F505,EF!$C$2:$C$112,0)))","v":""}]
["",null,null,{"$f":"IF(F506=\"\",\"\",INDEX(EF!$A$2:$A$112,MATCH(F506,EF!$C$2:$C$112,0)))","v":""},{"$f":"IF(F506=\"\",\"\",INDEX(EF!$B$2:$B$112,MATCH(F506,EF!$C$2:$C$112,0)))","v":""}]
["",null,null,{"$f":"IF(F507=\"\",\"\",INDEX(EF!$A$2:$A$112,MATCH(F507,EF!$C$2:$C$112,0)))","v":""},{"$f":"IF(F507=\"\",\"\",INDEX(EF!$B$2:$B$112,MATCH(F507,EF!$C$2:$C$112,0)))","v":""}]
["",null,null,{"$f":"IF(F508=\"\",\"\",INDEX(EF!$A$2:$A$112,MATCH(F508,EF!$C$2:$C$112,0)))","v":""},{"$f":"IF(F508=\"\",\"\",INDEX(EF!$B$2:$B$112,MATCH(F508,EF!$C$2:$C$112,0)))","v":""}]
["",null,null,{"$f":"IF(F509=\"\",\"\",INDEX(EF!$A$2:$A$112,MATCH(F509,EF!$C$2:$C$112,0)))","v":""},{"$f":"IF(F509=\"\",\"\",INDEX(EF!$B$2:$B$112,MATCH(F509,EF!$C$2:$C$112,0)))","v":""}]
["",null,null,{"$f":"IF(F510=\"\",\"\",INDEX(EF!$A$2:$A$112,MATCH(F510,EF!$C$2:$C$112,0)))","v":""},{"$f":"IF(F510=\"\",\"\",INDEX(EF!$B$2:$B$112,MATCH(F510,EF!$C$2:$C$112,0)))","v":""}]
["",null,null,{"$f":"IF(F511=\"\",\"\",INDEX(EF!$A$2:$A$112,MATCH(F511,EF!$C$2:$C$112,0)))","v":""},{"$f":"IF(F511=\"\",\"\",INDEX(EF!$B$2:$B$112,MATCH(F511,EF!$C$2:$C$112,0)))","v":""}]
["",null,null,{"$f":"IF(F512=\"\",\"\",INDEX(EF!$A$2:$A$112,MATCH(F512,EF!$C$2:$C$112,0)))","v":""},{"$f":"IF(F512=\"\",\"\",INDEX(EF!$B$2:$B$112,MATCH(F512,EF!$C$2:$C$112,0)))","v":""}]
["",null,null,{"$f":"IF(F513=\"\",\"\",INDEX(EF!$A$2:$A$112,MATCH(F513,EF!$C$2:$C$112,0)))","v":""},{"$f":"IF(F513=\"\",\"\",INDEX(EF!$B$2:$B$112,MATCH(F513,EF!$C$2:$C$112,0)))","v":""}]
["",null,null,{"$f":"IF(F514=\"\",\"\",INDEX(EF!$A$2:$A$112,MATCH(F514,EF!$C$2:$C$112,0)))","v":""},{"$f":"IF(F514=\"\",\"\",INDEX(EF!$B$2:$B$112,MATCH(F514,EF!$C$2:$C$112,0)))","v":""}]
["",null,null,{"$f":"IF(F515=\"\",\"\",INDEX(EF!$A$2:$A$112,MATCH(F515,EF!$C$2:$C$112,0)))","v":""},{"$f":"IF(F515=\"\",\"\",INDEX(EF!$B$2:$B$112,MATCH(F515,EF!$C$2:$C$112,0)))","v":""}]
["",null,null,{"$f":"IF(F516=\"\",\"\",INDEX(EF!$A$2:$A$112,MATCH(F516,EF!$C$2:$C$112,0)))","v":""},{"$f":"IF(F516=\"\",\"\",INDEX(EF!$B$2:$B$112,MATCH(F516,EF!$C$2:$C$112,0)))","v":""}]
["",null,null,{"$f":"IF(F517=\"\",\"\",INDEX(EF!$A$2:$A$112,MATCH(F517,EF!$C$2:$C$112,0)))","v":""},{"$f":"IF(F517=\"\",\"\",INDEX(EF!$B$2:$B$112,MATCH(F517,EF!$C$2:$C$112,0)))","v":""}]
["",null,null,{"$f":"IF(F518=\"\",\"\",INDEX(EF!$A$2:$A$112,MATCH(F518,EF!$C$2:$C$112,0)))","v":""},{"$f":"IF(F518=\"\",\"\",INDEX(EF!$B$2:$B$112,MATCH(F518,EF!$C$2:$C$112,0)))","v":""}]
["",null,null,{"$f":"IF(F519=\"\",\"\",INDEX(EF!$A$2:$A$112,MATCH(F519,EF!$C$2:$C$112,0)))","v":""},{"$f":"IF(F519=\"\",\"\",INDEX(EF!$B$2:$B$112,MATCH(F519,EF!$C$2:$C$112,0)))","v":""}]
["",null,null,{"$f":"IF(F520=\"\",\"\",INDEX(EF!$A$2:$A$112,MATCH(F520,EF!$C$2:$C$112,0)))","v":""},{"$f":"IF(F520=\"\",\"\",INDEX(EF!$B$2:$B$112,MATCH(F520,EF!$C$2:$C$112,0)))","v":""}]
["",null,null,{"$f":"IF(F521=\"\",\"\",INDEX(EF!$A$2:$A$112,MATCH(F521,EF!$C$2:$C$112,0)))","v":""},{"$f":"IF(F521=\"\",\"\",INDEX(EF!$B$2:$B$112,MATCH(F521,EF!$C$2:$C$112,0)))","v":""}]
["",null,null,{"$f":"IF(F522=\"\",\"\",INDEX(EF!$A$2:$A$112,MATCH(F522,EF!$C$2:$C$112,0)))","v":""},{"$f":"IF(F522=\"\",\"\",INDEX(EF!$B$2:$B$112,MATCH(F522,EF!$C$2:$C$112,0)))","v":""}]
["",null,null,{"$f":"IF(F523=\"\",\"\",INDEX(EF!$A$2:$A$112,MATCH(F523,EF!$C$2:$C$112,0)))","v":""},{"$f":"IF(F523=\"\",\"\",INDEX(EF!$B$2:$B$112,MATCH(F523,EF!$C$2:$C$112,0)))","v":""}]
["",null,null,{"$f":"IF(F524=\"\",\"\",INDEX(EF!$A$2:$A$112,MATCH(F524,EF!$C$2:$C$112,0)))","v":""},{"$f":"IF(F524=\"\",\"\",INDEX(EF!$B$2:$B$112,MATCH(F524,EF!$C$2:$C$112,0)))","v":""}]
["",null,null,{"$f":"IF(F525=\"\",\"\",INDEX(EF!$A$2:$A$112,MATCH(F525,EF!$C$2:$C$112,0)))","v":""},{"$f":"IF(F525=\"\",\"\",INDEX(EF!$B$2:$B$112,MATCH(F525,EF!$C$2:$C$112,0)))","v":""}]
["",null,null,{"$f":"IF(F526=\"\",\"\",INDEX(EF!$A$2:$A$112,MATCH(F526,EF!$C$2:$C$112,0)))","v":""},{"$f":"IF(F526=\"\",\"\",INDEX(EF!$B$2:$B$112,MATCH(F526,EF!$C$2:$C$112,0)))","v":""}]
["",null,null,{"$f":"IF(F527=\"\",\"\",INDEX(EF!$A$2:$A$112,MATCH(F527,EF!$C$2:$C$112,0)))","v":""},{"$f":"IF(F527=\"\",\"\",INDEX(EF!$B$2:$B$112,MATCH(F527,EF!$C$2:$C$112,0)))","v":""}]
["",null,null,{"$f":"IF(F528=\"\",\"\",INDEX(EF!$A$2:$A$112,MATCH(F528,EF!$C$2:$C$112,0)))","v":""},{"$f":"IF(F528=\"\",\"\",INDEX(EF!$B$2:$B$112,MATCH(F528,EF!$C$2:$C$112,0)))","v":""}]
["",null,null,{"$f":"IF(F529=\"\",\"\",INDEX(EF!$A$2:$A$112,MATCH(F529,EF!$C$2:$C$112,0)))","v":""},{"$f":"IF(F529=\"\",\"\",INDEX(EF!$B$2:$B$112,MATCH(F529,EF!$C$2:$C$112,0)))","v":""}]
["",null,null,{"$f":"IF(F530=\"\",\"\",INDEX(EF!$A$2:$A$112,MATCH(F530,EF!$C$2:$C$112,0)))","v":""},{"$f":"IF(F530=\"\",\"\",INDEX(EF!$B$2:$B$112,MATCH(F530,EF!$C$2:$C$112,0)))","v":""}]
["",null,null,{"$f":"IF(F531=\"\",\"\",INDEX(EF!$A$2:$A$112,MATCH(F531,EF!$C$2:$C$112,0)))","v":""},{"$f":"IF(F531=\"\",\"\",INDEX(EF!$B$2:$B$112,MATCH(F531,EF!$C$2:$C$112,0)))","v":""}]
["",null,null,{"$f":"IF(F532=\"\",\"\",INDEX(EF!$A$2:$A$112,MATCH(F532,EF!$C$2:$C$112,0)))","v":""},{"$f":"IF(F532=\"\",\"\",INDEX(EF!$B$2:$B$112,MATCH(F532,EF!$C$2:$C$112,0)))","v":""}]
["",null,null,{"$f":"IF(F533=\"\",\"\",INDEX(EF!$A$2:$A$112,MATCH(F533,EF!$C$2:$C$112,0)))","v":""},{"$f":"IF(F533=\"\",\"\",INDEX(EF!$B$2:$B$112,MATCH(F533,EF!$C$2:$C$112,0)))","v":""}]
[{"$f":"IF(B534>0,A533+1,\"\")","v":""},null,null,{"$f":"IF(F534=\"\",\"\",INDEX(EF!$A$2:$A$112,MATCH(F534,EF!$C$2:$C$112,0)))","v":""},{"$f":"IF(F534=\"\",\"\",INDEX(EF!$B$2:$B$112,MATCH(F534,EF!$C$2:$C$112,0)))","v":""}]
["",null,null,{"$f":"IF(F535=\"\",\"\",INDEX(EF!$A$2:$A$112,MATCH(F535,EF!$C$2:$C$112,0)))","v":""},{"$f":"IF(F535=\"\",\"\",INDEX(EF!$B$2:$B$112,MATCH(F535,EF!$C$2:$C$112,0)))","v":""}]
["",null,null,{"$f":"IF(F536=\"\",\"\",INDEX(EF!$A$2:$A$112,MATCH(F536,EF!$C$2:$C$112,0)))","v":""},{"$f":"IF(F536=\"\",\"\",INDEX(EF!$B$2:$B$112,MATCH(F536,EF!$C$2:$C$112,0)))","v":""}]
["",null,null,{"$f":"IF(F537=\"\",\"\",INDEX(EF!$A$2:$A$112,MATCH(F537,EF!$C$2:$C$112,0)))","v":""},{"$f":"IF(F537=\"\",\"\",INDEX(EF!$B$2:$B$112,MATCH(F537,EF!$C$2:$C$112,0)))","v":""}]
["",null,null,{"$f":"IF(F538=\"\",\"\",INDEX(EF!$A$2:$A$112,MATCH(F538,EF!$C$2:$C$112,0)))","v":""},{"$f":"IF(F538=\"\",\"\",INDEX(EF!$B$2:$B$112,MATCH(F538,EF!$C$2:$C$112,0)))","v":""}]
["",null,null,{"$f":"IF(F539=\"\",\"\",INDEX(EF!$A$2:$A$112,MATCH(F539,EF!$C$2:$C$112,0)))","v":""},{"$f":"IF(F539=\"\",\"\",INDEX(EF!$B$2:$B$112,MATCH(F539,EF!$C$2:$C$112,0)))","v":""}]
["",null,null,{"$f":"IF(F540=\"\",\"\",INDEX(EF!$A$2:$A$112,MATCH(F540,EF!$C$2:$C$112,0)))","v":""},{"$f":"IF(F540=\"\",\"\",INDEX(EF!$B$2:$B$112,MATCH(F540,EF!$C$2:$C$112,0)))","v":""}]
["",null,null,{"$f":"IF(F541=\"\",\"\",INDEX(EF!$A$2:$A$112,MATCH(F541,EF!$C$2:$C$112,0)))","v":""},{"$f":"IF(F541=\"\",\"\",INDEX(EF!$B$2:$B$112,MATCH(F541,EF!$C$2:$C$112,0)))","v":""}]
["",null,null,{"$f":"IF(F542=\"\",\"\",INDEX(EF!$A$2:$A$112,MATCH(F542,EF!$C$2:$C$112,0)))","v":""},{"$f":"IF(F542=\"\",\"\",INDEX(EF!$B$2:$B$112,MATCH(F542,EF!$C$2:$C$112,0)))","v":""}]
["",null,null,{"$f":"IF(F543=\"\",\"\",INDEX(EF!$A$2:$A$112,MATCH(F543,EF!$C$2:$C$112,0)))","v":""},{"$f":"IF(F543=\"\",\"\",INDEX(EF!$B$2:$B$112,MATCH(F543,EF!$C$2:$C$112,0)))","v":""}]
["",null,null,{"$f":"IF(F544=\"\",\"\",INDEX(EF!$A$2:$A$112,MATCH(F544,EF!$C$2:$C$112,0)))","v":""},{"$f":"IF(F544=\"\",\"\",INDEX(EF!$B$2:$B$112,MATCH(F544,EF!$C$2:$C$112,0)))","v":""}]
["",null,null,{"$f":"IF(F545=\"\",\"\",INDEX(EF!$A$2:$A$112,MATCH(F545,EF!$C$2:$C$112,0)))","v":""},{"$f":"IF(F545=\"\",\"\",INDEX(EF!$B$2:$B$112,MATCH(F545,EF!$C$2:$C$112,0)))","v":""}]
["",null,null,{"$f":"IF(F546=\"\",\"\",INDEX(EF!$A$2:$A$112,MATCH(F546,EF!$C$2:$C$112,0)))","v":""},{"$f":"IF(F546=\"\",\"\",INDEX(EF!$B$2:$B$112,MATCH(F546,EF!$C$2:$C$112,0)))","v":""}]
["",null,null,{"$f":"IF(F547=\"\",\"\",INDEX(EF!$A$2:$A$112,MATCH(F547,EF!$C$2:$C$112,0)))","v":""},{"$f":"IF(F547=\"\",\"\",INDEX(EF!$B$2:$B$112,MATCH(F547,EF!$C$2:$C$112,0)))","v":""}]
["",null,null,{"$f":"IF(F548=\"\",\"\",INDEX(EF!$A$2:$A$112,MATCH(F548,EF!$C$2:$C$112,0)))","v":""},{"$f":"IF(F548=\"\",\"\",INDEX(EF!$B$2:$B$112,MATCH(F548,EF!$C$2:$C$112,0)))","v":""}]
["",null,null,{"$f":"IF(F549=\"\",\"\",INDEX(EF!$A$2:$A$112,MATCH(F549,EF!$C$2:$C$112,0)))","v":""},{"$f":"IF(F549=\"\",\"\",INDEX(EF!$B$2:$B$112,MATCH(F549,EF!$C$2:$C$112,0)))","v":""}]
["",null,null,{"$f":"IF(F550=\"\",\"\",INDEX(EF!$A$2:$A$112,MATCH(F550,EF!$C$2:$C$112,0)))","v":""},{"$f":"IF(F550=\"\",\"\",INDEX(EF!$B$2:$B$112,MATCH(F550,EF!$C$2:$C$112,0)))","v":""}]
["",null,null,{"$f":"IF(F551=\"\",\"\",INDEX(EF!$A$2:$A$112,MATCH(F551,EF!$C$2:$C$112,0)))","v":""},{"$f":"IF(F551=\"\",\"\",INDEX(EF!$B$2:$B$112,MATCH(F551,EF!$C$2:$C$112,0)))","v":""}]
["",null,null,{"$f":"IF(F552=\"\",\"\",INDEX(EF!$A$2:$A$112,MATCH(F552,EF!$C$2:$C$112,0)))","v":""},{"$f":"IF(F552=\"\",\"\",INDEX(EF!$B$2:$B$112,MATCH(F552,EF!$C$2:$C$112,0)))","v":""}]
["",null,null,{"$f":"IF(F553=\"\",\"\",INDEX(EF!$A$2:$A$112,MATCH(F553,EF!$C$2:$C$112,0)))","v":""},{"$f":"IF(F553=\"\",\"\",INDEX(EF!$B$2:$B$112,MATCH(F553,EF!$C$2:$C$112,0)))","v":""}]
["",null,null,{"$f":"IF(F554=\"\",\"\",INDEX(EF!$A$2:$A$112,MATCH(F554,EF!$C$2:$C$112,0)))","v":""},{"$f":"IF(F554=\"\",\"\",INDEX(EF!$B$2:$B$112,MATCH(F554,EF!$C$2:$C$112,0)))","v":""}]
["",null,null,{"$f":"IF(F555=\"\",\"\",INDEX(EF!$A$2:$A$112,MATCH(F555,EF!$C$2:$C$112,0)))","v":""},{"$f":"IF(F555=\"\",\"\",INDEX(EF!$B$2:$B$112,MATCH(F555,EF!$C$2:$C$112,0)))","v":""}]
["",null,null,{"$f":"IF(F556=\"\",\"\",INDEX(EF!$A$2:$A$112,MATCH(F556,EF!$C$2:$C$112,0)))","v":""},{"$f":"IF(F556=\"\",\"\",INDEX(EF!$B$2:$B$112,MATCH(F556,EF!$C$2:$C$112,0)))","v":""}]
["",null,null,{"$f":"IF(F557=\"\",\"\",INDEX(EF!$A$2:$A$112,MATCH(F557,EF!$C$2:$C$112,0)))","v":""},{"$f":"IF(F557=\"\",\"\",INDEX(EF!$B$2:$B$112,MATCH(F557,EF!$C$2:$C$112,0)))","v":""}]
["",null,null,{"$f":"IF(F558=\"\",\"\",INDEX(EF!$A$2:$A$112,MATCH(F558,EF!$C$2:$C$112,0)))","v":""},{"$f":"IF(F558=\"\",\"\",INDEX(EF!$B$2:$B$112,MATCH(F558,EF!$C$2:$C$112,0)))","v":""}]
["",null,null,{"$f":"IF(F559=\"\",\"\",INDEX(EF!$A$2:$A$112,MATCH(F559,EF!$C$2:$C$112,0)))","v":""},{"$f":"IF(F559=\"\",\"\",INDEX(EF!$B$2:$B$112,MATCH(F559,EF!$C$2:$C$112,0)))","v":""}]
["",null,null,{"$f":"IF(F560=\"\",\"\",INDEX(EF!$A$2:$A$112,MATCH(F560,EF!$C$2:$C$112,0)))","v":""},{"$f":"IF(F560=\"\",\"\",INDEX(EF!$B$2:$B$112,MATCH(F560,EF!$C$2:$C$112,0)))","v":""}]
["",null,null,{"$f":"IF(F561=\"\",\"\",INDEX(EF!$A$2:$A$112,MATCH(F561,EF!$C$2:$C$112,0)))","v":""},{"$f":"IF(F561=\"\",\"\",INDEX(EF!$B$2:$B$112,MATCH(F561,EF!$C$2:$C$112,0)))","v":""}]
["",null,null,{"$f":"IF(F562=\"\",\"\",INDEX(EF!$A$2:$A$112,MATCH(F562,EF!$C$2:$C$112,0)))","v":""},{"$f":"IF(F562=\"\",\"\",INDEX(EF!$B$2:$B$112,MATCH(F562,EF!$C$2:$C$112,0)))","v":""}]
["",null,null,{"$f":"IF(F563=\"\",\"\",INDEX(EF!$A$2:$A$112,MATCH(F563,EF!$C$2:$C$112,0)))","v":""},{"$f":"IF(F563=\"\",\"\",INDEX(EF!$B$2:$B$112,MATCH(F563,EF!$C$2:$C$112,0)))","v":""}]
["",null,null,{"$f":"IF(F564=\"\",\"\",INDEX(EF!$A$2:$A$112,MATCH(F564,EF!$C$2:$C$112,0)))","v":""},{"$f":"IF(F564=\"\",\"\",INDEX(EF!$B$2:$B$112,MATCH(F564,EF!$C$2:$C$112,0)))","v":""}]
["",null,null,{"$f":"IF(F565=\"\",\"\",INDEX(EF!$A$2:$A$112,MATCH(F565,EF!$C$2:$C$112,0)))","v":""},{"$f":"IF(F565=\"\",\"\",INDEX(EF!$B$2:$B$112,MATCH(F565,EF!$C$2:$C$112,0)))","v":""}]
["",null,null,{"$f":"IF(F566=\"\",\"\",INDEX(EF!$A$2:$A$112,MATCH(F566,EF!$C$2:$C$112,0)))","v":""},{"$f":"IF(F566=\"\",\"\",INDEX(EF!$B$2:$B$112,MATCH(F566,EF!$C$2:$C$112,0)))","v":""}]
["",null,null,{"$f":"IF(F567=\"\",\"\",INDEX(EF!$A$2:$A$112,MATCH(F567,EF!$C$2:$C$112,0)))","v":""},{"$f":"IF(F567=\"\",\"\",INDEX(EF!$B$2:$B$112,MATCH(F567,EF!$C$2:$C$112,0)))","v":""}]
["",null,null,{"$f":"IF(F568=\"\",\"\",INDEX(EF!$A$2:$A$112,MATCH(F568,EF!$C$2:$C$112,0)))","v":""},{"$f":"IF(F568=\"\",\"\",INDEX(EF!$B$2:$B$112,MATCH(F568,EF!$C$2:$C$112,0)))","v":""}]
["",null,null,{"$f":"IF(F569=\"\",\"\",INDEX(EF!$A$2:$A$112,MATCH(F569,EF!$C$2:$C$112,0)))","v":""},{"$f":"IF(F569=\"\",\"\",INDEX(EF!$B$2:$B$112,MATCH(F569,EF!$C$2:$C$112,0)))","v":""}]
["",null,null,{"$f":"IF(F570=\"\",\"\",INDEX(EF!$A$2:$A$112,MATCH(F570,EF!$C$2:$C$112,0)))","v":""},{"$f":"IF(F570=\"\",\"\",INDEX(EF!$B$2:$B$112,MATCH(F570,EF!$C$2:$C$112,0)))","v":""}]
["",null,null,{"$f":"IF(F571=\"\",\"\",INDEX(EF!$A$2:$A$112,MATCH(F571,EF!$C$2:$C$112,0)))","v":""},{"$f":"IF(F571=\"\",\"\",INDEX(EF!$B$2:$B$112,MATCH(F571,EF!$C$2:$C$112,0)))","v":""}]
["",null,null,{"$f":"IF(F572=\"\",\"\",INDEX(EF!$A$2:$A$112,MATCH(F572,EF!$C$2:$C$112,0)))","v":""},{"$f":"IF(F572=\"\",\"\",INDEX(EF!$B$2:$B$112,MATCH(F572,EF!$C$2:$C$112,0)))","v":""}]
["",null,null,{"$f":"IF(F573=\"\",\"\",INDEX(EF!$A$2:$A$112,MATCH(F573,EF!$C$2:$C$112,0)))","v":""},{"$f":"IF(F573=\"\",\"\",INDEX(EF!$B$2:$B$112,MATCH(F573,EF!$C$2:$C$112,0)))","v":""}]
["",null,null,{"$f":"IF(F574=\"\",\"\",INDEX(EF!$A$2:$A$112,MATCH(F574,EF!$C$2:$C$112,0)))","v":""},{"$f":"IF(F574=\"\",\"\",INDEX(EF!$B$2:$B$112,MATCH(F574,EF!$C$2:$C$112,0)))","v":""}]
["",null,null,{"$f":"IF(F575=\"\",\"\",INDEX(EF!$A$2:$A$112,MATCH(F575,EF!$C$2:$C$112,0)))","v":""},{"$f":"IF(F575=\"\",\"\",INDEX(EF!$B$2:$B$112,MATCH(F575,EF!$C$2:$C$112,0)))","v":""}]
["",null,null,{"$f":"IF(F576=\"\",\"\",INDEX(EF!$A$2:$A$112,MATCH(F576,EF!$C$2:$C$112,0)))","v":""},{"$f":"IF(F576=\"\",\"\",INDEX(EF!$B$2:$B$112,MATCH(F576,EF!$C$2:$C$112,0)))","v":""}]
["",null,null,{"$f":"IF(F577=\"\",\"\",INDEX(EF!$A$2:$A$112,MATCH(F577,EF!$C$2:$C$112,0)))","v":""},{"$f":"IF(F577=\"\",\"\",INDEX(EF!$B$2:$B$112,MATCH(F577,EF!$C$2:$C$112,0)))","v":""}]
["",null,null,{"$f":"IF(F578=\"\",\"\",INDEX(EF!$A$2:$A$112,MATCH(F578,EF!$C$2:$C$112,0)))","v":""},{"$f":"IF(F578=\"\",\"\",INDEX(EF!$B$2:$B$112,MATCH(F578,EF!$C$2:$C$112,0)))","v":""}]
["",null,null,{"$f":"IF(F579=\"\",\"\",INDEX(EF!$A$2:$A$112,MATCH(F579,EF!$C$2:$C$112,0)))","v":""},{"$f":"IF(F579=\"\",\"\",INDEX(EF!$B$2:$B$112,MATCH(F579,EF!$C$2:$C$112,0)))","v":""}]
["",null,null,{"$f":"IF(F580=\"\",\"\",INDEX(EF!$A$2:$A$112,MATCH(F580,EF!$C$2:$C$112,0)))","v":""},{"$f":"IF(F580=\"\",\"\",INDEX(EF!$B$2:$B$112,MATCH(F580,EF!$C$2:$C$112,0)))","v":""}]
["",null,null,{"$f":"IF(F581=\"\",\"\",INDEX(EF!$A$2:$A$112,MATCH(F581,EF!$C$2:$C$112,0)))","v":""},{"$f":"IF(F581=\"\",\"\",INDEX(EF!$B$2:$B$112,MATCH(F581,EF!$C$2:$C$112,0)))","v":""}]
["",null,null,{"$f":"IF(F582=\"\",\"\",INDEX(EF!$A$2:$A$112,MATCH(F582,EF!$C$2:$C$112,0)))","v":""},{"$f":"IF(F582=\"\",\"\",INDEX(EF!$B$2:$B$112,MATCH(F582,EF!$C$2:$C$112,0)))","v":""}]
["",null,null,{"$f":"IF(F583=\"\",\"\",INDEX(EF!$A$2:$A$112,MATCH(F583,EF!$C$2:$C$112,0)))","v":""},{"$f":"IF(F583=\"\",\"\",INDEX(EF!$B$2:$B$112,MATCH(F583,EF!$C$2:$C$112,0)))","v":""}]
["",null,null,{"$f":"IF(F584=\"\",\"\",INDEX(EF!$A$2:$A$112,MATCH(F584,EF!$C$2:$C$112,0)))","v":""},{"$f":"IF(F584=\"\",\"\",INDEX(EF!$B$2:$B$112,MATCH(F584,EF!$C$2:$C$112,0)))","v":""}]
["",null,null,{"$f":"IF(F585=\"\",\"\",INDEX(EF!$A$2:$A$112,MATCH(F585,EF!$C$2:$C$112,0)))","v":""},{"$f":"IF(F585=\"\",\"\",INDEX(EF!$B$2:$B$112,MATCH(F585,EF!$C$2:$C$112,0)))","v":""}]
["",null,null,{"$f":"IF(F586=\"\",\"\",INDEX(EF!$A$2:$A$112,MATCH(F586,EF!$C$2:$C$112,0)))","v":""},{"$f":"IF(F586=\"\",\"\",INDEX(EF!$B$2:$B$112,MATCH(F586,EF!$C$2:$C$112,0)))","v":""}]
["",null,null,{"$f":"IF(F587=\"\",\"\",INDEX(EF!$A$2:$A$112,MATCH(F587,EF!$C$2:$C$112,0)))","v":""},{"$f":"IF(F587=\"\",\"\",INDEX(EF!$B$2:$B$112,MATCH(F587,EF!$C$2:$C$112,0)))","v":""}]
["",null,null,{"$f":"IF(F588=\"\",\"\",INDEX(EF!$A$2:$A$112,MATCH(F588,EF!$C$2:$C$112,0)))","v":""},{"$f":"IF(F588=\"\",\"\",INDEX(EF!$B$2:$B$112,MATCH(F588,EF!$C$2:$C$112,0)))","v":""}]
["",null,null,{"$f":"IF(F589=\"\",\"\",INDEX(EF!$A$2:$A$112,MATCH(F589,EF!$C$2:$C$112,0)))","v":""},{"$f":"IF(F589=\"\",\"\",INDEX(EF!$B$2:$B$112,MATCH(F589,EF!$C$2:$C$112,0)))","v":""}]
["",null,null,{"$f":"IF(F590=\"\",\"\",INDEX(EF!$A$2:$A$112,MATCH(F590,EF!$C$2:$C$112,0)))","v":""},{"$f":"IF(F590=\"\",\"\",INDEX(EF!$B$2:$B$112,MATCH(F590,EF!$C$2:$C$112,0)))","v":""}]
["",null,null,{"$f":"IF(F591=\"\",\"\",INDEX(EF!$A$2:$A$112,MATCH(F591,EF!$C$2:$C$112,0)))","v":""},{"$f":"IF(F591=\"\",\"\",INDEX(EF!$B$2:$B$112,MATCH(F591,EF!$C$2:$C$112,0)))","v":""}]
["",null,null,{"$f":"IF(F592=\"\",\"\",INDEX(EF!$A$2:$A$112,MATCH(F592,EF!$C$2:$C$112,0)))","v":""},{"$f":"IF(F592=\"\",\"\",INDEX(EF!$B$2:$B$112,MATCH(F592,EF!$C$2:$C$112,0)))","v":""}]
["",null,null,{"$f":"IF(F593=\"\",\"\",INDEX(EF!$A$2:$A$112,MATCH(F593,EF!$C$2:$C$112,0)))","v":""},{"$f":"IF(F593=\"\",\"\",INDEX(EF!$B$2:$B$112,MATCH(F593,EF!$C$2:$C$112,0)))","v":""}]
["",null,null,{"$f":"IF(F594=\"\",\"\",INDEX(EF!$A$2:$A$112,MATCH(F594,EF!$C$2:$C$112,0)))","v":""},{"$f":"IF(F594=\"\",\"\",INDEX(EF!$B$2:$B$112,MATCH(F594,EF!$C$2:$C$112,0)))","v":""}]
["",null,null,{"$f":"IF(F595=\"\",\"\",INDEX(EF!$A$2:$A$112,MATCH(F595,EF!$C$2:$C$112,0)))","v":""},{"$f":"IF(F595=\"\",\"\",INDEX(EF!$B$2:$B$112,MATCH(F595,EF!$C$2:$C$112,0)))","v":""}]
["",null,null,{"$f":"IF(F596=\"\",\"\",INDEX(EF!$A$2:$A$112,MATCH(F596,EF!$C$2:$C$112,0)))","v":""},{"$f":"IF(F596=\"\",\"\",INDEX(EF!$B$2:$B$112,MATCH(F596,EF!$C$2:$C$112,0)))","v":""}]
["",null,null,{"$f":"IF(F597=\"\",\"\",INDEX(EF!$A$2:$A$112,MATCH(F597,EF!$C$2:$C$112,0)))","v":""},{"$f":"IF(F597=\"\",\"\",INDEX(EF!$B$2:$B$112,MATCH(F597,EF!$C$2:$C$112,0)))","v":""}]
[{"$f":"IF(B598>0,A597+1,\"\")","v":""},null,null,{"$f":"IF(F598=\"\",\"\",INDEX(EF!$A$2:$A$112,MATCH(F598,EF!$C$2:$C$112,0)))","v":""},{"$f":"IF(F598=\"\",\"\",INDEX(EF!$B$2:$B$112,MATCH(F598,EF!$C$2:$C$112,0)))","v":""}]
["",null,null,{"$f":"IF(F599=\"\",\"\",INDEX(EF!$A$2:$A$112,MATCH(F599,EF!$C$2:$C$112,0)))","v":""},{"$f":"IF(F599=\"\",\"\",INDEX(EF!$B$2:$B$112,MATCH(F599,EF!$C$2:$C$112,0)))","v":""}]
["",null,null,{"$f":"IF(F600=\"\",\"\",INDEX(EF!$A$2:$A$112,MATCH(F600,EF!$C$2:$C$112,0)))","v":""},{"$f":"IF(F600=\"\",\"\",INDEX(EF!$B$2:$B$112,MATCH(F600,EF!$C$2:$C$112,0)))","v":""}]
["",null,null,{"$f":"IF(F601=\"\",\"\",INDEX(EF!$A$2:$A$112,MATCH(F601,EF!$C$2:$C$112,0)))","v":""},{"$f":"IF(F601=\"\",\"\",INDEX(EF!$B$2:$B$112,MATCH(F601,EF!$C$2:$C$112,0)))","v":""}]
["",null,null,{"$f":"IF(F602=\"\",\"\",INDEX(EF!$A$2:$A$112,MATCH(F602,EF!$C$2:$C$112,0)))","v":""},{"$f":"IF(F602=\"\",\"\",INDEX(EF!$B$2:$B$112,MATCH(F602,EF!$C$2:$C$112,0)))","v":""}]
[{"$f":"IF(B603>0,A602+1,\"\")","v":""},null,null,{"$f":"IF(F603=\"\",\"\",INDEX(EF!$A$2:$A$112,MATCH(F603,EF!$C$2:$C$112,0)))","v":""},{"$f":"IF(F603=\"\",\"\",INDEX(EF!$B$2:$B$112,MATCH(F603,EF!$C$2:$C$112,0)))","v":""}]
[{"$f":"IF(B604>0,A603+1,\"\")","v":""},null,null,{"$f":"IF(F604=\"\",\"\",INDEX(EF!$A$2:$A$112,MATCH(F604,EF!$C$2:$C$112,0)))","v":""},{"$f":"IF(F604=\"\",\"\",INDEX(EF!$B$2:$B$112,MATCH(F604,EF!$C$2:$C$112,0)))","v":""}]
["",null,null,{"$f":"IF(F605=\"\",\"\",INDEX(EF!$A$2:$A$112,MATCH(F605,EF!$C$2:$C$112,0)))","v":""},{"$f":"IF(F605=\"\",\"\",INDEX(EF!$B$2:$B$112,MATCH(F605,EF!$C$2:$C$112,0)))","v":""}]
["",null,null,{"$f":"IF(F606=\"\",\"\",INDEX(EF!$A$2:$A$112,MATCH(F606,EF!$C$2:$C$112,0)))","v":""},{"$f":"IF(F606=\"\",\"\",INDEX(EF!$B$2:$B$112,MATCH(F606,EF!$C$2:$C$112,0)))","v":""}]
["",null,null,{"$f":"IF(F607=\"\",\"\",INDEX(EF!$A$2:$A$112,MATCH(F607,EF!$C$2:$C$112,0)))","v":""},{"$f":"IF(F607=\"\",\"\",INDEX(EF!$B$2:$B$112,MATCH(F607,EF!$C$2:$C$112,0)))","v":""}]
["",null,null,{"$f":"IF(F608=\"\",\"\",INDEX(EF!$A$2:$A$112,MATCH(F608,EF!$C$2:$C$112,0)))","v":""},{"$f":"IF(F608=\"\",\"\",INDEX(EF!$B$2:$B$112,MATCH(F608,EF!$C$2:$C$112,0)))","v":""}]
["",null,null,{"$f":"IF(F609=\"\",\"\",INDEX(EF!$A$2:$A$112,MATCH(F609,EF!$C$2:$C$112,0)))","v":""},{"$f":"IF(F609=\"\",\"\",INDEX(EF!$B$2:$B$112,MATCH(F609,EF!$C$2:$C$112,0)))","v":""}]
["",null,null,{"$f":"IF(F610=\"\",\"\",INDEX(EF!$A$2:$A$112,MATCH(F610,EF!$C$2:$C$112,0)))","v":""},{"$f":"IF(F610=\"\",\"\",INDEX(EF!$B$2:$B$112,MATCH(F610,EF!$C$2:$C$112,0)))","v":""}]
["",null,null,{"$f":"IF(F611=\"\",\"\",INDEX(EF!$A$2:$A$112,MATCH(F611,EF!$C$2:$C$112,0)))","v":""},{"$f":"IF(F611=\"\",\"\",INDEX(EF!$B$2:$B$112,MATCH(F611,EF!$C$2:$C$112,0)))","v":""}]
["",null,null,{"$f":"IF(F612=\"\",\"\",INDEX(EF!$A$2:$A$112,MATCH(F612,EF!$C$2:$C$112,0)))","v":""},{"$f":"IF(F612=\"\",\"\",INDEX(EF!$B$2:$B$112,MATCH(F612,EF!$C$2:$C$112,0)))","v":""}]
["",null,null,{"$f":"IF(F613=\"\",\"\",INDEX(EF!$A$2:$A$112,MATCH(F613,EF!$C$2:$C$112,0)))","v":""},{"$f":"IF(F613=\"\",\"\",INDEX(EF!$B$2:$B$112,MATCH(F613,EF!$C$2:$C$112,0)))","v":""}]
["",null,null,{"$f":"IF(F614=\"\",\"\",INDEX(EF!$A$2:$A$112,MATCH(F614,EF!$C$2:$C$112,0)))","v":""},{"$f":"IF(F614=\"\",\"\",INDEX(EF!$B$2:$B$112,MATCH(F614,EF!$C$2:$C$112,0)))","v":""}]
["",null,null,{"$f":"IF(F615=\"\",\"\",INDEX(EF!$A$2:$A$112,MATCH(F615,EF!$C$2:$C$112,0)))","v":""},{"$f":"IF(F615=\"\",\"\",INDEX(EF!$B$2:$B$112,MATCH(F615,EF!$C$2:$C$112,0)))","v":""}]
["",null,null,{"$f":"IF(F616=\"\",\"\",INDEX(EF!$A$2:$A$112,MATCH(F616,EF!$C$2:$C$112,0)))","v":""},{"$f":"IF(F616=\"\",\"\",INDEX(EF!$B$2:$B$112,MATCH(F616,EF!$C$2:$C$112,0)))","v":""}]
["",null,null,{"$f":"IF(F617=\"\",\"\",INDEX(EF!$A$2:$A$112,MATCH(F617,EF!$C$2:$C$112,0)))","v":""},{"$f":"IF(F617=\"\",\"\",INDEX(EF!$B$2:$B$112,MATCH(F617,EF!$C$2:$C$112,0)))","v":""}]
["",null,null,{"$f":"IF(F618=\"\",\"\",INDEX(EF!$A$2:$A$112,MATCH(F618,EF!$C$2:$C$112,0)))","v":""},{"$f":"IF(F618=\"\",\"\",INDEX(EF!$B$2:$B$112,MATCH(F618,EF!$C$2:$C$112,0)))","v":""}]
["",null,null,{"$f":"IF(F619=\"\",\"\",INDEX(EF!$A$2:$A$112,MATCH(F619,EF!$C$2:$C$112,0)))","v":""},{"$f":"IF(F619=\"\",\"\",INDEX(EF!$B$2:$B$112,MATCH(F619,EF!$C$2:$C$112,0)))","v":""}]
["",null,null,{"$f":"IF(F620=\"\",\"\",INDEX(EF!$A$2:$A$112,MATCH(F620,EF!$C$2:$C$112,0)))","v":""},{"$f":"IF(F620=\"\",\"\",INDEX(EF!$B$2:$B$112,MATCH(F620,EF!$C$2:$C$112,0)))","v":""}]
["",null,null,{"$f":"IF(F621=\"\",\"\",INDEX(EF!$A$2:$A$112,MATCH(F621,EF!$C$2:$C$112,0)))","v":""},{"$f":"IF(F621=\"\",\"\",INDEX(EF!$B$2:$B$112,MATCH(F621,EF!$C$2:$C$112,0)))","v":""}]
["",null,null,{"$f":"IF(F622=\"\",\"\",INDEX(EF!$A$2:$A$112,MATCH(F622,EF!$C$2:$C$112,0)))","v":""},{"$f":"IF(F622=\"\",\"\",INDEX(EF!$B$2:$B$112,MATCH(F622,EF!$C$2:$C$112,0)))","v":""}]
["",null,null,{"$f":"IF(F623=\"\",\"\",INDEX(EF!$A$2:$A$112,MATCH(F623,EF!$C$2:$C$112,0)))","v":""},{"$f":"IF(F623=\"\",\"\",INDEX(EF!$B$2:$B$112,MATCH(F623,EF!$C$2:$C$112,0)))","v":""}]
["",null,null,{"$f":"IF(F624=\"\",\"\",INDEX(EF!$A$2:$A$112,MATCH(F624,EF!$C$2:$C$112,0)))","v":""},{"$f":"IF(F624=\"\",\"\",INDEX(EF!$B$2:$B$112,MATCH(F624,EF!$C$2:$C$112,0)))","v":""}]
["",null,null,{"$f":"IF(F625=\"\",\"\",INDEX(EF!$A$2:$A$112,MATCH(F625,EF!$C$2:$C$112,0)))","v":""},{"$f":"IF(F625=\"\",\"\",INDEX(EF!$B$2:$B$112,MATCH(F625,EF!$C$2:$C$112,0)))","v":""}]
["",null,null,{"$f":"IF(F626=\"\",\"\",INDEX(EF!$A$2:$A$112,MATCH(F626,EF!$C$2:$C$112,0)))","v":""},{"$f":"IF(F626=\"\",\"\",INDEX(EF!$B$2:$B$112,MATCH(F626,EF!$C$2:$C$112,0)))","v":""}]
["",null,null,{"$f":"IF(F627=\"\",\"\",INDEX(EF!$A$2:$A$112,MATCH(F627,EF!$C$2:$C$112,0)))","v":""},{"$f":"IF(F627=\"\",\"\",INDEX(EF!$B$2:$B$112,MATCH(F627,EF!$C$2:$C$112,0)))","v":""}]
["",null,null,{"$f":"IF(F628=\"\",\"\",INDEX(EF!$A$2:$A$112,MATCH(F628,EF!$C$2:$C$112,0)))","v":""},{"$f":"IF(F628=\"\",\"\",INDEX(EF!$B$2:$B$112,MATCH(F628,EF!$C$2:$C$112,0)))","v":""}]
["",null,null,{"$f":"IF(F629=\"\",\"\",INDEX(EF!$A$2:$A$112,MATCH(F629,EF!$C$2:$C$112,0)))","v":""},{"$f":"IF(F629=\"\",\"\",INDEX(EF!$B$2:$B$112,MATCH(F629,EF!$C$2:$C$112,0)))","v":""}]
["",null,null,{"$f":"IF(F630=\"\",\"\",INDEX(EF!$A$2:$A$112,MATCH(F630,EF!$C$2:$C$112,0)))","v":""},{"$f":"IF(F630=\"\",\"\",INDEX(EF!$B$2:$B$112,MATCH(F630,EF!$C$2:$C$112,0)))","v":""}]
["",null,null,{"$f":"IF(F631=\"\",\"\",INDEX(EF!$A$2:$A$112,MATCH(F631,EF!$C$2:$C$112,0)))","v":""},{"$f":"IF(F631=\"\",\"\",INDEX(EF!$B$2:$B$112,MATCH(F631,EF!$C$2:$C$112,0)))","v":""}]
["",null,null,{"$f":"IF(F632=\"\",\"\",INDEX(EF!$A$2:$A$112,MATCH(F632,EF!$C$2:$C$112,0)))","v":""},{"$f":"IF(F632=\"\",\"\",INDEX(EF!$B$2:$B$112,MATCH(F632,EF!$C$2:$C$112,0)))","v":""}]
["",null,null,{"$f":"IF(F633=\"\",\"\",INDEX(EF!$A$2:$A$112,MATCH(F633,EF!$C$2:$C$112,0)))","v":""},{"$f":"IF(F633=\"\",\"\",INDEX(EF!$B$2:$B$112,MATCH(F633,EF!$C$2:$C$112,0)))","v":""}]
["",null,null,{"$f":"IF(F634=\"\",\"\",INDEX(EF!$A$2:$A$112,MATCH(F634,EF!$C$2:$C$112,0)))","v":""},{"$f":"IF(F634=\"\",\"\",INDEX(EF!$B$2:$B$112,MATCH(F634,EF!$C$2:$C$112,0)))","v":""}]
["",null,null,{"$f":"IF(F635=\"\",\"\",INDEX(EF!$A$2:$A$112,MATCH(F635,EF!$C$2:$C$112,0)))","v":""},{"$f":"IF(F635=\"\",\"\",INDEX(EF!$B$2:$B$112,MATCH(F635,EF!$C$2:$C$112,0)))","v":""}]
["",null,null,{"$f":"IF(F636=\"\",\"\",INDEX(EF!$A$2:$A$112,MATCH(F636,EF!$C$2:$C$112,0)))","v":""},{"$f":"IF(F636=\"\",\"\",INDEX(EF!$B$2:$B$112,MATCH(F636,EF!$C$2:$C$112,0)))","v":""}]
["",null,null,{"$f":"IF(F637=\"\",\"\",INDEX(EF!$A$2:$A$112,MATCH(F637,EF!$C$2:$C$112,0)))","v":""},{"$f":"IF(F637=\"\",\"\",INDEX(EF!$B$2:$B$112,MATCH(F637,EF!$C$2:$C$112,0)))","v":""}]
["",null,null,{"$f":"IF(F638=\"\",\"\",INDEX(EF!$A$2:$A$112,MATCH(F638,EF!$C$2:$C$112,0)))","v":""},{"$f":"IF(F638=\"\",\"\",INDEX(EF!$B$2:$B$112,MATCH(F638,EF!$C$2:$C$112,0)))","v":""}]
["",null,null,{"$f":"IF(F639=\"\",\"\",INDEX(EF!$A$2:$A$112,MATCH(F639,EF!$C$2:$C$112,0)))","v":""},{"$f":"IF(F639=\"\",\"\",INDEX(EF!$B$2:$B$112,MATCH(F639,EF!$C$2:$C$112,0)))","v":""}]
["",null,null,{"$f":"IF(F640=\"\",\"\",INDEX(EF!$A$2:$A$112,MATCH(F640,EF!$C$2:$C$112,0)))","v":""},{"$f":"IF(F640=\"\",\"\",INDEX(EF!$B$2:$B$112,MATCH(F640,EF!$C$2:$C$112,0)))","v":""}]
["",null,null,{"$f":"IF(F641=\"\",\"\",INDEX(EF!$A$2:$A$112,MATCH(F641,EF!$C$2:$C$112,0)))","v":""},{"$f":"IF(F641=\"\",\"\",INDEX(EF!$B$2:$B$112,MATCH(F641,EF!$C$2:$C$112,0)))","v":""}]
["",null,null,{"$f":"IF(F642=\"\",\"\",INDEX(EF!$A$2:$A$112,MATCH(F642,EF!$C$2:$C$112,0)))","v":""},{"$f":"IF(F642=\"\",\"\",INDEX(EF!$B$2:$B$112,MATCH(F642,EF!$C$2:$C$112,0)))","v":""}]
["",null,null,{"$f":"IF(F643=\"\",\"\",INDEX(EF!$A$2:$A$112,MATCH(F643,EF!$C$2:$C$112,0)))","v":""},{"$f":"IF(F643=\"\",\"\",INDEX(EF!$B$2:$B$112,MATCH(F643,EF!$C$2:$C$112,0)))","v":""}]
["",null,null,{"$f":"IF(F644=\"\",\"\",INDEX(EF!$A$2:$A$112,MATCH(F644,EF!$C$2:$C$112,0)))","v":""},{"$f":"IF(F644=\"\",\"\",INDEX(EF!$B$2:$B$112,MATCH(F644,EF!$C$2:$C$112,0)))","v":""}]
["",null,null,{"$f":"IF(F645=\"\",\"\",INDEX(EF!$A$2:$A$112,MATCH(F645,EF!$C$2:$C$112,0)))","v":""},{"$f":"IF(F645=\"\",\"\",INDEX(EF!$B$2:$B$112,MATCH(F645,EF!$C$2:$C$112,0)))","v":""}]
["",null,null,{"$f":"IF(F646=\"\",\"\",INDEX(EF!$A$2:$A$112,MATCH(F646,EF!$C$2:$C$112,0)))","v":""},{"$f":"IF(F646=\"\",\"\",INDEX(EF!$B$2:$B$112,MATCH(F646,EF!$C$2:$C$112,0)))","v":""}]
["",null,null,{"$f":"IF(F647=\"\",\"\",INDEX(EF!$A$2:$A$112,MATCH(F647,EF!$C$2:$C$112,0)))","v":""},{"$f":"IF(F647=\"\",\"\",INDEX(EF!$B$2:$B$112,MATCH(F647,EF!$C$2:$C$112,0)))","v":""}]
["",null,null,{"$f":"IF(F648=\"\",\"\",INDEX(EF!$A$2:$A$112,MATCH(F648,EF!$C$2:$C$112,0)))","v":""},{"$f":"IF(F648=\"\",\"\",INDEX(EF!$B$2:$B$112,MATCH(F648,EF!$C$2:$C$112,0)))","v":""}]
["",null,null,{"$f":"IF(F649=\"\",\"\",INDEX(EF!$A$2:$A$112,MATCH(F649,EF!$C$2:$C$112,0)))","v":""},{"$f":"IF(F649=\"\",\"\",INDEX(EF!$B$2:$B$112,MATCH(F649,EF!$C$2:$C$112,0)))","v":""}]
["",null,null,{"$f":"IF(F650=\"\",\"\",INDEX(EF!$A$2:$A$112,MATCH(F650,EF!$C$2:$C$112,0)))","v":""},{"$f":"IF(F650=\"\",\"\",INDEX(EF!$B$2:$B$112,MATCH(F650,EF!$C$2:$C$112,0)))","v":""}]
["",null,null,{"$f":"IF(F651=\"\",\"\",INDEX(EF!$A$2:$A$112,MATCH(F651,EF!$C$2:$C$112,0)))","v":""},{"$f":"IF(F651=\"\",\"\",INDEX(EF!$B$2:$B$112,MATCH(F651,EF!$C$2:$C$112,0)))","v":""}]
["",null,null,{"$f":"IF(F652=\"\",\"\",INDEX(EF!$A$2:$A$112,MATCH(F652,EF!$C$2:$C$112,0)))","v":""},{"$f":"IF(F652=\"\",\"\",INDEX(EF!$B$2:$B$112,MATCH(F652,EF!$C$2:$C$112,0)))","v":""}]
["",null,null,{"$f":"IF(F653=\"\",\"\",INDEX(EF!$A$2:$A$112,MATCH(F653,EF!$C$2:$C$112,0)))","v":""},{"$f":"IF(F653=\"\",\"\",INDEX(EF!$B$2:$B$112,MATCH(F653,EF!$C$2:$C$112,0)))","v":""}]
["",null,null,{"$f":"IF(F654=\"\",\"\",INDEX(EF!$A$2:$A$112,MATCH(F654,EF!$C$2:$C$112,0)))","v":""},{"$f":"IF(F654=\"\",\"\",INDEX(EF!$B$2:$B$112,MATCH(F654,EF!$C$2:$C$112,0)))","v":""}]
["",null,null,{"$f":"IF(F655=\"\",\"\",INDEX(EF!$A$2:$A$112,MATCH(F655,EF!$C$2:$C$112,0)))","v":""},{"$f":"IF(F655=\"\",\"\",INDEX(EF!$B$2:$B$112,MATCH(F655,EF!$C$2:$C$112,0)))","v":""}]
["",null,null,{"$f":"IF(F656=\"\",\"\",INDEX(EF!$A$2:$A$112,MATCH(F656,EF!$C$2:$C$112,0)))","v":""},{"$f":"IF(F656=\"\",\"\",INDEX(EF!$B$2:$B$112,MATCH(F656,EF!$C$2:$C$112,0)))","v":""}]
["",null,null,{"$f":"IF(F657=\"\",\"\",INDEX(EF!$A$2:$A$112,MATCH(F657,EF!$C$2:$C$112,0)))","v":""},{"$f":"IF(F657=\"\",\"\",INDEX(EF!$B$2:$B$112,MATCH(F657,EF!$C$2:$C$112,0)))","v":""}]
["",null,null,{"$f":"IF(F658=\"\",\"\",INDEX(EF!$A$2:$A$112,MATCH(F658,EF!$C$2:$C$112,0)))","v":""},{"$f":"IF(F658=\"\",\"\",INDEX(EF!$B$2:$B$112,MATCH(F658,EF!$C$2:$C$112,0)))","v":""}]
["",null,null,{"$f":"IF(F659=\"\",\"\",INDEX(EF!$A$2:$A$112,MATCH(F659,EF!$C$2:$C$112,0)))","v":""},{"$f":"IF(F659=\"\",\"\",INDEX(EF!$B$2:$B$112,MATCH(F659,EF!$C$2:$C$112,0)))","v":""}]
["",null,null,{"$f":"IF(F660=\"\",\"\",INDEX(EF!$A$2:$A$112,MATCH(F660,EF!$C$2:$C$112,0)))","v":""},{"$f":"IF(F660=\"\",\"\",INDEX(EF!$B$2:$B$112,MATCH(F660,EF!$C$2:$C$112,0)))","v":""}]
["",null,null,{"$f":"IF(F661=\"\",\"\",INDEX(EF!$A$2:$A$112,MATCH(F661,EF!$C$2:$C$112,0)))","v":""},{"$f":"IF(F661=\"\",\"\",INDEX(EF!$B$2:$B$112,MATCH(F661,EF!$C$2:$C$112,0)))","v":""}]
["",null,null,{"$f":"IF(F662=\"\",\"\",INDEX(EF!$A$2:$A$112,MATCH(F662,EF!$C$2:$C$112,0)))","v":""},{"$f":"IF(F662=\"\",\"\",INDEX(EF!$B$2:$B$112,MATCH(F662,EF!$C$2:$C$112,0)))","v":""}]
["",null,null,{"$f":"IF(F663=\"\",\"\",INDEX(EF!$A$2:$A$112,MATCH(F663,EF!$C$2:$C$112,0)))","v":""},{"$f":"IF(F663=\"\",\"\",INDEX(EF!$B$2:$B$112,MATCH(F663,EF!$C$2:$C$112,0)))","v":""}]
["",null,null,{"$f":"IF(F664=\"\",\"\",INDEX(EF!$A$2:$A$112,MATCH(F664,EF!$C$2:$C$112,0)))","v":""},{"$f":"IF(F664=\"\",\"\",INDEX(EF!$B$2:$B$112,MATCH(F664,EF!$C$2:$C$112,0)))","v":""}]
["",null,null,{"$f":"IF(F665=\"\",\"\",INDEX(EF!$A$2:$A$112,MATCH(F665,EF!$C$2:$C$112,0)))","v":""},{"$f":"IF(F665=\"\",\"\",INDEX(EF!$B$2:$B$112,MATCH(F665,EF!$C$2:$C$112,0)))","v":""}]
["",null,null,{"$f":"IF(F666=\"\",\"\",INDEX(EF!$A$2:$A$112,MATCH(F666,EF!$C$2:$C$112,0)))","v":""},{"$f":"IF(F666=\"\",\"\",INDEX(EF!$B$2:$B$112,MATCH(F666,EF!$C$2:$C$112,0)))","v":""}]
["",null,null,{"$f":"IF(F667=\"\",\"\",INDEX(EF!$A$2:$A$112,MATCH(F667,EF!$C$2:$C$112,0)))","v":""},{"$f":"IF(F667=\"\",\"\",INDEX(EF!$B$2:$B$112,MATCH(F667,EF!$C$2:$C$112,0)))","v":""}]
[{"$f":"IF(B668>0,A667+1,\"\")","v":""},null,null,{"$f":"IF(F668=\"\",\"\",INDEX(EF!$A$2:$A$112,MATCH(F668,EF!$C$2:$C$112,0)))","v":""},{"$f":"IF(F668=\"\",\"\",INDEX(EF!$B$2:$B$112,MATCH(F668,EF!$C$2:$C$112,0)))","v":""}]
["",null,null,{"$f":"IF(F669=\"\",\"\",INDEX(EF!$A$2:$A$112,MATCH(F669,EF!$C$2:$C$112,0)))","v":""},{"$f":"IF(F669=\"\",\"\",INDEX(EF!$B$2:$B$112,MATCH(F669,EF!$C$2:$C$112,0)))","v":""}]
["",null,null,{"$f":"IF(F670=\"\",\"\",INDEX(EF!$A$2:$A$112,MATCH(F670,EF!$C$2:$C$112,0)))","v":""},{"$f":"IF(F670=\"\",\"\",INDEX(EF!$B$2:$B$112,MATCH(F670,EF!$C$2:$C$112,0)))","v":""}]
["",null,null,{"$f":"IF(F671=\"\",\"\",INDEX(EF!$A$2:$A$112,MATCH(F671,EF!$C$2:$C$112,0)))","v":""},{"$f":"IF(F671=\"\",\"\",INDEX(EF!$B$2:$B$112,MATCH(F671,EF!$C$2:$C$112,0)))","v":""}]
["",null,null,{"$f":"IF(F672=\"\",\"\",INDEX(EF!$A$2:$A$112,MATCH(F672,EF!$C$2:$C$112,0)))","v":""},{"$f":"IF(F672=\"\",\"\",INDEX(EF!$B$2:$B$112,MATCH(F672,EF!$C$2:$C$112,0)))","v":""}]
["",null,null,{"$f":"IF(F673=\"\",\"\",INDEX(EF!$A$2:$A$112,MATCH(F673,EF!$C$2:$C$112,0)))","v":""},{"$f":"IF(F673=\"\",\"\",INDEX(EF!$B$2:$B$112,MATCH(F673,EF!$C$2:$C$112,0)))","v":""}]
["",null,null,{"$f":"IF(F674=\"\",\"\",INDEX(EF!$A$2:$A$112,MATCH(F674,EF!$C$2:$C$112,0)))","v":""},{"$f":"IF(F674=\"\",\"\",INDEX(EF!$B$2:$B$112,MATCH(F674,EF!$C$2:$C$112,0)))","v":""}]
["",null,null,{"$f":"IF(F675=\"\",\"\",INDEX(EF!$A$2:$A$112,MATCH(F675,EF!$C$2:$C$112,0)))","v":""},{"$f":"IF(F675=\"\",\"\",INDEX(EF!$B$2:$B$112,MATCH(F675,EF!$C$2:$C$112,0)))","v":""}]
["",null,null,{"$f":"IF(F676=\"\",\"\",INDEX(EF!$A$2:$A$112,MATCH(F676,EF!$C$2:$C$112,0)))","v":""},{"$f":"IF(F676=\"\",\"\",INDEX(EF!$B$2:$B$112,MATCH(F676,EF!$C$2:$C$112,0)))","v":""}]
["",null,null,{"$f":"IF(F677=\"\",\"\",INDEX(EF!$A$2:$A$112,MATCH(F677,EF!$C$2:$C$112,0)))","v":""},{"$f":"IF(F677=\"\",\"\",INDEX(EF!$B$2:$B$112,MATCH(F677,EF!$C$2:$C$112,0)))","v":""}]
["",null,null,{"$f":"IF(F678=\"\",\"\",INDEX(EF!$A$2:$A$112,MATCH(F678,EF!$C$2:$C$112,0)))","v":""},{"$f":"IF(F678=\"\",\"\",INDEX(EF!$B$2:$B$112,MATCH(F678,EF!$C$2:$C$112,0)))","v":""}]
["",null,null,{"$f":"IF(F679=\"\",\"\",INDEX(EF!$A$2:$A$112,MATCH(F679,EF!$C$2:$C$112,0)))","v":""},{"$f":"IF(F679=\"\",\"\",INDEX(EF!$B$2:$B$112,MATCH(F679,EF!$C$2:$C$112,0)))","v":""}]
["",null,null,{"$f":"IF(F680=\"\",\"\",INDEX(EF!$A$2:$A$112,MATCH(F680,EF!$C$2:$C$112,0)))","v":""},{"$f":"IF(F680=\"\",\"\",INDEX(EF!$B$2:$B$112,MATCH(F680,EF!$C$2:$C$112,0)))","v":""}]
["",null,null,{"$f":"IF(F681=\"\",\"\",INDEX(EF!$A$2:$A$112,MATCH(F681,EF!$C$2:$C$112,0)))","v":""},{"$f":"IF(F681=\"\",\"\",INDEX(EF!$B$2:$B$112,MATCH(F681,EF!$C$2:$C$112,0)))","v":""}]
["",null,null,{"$f":"IF(F682=\"\",\"\",INDEX(EF!$A$2:$A$112,MATCH(F682,EF!$C$2:$C$112,0)))","v":""},{"$f":"IF(F682=\"\",\"\",INDEX(EF!$B$2:$B$112,MATCH(F682,EF!$C$2:$C$112,0)))","v":""}]
["",null,null,{"$f":"IF(F683=\"\",\"\",INDEX(EF!$A$2:$A$112,MATCH(F683,EF!$C$2:$C$112,0)))","v":""},{"$f":"IF(F683=\"\",\"\",INDEX(EF!$B$2:$B$112,MATCH(F683,EF!$C$2:$C$112,0)))","v":""}]
["",null,null,{"$f":"IF(F684=\"\",\"\",INDEX(EF!$A$2:$A$112,MATCH(F684,EF!$C$2:$C$112,0)))","v":""},{"$f":"IF(F684=\"\",\"\",INDEX(EF!$B$2:$B$112,MATCH(F684,EF!$C$2:$C$112,0)))","v":""}]
["",null,null,{"$f":"IF(F685=\"\",\"\",INDEX(EF!$A$2:$A$112,MATCH(F685,EF!$C$2:$C$112,0)))","v":""},{"$f":"IF(F685=\"\",\"\",INDEX(EF!$B$2:$B$112,MATCH(F685,EF!$C$2:$C$112,0)))","v":""}]
["",null,null,{"$f":"IF(F686=\"\",\"\",INDEX(EF!$A$2:$A$112,MATCH(F686,EF!$C$2:$C$112,0)))","v":""},{"$f":"IF(F686=\"\",\"\",INDEX(EF!$B$2:$B$112,MATCH(F686,EF!$C$2:$C$112,0)))","v":""}]
["",null,null,{"$f":"IF(F687=\"\",\"\",INDEX(EF!$A$2:$A$112,MATCH(F687,EF!$C$2:$C$112,0)))","v":""},{"$f":"IF(F687=\"\",\"\",INDEX(EF!$B$2:$B$112,MATCH(F687,EF!$C$2:$C$112,0)))","v":""}]
["",null,null,{"$f":"IF(F688=\"\",\"\",INDEX(EF!$A$2:$A$112,MATCH(F688,EF!$C$2:$C$112,0)))","v":""},{"$f":"IF(F688=\"\",\"\",INDEX(EF!$B$2:$B$112,MATCH(F688,EF!$C$2:$C$112,0)))","v":""}]
["",null,null,{"$f":"IF(F689=\"\",\"\",INDEX(EF!$A$2:$A$112,MATCH(F689,EF!$C$2:$C$112,0)))","v":""},{"$f":"IF(F689=\"\",\"\",INDEX(EF!$B$2:$B$112,MATCH(F689,EF!$C$2:$C$112,0)))","v":""}]
["",null,null,{"$f":"IF(F690=\"\",\"\",INDEX(EF!$A$2:$A$112,MATCH(F690,EF!$C$2:$C$112,0)))","v":""},{"$f":"IF(F690=\"\",\"\",INDEX(EF!$B$2:$B$112,MATCH(F690,EF!$C$2:$C$112,0)))","v":""}]
["",null,null,{"$f":"IF(F691=\"\",\"\",INDEX(EF!$A$2:$A$112,MATCH(F691,EF!$C$2:$C$112,0)))","v":""},{"$f":"IF(F691=\"\",\"\",INDEX(EF!$B$2:$B$112,MATCH(F691,EF!$C$2:$C$112,0)))","v":""}]
["",null,null,{"$f":"IF(F692=\"\",\"\",INDEX(EF!$A$2:$A$112,MATCH(F692,EF!$C$2:$C$112,0)))","v":""},{"$f":"IF(F692=\"\",\"\",INDEX(EF!$B$2:$B$112,MATCH(F692,EF!$C$2:$C$112,0)))","v":""}]
["",null,null,{"$f":"IF(F693=\"\",\"\",INDEX(EF!$A$2:$A$112,MATCH(F693,EF!$C$2:$C$112,0)))","v":""},{"$f":"IF(F693=\"\",\"\",INDEX(EF!$B$2:$B$112,MATCH(F693,EF!$C$2:$C$112,0)))","v":""}]
["",null,null,{"$f":"IF(F694=\"\",\"\",INDEX(EF!$A$2:$A$112,MATCH(F694,EF!$C$2:$C$112,0)))","v":""},{"$f":"IF(F694=\"\",\"\",INDEX(EF!$B$2:$B$112,MATCH(F694,EF!$C$2:$C$112,0)))","v":""}]
["",null,null,{"$f":"IF(F695=\"\",\"\",INDEX(EF!$A$2:$A$112,MATCH(F695,EF!$C$2:$C$112,0)))","v":""},{"$f":"IF(F695=\"\",\"\",INDEX(EF!$B$2:$B$112,MATCH(F695,EF!$C$2:$C$112,0)))","v":""}]
["",null,null,{"$f":"IF(F696=\"\",\"\",INDEX(EF!$A$2:$A$112,MATCH(F696,EF!$C$2:$C$112,0)))","v":""},{"$f":"IF(F696=\"\",\"\",INDEX(EF!$B$2:$B$112,MATCH(F696,EF!$C$2:$C$112,0)))","v":""}]
["",null,null,{"$f":"IF(F697=\"\",\"\",INDEX(EF!$A$2:$A$112,MATCH(F697,EF!$C$2:$C$112,0)))","v":""},{"$f":"IF(F697=\"\",\"\",INDEX(EF!$B$2:$B$112,MATCH(F697,EF!$C$2:$C$112,0)))","v":""}]
["",null,null,{"$f":"IF(F698=\"\",\"\",INDEX(EF!$A$2:$A$112,MATCH(F698,EF!$C$2:$C$112,0)))","v":""},{"$f":"IF(F698=\"\",\"\",INDEX(EF!$B$2:$B$112,MATCH(F698,EF!$C$2:$C$112,0)))","v":""}]
["",null,null,{"$f":"IF(F699=\"\",\"\",INDEX(EF!$A$2:$A$112,MATCH(F699,EF!$C$2:$C$112,0)))","v":""},{"$f":"IF(F699=\"\",\"\",INDEX(EF!$B$2:$B$112,MATCH(F699,EF!$C$2:$C$112,0)))","v":""}]
["",null,null,{"$f":"IF(F700=\"\",\"\",INDEX(EF!$A$2:$A$112,MATCH(F700,EF!$C$2:$C$112,0)))","v":""},{"$f":"IF(F700=\"\",\"\",INDEX(EF!$B$2:$B$112,MATCH(F700,EF!$C$2:$C$112,0)))","v":""}]
["",null,null,{"$f":"IF(F701=\"\",\"\",INDEX(EF!$A$2:$A$112,MATCH(F701,EF!$C$2:$C$112,0)))","v":""},{"$f":"IF(F701=\"\",\"\",INDEX(EF!$B$2:$B$112,MATCH(F701,EF!$C$2:$C$112,0)))","v":""}]
["",null,null,{"$f":"IF(F702=\"\",\"\",INDEX(EF!$A$2:$A$112,MATCH(F702,EF!$C$2:$C$112,0)))","v":""},{"$f":"IF(F702=\"\",\"\",INDEX(EF!$B$2:$B$112,MATCH(F702,EF!$C$2:$C$112,0)))","v":""}]
["",null,null,{"$f":"IF(F703=\"\",\"\",INDEX(EF!$A$2:$A$112,MATCH(F703,EF!$C$2:$C$112,0)))","v":""},{"$f":"IF(F703=\"\",\"\",INDEX(EF!$B$2:$B$112,MATCH(F703,EF!$C$2:$C$112,0)))","v":""}]
["",null,null,{"$f":"IF(F704=\"\",\"\",INDEX(EF!$A$2:$A$112,MATCH(F704,EF!$C$2:$C$112,0)))","v":""},{"$f":"IF(F704=\"\",\"\",INDEX(EF!$B$2:$B$112,MATCH(F704,EF!$C$2:$C$112,0)))","v":""}]
["",null,null,{"$f":"IF(F705=\"\",\"\",INDEX(EF!$A$2:$A$112,MATCH(F705,EF!$C$2:$C$112,0)))","v":""},{"$f":"IF(F705=\"\",\"\",INDEX(EF!$B$2:$B$112,MATCH(F705,EF!$C$2:$C$112,0)))","v":""}]
["",null,null,{"$f":"IF(F706=\"\",\"\",INDEX(EF!$A$2:$A$112,MATCH(F706,EF!$C$2:$C$112,0)))","v":""},{"$f":"IF(F706=\"\",\"\",INDEX(EF!$B$2:$B$112,MATCH(F706,EF!$C$2:$C$112,0)))","v":""}]
["",null,null,{"$f":"IF(F707=\"\",\"\",INDEX(EF!$A$2:$A$112,MATCH(F707,EF!$C$2:$C$112,0)))","v":""},{"$f":"IF(F707=\"\",\"\",INDEX(EF!$B$2:$B$112,MATCH(F707,EF!$C$2:$C$112,0)))","v":""}]
["",null,null,{"$f":"IF(F708=\"\",\"\",INDEX(EF!$A$2:$A$112,MATCH(F708,EF!$C$2:$C$112,0)))","v":""},{"$f":"IF(F708=\"\",\"\",INDEX(EF!$B$2:$B$112,MATCH(F708,EF!$C$2:$C$112,0)))","v":""}]
["",null,null,{"$f":"IF(F709=\"\",\"\",INDEX(EF!$A$2:$A$112,MATCH(F709,EF!$C$2:$C$112,0)))","v":""},{"$f":"IF(F709=\"\",\"\",INDEX(EF!$B$2:$B$112,MATCH(F709,EF!$C$2:$C$112,0)))","v":""}]
["",null,null,{"$f":"IF(F710=\"\",\"\",INDEX(EF!$A$2:$A$112,MATCH(F710,EF!$C$2:$C$112,0)))","v":""},{"$f":"IF(F710=\"\",\"\",INDEX(EF!$B$2:$B$112,MATCH(F710,EF!$C$2:$C$112,0)))","v":""}]
["",null,null,{"$f":"IF(F711=\"\",\"\",INDEX(EF!$A$2:$A$112,MATCH(F711,EF!$C$2:$C$112,0)))","v":""},{"$f":"IF(F711=\"\",\"\",INDEX(EF!$B$2:$B$112,MATCH(F711,EF!$C$2:$C$112,0)))","v":""}]
["",null,null,{"$f":"IF(F712=\"\",\"\",INDEX(EF!$A$2:$A$112,MATCH(F712,EF!$C$2:$C$112,0)))","v":""},{"$f":"IF(F712=\"\",\"\",INDEX(EF!$B$2:$B$112,MATCH(F712,EF!$C$2:$C$112,0)))","v":""}]
["",null,null,{"$f":"IF(F713=\"\",\"\",INDEX(EF!$A$2:$A$112,MATCH(F713,EF!$C$2:$C$112,0)))","v":""},{"$f":"IF(F713=\"\",\"\",INDEX(EF!$B$2:$B$112,MATCH(F713,EF!$C$2:$C$112,0)))","v":""}]
["",null,null,{"$f":"IF(F714=\"\",\"\",INDEX(EF!$A$2:$A$112,MATCH(F714,EF!$C$2:$C$112,0)))","v":""},{"$f":"IF(F714=\"\",\"\",INDEX(EF!$B$2:$B$112,MATCH(F714,EF!$C$2:$C$112,0)))","v":""}]
["",null,null,{"$f":"IF(F715=\"\",\"\",INDEX(EF!$A$2:$A$112,MATCH(F715,EF!$C$2:$C$112,0)))","v":""},{"$f":"IF(F715=\"\",\"\",INDEX(EF!$B$2:$B$112,MATCH(F715,EF!$C$2:$C$112,0)))","v":""}]
["",null,null,{"$f":"IF(F716=\"\",\"\",INDEX(EF!$A$2:$A$112,MATCH(F716,EF!$C$2:$C$112,0)))","v":""},{"$f":"IF(F716=\"\",\"\",INDEX(EF!$B$2:$B$112,MATCH(F716,EF!$C$2:$C$112,0)))","v":""}]
["",null,null,{"$f":"IF(F717=\"\",\"\",INDEX(EF!$A$2:$A$112,MATCH(F717,EF!$C$2:$C$112,0)))","v":""},{"$f":"IF(F717=\"\",\"\",INDEX(EF!$B$2:$B$112,MATCH(F717,EF!$C$2:$C$112,0)))","v":""}]
["",null,null,{"$f":"IF(F718=\"\",\"\",INDEX(EF!$A$2:$A$112,MATCH(F718,EF!$C$2:$C$112,0)))","v":""},{"$f":"IF(F718=\"\",\"\",INDEX(EF!$B$2:$B$112,MATCH(F718,EF!$C$2:$C$112,0)))","v":""}]
["",null,null,{"$f":"IF(F719=\"\",\"\",INDEX(EF!$A$2:$A$112,MATCH(F719,EF!$C$2:$C$112,0)))","v":""},{"$f":"IF(F719=\"\",\"\",INDEX(EF!$B$2:$B$112,MATCH(F719,EF!$C$2:$C$112,0)))","v":""}]
["",null,null,{"$f":"IF(F720=\"\",\"\",INDEX(EF!$A$2:$A$112,MATCH(F720,EF!$C$2:$C$112,0)))","v":""},{"$f":"IF(F720=\"\",\"\",INDEX(EF!$B$2:$B$112,MATCH(F720,EF!$C$2:$C$112,0)))","v":""}]
["",null,null,{"$f":"IF(F721=\"\",\"\",INDEX(EF!$A$2:$A$112,MATCH(F721,EF!$C$2:$C$112,0)))","v":""},{"$f":"IF(F721=\"\",\"\",INDEX(EF!$B$2:$B$112,MATCH(F721,EF!$C$2:$C$112,0)))","v":""}]
["",null,null,{"$f":"IF(F722=\"\",\"\",INDEX(EF!$A$2:$A$112,MATCH(F722,EF!$C$2:$C$112,0)))","v":""},{"$f":"IF(F722=\"\",\"\",INDEX(EF!$B$2:$B$112,MATCH(F722,EF!$C$2:$C$112,0)))","v":""}]
["",null,null,{"$f":"IF(F723=\"\",\"\",INDEX(EF!$A$2:$A$112,MATCH(F723,EF!$C$2:$C$112,0)))","v":""},{"$f":"IF(F723=\"\",\"\",INDEX(EF!$B$2:$B$112,MATCH(F723,EF!$C$2:$C$112,0)))","v":""}]
["",null,null,{"$f":"IF(F724=\"\",\"\",INDEX(EF!$A$2:$A$112,MATCH(F724,EF!$C$2:$C$112,0)))","v":""},{"$f":"IF(F724=\"\",\"\",INDEX(EF!$B$2:$B$112,MATCH(F724,EF!$C$2:$C$112,0)))","v":""}]
["",null,null,{"$f":"IF(F725=\"\",\"\",INDEX(EF!$A$2:$A$112,MATCH(F725,EF!$C$2:$C$112,0)))","v":""},{"$f":"IF(F725=\"\",\"\",INDEX(EF!$B$2:$B$112,MATCH(F725,EF!$C$2:$C$112,0)))","v":""}]
["",null,null,{"$f":"IF(F726=\"\",\"\",INDEX(EF!$A$2:$A$112,MATCH(F726,EF!$C$2:$C$112,0)))","v":""},{"$f":"IF(F726=\"\",\"\",INDEX(EF!$B$2:$B$112,MATCH(F726,EF!$C$2:$C$112,0)))","v":""}]
["",null,null,{"$f":"IF(F727=\"\",\"\",INDEX(EF!$A$2:$A$112,MATCH(F727,EF!$C$2:$C$112,0)))","v":""},{"$f":"IF(F727=\"\",\"\",INDEX(EF!$B$2:$B$112,MATCH(F727,EF!$C$2:$C$112,0)))","v":""}]
["",null,null,{"$f":"IF(F728=\"\",\"\",INDEX(EF!$A$2:$A$112,MATCH(F728,EF!$C$2:$C$112,0)))","v":""},{"$f":"IF(F728=\"\",\"\",INDEX(EF!$B$2:$B$112,MATCH(F728,EF!$C$2:$C$112,0)))","v":""}]
["",null,null,{"$f":"IF(F729=\"\",\"\",INDEX(EF!$A$2:$A$112,MATCH(F729,EF!$C$2:$C$112,0)))","v":""},{"$f":"IF(F729=\"\",\"\",INDEX(EF!$B$2:$B$112,MATCH(F729,EF!$C$2:$C$112,0)))","v":""}]
["",null,null,{"$f":"IF(F730=\"\",\"\",INDEX(EF!$A$2:$A$112,MATCH(F730,EF!$C$2:$C$112,0)))","v":""},{"$f":"IF(F730=\"\",\"\",INDEX(EF!$B$2:$B$112,MATCH(F730,EF!$C$2:$C$112,0)))","v":""}]
["",null,null,{"$f":"IF(F731=\"\",\"\",INDEX(EF!$A$2:$A$112,MATCH(F731,EF!$C$2:$C$112,0)))","v":""},{"$f":"IF(F731=\"\",\"\",INDEX(EF!$B$2:$B$112,MATCH(F731,EF!$C$2:$C$112,0)))","v":""}]
[{"$f":"IF(B732>0,A731+1,\"\")","v":""},null,null,{"$f":"IF(F732=\"\",\"\",INDEX(EF!$A$2:$A$112,MATCH(F732,EF!$C$2:$C$112,0)))","v":""},{"$f":"IF(F732=\"\",\"\",INDEX(EF!$B$2:$B$112,MATCH(F732,EF!$C$2:$C$112,0)))","v":""}]
["",null,null,{"$f":"IF(F733=\"\",\"\",INDEX(EF!$A$2:$A$112,MATCH(F733,EF!$C$2:$C$112,0)))","v":""},{"$f":"IF(F733=\"\",\"\",INDEX(EF!$B$2:$B$112,MATCH(F733,EF!$C$2:$C$112,0)))","v":""}]
["",null,null,{"$f":"IF(F734=\"\",\"\",INDEX(EF!$A$2:$A$112,MATCH(F734,EF!$C$2:$C$112,0)))","v":""},{"$f":"IF(F734=\"\",\"\",INDEX(EF!$B$2:$B$112,MATCH(F734,EF!$C$2:$C$112,0)))","v":""}]
["",null,null,{"$f":"IF(F735=\"\",\"\",INDEX(EF!$A$2:$A$112,MATCH(F735,EF!$C$2:$C$112,0)))","v":""},{"$f":"IF(F735=\"\",\"\",INDEX(EF!$B$2:$B$112,MATCH(F735,EF!$C$2:$C$112,0)))","v":""}]
["",null,null,{"$f":"IF(F736=\"\",\"\",INDEX(EF!$A$2:$A$112,MATCH(F736,EF!$C$2:$C$112,0)))","v":""},{"$f":"IF(F736=\"\",\"\",INDEX(EF!$B$2:$B$112,MATCH(F736,EF!$C$2:$C$112,0)))","v":""}]
["",null,null,{"$f":"IF(F737=\"\",\"\",INDEX(EF!$A$2:$A$112,MATCH(F737,EF!$C$2:$C$112,0)))","v":""},{"$f":"IF(F737=\"\",\"\",INDEX(EF!$B$2:$B$112,MATCH(F737,EF!$C$2:$C$112,0)))","v":""}]
["",null,null,{"$f":"IF(F738=\"\",\"\",INDEX(EF!$A$2:$A$112,MATCH(F738,EF!$C$2:$C$112,0)))","v":""},{"$f":"IF(F738=\"\",\"\",INDEX(EF!$B$2:$B$112,MATCH(F738,EF!$C$2:$C$112,0)))","v":""}]
["",null,null,{"$f":"IF(F739=\"\",\"\",INDEX(EF!$A$2:$A$112,MATCH(F739,EF!$C$2:$C$112,0)))","v":""},{"$f":"IF(F739=\"\",\"\",INDEX(EF!$B$2:$B$112,MATCH(F739,EF!$C$2:$C$112,0)))","v":""}]
["",null,null,{"$f":"IF(F740=\"\",\"\",INDEX(EF!$A$2:$A$112,MATCH(F740,EF!$C$2:$C$112,0)))","v":""},{"$f":"IF(F740=\"\",\"\",INDEX(EF!$B$2:$B$112,MATCH(F740,EF!$C$2:$C$112,0)))","v":""}]
["",null,null,{"$f":"IF(F741=\"\",\"\",INDEX(EF!$A$2:$A$112,MATCH(F741,EF!$C$2:$C$112,0)))","v":""},{"$f":"IF(F741=\"\",\"\",INDEX(EF!$B$2:$B$112,MATCH(F741,EF!$C$2:$C$112,0)))","v":""}]
["",null,null,{"$f":"IF(F742=\"\",\"\",INDEX(EF!$A$2:$A$112,MATCH(F742,EF!$C$2:$C$112,0)))","v":""},{"$f":"IF(F742=\"\",\"\",INDEX(EF!$B$2:$B$112,MATCH(F742,EF!$C$2:$C$112,0)))","v":""}]
["",null,null,{"$f":"IF(F743=\"\",\"\",INDEX(EF!$A$2:$A$112,MATCH(F743,EF!$C$2:$C$112,0)))","v":""},{"$f":"IF(F743=\"\",\"\",INDEX(EF!$B$2:$B$112,MATCH(F743,EF!$C$2:$C$112,0)))","v":""}]
["",null,null,{"$f":"IF(F744=\"\",\"\",INDEX(EF!$A$2:$A$112,MATCH(F744,EF!$C$2:$C$112,0)))","v":""},{"$f":"IF(F744=\"\",\"\",INDEX(EF!$B$2:$B$112,MATCH(F744,EF!$C$2:$C$112,0)))","v":""}]
["",null,null,{"$f":"IF(F745=\"\",\"\",INDEX(EF!$A$2:$A$112,MATCH(F745,EF!$C$2:$C$112,0)))","v":""},{"$f":"IF(F745=\"\",\"\",INDEX(EF!$B$2:$B$112,MATCH(F745,EF!$C$2:$C$112,0)))","v":""}]
["",null,null,{"$f":"IF(F746=\"\",\"\",INDEX(EF!$A$2:$A$112,MATCH(F746,EF!$C$2:$C$112,0)))","v":""},{"$f":"IF(F746=\"\",\"\",INDEX(EF!$B$2:$B$112,MATCH(F746,EF!$C$2:$C$112,0)))","v":""}]
["",null,null,{"$f":"IF(F747=\"\",\"\",INDEX(EF!$A$2:$A$112,MATCH(F747,EF!$C$2:$C$112,0)))","v":""},{"$f":"IF(F747=\"\",\"\",INDEX(EF!$B$2:$B$112,MATCH(F747,EF!$C$2:$C$112,0)))","v":""}]
["",null,null,{"$f":"IF(F748=\"\",\"\",INDEX(EF!$A$2:$A$112,MATCH(F748,EF!$C$2:$C$112,0)))","v":""},{"$f":"IF(F748=\"\",\"\",INDEX(EF!$B$2:$B$112,MATCH(F748,EF!$C$2:$C$112,0)))","v":""}]
["",null,null,{"$f":"IF(F749=\"\",\"\",INDEX(EF!$A$2:$A$112,MATCH(F749,EF!$C$2:$C$112,0)))","v":""},{"$f":"IF(F749=\"\",\"\",INDEX(EF!$B$2:$B$112,MATCH(F749,EF!$C$2:$C$112,0)))","v":""}]
["",null,null,{"$f":"IF(F750=\"\",\"\",INDEX(EF!$A$2:$A$112,MATCH(F750,EF!$C$2:$C$112,0)))","v":""},{"$f":"IF(F750=\"\",\"\",INDEX(EF!$B$2:$B$112,MATCH(F750,EF!$C$2:$C$112,0)))","v":""}]
["",null,null,{"$f":"IF(F751=\"\",\"\",INDEX(EF!$A$2:$A$112,MATCH(F751,EF!$C$2:$C$112,0)))","v":""},{"$f":"IF(F751=\"\",\"\",INDEX(EF!$B$2:$B$112,MATCH(F751,EF!$C$2:$C$112,0)))","v":""}]
["",null,null,{"$f":"IF(F752=\"\",\"\",INDEX(EF!$A$2:$A$112,MATCH(F752,EF!$C$2:$C$112,0)))","v":""},{"$f":"IF(F752=\"\",\"\",INDEX(EF!$B$2:$B$112,MATCH(F752,EF!$C$2:$C$112,0)))","v":""}]
["",null,null,{"$f":"IF(F753=\"\",\"\",INDEX(EF!$A$2:$A$112,MATCH(F753,EF!$C$2:$C$112,0)))","v":""},{"$f":"IF(F753=\"\",\"\",INDEX(EF!$B$2:$B$112,MATCH(F753,EF!$C$2:$C$112,0)))","v":""}]
["",null,null,{"$f":"IF(F754=\"\",\"\",INDEX(EF!$A$2:$A$112,MATCH(F754,EF!$C$2:$C$112,0)))","v":""},{"$f":"IF(F754=\"\",\"\",INDEX(EF!$B$2:$B$112,MATCH(F754,EF!$C$2:$C$112,0)))","v":""}]
["",null,null,{"$f":"IF(F755=\"\",\"\",INDEX(EF!$A$2:$A$112,MATCH(F755,EF!$C$2:$C$112,0)))","v":""},{"$f":"IF(F755=\"\",\"\",INDEX(EF!$B$2:$B$112,MATCH(F755,EF!$C$2:$C$112,0)))","v":""}]
["",null,null,{"$f":"IF(F756=\"\",\"\",INDEX(EF!$A$2:$A$112,MATCH(F756,EF!$C$2:$C$112,0)))","v":""},{"$f":"IF(F756=\"\",\"\",INDEX(EF!$B$2:$B$112,MATCH(F756,EF!$C$2:$C$112,0)))","v":""}]
["",null,null,{"$f":"IF(F757=\"\",\"\",INDEX(EF!$A$2:$A$112,MATCH(F757,EF!$C$2:$C$112,0)))","v":""},{"$f":"IF(F757=\"\",\"\",INDEX(EF!$B$2:$B$112,MATCH(F757,EF!$C$2:$C$112,0)))","v":""}]
["",null,null,{"$f":"IF(F758=\"\",\"\",INDEX(EF!$A$2:$A$112,MATCH(F758,EF!$C$2:$C$112,0)))","v":""},{"$f":"IF(F758=\"\",\"\",INDEX(EF!$B$2:$B$112,MATCH(F758,EF!$C$2:$C$112,0)))","v":""}]
["",null,null,{"$f":"IF(F759=\"\",\"\",INDEX(EF!$A$2:$A$112,MATCH(F759,EF!$C$2:$C$112,0)))","v":""},{"$f":"IF(F759=\"\",\"\",INDEX(EF!$B$2:$B$112,MATCH(F759,EF!$C$2:$C$112,0)))","v":""}]
["",null,null,{"$f":"IF(F760=\"\",\"\",INDEX(EF!$A$2:$A$112,MATCH(F760,EF!$C$2:$C$112,0)))","v":""},{"$f":"IF(F760=\"\",\"\",INDEX(EF!$B$2:$B$112,MATCH(F760,EF!$C$2:$C$112,0)))","v":""}]
["",null,null,{"$f":"IF(F761=\"\",\"\",INDEX(EF!$A$2:$A$112,MATCH(F761,EF!$C$2:$C$112,0)))","v":""},{"$f":"IF(F761=\"\",\"\",INDEX(EF!$B$2:$B$112,MATCH(F761,EF!$C$2:$C$112,0)))","v":""}]
["",null,null,{"$f":"IF(F762=\"\",\"\",INDEX(EF!$A$2:$A$112,MATCH(F762,EF!$C$2:$C$112,0)))","v":""},{"$f":"IF(F762=\"\",\"\",INDEX(EF!$B$2:$B$112,MATCH(F762,EF!$C$2:$C$112,0)))","v":""}]
["",null,null,{"$f":"IF(F763=\"\",\"\",INDEX(EF!$A$2:$A$112,MATCH(F763,EF!$C$2:$C$112,0)))","v":""},{"$f":"IF(F763=\"\",\"\",INDEX(EF!$B$2:$B$112,MATCH(F763,EF!$C$2:$C$112,0)))","v":""}]
["",null,null,{"$f":"IF(F764=\"\",\"\",INDEX(EF!$A$2:$A$112,MATCH(F764,EF!$C$2:$C$112,0)))","v":""},{"$f":"IF(F764=\"\",\"\",INDEX(EF!$B$2:$B$112,MATCH(F764,EF!$C$2:$C$112,0)))","v":""}]
["",null,null,{"$f":"IF(F765=\"\",\"\",INDEX(EF!$A$2:$A$112,MATCH(F765,EF!$C$2:$C$112,0)))","v":""},{"$f":"IF(F765=\"\",\"\",INDEX(EF!$B$2:$B$112,MATCH(F765,EF!$C$2:$C$112,0)))","v":""}]
["",null,null,{"$f":"IF(F766=\"\",\"\",INDEX(EF!$A$2:$A$112,MATCH(F766,EF!$C$2:$C$112,0)))","v":""},{"$f":"IF(F766=\"\",\"\",INDEX(EF!$B$2:$B$112,MATCH(F766,EF!$C$2:$C$112,0)))","v":""}]
["",null,null,{"$f":"IF(F767=\"\",\"\",INDEX(EF!$A$2:$A$112,MATCH(F767,EF!$C$2:$C$112,0)))","v":""},{"$f":"IF(F767=\"\",\"\",INDEX(EF!$B$2:$B$112,MATCH(F767,EF!$C$2:$C$112,0)))","v":""}]
["",null,null,{"$f":"IF(F768=\"\",\"\",INDEX(EF!$A$2:$A$112,MATCH(F768,EF!$C$2:$C$112,0)))","v":""},{"$f":"IF(F768=\"\",\"\",INDEX(EF!$B$2:$B$112,MATCH(F768,EF!$C$2:$C$112,0)))","v":""}]
["",null,null,{"$f":"IF(F769=\"\",\"\",INDEX(EF!$A$2:$A$112,MATCH(F769,EF!$C$2:$C$112,0)))","v":""},{"$f":"IF(F769=\"\",\"\",INDEX(EF!$B$2:$B$112,MATCH(F769,EF!$C$2:$C$112,0)))","v":""}]
["",null,null,{"$f":"IF(F770=\"\",\"\",INDEX(EF!$A$2:$A$112,MATCH(F770,EF!$C$2:$C$112,0)))","v":""},{"$f":"IF(F770=\"\",\"\",INDEX(EF!$B$2:$B$112,MATCH(F770,EF!$C$2:$C$112,0)))","v":""}]
["",null,null,{"$f":"IF(F771=\"\",\"\",INDEX(EF!$A$2:$A$112,MATCH(F771,EF!$C$2:$C$112,0)))","v":""},{"$f":"IF(F771=\"\",\"\",INDEX(EF!$B$2:$B$112,MATCH(F771,EF!$C$2:$C$112,0)))","v":""}]
["",null,null,{"$f":"IF(F772=\"\",\"\",INDEX(EF!$A$2:$A$112,MATCH(F772,EF!$C$2:$C$112,0)))","v":""},{"$f":"IF(F772=\"\",\"\",INDEX(EF!$B$2:$B$112,MATCH(F772,EF!$C$2:$C$112,0)))","v":""}]
["",null,null,{"$f":"IF(F773=\"\",\"\",INDEX(EF!$A$2:$A$112,MATCH(F773,EF!$C$2:$C$112,0)))","v":""},{"$f":"IF(F773=\"\",\"\",INDEX(EF!$B$2:$B$112,MATCH(F773,EF!$C$2:$C$112,0)))","v":""}]
["",null,null,{"$f":"IF(F774=\"\",\"\",INDEX(EF!$A$2:$A$112,MATCH(F774,EF!$C$2:$C$112,0)))","v":""},{"$f":"IF(F774=\"\",\"\",INDEX(EF!$B$2:$B$112,MATCH(F774,EF!$C$2:$C$112,0)))","v":""}]
["",null,null,{"$f":"IF(F775=\"\",\"\",INDEX(EF!$A$2:$A$112,MATCH(F775,EF!$C$2:$C$112,0)))","v":""},{"$f":"IF(F775=\"\",\"\",INDEX(EF!$B$2:$B$112,MATCH(F775,EF!$C$2:$C$112,0)))","v":""}]
["",null,null,{"$f":"IF(F776=\"\",\"\",INDEX(EF!$A$2:$A$112,MATCH(F776,EF!$C$2:$C$112,0)))","v":""},{"$f":"IF(F776=\"\",\"\",INDEX(EF!$B$2:$B$112,MATCH(F776,EF!$C$2:$C$112,0)))","v":""}]
["",null,null,{"$f":"IF(F777=\"\",\"\",INDEX(EF!$A$2:$A$112,MATCH(F777,EF!$C$2:$C$112,0)))","v":""},{"$f":"IF(F777=\"\",\"\",INDEX(EF!$B$2:$B$112,MATCH(F777,EF!$C$2:$C$112,0)))","v":""}]
["",null,null,{"$f":"IF(F778=\"\",\"\",INDEX(EF!$A$2:$A$112,MATCH(F778,EF!$C$2:$C$112,0)))","v":""},{"$f":"IF(F778=\"\",\"\",INDEX(EF!$B$2:$B$112,MATCH(F778,EF!$C$2:$C$112,0)))","v":""}]
["",null,null,{"$f":"IF(F779=\"\",\"\",INDEX(EF!$A$2:$A$112,MATCH(F779,EF!$C$2:$C$112,0)))","v":""},{"$f":"IF(F779=\"\",\"\",INDEX(EF!$B$2:$B$112,MATCH(F779,EF!$C$2:$C$112,0)))","v":""}]
["",null,null,{"$f":"IF(F780=\"\",\"\",INDEX(EF!$A$2:$A$112,MATCH(F780,EF!$C$2:$C$112,0)))","v":""},{"$f":"IF(F780=\"\",\"\",INDEX(EF!$B$2:$B$112,MATCH(F780,EF!$C$2:$C$112,0)))","v":""}]
["",null,null,{"$f":"IF(F781=\"\",\"\",INDEX(EF!$A$2:$A$112,MATCH(F781,EF!$C$2:$C$112,0)))","v":""},{"$f":"IF(F781=\"\",\"\",INDEX(EF!$B$2:$B$112,MATCH(F781,EF!$C$2:$C$112,0)))","v":""}]
["",null,null,{"$f":"IF(F782=\"\",\"\",INDEX(EF!$A$2:$A$112,MATCH(F782,EF!$C$2:$C$112,0)))","v":""},{"$f":"IF(F782=\"\",\"\",INDEX(EF!$B$2:$B$112,MATCH(F782,EF!$C$2:$C$112,0)))","v":""}]
["",null,null,{"$f":"IF(F783=\"\",\"\",INDEX(EF!$A$2:$A$112,MATCH(F783,EF!$C$2:$C$112,0)))","v":""},{"$f":"IF(F783=\"\",\"\",INDEX(EF!$B$2:$B$112,MATCH(F783,EF!$C$2:$C$112,0)))","v":""}]
["",null,null,{"$f":"IF(F784=\"\",\"\",INDEX(EF!$A$2:$A$112,MATCH(F784,EF!$C$2:$C$112,0)))","v":""},{"$f":"IF(F784=\"\",\"\",INDEX(EF!$B$2:$B$112,MATCH(F784,EF!$C$2:$C$112,0)))","v":""}]
["",null,null,{"$f":"IF(F785=\"\",\"\",INDEX(EF!$A$2:$A$112,MATCH(F785,EF!$C$2:$C$112,0)))","v":""},{"$f":"IF(F785=\"\",\"\",INDEX(EF!$B$2:$B$112,MATCH(F785,EF!$C$2:$C$112,0)))","v":""}]
["",null,null,{"$f":"IF(F786=\"\",\"\",INDEX(EF!$A$2:$A$112,MATCH(F786,EF!$C$2:$C$112,0)))","v":""},{"$f":"IF(F786=\"\",\"\",INDEX(EF!$B$2:$B$112,MATCH(F786,EF!$C$2:$C$112,0)))","v":""}]
["",null,null,{"$f":"IF(F787=\"\",\"\",INDEX(EF!$A$2:$A$112,MATCH(F787,EF!$C$2:$C$112,0)))","v":""},{"$f":"IF(F787=\"\",\"\",INDEX(EF!$B$2:$B$112,MATCH(F787,EF!$C$2:$C$112,0)))","v":""}]
["",null,null,{"$f":"IF(F788=\"\",\"\",INDEX(EF!$A$2:$A$112,MATCH(F788,EF!$C$2:$C$112,0)))","v":""},{"$f":"IF(F788=\"\",\"\",INDEX(EF!$B$2:$B$112,MATCH(F788,EF!$C$2:$C$112,0)))","v":""}]
["",null,null,{"$f":"IF(F789=\"\",\"\",INDEX(EF!$A$2:$A$112,MATCH(F789,EF!$C$2:$C$112,0)))","v":""},{"$f":"IF(F789=\"\",\"\",INDEX(EF!$B$2:$B$112,MATCH(F789,EF!$C$2:$C$112,0)))","v":""}]
["",null,null,{"$f":"IF(F790=\"\",\"\",INDEX(EF!$A$2:$A$112,MATCH(F790,EF!$C$2:$C$112,0)))","v":""},{"$f":"IF(F790=\"\",\"\",INDEX(EF!$B$2:$B$112,MATCH(F790,EF!$C$2:$C$112,0)))","v":""}]
["",null,null,{"$f":"IF(F791=\"\",\"\",INDEX(EF!$A$2:$A$112,MATCH(F791,EF!$C$2:$C$112,0)))","v":""},{"$f":"IF(F791=\"\",\"\",INDEX(EF!$B$2:$B$112,MATCH(F791,EF!$C$2:$C$112,0)))","v":""}]
["",null,null,{"$f":"IF(F792=\"\",\"\",INDEX(EF!$A$2:$A$112,MATCH(F792,EF!$C$2:$C$112,0)))","v":""},{"$f":"IF(F792=\"\",\"\",INDEX(EF!$B$2:$B$112,MATCH(F792,EF!$C$2:$C$112,0)))","v":""}]
["",null,null,{"$f":"IF(F793=\"\",\"\",INDEX(EF!$A$2:$A$112,MATCH(F793,EF!$C$2:$C$112,0)))","v":""},{"$f":"IF(F793=\"\",\"\",INDEX(EF!$B$2:$B$112,MATCH(F793,EF!$C$2:$C$112,0)))","v":""}]
["",null,null,{"$f":"IF(F794=\"\",\"\",INDEX(EF!$A$2:$A$112,MATCH(F794,EF!$C$2:$C$112,0)))","v":""},{"$f":"IF(F794=\"\",\"\",INDEX(EF!$B$2:$B$112,MATCH(F794,EF!$C$2:$C$112,0)))","v":""}]
["",null,null,{"$f":"IF(F795=\"\",\"\",INDEX(EF!$A$2:$A$112,MATCH(F795,EF!$C$2:$C$112,0)))","v":""},{"$f":"IF(F795=\"\",\"\",INDEX(EF!$B$2:$B$112,MATCH(F795,EF!$C$2:$C$112,0)))","v":""}]
[{"$f":"IF(B796>0,A795+1,\"\")","v":""},null,null,{"$f":"IF(F796=\"\",\"\",INDEX(EF!$A$2:$A$112,MATCH(F796,EF!$C$2:$C$112,0)))","v":""},{"$f":"IF(F796=\"\",\"\",INDEX(EF!$B$2:$B$112,MATCH(F796,EF!$C$2:$C$112,0)))","v":""}]
["",null,null,{"$f":"IF(F797=\"\",\"\",INDEX(EF!$A$2:$A$112,MATCH(F797,EF!$C$2:$C$112,0)))","v":""},{"$f":"IF(F797=\"\",\"\",INDEX(EF!$B$2:$B$112,MATCH(F797,EF!$C$2:$C$112,0)))","v":""}]
["",null,null,{"$f":"IF(F798=\"\",\"\",INDEX(EF!$A$2:$A$112,MATCH(F798,EF!$C$2:$C$112,0)))","v":""},{"$f":"IF(F798=\"\",\"\",INDEX(EF!$B$2:$B$112,MATCH(F798,EF!$C$2:$C$112,0)))","v":""}]
["",null,null,{"$f":"IF(F799=\"\",\"\",INDEX(EF!$A$2:$A$112,MATCH(F799,EF!$C$2:$C$112,0)))","v":""},{"$f":"IF(F799=\"\",\"\",INDEX(EF!$B$2:$B$112,MATCH(F799,EF!$C$2:$C$112,0)))","v":""}]
["",null,null,{"$f":"IF(F800=\"\",\"\",INDEX(EF!$A$2:$A$112,MATCH(F800,EF!$C$2:$C$112,0)))","v":""},{"$f":"IF(F800=\"\",\"\",INDEX(EF!$B$2:$B$112,MATCH(F800,EF!$C$2:$C$112,0)))","v":""}]
[{"$f":"IF(B801>0,A800+1,\"\")","v":""},null,null,{"$f":"IF(F801=\"\",\"\",INDEX(EF!$A$2:$A$112,MATCH(F801,EF!$C$2:$C$112,0)))","v":""},{"$f":"IF(F801=\"\",\"\",INDEX(EF!$B$2:$B$112,MATCH(F801,EF!$C$2:$C$112,0)))","v":""}]
[{"$f":"IF(B802>0,A801+1,\"\")","v":""},null,null,{"$f":"IF(F802=\"\",\"\",INDEX(EF!$A$2:$A$112,MATCH(F802,EF!$C$2:$C$112,0)))","v":""},{"$f":"IF(F802=\"\",\"\",INDEX(EF!$B$2:$B$112,MATCH(F802,EF!$C$2:$C$112,0)))","v":""}]
["",null,null,{"$f":"IF(F803=\"\",\"\",INDEX(EF!$A$2:$A$112,MATCH(F803,EF!$C$2:$C$112,0)))","v":""},{"$f":"IF(F803=\"\",\"\",INDEX(EF!$B$2:$B$112,MATCH(F803,EF!$C$2:$C$112,0)))","v":""}]
["",null,null,{"$f":"IF(F804=\"\",\"\",INDEX(EF!$A$2:$A$112,MATCH(F804,EF!$C$2:$C$112,0)))","v":""},{"$f":"IF(F804=\"\",\"\",INDEX(EF!$B$2:$B$112,MATCH(F804,EF!$C$2:$C$112,0)))","v":""}]
["",null,null,{"$f":"IF(F805=\"\",\"\",INDEX(EF!$A$2:$A$112,MATCH(F805,EF!$C$2:$C$112,0)))","v":""},{"$f":"IF(F805=\"\",\"\",INDEX(EF!$B$2:$B$112,MATCH(F805,EF!$C$2:$C$112,0)))","v":""}]
["",null,null,{"$f":"IF(F806=\"\",\"\",INDEX(EF!$A$2:$A$112,MATCH(F806,EF!$C$2:$C$112,0)))","v":""},{"$f":"IF(F806=\"\",\"\",INDEX(EF!$B$2:$B$112,MATCH(F806,EF!$C$2:$C$112,0)))","v":""}]
["",null,null,{"$f":"IF(F807=\"\",\"\",INDEX(EF!$A$2:$A$112,MATCH(F807,EF!$C$2:$C$112,0)))","v":""},{"$f":"IF(F807=\"\",\"\",INDEX(EF!$B$2:$B$112,MATCH(F807,EF!$C$2:$C$112,0)))","v":""}]
["",null,null,{"$f":"IF(F808=\"\",\"\",INDEX(EF!$A$2:$A$112,MATCH(F808,EF!$C$2:$C$112,0)))","v":""},{"$f":"IF(F808=\"\",\"\",INDEX(EF!$B$2:$B$112,MATCH(F808,EF!$C$2:$C$112,0)))","v":""}]
["",null,null,{"$f":"IF(F809=\"\",\"\",INDEX(EF!$A$2:$A$112,MATCH(F809,EF!$C$2:$C$112,0)))","v":""},{"$f":"IF(F809=\"\",\"\",INDEX(EF!$B$2:$B$112,MATCH(F809,EF!$C$2:$C$112,0)))","v":""}]
["",null,null,{"$f":"IF(F810=\"\",\"\",INDEX(EF!$A$2:$A$112,MATCH(F810,EF!$C$2:$C$112,0)))","v":""},{"$f":"IF(F810=\"\",\"\",INDEX(EF!$B$2:$B$112,MATCH(F810,EF!$C$2:$C$112,0)))","v":""}]
["",null,null,{"$f":"IF(F811=\"\",\"\",INDEX(EF!$A$2:$A$112,MATCH(F811,EF!$C$2:$C$112,0)))","v":""},{"$f":"IF(F811=\"\",\"\",INDEX(EF!$B$2:$B$112,MATCH(F811,EF!$C$2:$C$112,0)))","v":""}]
["",null,null,{"$f":"IF(F812=\"\",\"\",INDEX(EF!$A$2:$A$112,MATCH(F812,EF!$C$2:$C$112,0)))","v":""},{"$f":"IF(F812=\"\",\"\",INDEX(EF!$B$2:$B$112,MATCH(F812,EF!$C$2:$C$112,0)))","v":""}]
["",null,null,{"$f":"IF(F813=\"\",\"\",INDEX(EF!$A$2:$A$112,MATCH(F813,EF!$C$2:$C$112,0)))","v":""},{"$f":"IF(F813=\"\",\"\",INDEX(EF!$B$2:$B$112,MATCH(F813,EF!$C$2:$C$112,0)))","v":""}]
["",null,null,{"$f":"IF(F814=\"\",\"\",INDEX(EF!$A$2:$A$112,MATCH(F814,EF!$C$2:$C$112,0)))","v":""},{"$f":"IF(F814=\"\",\"\",INDEX(EF!$B$2:$B$112,MATCH(F814,EF!$C$2:$C$112,0)))","v":""}]
["",null,null,{"$f":"IF(F815=\"\",\"\",INDEX(EF!$A$2:$A$112,MATCH(F815,EF!$C$2:$C$112,0)))","v":""},{"$f":"IF(F815=\"\",\"\",INDEX(EF!$B$2:$B$112,MATCH(F815,EF!$C$2:$C$112,0)))","v":""}]
["",null,null,{"$f":"IF(F816=\"\",\"\",INDEX(EF!$A$2:$A$112,MATCH(F816,EF!$C$2:$C$112,0)))","v":""},{"$f":"IF(F816=\"\",\"\",INDEX(EF!$B$2:$B$112,MATCH(F816,EF!$C$2:$C$112,0)))","v":""}]
["",null,null,{"$f":"IF(F817=\"\",\"\",INDEX(EF!$A$2:$A$112,MATCH(F817,EF!$C$2:$C$112,0)))","v":""},{"$f":"IF(F817=\"\",\"\",INDEX(EF!$B$2:$B$112,MATCH(F817,EF!$C$2:$C$112,0)))","v":""}]
["",null,null,{"$f":"IF(F818=\"\",\"\",INDEX(EF!$A$2:$A$112,MATCH(F818,EF!$C$2:$C$112,0)))","v":""},{"$f":"IF(F818=\"\",\"\",INDEX(EF!$B$2:$B$112,MATCH(F818,EF!$C$2:$C$112,0)))","v":""}]
["",null,null,{"$f":"IF(F819=\"\",\"\",INDEX(EF!$A$2:$A$112,MATCH(F819,EF!$C$2:$C$112,0)))","v":""},{"$f":"IF(F819=\"\",\"\",INDEX(EF!$B$2:$B$112,MATCH(F819,EF!$C$2:$C$112,0)))","v":""}]
["",null,null,{"$f":"IF(F820=\"\",\"\",INDEX(EF!$A$2:$A$112,MATCH(F820,EF!$C$2:$C$112,0)))","v":""},{"$f":"IF(F820=\"\",\"\",INDEX(EF!$B$2:$B$112,MATCH(F820,EF!$C$2:$C$112,0)))","v":""}]
["",null,null,{"$f":"IF(F821=\"\",\"\",INDEX(EF!$A$2:$A$112,MATCH(F821,EF!$C$2:$C$112,0)))","v":""},{"$f":"IF(F821=\"\",\"\",INDEX(EF!$B$2:$B$112,MATCH(F821,EF!$C$2:$C$112,0)))","v":""}]
["",null,null,{"$f":"IF(F822=\"\",\"\",INDEX(EF!$A$2:$A$112,MATCH(F822,EF!$C$2:$C$112,0)))","v":""},{"$f":"IF(F822=\"\",\"\",INDEX(EF!$B$2:$B$112,MATCH(F822,EF!$C$2:$C$112,0)))","v":""}]
["",null,null,{"$f":"IF(F823=\"\",\"\",INDEX(EF!$A$2:$A$112,MATCH(F823,EF!$C$2:$C$112,0)))","v":""},{"$f":"IF(F823=\"\",\"\",INDEX(EF!$B$2:$B$112,MATCH(F823,EF!$C$2:$C$112,0)))","v":""}]
["",null,null,{"$f":"IF(F824=\"\",\"\",INDEX(EF!$A$2:$A$112,MATCH(F824,EF!$C$2:$C$112,0)))","v":""},{"$f":"IF(F824=\"\",\"\",INDEX(EF!$B$2:$B$112,MATCH(F824,EF!$C$2:$C$112,0)))","v":""}]
["",null,null,{"$f":"IF(F825=\"\",\"\",INDEX(EF!$A$2:$A$112,MATCH(F825,EF!$C$2:$C$112,0)))","v":""},{"$f":"IF(F825=\"\",\"\",INDEX(EF!$B$2:$B$112,MATCH(F825,EF!$C$2:$C$112,0)))","v":""}]
["",null,null,{"$f":"IF(F826=\"\",\"\",INDEX(EF!$A$2:$A$112,MATCH(F826,EF!$C$2:$C$112,0)))","v":""},{"$f":"IF(F826=\"\",\"\",INDEX(EF!$B$2:$B$112,MATCH(F826,EF!$C$2:$C$112,0)))","v":""}]
["",null,null,{"$f":"IF(F827=\"\",\"\",INDEX(EF!$A$2:$A$112,MATCH(F827,EF!$C$2:$C$112,0)))","v":""},{"$f":"IF(F827=\"\",\"\",INDEX(EF!$B$2:$B$112,MATCH(F827,EF!$C$2:$C$112,0)))","v":""}]
["",null,null,{"$f":"IF(F828=\"\",\"\",INDEX(EF!$A$2:$A$112,MATCH(F828,EF!$C$2:$C$112,0)))","v":""},{"$f":"IF(F828=\"\",\"\",INDEX(EF!$B$2:$B$112,MATCH(F828,EF!$C$2:$C$112,0)))","v":""}]
["",null,null,{"$f":"IF(F829=\"\",\"\",INDEX(EF!$A$2:$A$112,MATCH(F829,EF!$C$2:$C$112,0)))","v":""},{"$f":"IF(F829=\"\",\"\",INDEX(EF!$B$2:$B$112,MATCH(F829,EF!$C$2:$C$112,0)))","v":""}]
["",null,null,{"$f":"IF(F830=\"\",\"\",INDEX(EF!$A$2:$A$112,MATCH(F830,EF!$C$2:$C$112,0)))","v":""},{"$f":"IF(F830=\"\",\"\",INDEX(EF!$B$2:$B$112,MATCH(F830,EF!$C$2:$C$112,0)))","v":""}]
["",null,null,{"$f":"IF(F831=\"\",\"\",INDEX(EF!$A$2:$A$112,MATCH(F831,EF!$C$2:$C$112,0)))","v":""},{"$f":"IF(F831=\"\",\"\",INDEX(EF!$B$2:$B$112,MATCH(F831,EF!$C$2:$C$112,0)))","v":""}]
["",null,null,{"$f":"IF(F832=\"\",\"\",INDEX(EF!$A$2:$A$112,MATCH(F832,EF!$C$2:$C$112,0)))","v":""},{"$f":"IF(F832=\"\",\"\",INDEX(EF!$B$2:$B$112,MATCH(F832,EF!$C$2:$C$112,0)))","v":""}]
["",null,null,{"$f":"IF(F833=\"\",\"\",INDEX(EF!$A$2:$A$112,MATCH(F833,EF!$C$2:$C$112,0)))","v":""},{"$f":"IF(F833=\"\",\"\",INDEX(EF!$B$2:$B$112,MATCH(F833,EF!$C$2:$C$112,0)))","v":""}]
["",null,null,{"$f":"IF(F834=\"\",\"\",INDEX(EF!$A$2:$A$112,MATCH(F834,EF!$C$2:$C$112,0)))","v":""},{"$f":"IF(F834=\"\",\"\",INDEX(EF!$B$2:$B$112,MATCH(F834,EF!$C$2:$C$112,0)))","v":""}]
["",null,null,{"$f":"IF(F835=\"\",\"\",INDEX(EF!$A$2:$A$112,MATCH(F835,EF!$C$2:$C$112,0)))","v":""},{"$f":"IF(F835=\"\",\"\",INDEX(EF!$B$2:$B$112,MATCH(F835,EF!$C$2:$C$112,0)))","v":""}]
["",null,null,{"$f":"IF(F836=\"\",\"\",INDEX(EF!$A$2:$A$112,MATCH(F836,EF!$C$2:$C$112,0)))","v":""},{"$f":"IF(F836=\"\",\"\",INDEX(EF!$B$2:$B$112,MATCH(F836,EF!$C$2:$C$112,0)))","v":""}]
["",null,null,{"$f":"IF(F837=\"\",\"\",INDEX(EF!$A$2:$A$112,MATCH(F837,EF!$C$2:$C$112,0)))","v":""},{"$f":"IF(F837=\"\",\"\",INDEX(EF!$B$2:$B$112,MATCH(F837,EF!$C$2:$C$112,0)))","v":""}]
["",null,null,{"$f":"IF(F838=\"\",\"\",INDEX(EF!$A$2:$A$112,MATCH(F838,EF!$C$2:$C$112,0)))","v":""},{"$f":"IF(F838=\"\",\"\",INDEX(EF!$B$2:$B$112,MATCH(F838,EF!$C$2:$C$112,0)))","v":""}]
["",null,null,{"$f":"IF(F839=\"\",\"\",INDEX(EF!$A$2:$A$112,MATCH(F839,EF!$C$2:$C$112,0)))","v":""},{"$f":"IF(F839=\"\",\"\",INDEX(EF!$B$2:$B$112,MATCH(F839,EF!$C$2:$C$112,0)))","v":""}]
["",null,null,{"$f":"IF(F840=\"\",\"\",INDEX(EF!$A$2:$A$112,MATCH(F840,EF!$C$2:$C$112,0)))","v":""},{"$f":"IF(F840=\"\",\"\",INDEX(EF!$B$2:$B$112,MATCH(F840,EF!$C$2:$C$112,0)))","v":""}]
["",null,null,{"$f":"IF(F841=\"\",\"\",INDEX(EF!$A$2:$A$112,MATCH(F841,EF!$C$2:$C$112,0)))","v":""},{"$f":"IF(F841=\"\",\"\",INDEX(EF!$B$2:$B$112,MATCH(F841,EF!$C$2:$C$112,0)))","v":""}]
["",null,null,{"$f":"IF(F842=\"\",\"\",INDEX(EF!$A$2:$A$112,MATCH(F842,EF!$C$2:$C$112,0)))","v":""},{"$f":"IF(F842=\"\",\"\",INDEX(EF!$B$2:$B$112,MATCH(F842,EF!$C$2:$C$112,0)))","v":""}]
["",null,null,{"$f":"IF(F843=\"\",\"\",INDEX(EF!$A$2:$A$112,MATCH(F843,EF!$C$2:$C$112,0)))","v":""},{"$f":"IF(F843=\"\",\"\",INDEX(EF!$B$2:$B$112,MATCH(F843,EF!$C$2:$C$112,0)))","v":""}]
["",null,null,{"$f":"IF(F844=\"\",\"\",INDEX(EF!$A$2:$A$112,MATCH(F844,EF!$C$2:$C$112,0)))","v":""},{"$f":"IF(F844=\"\",\"\",INDEX(EF!$B$2:$B$112,MATCH(F844,EF!$C$2:$C$112,0)))","v":""}]
["",null,null,{"$f":"IF(F845=\"\",\"\",INDEX(EF!$A$2:$A$112,MATCH(F845,EF!$C$2:$C$112,0)))","v":""},{"$f":"IF(F845=\"\",\"\",INDEX(EF!$B$2:$B$112,MATCH(F845,EF!$C$2:$C$112,0)))","v":""}]
["",null,null,{"$f":"IF(F846=\"\",\"\",INDEX(EF!$A$2:$A$112,MATCH(F846,EF!$C$2:$C$112,0)))","v":""},{"$f":"IF(F846=\"\",\"\",INDEX(EF!$B$2:$B$112,MATCH(F846,EF!$C$2:$C$112,0)))","v":""}]
["",null,null,{"$f":"IF(F847=\"\",\"\",INDEX(EF!$A$2:$A$112,MATCH(F847,EF!$C$2:$C$112,0)))","v":""},{"$f":"IF(F847=\"\",\"\",INDEX(EF!$B$2:$B$112,MATCH(F847,EF!$C$2:$C$112,0)))","v":""}]
["",null,null,{"$f":"IF(F848=\"\",\"\",INDEX(EF!$A$2:$A$112,MATCH(F848,EF!$C$2:$C$112,0)))","v":""},{"$f":"IF(F848=\"\",\"\",INDEX(EF!$B$2:$B$112,MATCH(F848,EF!$C$2:$C$112,0)))","v":""}]
["",null,null,{"$f":"IF(F849=\"\",\"\",INDEX(EF!$A$2:$A$112,MATCH(F849,EF!$C$2:$C$112,0)))","v":""},{"$f":"IF(F849=\"\",\"\",INDEX(EF!$B$2:$B$112,MATCH(F849,EF!$C$2:$C$112,0)))","v":""}]
["",null,null,{"$f":"IF(F850=\"\",\"\",INDEX(EF!$A$2:$A$112,MATCH(F850,EF!$C$2:$C$112,0)))","v":""},{"$f":"IF(F850=\"\",\"\",INDEX(EF!$B$2:$B$112,MATCH(F850,EF!$C$2:$C$112,0)))","v":""}]
["",null,null,{"$f":"IF(F851=\"\",\"\",INDEX(EF!$A$2:$A$112,MATCH(F851,EF!$C$2:$C$112,0)))","v":""},{"$f":"IF(F851=\"\",\"\",INDEX(EF!$B$2:$B$112,MATCH(F851,EF!$C$2:$C$112,0)))","v":""}]
["",null,null,{"$f":"IF(F852=\"\",\"\",INDEX(EF!$A$2:$A$112,MATCH(F852,EF!$C$2:$C$112,0)))","v":""},{"$f":"IF(F852=\"\",\"\",INDEX(EF!$B$2:$B$112,MATCH(F852,EF!$C$2:$C$112,0)))","v":""}]
["",null,null,{"$f":"IF(F853=\"\",\"\",INDEX(EF!$A$2:$A$112,MATCH(F853,EF!$C$2:$C$112,0)))","v":""},{"$f":"IF(F853=\"\",\"\",INDEX(EF!$B$2:$B$112,MATCH(F853,EF!$C$2:$C$112,0)))","v":""}]
["",null,null,{"$f":"IF(F854=\"\",\"\",INDEX(EF!$A$2:$A$112,MATCH(F854,EF!$C$2:$C$112,0)))","v":""},{"$f":"IF(F854=\"\",\"\",INDEX(EF!$B$2:$B$112,MATCH(F854,EF!$C$2:$C$112,0)))","v":""}]
["",null,null,{"$f":"IF(F855=\"\",\"\",INDEX(EF!$A$2:$A$112,MATCH(F855,EF!$C$2:$C$112,0)))","v":""},{"$f":"IF(F855=\"\",\"\",INDEX(EF!$B$2:$B$112,MATCH(F855,EF!$C$2:$C$112,0)))","v":""}]
["",null,null,{"$f":"IF(F856=\"\",\"\",INDEX(EF!$A$2:$A$112,MATCH(F856,EF!$C$2:$C$112,0)))","v":""},{"$f":"IF(F856=\"\",\"\",INDEX(EF!$B$2:$B$112,MATCH(F856,EF!$C$2:$C$112,0)))","v":""}]
["",null,null,{"$f":"IF(F857=\"\",\"\",INDEX(EF!$A$2:$A$112,MATCH(F857,EF!$C$2:$C$112,0)))","v":""},{"$f":"IF(F857=\"\",\"\",INDEX(EF!$B$2:$B$112,MATCH(F857,EF!$C$2:$C$112,0)))","v":""}]
["",null,null,{"$f":"IF(F858=\"\",\"\",INDEX(EF!$A$2:$A$112,MATCH(F858,EF!$C$2:$C$112,0)))","v":""},{"$f":"IF(F858=\"\",\"\",INDEX(EF!$B$2:$B$112,MATCH(F858,EF!$C$2:$C$112,0)))","v":""}]
["",null,null,{"$f":"IF(F859=\"\",\"\",INDEX(EF!$A$2:$A$112,MATCH(F859,EF!$C$2:$C$112,0)))","v":""},{"$f":"IF(F859=\"\",\"\",INDEX(EF!$B$2:$B$112,MATCH(F859,EF!$C$2:$C$112,0)))","v":""}]
["",null,null,{"$f":"IF(F860=\"\",\"\",INDEX(EF!$A$2:$A$112,MATCH(F860,EF!$C$2:$C$112,0)))","v":""},{"$f":"IF(F860=\"\",\"\",INDEX(EF!$B$2:$B$112,MATCH(F860,EF!$C$2:$C$112,0)))","v":""}]
["",null,null,{"$f":"IF(F861=\"\",\"\",INDEX(EF!$A$2:$A$112,MATCH(F861,EF!$C$2:$C$112,0)))","v":""},{"$f":"IF(F861=\"\",\"\",INDEX(EF!$B$2:$B$112,MATCH(F861,EF!$C$2:$C$112,0)))","v":""}]
["",null,null,{"$f":"IF(F862=\"\",\"\",INDEX(EF!$A$2:$A$112,MATCH(F862,EF!$C$2:$C$112,0)))","v":""},{"$f":"IF(F862=\"\",\"\",INDEX(EF!$B$2:$B$112,MATCH(F862,EF!$C$2:$C$112,0)))","v":""}]
["",null,null,{"$f":"IF(F863=\"\",\"\",INDEX(EF!$A$2:$A$112,MATCH(F863,EF!$C$2:$C$112,0)))","v":""},{"$f":"IF(F863=\"\",\"\",INDEX(EF!$B$2:$B$112,MATCH(F863,EF!$C$2:$C$112,0)))","v":""}]
["",null,null,{"$f":"IF(F864=\"\",\"\",INDEX(EF!$A$2:$A$112,MATCH(F864,EF!$C$2:$C$112,0)))","v":""},{"$f":"IF(F864=\"\",\"\",INDEX(EF!$B$2:$B$112,MATCH(F864,EF!$C$2:$C$112,0)))","v":""}]
["",null,null,{"$f":"IF(F865=\"\",\"\",INDEX(EF!$A$2:$A$112,MATCH(F865,EF!$C$2:$C$112,0)))","v":""},{"$f":"IF(F865=\"\",\"\",INDEX(EF!$B$2:$B$112,MATCH(F865,EF!$C$2:$C$112,0)))","v":""}]
[{"$f":"IF(B866>0,A865+1,\"\")","v":""},null,null,{"$f":"IF(F866=\"\",\"\",INDEX(EF!$A$2:$A$112,MATCH(F866,EF!$C$2:$C$112,0)))","v":""},{"$f":"IF(F866=\"\",\"\",INDEX(EF!$B$2:$B$112,MATCH(F866,EF!$C$2:$C$112,0)))","v":""}]
["",null,null,{"$f":"IF(F867=\"\",\"\",INDEX(EF!$A$2:$A$112,MATCH(F867,EF!$C$2:$C$112,0)))","v":""},{"$f":"IF(F867=\"\",\"\",INDEX(EF!$B$2:$B$112,MATCH(F867,EF!$C$2:$C$112,0)))","v":""}]
["",null,null,{"$f":"IF(F868=\"\",\"\",INDEX(EF!$A$2:$A$112,MATCH(F868,EF!$C$2:$C$112,0)))","v":""},{"$f":"IF(F868=\"\",\"\",INDEX(EF!$B$2:$B$112,MATCH(F868,EF!$C$2:$C$112,0)))","v":""}]
["",null,null,{"$f":"IF(F869=\"\",\"\",INDEX(EF!$A$2:$A$112,MATCH(F869,EF!$C$2:$C$112,0)))","v":""},{"$f":"IF(F869=\"\",\"\",INDEX(EF!$B$2:$B$112,MATCH(F869,EF!$C$2:$C$112,0)))","v":""}]
["",null,null,{"$f":"IF(F870=\"\",\"\",INDEX(EF!$A$2:$A$112,MATCH(F870,EF!$C$2:$C$112,0)))","v":""},{"$f":"IF(F870=\"\",\"\",INDEX(EF!$B$2:$B$112,MATCH(F870,EF!$C$2:$C$112,0)))","v":""}]
["",null,null,{"$f":"IF(F871=\"\",\"\",INDEX(EF!$A$2:$A$112,MATCH(F871,EF!$C$2:$C$112,0)))","v":""},{"$f":"IF(F871=\"\",\"\",INDEX(EF!$B$2:$B$112,MATCH(F871,EF!$C$2:$C$112,0)))","v":""}]
["",null,null,{"$f":"IF(F872=\"\",\"\",INDEX(EF!$A$2:$A$112,MATCH(F872,EF!$C$2:$C$112,0)))","v":""},{"$f":"IF(F872=\"\",\"\",INDEX(EF!$B$2:$B$112,MATCH(F872,EF!$C$2:$C$112,0)))","v":""}]
["",null,null,{"$f":"IF(F873=\"\",\"\",INDEX(EF!$A$2:$A$112,MATCH(F873,EF!$C$2:$C$112,0)))","v":""},{"$f":"IF(F873=\"\",\"\",INDEX(EF!$B$2:$B$112,MATCH(F873,EF!$C$2:$C$112,0)))","v":""}]
["",null,null,{"$f":"IF(F874=\"\",\"\",INDEX(EF!$A$2:$A$112,MATCH(F874,EF!$C$2:$C$112,0)))","v":""},{"$f":"IF(F874=\"\",\"\",INDEX(EF!$B$2:$B$112,MATCH(F874,EF!$C$2:$C$112,0)))","v":""}]
["",null,null,{"$f":"IF(F875=\"\",\"\",INDEX(EF!$A$2:$A$112,MATCH(F875,EF!$C$2:$C$112,0)))","v":""},{"$f":"IF(F875=\"\",\"\",INDEX(EF!$B$2:$B$112,MATCH(F875,EF!$C$2:$C$112,0)))","v":""}]
["",null,null,{"$f":"IF(F876=\"\",\"\",INDEX(EF!$A$2:$A$112,MATCH(F876,EF!$C$2:$C$112,0)))","v":""},{"$f":"IF(F876=\"\",\"\",INDEX(EF!$B$2:$B$112,MATCH(F876,EF!$C$2:$C$112,0)))","v":""}]
["",null,null,{"$f":"IF(F877=\"\",\"\",INDEX(EF!$A$2:$A$112,MATCH(F877,EF!$C$2:$C$112,0)))","v":""},{"$f":"IF(F877=\"\",\"\",INDEX(EF!$B$2:$B$112,MATCH(F877,EF!$C$2:$C$112,0)))","v":""}]
["",null,null,{"$f":"IF(F878=\"\",\"\",INDEX(EF!$A$2:$A$112,MATCH(F878,EF!$C$2:$C$112,0)))","v":""},{"$f":"IF(F878=\"\",\"\",INDEX(EF!$B$2:$B$112,MATCH(F878,EF!$C$2:$C$112,0)))","v":""}]
["",null,null,{"$f":"IF(F879=\"\",\"\",INDEX(EF!$A$2:$A$112,MATCH(F879,EF!$C$2:$C$112,0)))","v":""},{"$f":"IF(F879=\"\",\"\",INDEX(EF!$B$2:$B$112,MATCH(F879,EF!$C$2:$C$112,0)))","v":""}]
["",null,null,{"$f":"IF(F880=\"\",\"\",INDEX(EF!$A$2:$A$112,MATCH(F880,EF!$C$2:$C$112,0)))","v":""},{"$f":"IF(F880=\"\",\"\",INDEX(EF!$B$2:$B$112,MATCH(F880,EF!$C$2:$C$112,0)))","v":""}]
["",null,null,{"$f":"IF(F881=\"\",\"\",INDEX(EF!$A$2:$A$112,MATCH(F881,EF!$C$2:$C$112,0)))","v":""},{"$f":"IF(F881=\"\",\"\",INDEX(EF!$B$2:$B$112,MATCH(F881,EF!$C$2:$C$112,0)))","v":""}]
["",null,null,{"$f":"IF(F882=\"\",\"\",INDEX(EF!$A$2:$A$112,MATCH(F882,EF!$C$2:$C$112,0)))","v":""},{"$f":"IF(F882=\"\",\"\",INDEX(EF!$B$2:$B$112,MATCH(F882,EF!$C$2:$C$112,0)))","v":""}]
["",null,null,{"$f":"IF(F883=\"\",\"\",INDEX(EF!$A$2:$A$112,MATCH(F883,EF!$C$2:$C$112,0)))","v":""},{"$f":"IF(F883=\"\",\"\",INDEX(EF!$B$2:$B$112,MATCH(F883,EF!$C$2:$C$112,0)))","v":""}]
["",null,null,{"$f":"IF(F884=\"\",\"\",INDEX(EF!$A$2:$A$112,MATCH(F884,EF!$C$2:$C$112,0)))","v":""},{"$f":"IF(F884=\"\",\"\",INDEX(EF!$B$2:$B$112,MATCH(F884,EF!$C$2:$C$112,0)))","v":""}]
["",null,null,{"$f":"IF(F885=\"\",\"\",INDEX(EF!$A$2:$A$112,MATCH(F885,EF!$C$2:$C$112,0)))","v":""},{"$f":"IF(F885=\"\",\"\",INDEX(EF!$B$2:$B$112,MATCH(F885,EF!$C$2:$C$112,0)))","v":""}]
["",null,null,{"$f":"IF(F886=\"\",\"\",INDEX(EF!$A$2:$A$112,MATCH(F886,EF!$C$2:$C$112,0)))","v":""},{"$f":"IF(F886=\"\",\"\",INDEX(EF!$B$2:$B$112,MATCH(F886,EF!$C$2:$C$112,0)))","v":""}]
["",null,null,{"$f":"IF(F887=\"\",\"\",INDEX(EF!$A$2:$A$112,MATCH(F887,EF!$C$2:$C$112,0)))","v":""},{"$f":"IF(F887=\"\",\"\",INDEX(EF!$B$2:$B$112,MATCH(F887,EF!$C$2:$C$112,0)))","v":""}]
["",null,null,{"$f":"IF(F888=\"\",\"\",INDEX(EF!$A$2:$A$112,MATCH(F888,EF!$C$2:$C$112,0)))","v":""},{"$f":"IF(F888=\"\",\"\",INDEX(EF!$B$2:$B$112,MATCH(F888,EF!$C$2:$C$112,0)))","v":""}]
["",null,null,{"$f":"IF(F889=\"\",\"\",INDEX(EF!$A$2:$A$112,MATCH(F889,EF!$C$2:$C$112,0)))","v":""},{"$f":"IF(F889=\"\",\"\",INDEX(EF!$B$2:$B$112,MATCH(F889,EF!$C$2:$C$112,0)))","v":""}]
["",null,null,{"$f":"IF(F890=\"\",\"\",INDEX(EF!$A$2:$A$112,MATCH(F890,EF!$C$2:$C$112,0)))","v":""},{"$f":"IF(F890=\"\",\"\",INDEX(EF!$B$2:$B$112,MATCH(F890,EF!$C$2:$C$112,0)))","v":""}]
["",null,null,{"$f":"IF(F891=\"\",\"\",INDEX(EF!$A$2:$A$112,MATCH(F891,EF!$C$2:$C$112,0)))","v":""},{"$f":"IF(F891=\"\",\"\",INDEX(EF!$B$2:$B$112,MATCH(F891,EF!$C$2:$C$112,0)))","v":""}]
["",null,null,{"$f":"IF(F892=\"\",\"\",INDEX(EF!$A$2:$A$112,MATCH(F892,EF!$C$2:$C$112,0)))","v":""},{"$f":"IF(F892=\"\",\"\",INDEX(EF!$B$2:$B$112,MATCH(F892,EF!$C$2:$C$112,0)))","v":""}]
["",null,null,{"$f":"IF(F893=\"\",\"\",INDEX(EF!$A$2:$A$112,MATCH(F893,EF!$C$2:$C$112,0)))","v":""},{"$f":"IF(F893=\"\",\"\",INDEX(EF!$B$2:$B$112,MATCH(F893,EF!$C$2:$C$112,0)))","v":""}]
["",null,null,{"$f":"IF(F894=\"\",\"\",INDEX(EF!$A$2:$A$112,MATCH(F894,EF!$C$2:$C$112,0)))","v":""},{"$f":"IF(F894=\"\",\"\",INDEX(EF!$B$2:$B$112,MATCH(F894,EF!$C$2:$C$112,0)))","v":""}]
["",null,null,{"$f":"IF(F895=\"\",\"\",INDEX(EF!$A$2:$A$112,MATCH(F895,EF!$C$2:$C$112,0)))","v":""},{"$f":"IF(F895=\"\",\"\",INDEX(EF!$B$2:$B$112,MATCH(F895,EF!$C$2:$C$112,0)))","v":""}]
["",null,null,{"$f":"IF(F896=\"\",\"\",INDEX(EF!$A$2:$A$112,MATCH(F896,EF!$C$2:$C$112,0)))","v":""},{"$f":"IF(F896=\"\",\"\",INDEX(EF!$B$2:$B$112,MATCH(F896,EF!$C$2:$C$112,0)))","v":""}]
["",null,null,{"$f":"IF(F897=\"\",\"\",INDEX(EF!$A$2:$A$112,MATCH(F897,EF!$C$2:$C$112,0)))","v":""},{"$f":"IF(F897=\"\",\"\",INDEX(EF!$B$2:$B$112,MATCH(F897,EF!$C$2:$C$112,0)))","v":""}]
["",null,null,{"$f":"IF(F898=\"\",\"\",INDEX(EF!$A$2:$A$112,MATCH(F898,EF!$C$2:$C$112,0)))","v":""},{"$f":"IF(F898=\"\",\"\",INDEX(EF!$B$2:$B$112,MATCH(F898,EF!$C$2:$C$112,0)))","v":""}]
["",null,null,{"$f":"IF(F899=\"\",\"\",INDEX(EF!$A$2:$A$112,MATCH(F899,EF!$C$2:$C$112,0)))","v":""},{"$f":"IF(F899=\"\",\"\",INDEX(EF!$B$2:$B$112,MATCH(F899,EF!$C$2:$C$112,0)))","v":""}]
["",null,null,{"$f":"IF(F900=\"\",\"\",INDEX(EF!$A$2:$A$112,MATCH(F900,EF!$C$2:$C$112,0)))","v":""},{"$f":"IF(F900=\"\",\"\",INDEX(EF!$B$2:$B$112,MATCH(F900,EF!$C$2:$C$112,0)))","v":""}]
["",null,null,{"$f":"IF(F901=\"\",\"\",INDEX(EF!$A$2:$A$112,MATCH(F901,EF!$C$2:$C$112,0)))","v":""},{"$f":"IF(F901=\"\",\"\",INDEX(EF!$B$2:$B$112,MATCH(F901,EF!$C$2:$C$112,0)))","v":""}]
["",null,null,{"$f":"IF(F902=\"\",\"\",INDEX(EF!$A$2:$A$112,MATCH(F902,EF!$C$2:$C$112,0)))","v":""},{"$f":"IF(F902=\"\",\"\",INDEX(EF!$B$2:$B$112,MATCH(F902,EF!$C$2:$C$112,0)))","v":""}]
["",null,null,{"$f":"IF(F903=\"\",\"\",INDEX(EF!$A$2:$A$112,MATCH(F903,EF!$C$2:$C$112,0)))","v":""},{"$f":"IF(F903=\"\",\"\",INDEX(EF!$B$2:$B$112,MATCH(F903,EF!$C$2:$C$112,0)))","v":""}]
["",null,null,{"$f":"IF(F904=\"\",\"\",INDEX(EF!$A$2:$A$112,MATCH(F904,EF!$C$2:$C$112,0)))","v":""},{"$f":"IF(F904=\"\",\"\",INDEX(EF!$B$2:$B$112,MATCH(F904,EF!$C$2:$C$112,0)))","v":""}]
["",null,null,{"$f":"IF(F905=\"\",\"\",INDEX(EF!$A$2:$A$112,MATCH(F905,EF!$C$2:$C$112,0)))","v":""},{"$f":"IF(F905=\"\",\"\",INDEX(EF!$B$2:$B$112,MATCH(F905,EF!$C$2:$C$112,0)))","v":""}]
["",null,null,{"$f":"IF(F906=\"\",\"\",INDEX(EF!$A$2:$A$112,MATCH(F906,EF!$C$2:$C$112,0)))","v":""},{"$f":"IF(F906=\"\",\"\",INDEX(EF!$B$2:$B$112,MATCH(F906,EF!$C$2:$C$112,0)))","v":""}]
["",null,null,{"$f":"IF(F907=\"\",\"\",INDEX(EF!$A$2:$A$112,MATCH(F907,EF!$C$2:$C$112,0)))","v":""},{"$f":"IF(F907=\"\",\"\",INDEX(EF!$B$2:$B$112,MATCH(F907,EF!$C$2:$C$112,0)))","v":""}]
["",null,null,{"$f":"IF(F908=\"\",\"\",INDEX(EF!$A$2:$A$112,MATCH(F908,EF!$C$2:$C$112,0)))","v":""},{"$f":"IF(F908=\"\",\"\",INDEX(EF!$B$2:$B$112,MATCH(F908,EF!$C$2:$C$112,0)))","v":""}]
["",null,null,{"$f":"IF(F909=\"\",\"\",INDEX(EF!$A$2:$A$112,MATCH(F909,EF!$C$2:$C$112,0)))","v":""},{"$f":"IF(F909=\"\",\"\",INDEX(EF!$B$2:$B$112,MATCH(F909,EF!$C$2:$C$112,0)))","v":""}]
["",null,null,{"$f":"IF(F910=\"\",\"\",INDEX(EF!$A$2:$A$112,MATCH(F910,EF!$C$2:$C$112,0)))","v":""},{"$f":"IF(F910=\"\",\"\",INDEX(EF!$B$2:$B$112,MATCH(F910,EF!$C$2:$C$112,0)))","v":""}]
["",null,null,{"$f":"IF(F911=\"\",\"\",INDEX(EF!$A$2:$A$112,MATCH(F911,EF!$C$2:$C$112,0)))","v":""},{"$f":"IF(F911=\"\",\"\",INDEX(EF!$B$2:$B$112,MATCH(F911,EF!$C$2:$C$112,0)))","v":""}]
["",null,null,{"$f":"IF(F912=\"\",\"\",INDEX(EF!$A$2:$A$112,MATCH(F912,EF!$C$2:$C$112,0)))","v":""},{"$f":"IF(F912=\"\",\"\",INDEX(EF!$B$2:$B$112,MATCH(F912,EF!$C$2:$C$112,0)))","v":""}]
["",null,null,{"$f":"IF(F913=\"\",\"\",INDEX(EF!$A$2:$A$112,MATCH(F913,EF!$C$2:$C$112,0)))","v":""},{"$f":"IF(F913=\"\",\"\",INDEX(EF!$B$2:$B$112,MATCH(F913,EF!$C$2:$C$112,0)))","v":""}]
["",null,null,{"$f":"IF(F914=\"\",\"\",INDEX(EF!$A$2:$A$112,MATCH(F914,EF!$C$2:$C$112,0)))","v":""},{"$f":"IF(F914=\"\",\"\",INDEX(EF!$B$2:$B$112,MATCH(F914,EF!$C$2:$C$112,0)))","v":""}]
["",null,null,{"$f":"IF(F915=\"\",\"\",INDEX(EF!$A$2:$A$112,MATCH(F915,EF!$C$2:$C$112,0)))","v":""},{"$f":"IF(F915=\"\",\"\",INDEX(EF!$B$2:$B$112,MATCH(F915,EF!$C$2:$C$112,0)))","v":""}]
["",null,null,{"$f":"IF(F916=\"\",\"\",INDEX(EF!$A$2:$A$112,MATCH(F916,EF!$C$2:$C$112,0)))","v":""},{"$f":"IF(F916=\"\",\"\",INDEX(EF!$B$2:$B$112,MATCH(F916,EF!$C$2:$C$112,0)))","v":""}]
["",null,null,{"$f":"IF(F917=\"\",\"\",INDEX(EF!$A$2:$A$112,MATCH(F917,EF!$C$2:$C$112,0)))","v":""},{"$f":"IF(F917=\"\",\"\",INDEX(EF!$B$2:$B$112,MATCH(F917,EF!$C$2:$C$112,0)))","v":""}]
["",null,null,{"$f":"IF(F918=\"\",\"\",INDEX(EF!$A$2:$A$112,MATCH(F918,EF!$C$2:$C$112,0)))","v":""},{"$f":"IF(F918=\"\",\"\",INDEX(EF!$B$2:$B$112,MATCH(F918,EF!$C$2:$C$112,0)))","v":""}]
["",null,null,{"$f":"IF(F919=\"\",\"\",INDEX(EF!$A$2:$A$112,MATCH(F919,EF!$C$2:$C$112,0)))","v":""},{"$f":"IF(F919=\"\",\"\",INDEX(EF!$B$2:$B$112,MATCH(F919,EF!$C$2:$C$112,0)))","v":""}]
["",null,null,{"$f":"IF(F920=\"\",\"\",INDEX(EF!$A$2:$A$112,MATCH(F920,EF!$C$2:$C$112,0)))","v":""},{"$f":"IF(F920=\"\",\"\",INDEX(EF!$B$2:$B$112,MATCH(F920,EF!$C$2:$C$112,0)))","v":""}]
["",null,null,{"$f":"IF(F921=\"\",\"\",INDEX(EF!$A$2:$A$112,MATCH(F921,EF!$C$2:$C$112,0)))","v":""},{"$f":"IF(F921=\"\",\"\",INDEX(EF!$B$2:$B$112,MATCH(F921,EF!$C$2:$C$112,0)))","v":""}]
["",null,null,{"$f":"IF(F922=\"\",\"\",INDEX(EF!$A$2:$A$112,MATCH(F922,EF!$C$2:$C$112,0)))","v":""},{"$f":"IF(F922=\"\",\"\",INDEX(EF!$B$2:$B$112,MATCH(F922,EF!$C$2:$C$112,0)))","v":""}]
["",null,null,{"$f":"IF(F923=\"\",\"\",INDEX(EF!$A$2:$A$112,MATCH(F923,EF!$C$2:$C$112,0)))","v":""},{"$f":"IF(F923=\"\",\"\",INDEX(EF!$B$2:$B$112,MATCH(F923,EF!$C$2:$C$112,0)))","v":""}]
["",null,null,{"$f":"IF(F924=\"\",\"\",INDEX(EF!$A$2:$A$112,MATCH(F924,EF!$C$2:$C$112,0)))","v":""},{"$f":"IF(F924=\"\",\"\",INDEX(EF!$B$2:$B$112,MATCH(F924,EF!$C$2:$C$112,0)))","v":""}]
["",null,null,{"$f":"IF(F925=\"\",\"\",INDEX(EF!$A$2:$A$112,MATCH(F925,EF!$C$2:$C$112,0)))","v":""},{"$f":"IF(F925=\"\",\"\",INDEX(EF!$B$2:$B$112,MATCH(F925,EF!$C$2:$C$112,0)))","v":""}]
["",null,null,{"$f":"IF(F926=\"\",\"\",INDEX(EF!$A$2:$A$112,MATCH(F926,EF!$C$2:$C$112,0)))","v":""},{"$f":"IF(F926=\"\",\"\",INDEX(EF!$B$2:$B$112,MATCH(F926,EF!$C$2:$C$112,0)))","v":""}]
["",null,null,{"$f":"IF(F927=\"\",\"\",INDEX(EF!$A$2:$A$112,MATCH(F927,EF!$C$2:$C$112,0)))","v":""},{"$f":"IF(F927=\"\",\"\",INDEX(EF!$B$2:$B$112,MATCH(F927,EF!$C$2:$C$112,0)))","v":""}]
["",null,null,{"$f":"IF(F928=\"\",\"\",INDEX(EF!$A$2:$A$112,MATCH(F928,EF!$C$2:$C$112,0)))","v":""},{"$f":"IF(F928=\"\",\"\",INDEX(EF!$B$2:$B$112,MATCH(F928,EF!$C$2:$C$112,0)))","v":""}]
["",null,null,{"$f":"IF(F929=\"\",\"\",INDEX(EF!$A$2:$A$112,MATCH(F929,EF!$C$2:$C$112,0)))","v":""},{"$f":"IF(F929=\"\",\"\",INDEX(EF!$B$2:$B$112,MATCH(F929,EF!$C$2:$C$112,0)))","v":""}]
[{"$f":"IF(B930>0,A929+1,\"\")","v":""},null,null,{"$f":"IF(F930=\"\",\"\",INDEX(EF!$A$2:$A$112,MATCH(F930,EF!$C$2:$C$112,0)))","v":""},{"$f":"IF(F930=\"\",\"\",INDEX(EF!$B$2:$B$112,MATCH(F930,EF!$C$2:$C$112,0)))","v":""}]
["",null,null,{"$f":"IF(F931=\"\",\"\",INDEX(EF!$A$2:$A$112,MATCH(F931,EF!$C$2:$C$112,0)))","v":""},{"$f":"IF(F931=\"\",\"\",INDEX(EF!$B$2:$B$112,MATCH(F931,EF!$C$2:$C$112,0)))","v":""}]
["",null,null,{"$f":"IF(F932=\"\",\"\",INDEX(EF!$A$2:$A$112,MATCH(F932,EF!$C$2:$C$112,0)))","v":""},{"$f":"IF(F932=\"\",\"\",INDEX(EF!$B$2:$B$112,MATCH(F932,EF!$C$2:$C$112,0)))","v":""}]
["",null,null,{"$f":"IF(F933=\"\",\"\",INDEX(EF!$A$2:$A$112,MATCH(F933,EF!$C$2:$C$112,0)))","v":""},{"$f":"IF(F933=\"\",\"\",INDEX(EF!$B$2:$B$112,MATCH(F933,EF!$C$2:$C$112,0)))","v":""}]
["",null,null,{"$f":"IF(F934=\"\",\"\",INDEX(EF!$A$2:$A$112,MATCH(F934,EF!$C$2:$C$112,0)))","v":""},{"$f":"IF(F934=\"\",\"\",INDEX(EF!$B$2:$B$112,MATCH(F934,EF!$C$2:$C$112,0)))","v":""}]
["",null,null,{"$f":"IF(F935=\"\",\"\",INDEX(EF!$A$2:$A$112,MATCH(F935,EF!$C$2:$C$112,0)))","v":""},{"$f":"IF(F935=\"\",\"\",INDEX(EF!$B$2:$B$112,MATCH(F935,EF!$C$2:$C$112,0)))","v":""}]
["",null,null,{"$f":"IF(F936=\"\",\"\",INDEX(EF!$A$2:$A$112,MATCH(F936,EF!$C$2:$C$112,0)))","v":""},{"$f":"IF(F936=\"\",\"\",INDEX(EF!$B$2:$B$112,MATCH(F936,EF!$C$2:$C$112,0)))","v":""}]
["",null,null,{"$f":"IF(F937=\"\",\"\",INDEX(EF!$A$2:$A$112,MATCH(F937,EF!$C$2:$C$112,0)))","v":""},{"$f":"IF(F937=\"\",\"\",INDEX(EF!$B$2:$B$112,MATCH(F937,EF!$C$2:$C$112,0)))","v":""}]
["",null,null,{"$f":"IF(F938=\"\",\"\",INDEX(EF!$A$2:$A$112,MATCH(F938,EF!$C$2:$C$112,0)))","v":""},{"$f":"IF(F938=\"\",\"\",INDEX(EF!$B$2:$B$112,MATCH(F938,EF!$C$2:$C$112,0)))","v":""}]
["",null,null,{"$f":"IF(F939=\"\",\"\",INDEX(EF!$A$2:$A$112,MATCH(F939,EF!$C$2:$C$112,0)))","v":""},{"$f":"IF(F939=\"\",\"\",INDEX(EF!$B$2:$B$112,MATCH(F939,EF!$C$2:$C$112,0)))","v":""}]
["",null,null,{"$f":"IF(F940=\"\",\"\",INDEX(EF!$A$2:$A$112,MATCH(F940,EF!$C$2:$C$112,0)))","v":""},{"$f":"IF(F940=\"\",\"\",INDEX(EF!$B$2:$B$112,MATCH(F940,EF!$C$2:$C$112,0)))","v":""}]
["",null,null,{"$f":"IF(F941=\"\",\"\",INDEX(EF!$A$2:$A$112,MATCH(F941,EF!$C$2:$C$112,0)))","v":""},{"$f":"IF(F941=\"\",\"\",INDEX(EF!$B$2:$B$112,MATCH(F941,EF!$C$2:$C$112,0)))","v":""}]
["",null,null,{"$f":"IF(F942=\"\",\"\",INDEX(EF!$A$2:$A$112,MATCH(F942,EF!$C$2:$C$112,0)))","v":""},{"$f":"IF(F942=\"\",\"\",INDEX(EF!$B$2:$B$112,MATCH(F942,EF!$C$2:$C$112,0)))","v":""}]
["",null,null,{"$f":"IF(F943=\"\",\"\",INDEX(EF!$A$2:$A$112,MATCH(F943,EF!$C$2:$C$112,0)))","v":""},{"$f":"IF(F943=\"\",\"\",INDEX(EF!$B$2:$B$112,MATCH(F943,EF!$C$2:$C$112,0)))","v":""}]
["",null,null,{"$f":"IF(F944=\"\",\"\",INDEX(EF!$A$2:$A$112,MATCH(F944,EF!$C$2:$C$112,0)))","v":""},{"$f":"IF(F944=\"\",\"\",INDEX(EF!$B$2:$B$112,MATCH(F944,EF!$C$2:$C$112,0)))","v":""}]
["",null,null,{"$f":"IF(F945=\"\",\"\",INDEX(EF!$A$2:$A$112,MATCH(F945,EF!$C$2:$C$112,0)))","v":""},{"$f":"IF(F945=\"\",\"\",INDEX(EF!$B$2:$B$112,MATCH(F945,EF!$C$2:$C$112,0)))","v":""}]
["",null,null,{"$f":"IF(F946=\"\",\"\",INDEX(EF!$A$2:$A$112,MATCH(F946,EF!$C$2:$C$112,0)))","v":""},{"$f":"IF(F946=\"\",\"\",INDEX(EF!$B$2:$B$112,MATCH(F946,EF!$C$2:$C$112,0)))","v":""}]
["",null,null,{"$f":"IF(F947=\"\",\"\",INDEX(EF!$A$2:$A$112,MATCH(F947,EF!$C$2:$C$112,0)))","v":""},{"$f":"IF(F947=\"\",\"\",INDEX(EF!$B$2:$B$112,MATCH(F947,EF!$C$2:$C$112,0)))","v":""}]
["",null,null,{"$f":"IF(F948=\"\",\"\",INDEX(EF!$A$2:$A$112,MATCH(F948,EF!$C$2:$C$112,0)))","v":""},{"$f":"IF(F948=\"\",\"\",INDEX(EF!$B$2:$B$112,MATCH(F948,EF!$C$2:$C$112,0)))","v":""}]
["",null,null,{"$f":"IF(F949=\"\",\"\",INDEX(EF!$A$2:$A$112,MATCH(F949,EF!$C$2:$C$112,0)))","v":""},{"$f":"IF(F949=\"\",\"\",INDEX(EF!$B$2:$B$112,MATCH(F949,EF!$C$2:$C$112,0)))","v":""}]
["",null,null,{"$f":"IF(F950=\"\",\"\",INDEX(EF!$A$2:$A$112,MATCH(F950,EF!$C$2:$C$112,0)))","v":""},{"$f":"IF(F950=\"\",\"\",INDEX(EF!$B$2:$B$112,MATCH(F950,EF!$C$2:$C$112,0)))","v":""}]
["",null,null,{"$f":"IF(F951=\"\",\"\",INDEX(EF!$A$2:$A$112,MATCH(F951,EF!$C$2:$C$112,0)))","v":""},{"$f":"IF(F951=\"\",\"\",INDEX(EF!$B$2:$B$112,MATCH(F951,EF!$C$2:$C$112,0)))","v":""}]
["",null,null,{"$f":"IF(F952=\"\",\"\",INDEX(EF!$A$2:$A$112,MATCH(F952,EF!$C$2:$C$112,0)))","v":""},{"$f":"IF(F952=\"\",\"\",INDEX(EF!$B$2:$B$112,MATCH(F952,EF!$C$2:$C$112,0)))","v":""}]
["",null,null,{"$f":"IF(F953=\"\",\"\",INDEX(EF!$A$2:$A$112,MATCH(F953,EF!$C$2:$C$112,0)))","v":""},{"$f":"IF(F953=\"\",\"\",INDEX(EF!$B$2:$B$112,MATCH(F953,EF!$C$2:$C$112,0)))","v":""}]
["",null,null,{"$f":"IF(F954=\"\",\"\",INDEX(EF!$A$2:$A$112,MATCH(F954,EF!$C$2:$C$112,0)))","v":""},{"$f":"IF(F954=\"\",\"\",INDEX(EF!$B$2:$B$112,MATCH(F954,EF!$C$2:$C$112,0)))","v":""}]
["",null,null,{"$f":"IF(F955=\"\",\"\",INDEX(EF!$A$2:$A$112,MATCH(F955,EF!$C$2:$C$112,0)))","v":""},{"$f":"IF(F955=\"\",\"\",INDEX(EF!$B$2:$B$112,MATCH(F955,EF!$C$2:$C$112,0)))","v":""}]
["",null,null,{"$f":"IF(F956=\"\",\"\",INDEX(EF!$A$2:$A$112,MATCH(F956,EF!$C$2:$C$112,0)))","v":""},{"$f":"IF(F956=\"\",\"\",INDEX(EF!$B$2:$B$112,MATCH(F956,EF!$C$2:$C$112,0)))","v":""}]
["",null,null,{"$f":"IF(F957=\"\",\"\",INDEX(EF!$A$2:$A$112,MATCH(F957,EF!$C$2:$C$112,0)))","v":""},{"$f":"IF(F957=\"\",\"\",INDEX(EF!$B$2:$B$112,MATCH(F957,EF!$C$2:$C$112,0)))","v":""}]
["",null,null,{"$f":"IF(F958=\"\",\"\",INDEX(EF!$A$2:$A$112,MATCH(F958,EF!$C$2:$C$112,0)))","v":""},{"$f":"IF(F958=\"\",\"\",INDEX(EF!$B$2:$B$112,MATCH(F958,EF!$C$2:$C$112,0)))","v":""}]
["",null,null,{"$f":"IF(F959=\"\",\"\",INDEX(EF!$A$2:$A$112,MATCH(F959,EF!$C$2:$C$112,0)))","v":""},{"$f":"IF(F959=\"\",\"\",INDEX(EF!$B$2:$B$112,MATCH(F959,EF!$C$2:$C$112,0)))","v":""}]
["",null,null,{"$f":"IF(F960=\"\",\"\",INDEX(EF!$A$2:$A$112,MATCH(F960,EF!$C$2:$C$112,0)))","v":""},{"$f":"IF(F960=\"\",\"\",INDEX(EF!$B$2:$B$112,MATCH(F960,EF!$C$2:$C$112,0)))","v":""}]
["",null,null,{"$f":"IF(F961=\"\",\"\",INDEX(EF!$A$2:$A$112,MATCH(F961,EF!$C$2:$C$112,0)))","v":""},{"$f":"IF(F961=\"\",\"\",INDEX(EF!$B$2:$B$112,MATCH(F961,EF!$C$2:$C$112,0)))","v":""}]
["",null,null,{"$f":"IF(F962=\"\",\"\",INDEX(EF!$A$2:$A$112,MATCH(F962,EF!$C$2:$C$112,0)))","v":""},{"$f":"IF(F962=\"\",\"\",INDEX(EF!$B$2:$B$112,MATCH(F962,EF!$C$2:$C$112,0)))","v":""}]
["",null,null,{"$f":"IF(F963=\"\",\"\",INDEX(EF!$A$2:$A$112,MATCH(F963,EF!$C$2:$C$112,0)))","v":""},{"$f":"IF(F963=\"\",\"\",INDEX(EF!$B$2:$B$112,MATCH(F963,EF!$C$2:$C$112,0)))","v":""}]
["",null,null,{"$f":"IF(F964=\"\",\"\",INDEX(EF!$A$2:$A$112,MATCH(F964,EF!$C$2:$C$112,0)))","v":""},{"$f":"IF(F964=\"\",\"\",INDEX(EF!$B$2:$B$112,MATCH(F964,EF!$C$2:$C$112,0)))","v":""}]
["",null,null,{"$f":"IF(F965=\"\",\"\",INDEX(EF!$A$2:$A$112,MATCH(F965,EF!$C$2:$C$112,0)))","v":""},{"$f":"IF(F965=\"\",\"\",INDEX(EF!$B$2:$B$112,MATCH(F965,EF!$C$2:$C$112,0)))","v":""}]
["",null,null,{"$f":"IF(F966=\"\",\"\",INDEX(EF!$A$2:$A$112,MATCH(F966,EF!$C$2:$C$112,0)))","v":""},{"$f":"IF(F966=\"\",\"\",INDEX(EF!$B$2:$B$112,MATCH(F966,EF!$C$2:$C$112,0)))","v":""}]
["",null,null,{"$f":"IF(F967=\"\",\"\",INDEX(EF!$A$2:$A$112,MATCH(F967,EF!$C$2:$C$112,0)))","v":""},{"$f":"IF(F967=\"\",\"\",INDEX(EF!$B$2:$B$112,MATCH(F967,EF!$C$2:$C$112,0)))","v":""}]
["",null,null,{"$f":"IF(F968=\"\",\"\",INDEX(EF!$A$2:$A$112,MATCH(F968,EF!$C$2:$C$112,0)))","v":""},{"$f":"IF(F968=\"\",\"\",INDEX(EF!$B$2:$B$112,MATCH(F968,EF!$C$2:$C$112,0)))","v":""}]
["",null,null,{"$f":"IF(F969=\"\",\"\",INDEX(EF!$A$2:$A$112,MATCH(F969,EF!$C$2:$C$112,0)))","v":""},{"$f":"IF(F969=\"\",\"\",INDEX(EF!$B$2:$B$112,MATCH(F969,EF!$C$2:$C$112,0)))","v":""}]
["",null,null,{"$f":"IF(F970=\"\",\"\",INDEX(EF!$A$2:$A$112,MATCH(F970,EF!$C$2:$C$112,0)))","v":""},{"$f":"IF(F970=\"\",\"\",INDEX(EF!$B$2:$B$112,MATCH(F970,EF!$C$2:$C$112,0)))","v":""}]
["",null,null,{"$f":"IF(F971=\"\",\"\",INDEX(EF!$A$2:$A$112,MATCH(F971,EF!$C$2:$C$112,0)))","v":""},{"$f":"IF(F971=\"\",\"\",INDEX(EF!$B$2:$B$112,MATCH(F971,EF!$C$2:$C$112,0)))","v":""}]
["",null,null,{"$f":"IF(F972=\"\",\"\",INDEX(EF!$A$2:$A$112,MATCH(F972,EF!$C$2:$C$112,0)))","v":""},{"$f":"IF(F972=\"\",\"\",INDEX(EF!$B$2:$B$112,MATCH(F972,EF!$C$2:$C$112,0)))","v":""}]
["",null,null,{"$f":"IF(F973=\"\",\"\",INDEX(EF!$A$2:$A$112,MATCH(F973,EF!$C$2:$C$112,0)))","v":""},{"$f":"IF(F973=\"\",\"\",INDEX(EF!$B$2:$B$112,MATCH(F973,EF!$C$2:$C$112,0)))","v":""}]
["",null,null,{"$f":"IF(F974=\"\",\"\",INDEX(EF!$A$2:$A$112,MATCH(F974,EF!$C$2:$C$112,0)))","v":""},{"$f":"IF(F974=\"\",\"\",INDEX(EF!$B$2:$B$112,MATCH(F974,EF!$C$2:$C$112,0)))","v":""}]
["",null,null,{"$f":"IF(F975=\"\",\"\",INDEX(EF!$A$2:$A$112,MATCH(F975,EF!$C$2:$C$112,0)))","v":""},{"$f":"IF(F975=\"\",\"\",INDEX(EF!$B$2:$B$112,MATCH(F975,EF!$C$2:$C$112,0)))","v":""}]
["",null,null,{"$f":"IF(F976=\"\",\"\",INDEX(EF!$A$2:$A$112,MATCH(F976,EF!$C$2:$C$112,0)))","v":""},{"$f":"IF(F976=\"\",\"\",INDEX(EF!$B$2:$B$112,MATCH(F976,EF!$C$2:$C$112,0)))","v":""}]
["",null,null,{"$f":"IF(F977=\"\",\"\",INDEX(EF!$A$2:$A$112,MATCH(F977,EF!$C$2:$C$112,0)))","v":""},{"$f":"IF(F977=\"\",\"\",INDEX(EF!$B$2:$B$112,MATCH(F977,EF!$C$2:$C$112,0)))","v":""}]
["",null,null,{"$f":"IF(F978=\"\",\"\",INDEX(EF!$A$2:$A$112,MATCH(F978,EF!$C$2:$C$112,0)))","v":""},{"$f":"IF(F978=\"\",\"\",INDEX(EF!$B$2:$B$112,MATCH(F978,EF!$C$2:$C$112,0)))","v":""}]
["",null,null,{"$f":"IF(F979=\"\",\"\",INDEX(EF!$A$2:$A$112,MATCH(F979,EF!$C$2:$C$112,0)))","v":""},{"$f":"IF(F979=\"\",\"\",INDEX(EF!$B$2:$B$112,MATCH(F979,EF!$C$2:$C$112,0)))","v":""}]
["",null,null,{"$f":"IF(F980=\"\",\"\",INDEX(EF!$A$2:$A$112,MATCH(F980,EF!$C$2:$C$112,0)))","v":""},{"$f":"IF(F980=\"\",\"\",INDEX(EF!$B$2:$B$112,MATCH(F980,EF!$C$2:$C$112,0)))","v":""}]
["",null,null,{"$f":"IF(F981=\"\",\"\",INDEX(EF!$A$2:$A$112,MATCH(F981,EF!$C$2:$C$112,0)))","v":""},{"$f":"IF(F981=\"\",\"\",INDEX(EF!$B$2:$B$112,MATCH(F981,EF!$C$2:$C$112,0)))","v":""}]
["",null,null,{"$f":"IF(F982=\"\",\"\",INDEX(EF!$A$2:$A$112,MATCH(F982,EF!$C$2:$C$112,0)))","v":""},{"$f":"IF(F982=\"\",\"\",INDEX(EF!$B$2:$B$112,MATCH(F982,EF!$C$2:$C$112,0)))","v":""}]
["",null,null,{"$f":"IF(F983=\"\",\"\",INDEX(EF!$A$2:$A$112,MATCH(F983,EF!$C$2:$C$112,0)))","v":""},{"$f":"IF(F983=\"\",\"\",INDEX(EF!$B$2:$B$112,MATCH(F983,EF!$C$2:$C$112,0)))","v":""}]
["",null,null,{"$f":"IF(F984=\"\",\"\",INDEX(EF!$A$2:$A$112,MATCH(F984,EF!$C$2:$C$112,0)))","v":""},{"$f":"IF(F984=\"\",\"\",INDEX(EF!$B$2:$B$112,MATCH(F984,EF!$C$2:$C$112,0)))","v":""}]
["",null,null,{"$f":"IF(F985=\"\",\"\",INDEX(EF!$A$2:$A$112,MATCH(F985,EF!$C$2:$C$112,0)))","v":""},{"$f":"IF(F985=\"\",\"\",INDEX(EF!$B$2:$B$112,MATCH(F985,EF!$C$2:$C$112,0)))","v":""}]
["",null,null,{"$f":"IF(F986=\"\",\"\",INDEX(EF!$A$2:$A$112,MATCH(F986,EF!$C$2:$C$112,0)))","v":""},{"$f":"IF(F986=\"\",\"\",INDEX(EF!$B$2:$B$112,MATCH(F986,EF!$C$2:$C$112,0)))","v":""}]
["",null,null,{"$f":"IF(F987=\"\",\"\",INDEX(EF!$A$2:$A$112,MATCH(F987,EF!$C$2:$C$112,0)))","v":""},{"$f":"IF(F987=\"\",\"\",INDEX(EF!$B$2:$B$112,MATCH(F987,EF!$C$2:$C$112,0)))","v":""}]
["",null,null,{"$f":"IF(F988=\"\",\"\",INDEX(EF!$A$2:$A$112,MATCH(F988,EF!$C$2:$C$112,0)))","v":""},{"$f":"IF(F988=\"\",\"\",INDEX(EF!$B$2:$B$112,MATCH(F988,EF!$C$2:$C$112,0)))","v":""}]
["",null,null,{"$f":"IF(F989=\"\",\"\",INDEX(EF!$A$2:$A$112,MATCH(F989,EF!$C$2:$C$112,0)))","v":""},{"$f":"IF(F989=\"\",\"\",INDEX(EF!$B$2:$B$112,MATCH(F989,EF!$C$2:$C$112,0)))","v":""}]
["",null,null,{"$f":"IF(F990=\"\",\"\",INDEX(EF!$A$2:$A$112,MATCH(F990,EF!$C$2:$C$112,0)))","v":""},{"$f":"IF(F990=\"\",\"\",INDEX(EF!$B$2:$B$112,MATCH(F990,EF!$C$2:$C$112,0)))","v":""}]
["",null,null,{"$f":"IF(F991=\"\",\"\",INDEX(EF!$A$2:$A$112,MATCH(F991,EF!$C$2:$C$112,0)))","v":""},{"$f":"IF(F991=\"\",\"\",INDEX(EF!$B$2:$B$112,MATCH(F991,EF!$C$2:$C$112,0)))","v":""}]
["",null,null,{"$f":"IF(F992=\"\",\"\",INDEX(EF!$A$2:$A$112,MATCH(F992,EF!$C$2:$C$112,0)))","v":""},{"$f":"IF(F992=\"\",\"\",INDEX(EF!$B$2:$B$112,MATCH(F992,EF!$C$2:$C$112,0)))","v":""}]
["",null,null,{"$f":"IF(F993=\"\",\"\",INDEX(EF!$A$2:$A$112,MATCH(F993,EF!$C$2:$C$112,0)))","v":""},{"$f":"IF(F993=\"\",\"\",INDEX(EF!$B$2:$B$112,MATCH(F993,EF!$C$2:$C$112,0)))","v":""}]
[{"$f":"IF(B994>0,A993+1,\"\")","v":""},null,null,{"$f":"IF(F994=\"\",\"\",INDEX(EF!$A$2:$A$112,MATCH(F994,EF!$C$2:$C$112,0)))","v":""},{"$f":"IF(F994=\"\",\"\",INDEX(EF!$B$2:$B$112,MATCH(F994,EF!$C$2:$C$112,0)))","v":""}]
["",null,null,{"$f":"IF(F995=\"\",\"\",INDEX(EF!$A$2:$A$112,MATCH(F995,EF!$C$2:$C$112,0)))","v":""},{"$f":"IF(F995=\"\",\"\",INDEX(EF!$B$2:$B$112,MATCH(F995,EF!$C$2:$C$112,0)))","v":""}]
["",null,null,{"$f":"IF(F996=\"\",\"\",INDEX(EF!$A$2:$A$112,MATCH(F996,EF!$C$2:$C$112,0)))","v":""},{"$f":"IF(F996=\"\",\"\",INDEX(EF!$B$2:$B$112,MATCH(F996,EF!$C$2:$C$112,0)))","v":""}]
["",null,null,{"$f":"IF(F997=\"\",\"\",INDEX(EF!$A$2:$A$112,MATCH(F997,EF!$C$2:$C$112,0)))","v":""},{"$f":"IF(F997=\"\",\"\",INDEX(EF!$B$2:$B$112,MATCH(F997,EF!$C$2:$C$112,0)))","v":""}]
["",null,null,{"$f":"IF(F998=\"\",\"\",INDEX(EF!$A$2:$A$112,MATCH(F998,EF!$C$2:$C$112,0)))","v":""},{"$f":"IF(F998=\"\",\"\",INDEX(EF!$B$2:$B$112,MATCH(F998,EF!$C$2:$C$112,0)))","v":""}]
["",null,null,{"$f":"IF(F999=\"\",\"\",INDEX(EF!$A$2:$A$112,MATCH(F999,EF!$C$2:$C$112,0)))","v":""},{"$f":"IF(F999=\"\",\"\",INDEX(EF!$B$2:$B$112,MATCH(F999,EF!$C$2:$C$112,0)))","v":""}]
["",null,null,{"$f":"IF(F1000=\"\",\"\",INDEX(EF!$A$2:$A$112,MATCH(F1000,EF!$C$2:$C$112,0)))","v":""},{"$f":"IF(F1000=\"\",\"\",INDEX(EF!$B$2:$B$112,MATCH(F1000,EF!$C$2:$C$112,0)))","v":""}]
["",null,null,{"$f":"IF(F1001=\"\",\"\",INDEX(EF!$A$2:$A$112,MATCH(F1001,EF!$C$2:$C$112,0)))","v":""},{"$f":"IF(F1001=\"\",\"\",INDEX(EF!$B$2:$B$112,MATCH(F1001,EF!$C$2:$C$112,0)))","v":""}]
["",null,null,{"$f":"IF(F1002=\"\",\"\",INDEX(EF!$A$2:$A$112,MATCH(F1002,EF!$C$2:$C$112,0)))","v":""},{"$f":"IF(F1002=\"\",\"\",INDEX(EF!$B$2:$B$112,MATCH(F1002,EF!$C$2:$C$112,0)))","v":""}]
[{"$f":"IF(B1003>0,A1002+1,\"\")","v":""},null,null,{"$f":"IF(F1003=\"\",\"\",INDEX(EF!$A$2:$A$112,MATCH(F1003,EF!$C$2:$C$112,0)))","v":""},{"$f":"IF(F1003=\"\",\"\",INDEX(EF!$B$2:$B$112,MATCH(F1003,EF!$C$2:$C$112,0)))","v":""}]
["",null,null,{"$f":"IF(F1004=\"\",\"\",INDEX(EF!$A$2:$A$112,MATCH(F1004,EF!$C$2:$C$112,0)))","v":""},{"$f":"IF(F1004=\"\",\"\",INDEX(EF!$B$2:$B$112,MATCH(F1004,EF!$C$2:$C$112,0)))","v":""}]
["",null,null,{"$f":"IF(F1005=\"\",\"\",INDEX(EF!$A$2:$A$112,MATCH(F1005,EF!$C$2:$C$112,0)))","v":""},{"$f":"IF(F1005=\"\",\"\",INDEX(EF!$B$2:$B$112,MATCH(F1005,EF!$C$2:$C$112,0)))","v":""}]
["",null,null,{"$f":"IF(F1006=\"\",\"\",INDEX(EF!$A$2:$A$112,MATCH(F1006,EF!$C$2:$C$112,0)))","v":""},{"$f":"IF(F1006=\"\",\"\",INDEX(EF!$B$2:$B$112,MATCH(F1006,EF!$C$2:$C$112,0)))","v":""}]

{"sheet":"F18","index":11,"n_rows":107,"n_cols":44,"rows_kept":107,"hidden":true,"merged":[[0,0,0,6],[1,0,1,6],[2,0,2,6],[3,0,3,6],[4,0,4,6],[5,0,6,0],[5,1,5,5],[5,6,6,6],[59,0,59,6],[60,0,60,6],[61,0,61,6],[62,0,62,6],[63,0,63,6],[64,0,65,0],[64,1,64,5],[64,6,65,6],[74,0,74,6],[75,0,75,6],[76,0,76,6],[77,0,77,6],[78,0,78,6],[79,0,80,0],[79,1,79,5],[79,6,80,6],[104,0,105,1],[104,3,105,5],[106,0,107,1],[106,3,107,5]]}
[{"$f":"\"Nombre del Ente Público: \"&Validacion!A2","v":"Nombre del Ente Público: Ixtlahuacán de los Membrillos"}]
["Estado Analítico del Ejercicio del Presupuesto de Egresos"]
["Clasificación Administrativa"]
[{"$f":"'F6'!A3","v":"DEL 1° DE ENERO AL 31 DE ENERO DE 2026"}]
["(Cifras en Pesos)"]
["Concepto","Egresos",{"$nulls":4},"Subejercicio"]
[null,"Aprobado","Ampliaciones/ (Reducciones)","Modificado","Devengado","Pagado",{"$nulls":6},{"$f":"IF(AND(F18A!$A9=0),\"\",F18A!$A9)","v":""},{"$f":"IF(AND(F18A!$A10=0),\"\",F18A!$A10)","v":""},{"$f":"IF(AND(F18A!$A11=0),\"\",F18A!$A11)","v":""},{"$f":"IF(AND(F18A!$A12=0),\"\",F18A!$A12)","v":""},{"$f":"IF(AND(F18A!$A13=0),\"\",F18A!$A13)","v":""},{"$f":"IF(AND(F18A!$A14=0),\"\",F18A!$A14)","v":""},{"$f":"IF(AND(F18A!$A15=0),\"\",F18A!$A15)","v":""},{"$f":"IF(AND(F18A!$A16=0),\"\",F18A!$A16)","v":""},{"$f":"IF(AND(F18A!$A17=0),\"\",F18A!$A17)","v":""},{"$f":"IF(AND(F18A!$A18=0),\"\",F18A!$A18)","v":""},{"$f":"IF(AND(F18A!$A19=0),\"\",F18A!$A19)","v":""},{"$f":"IF(AND(F18A!$A20=0),\"\",F18A!$A20)","v":""},{"$f":"IF(AND(F18A!$A21=0),\"\",F18A!$A21)","v":""},{"$f":"IF(AND(F18A!$A22=0),\"\",F18A!$A22)","v":""},{"$f":"IF(AND(F18A!$A23=0),\"\",F18A!$A23)","v":""},{"$f":"IF(AND(F18A!$A24=0),\"\",F18A!$A24)","v":""},{"$f":"IF(AND(F18A!$A25=0),\"\",F18A!$A25)","v":""},{"$f":"IF(AND(F18A!$A26=0),\"\",F18A!$A26)","v":""},{"$f":"IF(AND(F18A!$A27=0),\"\",F18A!$A27)","v":""},{"$f":"IF(AND(F18A!$A28=0),\"\",F18A!$A28)","v":""},{"$f":"IF(AND(F18A!$A29=0),\"\",F18A!$A29)","v":""},{"$f":"IF(AND(F18A!$A30=0),\"\",F18A!$A30)","v":""},{"$f":"IF(AND(F18A!$A31=0),\"\",F18A!$A31)","v":""},{"$f":"IF(AND(F18A!$A32=0),\"\",F18A!$A32)","v":""},{"$f":"IF(AND(F18A!$A33=0),\"\",F18A!$A33)","v":""}]
[{"$f":"IFERROR(AR8,\"\")","v":""},{"$f":"SUMIF(F18A!$A$9:$A$60,'F18'!A8,F18A!$B$9:$B$60)","v":{"v":0,"d":"0.00"}},{"$f":"SUMIF(F18A!$A$9:$A$60,'F18'!A8,F18A!$C$9:$C$60)","v":{"v":0,"d":"0.00"}},{"$f":"B8+C8","v":{"v":0,"d":"0.00"}},{"$f":"SUMIF(F18A!$A$9:$A$60,'F18'!A8,F18A!$E$9:$E$60)","v":{"v":0,"d":"0.00"}},{"$f":"SUMIF(F18A!$A$9:$A$60,'F18'!A8,F18A!$F$9:$F$60)","v":{"v":0,"d":"0.00"}},{"$f":"D8-E8","v":{"v":0,"d":"0.00"}},{"$nulls":3},{"$f":"IF(SUM(M8:AK8)=25,L8,\"\")","v":""},{"$f":"IF(AND(F18A!A36=0),\"\",F18A!A36)","v":""},{"$f":"IF(AND(M7<>L8),1,\"\")","v":""},{"$f":"IF(AND(N7<>L8),1,\"\")","v":""},{"$f":"IF(AND(O7<>L8),1,\"\")","v":""},{"$f":"IF(AND(P7<>L8),1,\"\")","v":""},{"$f":"IF(AND(Q7<>L8),1,\"\")","v":""},{"$f":"IF(AND(R7<>L8),1,\"\")","v":""},{"$f":"IF(AND(S7<>L8),1,\"\")","v":""},{"$f":"IF(AND(T7<>L8),1,\"\")","v":""},{"$f":"IF(AND(U7<>L8),1,\"\")","v":""},{"$f":"IF(AND(V7<>L8),1,\"\")","v":""},{"$f":"IF(AND(W7<>L8),1,\"\")","v":""},{"$f":"IF(AND(X7<>L8),1,\"\")","v":""},{"$f":"IF(AND(Y7<>L8),1,\"\")","v":""},{"$f":"IF(AND(Z7<>L8),1,\"\")","v":""},{"$f":"IF(AND(AA7<>L8),1,\"\")","v":""},{"$f":"IF(AND(AB7<>L8),1,\"\")","v":""},{"$f":"IF(AND(AC7<>L8),1,\"\")","v":""},{"$f":"IF(AND(AD7<>L8),1,\"\")","v":""},{"$f":"IF(AND(AE7<>L8),1,\"\")","v":""},{"$f":"IF(AND(AF7<>L8),1,\"\")","v":""},{"$f":"IF(AND(AG7<>L8),1,\"\")","v":""},{"$f":"IF(AND(AH7<>L8),1,\"\")","v":""},{"$f":"IF(AND(AI7<>L8),1,\"\")","v":""},{"$f":"IF(AND(AJ7<>L8),1,\"\")","v":""},{"$f":"IF(AND(AK7<>L8),1,\"\")","v":""},null,null,{"$f":"M$7","v":""},{"$f":"IF(AN$8:AN$57<>\"\",ROW(AN8:AN57))","v":false},1,{"$f":"SMALL(AO$8:AO$57,AP8)","v":{"$error":"#NUM!"}},{"$f":"INDEX(AN:AN,AQ$8:AQ$57)","v":{"$error":"#NUM!"}}]
["",{"$f":"SUMIF(F18A!$A$9:$A$60,'F18'!A9,F18A!$B$9:$B$60)","v":{"v":0,"d":"0.00"}},{"$f":"SUMIF(F18A!$A$9:$A$60,'F18'!A9,F18A!$C$9:$C$60)","v":{"v":0,"d":"0.00"}},{"$f":"B9+C9","v":{"v":0,"d":"0.00"}},{"$f":"SUMIF(F18A!$A$9:$A$60,'F18'!A9,F18A!$E$9:$E$60)","v":{"v":0,"d":"0.00"}},{"$f":"SUMIF(F18A!$A$9:$A$60,'F18'!A9,F18A!$F$9:$F$60)","v":{"v":0,"d":"0.00"}},{"$f":"D9-E9","v":{"v":0,"d":"0.00"}},{"$nulls":3},{"$f":"IF(SUM(M9:AK9)=25,L9,\"\")","v":""},{"$f":"IF(AND(F18A!A37=0),\"\",F18A!A37)","v":""},{"$f":"IF(AND(M7<>L9),1,\"\")","v":""},{"$f":"IF(AND(N7<>L9),1,\"\")","v":""},{"$f":"IF(AND(O7<>L9),1,\"\")","v":""},{"$f":"IF(AND(P7<>L9),1,\"\")","v":""},{"$f":"IF(AND(Q7<>L9),1,\"\")","v":""},{"$f":"IF(AND(R7<>L9),1,\"\")","v":""},{"$f":"IF(AND(S7<>L9),1,\"\")","v":""},{"$f":"IF(AND(T7<>L9),1,\"\")","v":""},{"$f":"IF(AND(U7<>L9),1,\"\")","v":""},{"$f":"IF(AND(V7<>L9),1,\"\")","v":""},{"$f":"IF(AND(W7<>L9),1,\"\")","v":""},{"$f":"IF(AND(X7<>L9),1,\"\")","v":""},{"$f":"IF(AND(Y7<>L9),1,\"\")","v":""},{"$f":"IF(AND(Z7<>L9),1,\"\")","v":""},{"$f":"IF(AND(AA7<>L9),1,\"\")","v":""},{"$f":"IF(AND(AB7<>L9),1,\"\")","v":""},{"$f":"IF(AND(AC7<>L9),1,\"\")","v":""},{"$f":"IF(AND(AD7<>L9),1,\"\")","v":""},{"$f":"IF(AND(AE7<>L9),1,\"\")","v":""},{"$f":"IF(AND(AF7<>L9),1,\"\")","v":""},{"$f":"IF(AND(AG7<>L9),1,\"\")","v":""},{"$f":"IF(AND(AH7<>L9),1,\"\")","v":""},{"$f":"IF(AND(AI7<>L9),1,\"\")","v":""},{"$f":"IF(AND(AJ7<>L9),1,\"\")","v":""},{"$f":"IF(AND(AK7<>L9),1,\"\")","v":""},null,null,{"$f":"N$7","v":""},false,2,{"$f":"SMALL(AO$8:AO$57,AP9)","v":{"$error":"#NUM!"}},{"$error":"#NUM!"}]
["",{"$f":"SUMIF(F18A!$A$9:$A$60,'F18'!A10,F18A!$B$9:$B$60)","v":{"v":0,"d":"0.00"}},{"$f":"SUMIF(F18A!$A$9:$A$60,'F18'!A10,F18A!$C$9:$C$60)","v":{"v":0,"d":"0.00"}},{"v":0,"d":"0.00"},{"$f":"SUMIF(F18A!$A$9:$A$60,'F18'!A10,F18A!$E$9:$E$60)","v":{"v":0,"d":"0.00"}},{"$f":"SUMIF(F18A!$A$9:$A$60,'F18'!A10,F18A!$F$9:$F$60)","v":{"v":0,"d":"0.00"}},{"v":0,"d":"0.00"},{"$nulls":3},"",{"$f":"IF(AND(F18A!A38=0),\"\",F18A!A38)","v":""},{"$f":"IF(AND(M7<>L10),1,\"\")","v":""},{"$f":"IF(AND(N7<>L10),1,\"\")","v":""},{"$f":"IF(AND(O7<>L10),1,\"\")","v":""},{"$f":"IF(AND(P7<>L10),1,\"\")","v":""},{"$f":"IF(AND(Q7<>L10),1,\"\")","v":""},{"$f":"IF(AND(R7<>L10),1,\"\")","v":""},{"$f":"IF(AND(S7<>L10),1,\"\")","v":""},{"$f":"IF(AND(T7<>L10),1,\"\")","v":""},{"$f":"IF(AND(U7<>L10),1,\"\")","v":""},{"$f":"IF(AND(V7<>L10),1,\"\")","v":""},{"$f":"IF(AND(W7<>L10),1,\"\")","v":""},{"$f":"IF(AND(X7<>L10),1,\"\")","v":""},{"$f":"IF(AND(Y7<>L10),1,\"\")","v":""},{"$f":"IF(AND(Z7<>L10),1,\"\")","v":""},{"$f":"IF(AND(AA7<>L10),1,\"\")","v":""},{"$f":"IF(AND(AB7<>L10),1,\"\")","v":""},{"$f":"IF(AND(AC7<>L10),1,\"\")","v":""},{"$f":"IF(AND(AD7<>L10),1,\"\")","v":""},{"$f":"IF(AND(AE7<>L10),1,\"\")","v":""},{"$f":"IF(AND(AF7<>L10),1,\"\")","v":""},{"$f":"IF(AND(AG7<>L10),1,\"\")","v":""},{"$f":"IF(AND(AH7<>L10),1,\"\")","v":""},{"$f":"IF(AND(AI7<>L10),1,\"\")","v":""},{"$f":"IF(AND(AJ7<>L10),1,\"\")","v":""},{"$f":"IF(AND(AK7<>L10),1,\"\")","v":""},null,null,{"$f":"O$7","v":""},false,3,{"$error":"#NUM!"},{"$error":"#NUM!"}]
["",{"$f":"SUMIF(F18A!$A$9:$A$60,'F18'!A11,F18A!$B$9:$B$60)","v":{"v":0,"d":"0.00"}},{"$f":"SUMIF(F18A!$A$9:$A$60,'F18'!A11,F18A!$C$9:$C$60)","v":{"v":0,"d":"0.00"}},{"v":0,"d":"0.00"},{"$f":"SUMIF(F18A!$A$9:$A$60,'F18'!A11,F18A!$E$9:$E$60)","v":{"v":0,"d":"0.00"}},{"$f":"SUMIF(F18A!$A$9:$A$60,'F18'!A11,F18A!$F$9:$F$60)","v":{"v":0,"d":"0.00"}},{"v":0,"d":"0.00"},{"$nulls":3},"",{"$f":"IF(AND(F18A!A39=0),\"\",F18A!A39)","v":""},{"$f":"IF(AND(M7<>L11),1,\"\")","v":""},{"$f":"IF(AND(N7<>L11),1,\"\")","v":""},{"$f":"IF(AND(O7<>L11),1,\"\")","v":""},{"$f":"IF(AND(P7<>L11),1,\"\")","v":""},{"$f":"IF(AND(Q7<>L11),1,\"\")","v":""},{"$f":"IF(AND(R7<>L11),1,\"\")","v":""},{"$f":"IF(AND(S7<>L11),1,\"\")","v":""},{"$f":"IF(AND(T7<>L11),1,\"\")","v":""},{"$f":"IF(AND(U7<>L11),1,\"\")","v":""},{"$f":"IF(AND(V7<>L11),1,\"\")","v":""},{"$f":"IF(AND(W7<>L11),1,\"\")","v":""},{"$f":"IF(AND(X7<>L11),1,\"\")","v":""},{"$f":"IF(AND(Y7<>L11),1,\"\")","v":""},{"$f":"IF(AND(Z7<>L11),1,\"\")","v":""},{"$f":"IF(AND(AA7<>L11),1,\"\")","v":""},{"$f":"IF(AND(AB7<>L11),1,\"\")","v":""},{"$f":"IF(AND(AC7<>L11),1,\"\")","v":""},{"$f":"IF(AND(AD7<>L11),1,\"\")","v":""},{"$f":"IF(AND(AE7<>L11),1,\"\")","v":""},{"$f":"IF(AND(AF7<>L11),1,\"\")","v":""},{"$f":"IF(AND(AG7<>L11),1,\"\")","v":""},{"$f":"IF(AND(AH7<>L11),1,\"\")","v":""},{"$f":"IF(AND(AI7<>L11),1,\"\")","v":""},{"$f":"IF(AND(AJ7<>L11),1,\"\")","v":""},{"$f":"IF(AND(AK7<>L11),1,\"\")","v":""},null,null,{"$f":"P$7","v":""},false,4,{"$error":"#NUM!"},{"$error":"#NUM!"}]
["",{"$f":"SUMIF(F18A!$A$9:$A$60,'F18'!A12,F18A!$B$9:$B$60)","v":{"v":0,"d":"0.00"}},{"$f":"SUMIF(F18A!$A$9:$A$60,'F18'!A12,F18A!$C$9:$C$60)","v":{"v":0,"d":"0.00"}},{"v":0,"d":"0.00"},{"$f":"SUMIF(F18A!$A$9:$A$60,'F18'!A12,F18A!$E$9:$E$60)","v":{"v":0,"d":"0.00"}},{"$f":"SUMIF(F18A!$A$9:$A$60,'F18'!A12,F18A!$F$9:$F$60)","v":{"v":0,"d":"0.00"}},{"v":0,"d":"0.00"},{"$nulls":3},"",{"$f":"IF(AND(F18A!A40=0),\"\",F18A!A40)","v":""},{"$f":"IF(AND(M7<>L12),1,\"\")","v":""},{"$f":"IF(AND(N7<>L12),1,\"\")","v":""},{"$f":"IF(AND(O7<>L12),1,\"\")","v":""},{"$f":"IF(AND(P7<>L12),1,\"\")","v":""},{"$f":"IF(AND(Q7<>L12),1,\"\")","v":""},{"$f":"IF(AND(R7<>L12),1,\"\")","v":""},{"$f":"IF(AND(S7<>L12),1,\"\")","v":""},{"$f":"IF(AND(T7<>L12),1,\"\")","v":""},{"$f":"IF(AND(U7<>L12),1,\"\")","v":""},{"$f":"IF(AND(V7<>L12),1,\"\")","v":""},{"$f":"IF(AND(W7<>L12),1,\"\")","v":""},{"$f":"IF(AND(X7<>L12),1,\"\")","v":""},{"$f":"IF(AND(Y7<>L12),1,\"\")","v":""},{"$f":"IF(AND(Z7<>L12),1,\"\")","v":""},{"$f":"IF(AND(AA7<>L12),1,\"\")","v":""},{"$f":"IF(AND(AB7<>L12),1,\"\")","v":""},{"$f":"IF(AND(AC7<>L12),1,\"\")","v":""},{"$f":"IF(AND(AD7<>L12),1,\"\")","v":""},{"$f":"IF(AND(AE7<>L12),1,\"\")","v":""},{"$f":"IF(AND(AF7<>L12),1,\"\")","v":""},{"$f":"IF(AND(AG7<>L12),1,\"\")","v":""},{"$f":"IF(AND(AH7<>L12),1,\"\")","v":""},{"$f":"IF(AND(AI7<>L12),1,\"\")","v":""},{"$f":"IF(AND(AJ7<>L12),1,\"\")","v":""},{"$f":"IF(AND(AK7<>L12),1,\"\")","v":""},null,null,{"$f":"Q$7","v":""},false,5,{"$error":"#NUM!"},{"$error":"#NUM!"}]
["",{"$f":"SUMIF(F18A!$A$9:$A$60,'F18'!A13,F18A!$B$9:$B$60)","v":{"v":0,"d":"0.00"}},{"$f":"SUMIF(F18A!$A$9:$A$60,'F18'!A13,F18A!$C$9:$C$60)","v":{"v":0,"d":"0.00"}},{"v":0,"d":"0.00"},{"$f":"SUMIF(F18A!$A$9:$A$60,'F18'!A13,F18A!$E$9:$E$60)","v":{"v":0,"d":"0.00"}},{"$f":"SUMIF(F18A!$A$9:$A$60,'F18'!A13,F18A!$F$9:$F$60)","v":{"v":0,"d":"0.00"}},{"v":0,"d":"0.00"},{"$nulls":3},"",{"$f":"IF(AND(F18A!A41=0),\"\",F18A!A41)","v":""},{"$f":"IF(AND(M7<>L13),1,\"\")","v":""},{"$f":"IF(AND(N7<>L13),1,\"\")","v":""},{"$f":"IF(AND(O7<>L13),1,\"\")","v":""},{"$f":"IF(AND(P7<>L13),1,\"\")","v":""},{"$f":"IF(AND(Q7<>L13),1,\"\")","v":""},{"$f":"IF(AND(R7<>L13),1,\"\")","v":""},{"$f":"IF(AND(S7<>L13),1,\"\")","v":""},{"$f":"IF(AND(T7<>L13),1,\"\")","v":""},{"$f":"IF(AND(U7<>L13),1,\"\")","v":""},{"$f":"IF(AND(V7<>L13),1,\"\")","v":""},{"$f":"IF(AND(W7<>L13),1,\"\")","v":""},{"$f":"IF(AND(X7<>L13),1,\"\")","v":""},{"$f":"IF(AND(Y7<>L13),1,\"\")","v":""},{"$f":"IF(AND(Z7<>L13),1,\"\")","v":""},{"$f":"IF(AND(AA7<>L13),1,\"\")","v":""},{"$f":"IF(AND(AB7<>L13),1,\"\")","v":""},{"$f":"IF(AND(AC7<>L13),1,\"\")","v":""},{"$f":"IF(AND(AD7<>L13),1,\"\")","v":""},{"$f":"IF(AND(AE7<>L13),1,\"\")","v":""},{"$f":"IF(AND(AF7<>L13),1,\"\")","v":""},{"$f":"IF(AND(AG7<>L13),1,\"\")","v":""},{"$f":"IF(AND(AH7<>L13),1,\"\")","v":""},{"$f":"IF(AND(AI7<>L13),1,\"\")","v":""},{"$f":"IF(AND(AJ7<>L13),1,\"\")","v":""},{"$f":"IF(AND(AK7<>L13),1,\"\")","v":""},null,null,{"$f":"R$7","v":""},false,6,{"$error":"#NUM!"},{"$error":"#NUM!"}]
["",{"$f":"SUMIF(F18A!$A$9:$A$60,'F18'!A14,F18A!$B$9:$B$60)","v":{"v":0,"d":"0.00"}},{"$f":"SUMIF(F18A!$A$9:$A$60,'F18'!A14,F18A!$C$9:$C$60)","v":{"v":0,"d":"0.00"}},{"v":0,"d":"0.00"},{"$f":"SUMIF(F18A!$A$9:$A$60,'F18'!A14,F18A!$E$9:$E$60)","v":{"v":0,"d":"0.00"}},{"$f":"SUMIF(F18A!$A$9:$A$60,'F18'!A14,F18A!$F$9:$F$60)","v":{"v":0,"d":"0.00"}},{"v":0,"d":"0.00"},{"$nulls":3},"",{"$f":"IF(AND(F18A!A42=0),\"\",F18A!A42)","v":""},{"$f":"IF(AND(M7<>L14),1,\"\")","v":""},{"$f":"IF(AND(N7<>L14),1,\"\")","v":""},{"$f":"IF(AND(O7<>L14),1,\"\")","v":""},{"$f":"IF(AND(P7<>L14),1,\"\")","v":""},{"$f":"IF(AND(Q7<>L14),1,\"\")","v":""},{"$f":"IF(AND(R7<>L14),1,\"\")","v":""},{"$f":"IF(AND(S7<>L14),1,\"\")","v":""},{"$f":"IF(AND(T7<>L14),1,\"\")","v":""},{"$f":"IF(AND(U7<>L14),1,\"\")","v":""},{"$f":"IF(AND(V7<>L14),1,\"\")","v":""},{"$f":"IF(AND(W7<>L14),1,\"\")","v":""},{"$f":"IF(AND(X7<>L14),1,\"\")","v":""},{"$f":"IF(AND(Y7<>L14),1,\"\")","v":""},{"$f":"IF(AND(Z7<>L14),1,\"\")","v":""},{"$f":"IF(AND(AA7<>L14),1,\"\")","v":""},{"$f":"IF(AND(AB7<>L14),1,\"\")","v":""},{"$f":"IF(AND(AC7<>L14),1,\"\")","v":""},{"$f":"IF(AND(AD7<>L14),1,\"\")","v":""},{"$f":"IF(AND(AE7<>L14),1,\"\")","v":""},{"$f":"IF(AND(AF7<>L14),1,\"\")","v":""},{"$f":"IF(AND(AG7<>L14),1,\"\")","v":""},{"$f":"IF(AND(AH7<>L14),1,\"\")","v":""},{"$f":"IF(AND(AI7<>L14),1,\"\")","v":""},{"$f":"IF(AND(AJ7<>L14),1,\"\")","v":""},{"$f":"IF(AND(AK7<>L14),1,\"\")","v":""},null,null,{"$f":"S$7","v":""},{"$f":"IF(AN$8:AN$57<>\"\",ROW(AN14:AN62))","v":false},7,{"$error":"#NUM!"},{"$error":"#NUM!"}]
["",{"$f":"SUMIF(F18A!$A$9:$A$60,'F18'!A15,F18A!$B$9:$B$60)","v":{"v":0,"d":"0.00"}},{"$f":"SUMIF(F18A!$A$9:$A$60,'F18'!A15,F18A!$C$9:$C$60)","v":{"v":0,"d":"0.00"}},{"v":0,"d":"0.00"},{"$f":"SUMIF(F18A!$A$9:$A$60,'F18'!A15,F18A!$E$9:$E$60)","v":{"v":0,"d":"0.00"}},{"$f":"SUMIF(F18A!$A$9:$A$60,'F18'!A15,F18A!$F$9:$F$60)","v":{"v":0,"d":"0.00"}},{"v":0,"d":"0.00"},{"$nulls":3},"",{"$f":"IF(AND(F18A!A43=0),\"\",F18A!A43)","v":""},{"$f":"IF(AND(M7<>L15),1,\"\")","v":""},{"$f":"IF(AND(N7<>L15),1,\"\")","v":""},{"$f":"IF(AND(O7<>L15),1,\"\")","v":""},{"$f":"IF(AND(P7<>L15),1,\"\")","v":""},{"$f":"IF(AND(Q7<>L15),1,\"\")","v":""},{"$f":"IF(AND(R7<>L15),1,\"\")","v":""},{"$f":"IF(AND(S7<>L15),1,\"\")","v":""},{"$f":"IF(AND(T7<>L15),1,\"\")","v":""},{"$f":"IF(AND(U7<>L15),1,\"\")","v":""},{"$f":"IF(AND(V7<>L15),1,\"\")","v":""},{"$f":"IF(AND(W7<>L15),1,\"\")","v":""},{"$f":"IF(AND(X7<>L15),1,\"\")","v":""},{"$f":"IF(AND(Y7<>L15),1,\"\")","v":""},{"$f":"IF(AND(Z7<>L15),1,\"\")","v":""},{"$f":"IF(AND(AA7<>L15),1,\"\")","v":""},{"$f":"IF(AND(AB7<>L15),1,\"\")","v":""},{"$f":"IF(AND(AC7<>L15),1,\"\")","v":""},{"$f":"IF(AND(AD7<>L15),1,\"\")","v":""},{"$f":"IF(AND(AE7<>L15),1,\"\")","v":""},{"$f":"IF(AND(AF7<>L15),1,\"\")","v":""},{"$f":"IF(AND(AG7<>L15),1,\"\")","v":""},{"$f":"IF(AND(AH7<>L15),1,\"\")","v":""},{"$f":"IF(AND(AI7<>L15),1,\"\")","v":""},{"$f":"IF(AND(AJ7<>L15),1,\"\")","v":""},{"$f":"IF(AND(AK7<>L15),1,\"\")","v":""},null,null,{"$f":"T$7","v":""},{"$f":"IF(AN$8:AN$57<>\"\",ROW(AN15:AN62))","v":false},8,{"$error":"#NUM!"},{"$error":"#NUM!"}]
["",{"$f":"SUMIF(F18A!$A$9:$A$60,'F18'!A16,F18A!$B$9:$B$60)","v":{"v":0,"d":"0.00"}},{"$f":"SUMIF(F18A!$A$9:$A$60,'F18'!A16,F18A!$C$9:$C$60)","v":{"v":0,"d":"0.00"}},{"v":0,"d":"0.00"},{"$f":"SUMIF(F18A!$A$9:$A$60,'F18'!A16,F18A!$E$9:$E$60)","v":{"v":0,"d":"0.00"}},{"$f":"SUMIF(F18A!$A$9:$A$60,'F18'!A16,F18A!$F$9:$F$60)","v":{"v":0,"d":"0.00"}},{"v":0,"d":"0.00"},{"$nulls":3},"",{"$f":"IF(AND(F18A!A44=0),\"\",F18A!A44)","v":""},{"$f":"IF(AND(M7<>L16),1,\"\")","v":""},{"$f":"IF(AND(N7<>L16),1,\"\")","v":""},{"$f":"IF(AND(O7<>L16),1,\"\")","v":""},{"$f":"IF(AND(P7<>L16),1,\"\")","v":""},{"$f":"IF(AND(Q7<>L16),1,\"\")","v":""},{"$f":"IF(AND(R7<>L16),1,\"\")","v":""},{"$f":"IF(AND(S7<>L16),1,\"\")","v":""},{"$f":"IF(AND(T7<>L16),1,\"\")","v":""},{"$f":"IF(AND(U7<>L16),1,\"\")","v":""},{"$f":"IF(AND(V7<>L16),1,\"\")","v":""},{"$f":"IF(AND(W7<>L16),1,\"\")","v":""},{"$f":"IF(AND(X7<>L16),1,\"\")","v":""},{"$f":"IF(AND(Y7<>L16),1,\"\")","v":""},{"$f":"IF(AND(Z7<>L16),1,\"\")","v":""},{"$f":"IF(AND(AA7<>L16),1,\"\")","v":""},{"$f":"IF(AND(AB7<>L16),1,\"\")","v":""},{"$f":"IF(AND(AC7<>L16),1,\"\")","v":""},{"$f":"IF(AND(AD7<>L16),1,\"\")","v":""},{"$f":"IF(AND(AE7<>L16),1,\"\")","v":""},{"$f":"IF(AND(AF7<>L16),1,\"\")","v":""},{"$f":"IF(AND(AG7<>L16),1,\"\")","v":""},{"$f":"IF(AND(AH7<>L16),1,\"\")","v":""},{"$f":"IF(AND(AI7<>L16),1,\"\")","v":""},{"$f":"IF(AND(AJ7<>L16),1,\"\")","v":""},{"$f":"IF(AND(AK7<>L16),1,\"\")","v":""},null,null,{"$f":"U$7","v":""},{"$f":"IF(AN$8:AN$57<>\"\",ROW(AN16:AN62))","v":false},9,{"$error":"#NUM!"},{"$error":"#NUM!"}]
["",{"$f":"SUMIF(F18A!$A$9:$A$60,'F18'!A17,F18A!$B$9:$B$60)","v":{"v":0,"d":"0.00"}},{"$f":"SUMIF(F18A!$A$9:$A$60,'F18'!A17,F18A!$C$9:$C$60)","v":{"v":0,"d":"0.00"}},{"v":0,"d":"0.00"},{"$f":"SUMIF(F18A!$A$9:$A$60,'F18'!A17,F18A!$E$9:$E$60)","v":{"v":0,"d":"0.00"}},{"$f":"SUMIF(F18A!$A$9:$A$60,'F18'!A17,F18A!$F$9:$F$60)","v":{"v":0,"d":"0.00"}},{"v":0,"d":"0.00"},{"$nulls":3},"",{"$f":"IF(AND(F18A!A45=0),\"\",F18A!A45)","v":""},{"$f":"IF(AND(M7<>L17),1,\"\")","v":""},{"$f":"IF(AND(N7<>L17),1,\"\")","v":""},{"$f":"IF(AND(O7<>L17),1,\"\")","v":""},{"$f":"IF(AND(P7<>L17),1,\"\")","v":""},{"$f":"IF(AND(Q7<>L17),1,\"\")","v":""},{"$f":"IF(AND(R7<>L17),1,\"\")","v":""},{"$f":"IF(AND(S7<>L17),1,\"\")","v":""},{"$f":"IF(AND(T7<>L17),1,\"\")","v":""},{"$f":"IF(AND(U7<>L17),1,\"\")","v":""},{"$f":"IF(AND(V7<>L17),1,\"\")","v":""},{"$f":"IF(AND(W7<>L17),1,\"\")","v":""},{"$f":"IF(AND(X7<>L17),1,\"\")","v":""},{"$f":"IF(AND(Y7<>L17),1,\"\")","v":""},{"$f":"IF(AND(Z7<>L17),1,\"\")","v":""},{"$f":"IF(AND(AA7<>L17),1,\"\")","v":""},{"$f":"IF(AND(AB7<>L17),1,\"\")","v":""},{"$f":"IF(AND(AC7<>L17),1,\"\")","v":""},{"$f":"IF(AND(AD7<>L17),1,\"\")","v":""},{"$f":"IF(AND(AE7<>L17),1,\"\")","v":""},{"$f":"IF(AND(AF7<>L17),1,\"\")","v":""},{"$f":"IF(AND(AG7<>L17),1,\"\")","v":""},{"$f":"IF(AND(AH7<>L17),1,\"\")","v":""},{"$f":"IF(AND(AI7<>L17),1,\"\")","v":""},{"$f":"IF(AND(AJ7<>L17),1,\"\")","v":""},{"$f":"IF(AND(AK7<>L17),1,\"\")","v":""},null,null,{"$f":"V$7","v":""},{"$f":"IF(AN$8:AN$57<>\"\",ROW(AN17:AN62))","v":false},10,{"$error":"#NUM!"},{"$error":"#NUM!"}]
["",{"$f":"SUMIF(F18A!$A$9:$A$60,'F18'!A18,F18A!$B$9:$B$60)","v":{"v":0,"d":"0.00"}},{"$f":"SUMIF(F18A!$A$9:$A$60,'F18'!A18,F18A!$C$9:$C$60)","v":{"v":0,"d":"0.00"}},{"v":0,"d":"0.00"},{"$f":"SUMIF(F18A!$A$9:$A$60,'F18'!A18,F18A!$E$9:$E$60)","v":{"v":0,"d":"0.00"}},{"$f":"SUMIF(F18A!$A$9:$A$60,'F18'!A18,F18A!$F$9:$F$60)","v":{"v":0,"d":"0.00"}},{"v":0,"d":"0.00"},{"$nulls":3},"",{"$f":"IF(AND(F18A!A46=0),\"\",F18A!A46)","v":""},{"$f":"IF(AND(M7<>L18),1,\"\")","v":""},{"$f":"IF(AND(N7<>L18),1,\"\")","v":""},{"$f":"IF(AND(O7<>L18),1,\"\")","v":""},{"$f":"IF(AND(P7<>L18),1,\"\")","v":""},{"$f":"IF(AND(Q7<>L18),1,\"\")","v":""},{"$f":"IF(AND(R7<>L18),1,\"\")","v":""},{"$f":"IF(AND(S7<>L18),1,\"\")","v":""},{"$f":"IF(AND(T7<>L18),1,\"\")","v":""},{"$f":"IF(AND(U7<>L18),1,\"\")","v":""},{"$f":"IF(AND(V7<>L18),1,\"\")","v":""},{"$f":"IF(AND(W7<>L18),1,\"\")","v":""},{"$f":"IF(AND(X7<>L18),1,\"\")","v":""},{"$f":"IF(AND(Y7<>L18),1,\"\")","v":""},{"$f":"IF(AND(Z7<>L18),1,\"\")","v":""},{"$f":"IF(AND(AA7<>L18),1,\"\")","v":""},{"$f":"IF(AND(AB7<>L18),1,\"\")","v":""},{"$f":"IF(AND(AC7<>L18),1,\"\")","v":""},{"$f":"IF(AND(AD7<>L18),1,\"\")","v":""},{"$f":"IF(AND(AE7<>L18),1,\"\")","v":""},{"$f":"IF(AND(AF7<>L18),1,\"\")","v":""},{"$f":"IF(AND(AG7<>L18),1,\"\")","v":""},{"$f":"IF(AND(AH7<>L18),1,\"\")","v":""},{"$f":"IF(AND(AI7<>L18),1,\"\")","v":""},{"$f":"IF(AND(AJ7<>L18),1,\"\")","v":""},{"$f":"IF(AND(AK7<>L18),1,\"\")","v":""},null,null,{"$f":"W$7","v":""},{"$f":"IF(AN$8:AN$57<>\"\",ROW(AN18:AN62))","v":false},11,{"$error":"#NUM!"},{"$error":"#NUM!"}]
["",{"$f":"SUMIF(F18A!$A$9:$A$60,'F18'!A19,F18A!$B$9:$B$60)","v":{"v":0,"d":"0.00"}},{"$f":"SUMIF(F18A!$A$9:$A$60,'F18'!A19,F18A!$C$9:$C$60)","v":{"v":0,"d":"0.00"}},{"v":0,"d":"0.00"},{"$f":"SUMIF(F18A!$A$9:$A$60,'F18'!A19,F18A!$E$9:$E$60)","v":{"v":0,"d":"0.00"}},{"$f":"SUMIF(F18A!$A$9:$A$60,'F18'!A19,F18A!$F$9:$F$60)","v":{"v":0,"d":"0.00"}},{"v":0,"d":"0.00"},{"$nulls":3},"",{"$f":"IF(AND(F18A!A47=0),\"\",F18A!A47)","v":""},{"$f":"IF(AND(M7<>L19),1,\"\")","v":""},{"$f":"IF(AND(N7<>L19),1,\"\")","v":""},{"$f":"IF(AND(O7<>L19),1,\"\")","v":""},{"$f":"IF(AND(P7<>L19),1,\"\")","v":""},{"$f":"IF(AND(Q7<>L19),1,\"\")","v":""},{"$f":"IF(AND(R7<>L19),1,\"\")","v":""},{"$f":"IF(AND(S7<>L19),1,\"\")","v":""},{"$f":"IF(AND(T7<>L19),1,\"\")","v":""},{"$f":"IF(AND(U7<>L19),1,\"\")","v":""},{"$f":"IF(AND(V7<>L19),1,\"\")","v":""},{"$f":"IF(AND(W7<>L19),1,\"\")","v":""},{"$f":"IF(AND(X7<>L19),1,\"\")","v":""},{"$f":"IF(AND(Y7<>L19),1,\"\")","v":""},{"$f":"IF(AND(Z7<>L19),1,\"\")","v":""},{"$f":"IF(AND(AA7<>L19),1,\"\")","v":""},{"$f":"IF(AND(AB7<>L19),1,\"\")","v":""},{"$f":"IF(AND(AC7<>L19),1,\"\")","v":""},{"$f":"IF(AND(AD7<>L19),1,\"\")","v":""},{"$f":"IF(AND(AE7<>L19),1,\"\")","v":""},{"$f":"IF(AND(AF7<>L19),1,\"\")","v":""},{"$f":"IF(AND(AG7<>L19),1,\"\")","v":""},{"$f":"IF(AND(AH7<>L19),1,\"\")","v":""},{"$f":"IF(AND(AI7<>L19),1,\"\")","v":""},{"$f":"IF(AND(AJ7<>L19),1,\"\")","v":""},{"$f":"IF(AND(AK7<>L19),1,\"\")","v":""},null,null,{"$f":"X$7","v":""},{"$f":"IF(AN$8:AN$57<>\"\",ROW(AN19:AN62))","v":false},12,{"$error":"#NUM!"},{"$error":"#NUM!"}]
["",{"$f":"SUMIF(F18A!$A$9:$A$60,'F18'!A20,F18A!$B$9:$B$60)","v":{"v":0,"d":"0.00"}},{"$f":"SUMIF(F18A!$A$9:$A$60,'F18'!A20,F18A!$C$9:$C$60)","v":{"v":0,"d":"0.00"}},{"v":0,"d":"0.00"},{"$f":"SUMIF(F18A!$A$9:$A$60,'F18'!A20,F18A!$E$9:$E$60)","v":{"v":0,"d":"0.00"}},{"$f":"SUMIF(F18A!$A$9:$A$60,'F18'!A20,F18A!$F$9:$F$60)","v":{"v":0,"d":"0.00"}},{"v":0,"d":"0.00"},{"$nulls":3},"",{"$f":"IF(AND(F18A!A48=0),\"\",F18A!A48)","v":""},{"$f":"IF(AND(M7<>L20),1,\"\")","v":""},{"$f":"IF(AND(N7<>L20),1,\"\")","v":""},{"$f":"IF(AND(O7<>L20),1,\"\")","v":""},{"$f":"IF(AND(P7<>L20),1,\"\")","v":""},{"$f":"IF(AND(Q7<>L20),1,\"\")","v":""},{"$f":"IF(AND(R7<>L20),1,\"\")","v":""},{"$f":"IF(AND(S7<>L20),1,\"\")","v":""},{"$f":"IF(AND(T7<>L20),1,\"\")","v":""},{"$f":"IF(AND(U7<>L20),1,\"\")","v":""},{"$f":"IF(AND(V7<>L20),1,\"\")","v":""},{"$f":"IF(AND(W7<>L20),1,\"\")","v":""},{"$f":"IF(AND(X7<>L20),1,\"\")","v":""},{"$f":"IF(AND(Y7<>L20),1,\"\")","v":""},{"$f":"IF(AND(Z7<>L20),1,\"\")","v":""},{"$f":"IF(AND(AA7<>L20),1,\"\")","v":""},{"$f":"IF(AND(AB7<>L20),1,\"\")","v":""},{"$f":"IF(AND(AC7<>L20),1,\"\")","v":""},{"$f":"IF(AND(AD7<>L20),1,\"\")","v":""},{"$f":"IF(AND(AE7<>L20),1,\"\")","v":""},{"$f":"IF(AND(AF7<>L20),1,\"\")","v":""},{"$f":"IF(AND(AG7<>L20),1,\"\")","v":""},{"$f":"IF(AND(AH7<>L20),1,\"\")","v":""},{"$f":"IF(AND(AI7<>L20),1,\"\")","v":""},{"$f":"IF(AND(AJ7<>L20),1,\"\")","v":""},{"$f":"IF(AND(AK7<>L20),1,\"\")","v":""},null,null,{"$f":"Y$7","v":""},false,13,{"$error":"#NUM!"},{"$error":"#NUM!"}]
["",{"$f":"SUMIF(F18A!$A$9:$A$60,'F18'!A21,F18A!$B$9:$B$60)","v":{"v":0,"d":"0.00"}},{"$f":"SUMIF(F18A!$A$9:$A$60,'F18'!A21,F18A!$C$9:$C$60)","v":{"v":0,"d":"0.00"}},{"v":0,"d":"0.00"},{"$f":"SUMIF(F18A!$A$9:$A$60,'F18'!A21,F18A!$E$9:$E$60)","v":{"v":0,"d":"0.00"}},{"$f":"SUMIF(F18A!$A$9:$A$60,'F18'!A21,F18A!$F$9:$F$60)","v":{"v":0,"d":"0.00"}},{"v":0,"d":"0.00"},{"$nulls":3},"",{"$f":"IF(AND(F18A!A49=0),\"\",F18A!A49)","v":""},{"$f":"IF(AND(M7<>L21),1,\"\")","v":""},{"$f":"IF(AND(N7<>L21),1,\"\")","v":""},{"$f":"IF(AND(O7<>L21),1,\"\")","v":""},{"$f":"IF(AND(P7<>L21),1,\"\")","v":""},{"$f":"IF(AND(Q7<>L21),1,\"\")","v":""},{"$f":"IF(AND(R7<>L21),1,\"\")","v":""},{"$f":"IF(AND(S7<>L21),1,\"\")","v":""},{"$f":"IF(AND(T7<>L21),1,\"\")","v":""},{"$f":"IF(AND(U7<>L21),1,\"\")","v":""},{"$f":"IF(AND(V7<>L21),1,\"\")","v":""},{"$f":"IF(AND(W7<>L21),1,\"\")","v":""},{"$f":"IF(AND(X7<>L21),1,\"\")","v":""},{"$f":"IF(AND(Y7<>L21),1,\"\")","v":""},{"$f":"IF(AND(Z7<>L21),1,\"\")","v":""},{"$f":"IF(AND(AA7<>L21),1,\"\")","v":""},{"$f":"IF(AND(AB7<>L21),1,\"\")","v":""},{"$f":"IF(AND(AC7<>L21),1,\"\")","v":""},{"$f":"IF(AND(AD7<>L21),1,\"\")","v":""},{"$f":"IF(AND(AE7<>L21),1,\"\")","v":""},{"$f":"IF(AND(AF7<>L21),1,\"\")","v":""},{"$f":"IF(AND(AG7<>L21),1,\"\")","v":""},{"$f":"IF(AND(AH7<>L21),1,\"\")","v":""},{"$f":"IF(AND(AI7<>L21),1,\"\")","v":""},{"$f":"IF(AND(AJ7<>L21),1,\"\")","v":""},{"$f":"IF(AND(AK7<>L21),1,\"\")","v":""},null,null,{"$f":"Z$7","v":""},false,14,{"$error":"#NUM!"},{"$error":"#NUM!"}]
["",{"$f":"SUMIF(F18A!$A$9:$A$60,'F18'!A22,F18A!$B$9:$B$60)","v":{"v":0,"d":"0.00"}},{"$f":"SUMIF(F18A!$A$9:$A$60,'F18'!A22,F18A!$C$9:$C$60)","v":{"v":0,"d":"0.00"}},{"v":0,"d":"0.00"},{"$f":"SUMIF(F18A!$A$9:$A$60,'F18'!A22,F18A!$E$9:$E$60)","v":{"v":0,"d":"0.00"}},{"$f":"SUMIF(F18A!$A$9:$A$60,'F18'!A22,F18A!$F$9:$F$60)","v":{"v":0,"d":"0.00"}},{"v":0,"d":"0.00"},{"$nulls":3},"",{"$f":"IF(AND(F18A!A50=0),\"\",F18A!A50)","v":""},{"$f":"IF(AND(M7<>L22),1,\"\")","v":""},{"$f":"IF(AND(N7<>L22),1,\"\")","v":""},{"$f":"IF(AND(O7<>L22),1,\"\")","v":""},{"$f":"IF(AND(P7<>L22),1,\"\")","v":""},{"$f":"IF(AND(Q7<>L22),1,\"\")","v":""},{"$f":"IF(AND(R7<>L22),1,\"\")","v":""},{"$f":"IF(AND(S7<>L22),1,\"\")","v":""},{"$f":"IF(AND(T7<>L22),1,\"\")","v":""},{"$f":"IF(AND(U7<>L22),1,\"\")","v":""},{"$f":"IF(AND(V7<>L22),1,\"\")","v":""},{"$f":"IF(AND(W7<>L22),1,\"\")","v":""},{"$f":"IF(AND(X7<>L22),1,\"\")","v":""},{"$f":"IF(AND(Y7<>L22),1,\"\")","v":""},{"$f":"IF(AND(Z7<>L22),1,\"\")","v":""},{"$f":"IF(AND(AA7<>L22),1,\"\")","v":""},{"$f":"IF(AND(AB7<>L22),1,\"\")","v":""},{"$f":"IF(AND(AC7<>L22),1,\"\")","v":""},{"$f":"IF(AND(AD7<>L22),1,\"\")","v":""},{"$f":"IF(AND(AE7<>L22),1,\"\")","v":""},{"$f":"IF(AND(AF7<>L22),1,\"\")","v":""},{"$f":"IF(AND(AG7<>L22),1,\"\")","v":""},{"$f":"IF(AND(AH7<>L22),1,\"\")","v":""},{"$f":"IF(AND(AI7<>L22),1,\"\")","v":""},{"$f":"IF(AND(AJ7<>L22),1,\"\")","v":""},{"$f":"IF(AND(AK7<>L22),1,\"\")","v":""},null,null,{"$f":"AA$7","v":""},false,15,{"$error":"#NUM!"},{"$error":"#NUM!"}]
["",{"$f":"SUMIF(F18A!$A$9:$A$60,'F18'!A23,F18A!$B$9:$B$60)","v":{"v":0,"d":"0.00"}},{"$f":"SUMIF(F18A!$A$9:$A$60,'F18'!A23,F18A!$C$9:$C$60)","v":{"v":0,"d":"0.00"}},{"v":0,"d":"0.00"},{"$f":"SUMIF(F18A!$A$9:$A$60,'F18'!A23,F18A!$E$9:$E$60)","v":{"v":0,"d":"0.00"}},{"$f":"SUMIF(F18A!$A$9:$A$60,'F18'!A23,F18A!$F$9:$F$60)","v":{"v":0,"d":"0.00"}},{"v":0,"d":"0.00"},{"$nulls":3},"",{"$f":"IF(AND(F18A!A51=0),\"\",F18A!A51)","v":""},{"$f":"IF(AND(M7<>L23),1,\"\")","v":""},{"$f":"IF(AND(N7<>L23),1,\"\")","v":""},{"$f":"IF(AND(O7<>L23),1,\"\")","v":""},{"$f":"IF(AND(P7<>L23),1,\"\")","v":""},{"$f":"IF(AND(Q7<>L23),1,\"\")","v":""},{"$f":"IF(AND(R7<>L23),1,\"\")","v":""},{"$f":"IF(AND(S7<>L23),1,\"\")","v":""},{"$f":"IF(AND(T7<>L23),1,\"\")","v":""},{"$f":"IF(AND(U7<>L23),1,\"\")","v":""},{"$f":"IF(AND(V7<>L23),1,\"\")","v":""},{"$f":"IF(AND(W7<>L23),1,\"\")","v":""},{"$f":"IF(AND(X7<>L23),1,\"\")","v":""},{"$f":"IF(AND(Y7<>L23),1,\"\")","v":""},{"$f":"IF(AND(Z7<>L23),1,\"\")","v":""},{"$f":"IF(AND(AA7<>L23),1,\"\")","v":""},{"$f":"IF(AND(AB7<>L23),1,\"\")","v":""},{"$f":"IF(AND(AC7<>L23),1,\"\")","v":""},{"$f":"IF(AND(AD7<>L23),1,\"\")","v":""},{"$f":"IF(AND(AE7<>L23),1,\"\")","v":""},{"$f":"IF(AND(AF7<>L23),1,\"\")","v":""},{"$f":"IF(AND(AG7<>L23),1,\"\")","v":""},{"$f":"IF(AND(AH7<>L23),1,\"\")","v":""},{"$f":"IF(AND(AI7<>L23),1,\"\")","v":""},{"$f":"IF(AND(AJ7<>L23),1,\"\")","v":""},{"$f":"IF(AND(AK7<>L23),1,\"\")","v":""},null,null,{"$f":"AB$7","v":""},false,16,{"$error":"#NUM!"},{"$error":"#NUM!"}]
["",{"$f":"SUMIF(F18A!$A$9:$A$60,'F18'!A24,F18A!$B$9:$B$60)","v":{"v":0,"d":"0.00"}},{"$f":"SUMIF(F18A!$A$9:$A$60,'F18'!A24,F18A!$C$9:$C$60)","v":{"v":0,"d":"0.00"}},{"v":0,"d":"0.00"},{"$f":"SUMIF(F18A!$A$9:$A$60,'F18'!A24,F18A!$E$9:$E$60)","v":{"v":0,"d":"0.00"}},{"$f":"SUMIF(F18A!$A$9:$A$60,'F18'!A24,F18A!$F$9:$F$60)","v":{"v":0,"d":"0.00"}},{"v":0,"d":"0.00"},{"$nulls":3},"",{"$f":"IF(AND(F18A!A52=0),\"\",F18A!A52)","v":""},{"$f":"IF(AND(M7<>L24),1,\"\")","v":""},{"$f":"IF(AND(N7<>L24),1,\"\")","v":""},{"$f":"IF(AND(O7<>L24),1,\"\")","v":""},{"$f":"IF(AND(P7<>L24),1,\"\")","v":""},{"$f":"IF(AND(Q7<>L24),1,\"\")","v":""},{"$f":"IF(AND(R7<>L24),1,\"\")","v":""},{"$f":"IF(AND(S7<>L24),1,\"\")","v":""},{"$f":"IF(AND(T7<>L24),1,\"\")","v":""},{"$f":"IF(AND(U7<>L24),1,\"\")","v":""},{"$f":"IF(AND(V7<>L24),1,\"\")","v":""},{"$f":"IF(AND(W7<>L24),1,\"\")","v":""},{"$f":"IF(AND(X7<>L24),1,\"\")","v":""},{"$f":"IF(AND(Y7<>L24),1,\"\")","v":""},{"$f":"IF(AND(Z7<>L24),1,\"\")","v":""},{"$f":"IF(AND(AA7<>L24),1,\"\")","v":""},{"$f":"IF(AND(AB7<>L24),1,\"\")","v":""},{"$f":"IF(AND(AC7<>L24),1,\"\")","v":""},{"$f":"IF(AND(AD7<>L24),1,\"\")","v":""},{"$f":"IF(AND(AE7<>L24),1,\"\")","v":""},{"$f":"IF(AND(AF7<>L24),1,\"\")","v":""},{"$f":"IF(AND(AG7<>L24),1,\"\")","v":""},{"$f":"IF(AND(AH7<>L24),1,\"\")","v":""},{"$f":"IF(AND(AI7<>L24),1,\"\")","v":""},{"$f":"IF(AND(AJ7<>L24),1,\"\")","v":""},{"$f":"IF(AND(AK7<>L24),1,\"\")","v":""},null,null,{"$f":"AC$7","v":""},false,17,{"$error":"#NUM!"},{"$error":"#NUM!"}]
["",{"$f":"SUMIF(F18A!$A$9:$A$60,'F18'!A25,F18A!$B$9:$B$60)","v":{"v":0,"d":"0.00"}},{"$f":"SUMIF(F18A!$A$9:$A$60,'F18'!A25,F18A!$C$9:$C$60)","v":{"v":0,"d":"0.00"}},{"v":0,"d":"0.00"},{"$f":"SUMIF(F18A!$A$9:$A$60,'F18'!A25,F18A!$E$9:$E$60)","v":{"v":0,"d":"0.00"}},{"$f":"SUMIF(F18A!$A$9:$A$60,'F18'!A25,F18A!$F$9:$F$60)","v":{"v":0,"d":"0.00"}},{"v":0,"d":"0.00"},{"$nulls":3},"",{"$f":"IF(AND(F18A!A53=0),\"\",F18A!A53)","v":""},{"$f":"IF(AND(M7<>L25),1,\"\")","v":""},{"$f":"IF(AND(N7<>L25),1,\"\")","v":""},{"$f":"IF(AND(O7<>L25),1,\"\")","v":""},{"$f":"IF(AND(P7<>L25),1,\"\")","v":""},{"$f":"IF(AND(Q7<>L25),1,\"\")","v":""},{"$f":"IF(AND(R7<>L25),1,\"\")","v":""},{"$f":"IF(AND(S7<>L25),1,\"\")","v":""},{"$f":"IF(AND(T7<>L25),1,\"\")","v":""},{"$f":"IF(AND(U7<>L25),1,\"\")","v":""},{"$f":"IF(AND(V7<>L25),1,\"\")","v":""},{"$f":"IF(AND(W7<>L25),1,\"\")","v":""},{"$f":"IF(AND(X7<>L25),1,\"\")","v":""},{"$f":"IF(AND(Y7<>L25),1,\"\")","v":""},{"$f":"IF(AND(Z7<>L25),1,\"\")","v":""},{"$f":"IF(AND(AA7<>L25),1,\"\")","v":""},{"$f":"IF(AND(AB7<>L25),1,\"\")","v":""},{"$f":"IF(AND(AC7<>L25),1,\"\")","v":""},{"$f":"IF(AND(AD7<>L25),1,\"\")","v":""},{"$f":"IF(AND(AE7<>L25),1,\"\")","v":""},{"$f":"IF(AND(AF7<>L25),1,\"\")","v":""},{"$f":"IF(AND(AG7<>L25),1,\"\")","v":""},{"$f":"IF(AND(AH7<>L25),1,\"\")","v":""},{"$f":"IF(AND(AI7<>L25),1,\"\")","v":""},{"$f":"IF(AND(AJ7<>L25),1,\"\")","v":""},{"$f":"IF(AND(AK7<>L25),1,\"\")","v":""},null,null,{"$f":"AD$7","v":""},false,18,{"$error":"#NUM!"},{"$error":"#NUM!"}]
["",{"$f":"SUMIF(F18A!$A$9:$A$60,'F18'!A26,F18A!$B$9:$B$60)","v":{"v":0,"d":"0.00"}},{"$f":"SUMIF(F18A!$A$9:$A$60,'F18'!A26,F18A!$C$9:$C$60)","v":{"v":0,"d":"0.00"}},{"v":0,"d":"0.00"},{"$f":"SUMIF(F18A!$A$9:$A$60,'F18'!A26,F18A!$E$9:$E$60)","v":{"v":0,"d":"0.00"}},{"$f":"SUMIF(F18A!$A$9:$A$60,'F18'!A26,F18A!$F$9:$F$60)","v":{"v":0,"d":"0.00"}},{"v":0,"d":"0.00"},{"$nulls":3},"",{"$f":"IF(AND(F18A!A54=0),\"\",F18A!A54)","v":""},{"$f":"IF(AND(M7<>L26),1,\"\")","v":""},{"$f":"IF(AND(N7<>L26),1,\"\")","v":""},{"$f":"IF(AND(O7<>L26),1,\"\")","v":""},{"$f":"IF(AND(P7<>L26),1,\"\")","v":""},{"$f":"IF(AND(Q7<>L26),1,\"\")","v":""},{"$f":"IF(AND(R7<>L26),1,\"\")","v":""},{"$f":"IF(AND(S7<>L26),1,\"\")","v":""},{"$f":"IF(AND(T7<>L26),1,\"\")","v":""},{"$f":"IF(AND(U7<>L26),1,\"\")","v":""},{"$f":"IF(AND(V7<>L26),1,\"\")","v":""},{"$f":"IF(AND(W7<>L26),1,\"\")","v":""},{"$f":"IF(AND(X7<>L26),1,\"\")","v":""},{"$f":"IF(AND(Y7<>L26),1,\"\")","v":""},{"$f":"IF(AND(Z7<>L26),1,\"\")","v":""},{"$f":"IF(AND(AA7<>L26),1,\"\")","v":""},{"$f":"IF(AND(AB7<>L26),1,\"\")","v":""},{"$f":"IF(AND(AC7<>L26),1,\"\")","v":""},{"$f":"IF(AND(AD7<>L26),1,\"\")","v":""},{"$f":"IF(AND(AE7<>L26),1,\"\")","v":""},{"$f":"IF(AND(AF7<>L26),1,\"\")","v":""},{"$f":"IF(AND(AG7<>L26),1,\"\")","v":""},{"$f":"IF(AND(AH7<>L26),1,\"\")","v":""},{"$f":"IF(AND(AI7<>L26),1,\"\")","v":""},{"$f":"IF(AND(AJ7<>L26),1,\"\")","v":""},{"$f":"IF(AND(AK7<>L26),1,\"\")","v":""},null,null,{"$f":"AE$7","v":""},false,19,{"$error":"#NUM!"},{"$error":"#NUM!"}]
["",{"$f":"SUMIF(F18A!$A$9:$A$60,'F18'!A27,F18A!$B$9:$B$60)","v":{"v":0,"d":"0.00"}},{"$f":"SUMIF(F18A!$A$9:$A$60,'F18'!A27,F18A!$C$9:$C$60)","v":{"v":0,"d":"0.00"}},{"v":0,"d":"0.00"},{"$f":"SUMIF(F18A!$A$9:$A$60,'F18'!A27,F18A!$E$9:$E$60)","v":{"v":0,"d":"0.00"}},{"$f":"SUMIF(F18A!$A$9:$A$60,'F18'!A27,F18A!$F$9:$F$60)","v":{"v":0,"d":"0.00"}},{"v":0,"d":"0.00"},{"$nulls":3},"",{"$f":"IF(AND(F18A!A55=0),\"\",F18A!A55)","v":""},{"$f":"IF(AND(M7<>L27),1,\"\")","v":""},{"$f":"IF(AND(N7<>L27),1,\"\")","v":""},{"$f":"IF(AND(O7<>L27),1,\"\")","v":""},{"$f":"IF(AND(P7<>L27),1,\"\")","v":""},{"$f":"IF(AND(Q7<>L27),1,\"\")","v":""},{"$f":"IF(AND(R7<>L27),1,\"\")","v":""},{"$f":"IF(AND(S7<>L27),1,\"\")","v":""},{"$f":"IF(AND(T7<>L27),1,\"\")","v":""},{"$f":"IF(AND(U7<>L27),1,\"\")","v":""},{"$f":"IF(AND(V7<>L27),1,\"\")","v":""},{"$f":"IF(AND(W7<>L27),1,\"\")","v":""},{"$f":"IF(AND(X7<>L27),1,\"\")","v":""},{"$f":"IF(AND(Y7<>L27),1,\"\")","v":""},{"$f":"IF(AND(Z7<>L27),1,\"\")","v":""},{"$f":"IF(AND(AA7<>L27),1,\"\")","v":""},{"$f":"IF(AND(AB7<>L27),1,\"\")","v":""},{"$f":"IF(AND(AC7<>L27),1,\"\")","v":""},{"$f":"IF(AND(AD7<>L27),1,\"\")","v":""},{"$f":"IF(AND(AE7<>L27),1,\"\")","v":""},{"$f":"IF(AND(AF7<>L27),1,\"\")","v":""},{"$f":"IF(AND(AG7<>L27),1,\"\")","v":""},{"$f":"IF(AND(AH7<>L27),1,\"\")","v":""},{"$f":"IF(AND(AI7<>L27),1,\"\")","v":""},{"$f":"IF(AND(AJ7<>L27),1,\"\")","v":""},{"$f":"IF(AND(AK7<>L27),1,\"\")","v":""},null,null,{"$f":"AF$7","v":""},false,20,{"$error":"#NUM!"},{"$error":"#NUM!"}]
["",{"$f":"SUMIF(F18A!$A$9:$A$60,'F18'!A28,F18A!$B$9:$B$60)","v":{"v":0,"d":"0.00"}},{"$f":"SUMIF(F18A!$A$9:$A$60,'F18'!A28,F18A!$C$9:$C$60)","v":{"v":0,"d":"0.00"}},{"v":0,"d":"0.00"},{"$f":"SUMIF(F18A!$A$9:$A$60,'F18'!A28,F18A!$E$9:$E$60)","v":{"v":0,"d":"0.00"}},{"$f":"SUMIF(F18A!$A$9:$A$60,'F18'!A28,F18A!$F$9:$F$60)","v":{"v":0,"d":"0.00"}},{"v":0,"d":"0.00"},{"$nulls":3},"",{"$f":"IF(AND(F18A!A56=0),\"\",F18A!A56)","v":""},{"$f":"IF(AND(M7<>L28),1,\"\")","v":""},{"$f":"IF(AND(N7<>L28),1,\"\")","v":""},{"$f":"IF(AND(O7<>L28),1,\"\")","v":""},{"$f":"IF(AND(P7<>L28),1,\"\")","v":""},{"$f":"IF(AND(Q7<>L28),1,\"\")","v":""},{"$f":"IF(AND(R7<>L28),1,\"\")","v":""},{"$f":"IF(AND(S7<>L28),1,\"\")","v":""},{"$f":"IF(AND(T7<>L28),1,\"\")","v":""},{"$f":"IF(AND(U7<>L28),1,\"\")","v":""},{"$f":"IF(AND(V7<>L28),1,\"\")","v":""},{"$f":"IF(AND(W7<>L28),1,\"\")","v":""},{"$f":"IF(AND(X7<>L28),1,\"\")","v":""},{"$f":"IF(AND(Y7<>L28),1,\"\")","v":""},{"$f":"IF(AND(Z7<>L28),1,\"\")","v":""},{"$f":"IF(AND(AA7<>L28),1,\"\")","v":""},{"$f":"IF(AND(AB7<>L28),1,\"\")","v":""},{"$f":"IF(AND(AC7<>L28),1,\"\")","v":""},{"$f":"IF(AND(AD7<>L28),1,\"\")","v":""},{"$f":"IF(AND(AE7<>L28),1,\"\")","v":""},{"$f":"IF(AND(AF7<>L28),1,\"\")","v":""},{"$f":"IF(AND(AG7<>L28),1,\"\")","v":""},{"$f":"IF(AND(AH7<>L28),1,\"\")","v":""},{"$f":"IF(AND(AI7<>L28),1,\"\")","v":""},{"$f":"IF(AND(AJ7<>L28),1,\"\")","v":""},{"$f":"IF(AND(AK7<>L28),1,\"\")","v":""},null,null,{"$f":"AG$7","v":""},false,21,{"$error":"#NUM!"},{"$error":"#NUM!"}]
["",{"$f":"SUMIF(F18A!$A$9:$A$60,'F18'!A29,F18A!$B$9:$B$60)","v":{"v":0,"d":"0.00"}},{"$f":"SUMIF(F18A!$A$9:$A$60,'F18'!A29,F18A!$C$9:$C$60)","v":{"v":0,"d":"0.00"}},{"v":0,"d":"0.00"},{"$f":"SUMIF(F18A!$A$9:$A$60,'F18'!A29,F18A!$E$9:$E$60)","v":{"v":0,"d":"0.00"}},{"$f":"SUMIF(F18A!$A$9:$A$60,'F18'!A29,F18A!$F$9:$F$60)","v":{"v":0,"d":"0.00"}},{"v":0,"d":"0.00"},{"$nulls":3},"",{"$f":"IF(AND(F18A!A57=0),\"\",F18A!A57)","v":""},{"$f":"IF(AND(M7<>L29),1,\"\")","v":""},{"$f":"IF(AND(N7<>L29),1,\"\")","v":""},{"$f":"IF(AND(O7<>L29),1,\"\")","v":""},{"$f":"IF(AND(P7<>L29),1,\"\")","v":""},{"$f":"IF(AND(Q7<>L29),1,\"\")","v":""},{"$f":"IF(AND(R7<>L29),1,\"\")","v":""},{"$f":"IF(AND(S7<>L29),1,\"\")","v":""},{"$f":"IF(AND(T7<>L29),1,\"\")","v":""},{"$f":"IF(AND(U7<>L29),1,\"\")","v":""},{"$f":"IF(AND(V7<>L29),1,\"\")","v":""},{"$f":"IF(AND(W7<>L29),1,\"\")","v":""},{"$f":"IF(AND(X7<>L29),1,\"\")","v":""},{"$f":"IF(AND(Y7<>L29),1,\"\")","v":""},{"$f":"IF(AND(Z7<>L29),1,\"\")","v":""},{"$f":"IF(AND(AA7<>L29),1,\"\")","v":""},{"$f":"IF(AND(AB7<>L29),1,\"\")","v":""},{"$f":"IF(AND(AC7<>L29),1,\"\")","v":""},{"$f":"IF(AND(AD7<>L29),1,\"\")","v":""},{"$f":"IF(AND(AE7<>L29),1,\"\")","v":""},{"$f":"IF(AND(AF7<>L29),1,\"\")","v":""},{"$f":"IF(AND(AG7<>L29),1,\"\")","v":""},{"$f":"IF(AND(AH7<>L29),1,\"\")","v":""},{"$f":"IF(AND(AI7<>L29),1,\"\")","v":""},{"$f":"IF(AND(AJ7<>L29),1,\"\")","v":""},{"$f":"IF(AND(AK7<>L29),1,\"\")","v":""},null,null,{"$f":"AH$7","v":""},false,22,{"$error":"#NUM!"},{"$error":"#NUM!"}]
["",{"$f":"SUMIF(F18A!$A$9:$A$60,'F18'!A30,F18A!$B$9:$B$60)","v":{"v":0,"d":"0.00"}},{"$f":"SUMIF(F18A!$A$9:$A$60,'F18'!A30,F18A!$C$9:$C$60)","v":{"v":0,"d":"0.00"}},{"v":0,"d":"0.00"},{"$f":"SUMIF(F18A!$A$9:$A$60,'F18'!A30,F18A!$E$9:$E$60)","v":{"v":0,"d":"0.00"}},{"$f":"SUMIF(F18A!$A$9:$A$60,'F18'!A30,F18A!$F$9:$F$60)","v":{"v":0,"d":"0.00"}},{"v":0,"d":"0.00"},{"$nulls":3},"",{"$f":"IF(AND(F18A!A58=0),\"\",F18A!A58)","v":""},{"$f":"IF(AND(M7<>L30),1,\"\")","v":""},{"$f":"IF(AND(N7<>L30),1,\"\")","v":""},{"$f":"IF(AND(O7<>L30),1,\"\")","v":""},{"$f":"IF(AND(P7<>L30),1,\"\")","v":""},{"$f":"IF(AND(Q7<>L30),1,\"\")","v":""},{"$f":"IF(AND(R7<>L30),1,\"\")","v":""},{"$f":"IF(AND(S7<>L30),1,\"\")","v":""},{"$f":"IF(AND(T7<>L30),1,\"\")","v":""},{"$f":"IF(AND(U7<>L30),1,\"\")","v":""},{"$f":"IF(AND(V7<>L30),1,\"\")","v":""},{"$f":"IF(AND(W7<>L30),1,\"\")","v":""},{"$f":"IF(AND(X7<>L30),1,\"\")","v":""},{"$f":"IF(AND(Y7<>L30),1,\"\")","v":""},{"$f":"IF(AND(Z7<>L30),1,\"\")","v":""},{"$f":"IF(AND(AA7<>L30),1,\"\")","v":""},{"$f":"IF(AND(AB7<>L30),1,\"\")","v":""},{"$f":"IF(AND(AC7<>L30),1,\"\")","v":""},{"$f":"IF(AND(AD7<>L30),1,\"\")","v":""},{"$f":"IF(AND(AE7<>L30),1,\"\")","v":""},{"$f":"IF(AND(AF7<>L30),1,\"\")","v":""},{"$f":"IF(AND(AG7<>L30),1,\"\")","v":""},{"$f":"IF(AND(AH7<>L30),1,\"\")","v":""},{"$f":"IF(AND(AI7<>L30),1,\"\")","v":""},{"$f":"IF(AND(AJ7<>L30),1,\"\")","v":""},{"$f":"IF(AND(AK7<>L30),1,\"\")","v":""},null,null,{"$f":"AI$7","v":""},false,23,{"$error":"#NUM!"},{"$error":"#NUM!"}]
["",{"$f":"SUMIF(F18A!$A$9:$A$60,'F18'!A31,F18A!$B$9:$B$60)","v":{"v":0,"d":"0.00"}},{"$f":"SUMIF(F18A!$A$9:$A$60,'F18'!A31,F18A!$C$9:$C$60)","v":{"v":0,"d":"0.00"}},{"v":0,"d":"0.00"},{"$f":"SUMIF(F18A!$A$9:$A$60,'F18'!A31,F18A!$E$9:$E$60)","v":{"v":0,"d":"0.00"}},{"$f":"SUMIF(F18A!$A$9:$A$60,'F18'!A31,F18A!$F$9:$F$60)","v":{"v":0,"d":"0.00"}},{"v":0,"d":"0.00"},{"$nulls":3},"",{"$f":"IF(AND(F18A!A59=0),\"\",F18A!A59)","v":""},{"$f":"IF(AND(M7<>L31),1,\"\")","v":""},{"$f":"IF(AND(N7<>L31),1,\"\")","v":""},{"$f":"IF(AND(O7<>L31),1,\"\")","v":""},{"$f":"IF(AND(P7<>L31),1,\"\")","v":""},{"$f":"IF(AND(Q7<>L31),1,\"\")","v":""},{"$f":"IF(AND(R7<>L31),1,\"\")","v":""},{"$f":"IF(AND(S7<>L31),1,\"\")","v":""},{"$f":"IF(AND(T7<>L31),1,\"\")","v":""},{"$f":"IF(AND(U7<>L31),1,\"\")","v":""},{"$f":"IF(AND(V7<>L31),1,\"\")","v":""},{"$f":"IF(AND(W7<>L31),1,\"\")","v":""},{"$f":"IF(AND(X7<>L31),1,\"\")","v":""},{"$f":"IF(AND(Y7<>L31),1,\"\")","v":""},{"$f":"IF(AND(Z7<>L31),1,\"\")","v":""},{"$f":"IF(AND(AA7<>L31),1,\"\")","v":""},{"$f":"IF(AND(AB7<>L31),1,\"\")","v":""},{"$f":"IF(AND(AC7<>L31),1,\"\")","v":""},{"$f":"IF(AND(AD7<>L31),1,\"\")","v":""},{"$f":"IF(AND(AE7<>L31),1,\"\")","v":""},{"$f":"IF(AND(AF7<>L31),1,\"\")","v":""},{"$f":"IF(AND(AG7<>L31),1,\"\")","v":""},{"$f":"IF(AND(AH7<>L31),1,\"\")","v":""},{"$f":"IF(AND(AI7<>L31),1,\"\")","v":""},{"$f":"IF(AND(AJ7<>L31),1,\"\")","v":""},{"$f":"IF(AND(AK7<>L31),1,\"\")","v":""},null,null,{"$f":"AJ$7","v":""},false,24,{"$error":"#NUM!"},{"$error":"#NUM!"}]
["",{"$f":"SUMIF(F18A!$A$9:$A$60,'F18'!A32,F18A!$B$9:$B$60)","v":{"v":0,"d":"0.00"}},{"$f":"SUMIF(F18A!$A$9:$A$60,'F18'!A32,F18A!$C$9:$C$60)","v":{"v":0,"d":"0.00"}},{"v":0,"d":"0.00"},{"$f":"SUMIF(F18A!$A$9:$A$60,'F18'!A32,F18A!$E$9:$E$60)","v":{"v":0,"d":"0.00"}},{"$f":"SUMIF(F18A!$A$9:$A$60,'F18'!A32,F18A!$F$9:$F$60)","v":{"v":0,"d":"0.00"}},{"v":0,"d":"0.00"},{"$nulls":3},"",{"$f":"IF(AND(F18A!A60=0),\"\",F18A!A60)","v":""},{"$f":"IF(AND(M7<>L32),1,\"\")","v":""},{"$f":"IF(AND(N7<>L32),1,\"\")","v":""},{"$f":"IF(AND(O7<>L32),1,\"\")","v":""},{"$f":"IF(AND(P7<>L32),1,\"\")","v":""},{"$f":"IF(AND(Q7<>L32),1,\"\")","v":""},{"$f":"IF(AND(R7<>L32),1,\"\")","v":""},{"$f":"IF(AND(S7<>L32),1,\"\")","v":""},{"$f":"IF(AND(T7<>L32),1,\"\")","v":""},{"$f":"IF(AND(U7<>L32),1,\"\")","v":""},{"$f":"IF(AND(V7<>L32),1,\"\")","v":""},{"$f":"IF(AND(W7<>L32),1,\"\")","v":""},{"$f":"IF(AND(X7<>L32),1,\"\")","v":""},{"$f":"IF(AND(Y7<>L32),1,\"\")","v":""},{"$f":"IF(AND(Z7<>L32),1,\"\")","v":""},{"$f":"IF(AND(AA7<>L32),1,\"\")","v":""},{"$f":"IF(AND(AB7<>L32),1,\"\")","v":""},{"$f":"IF(AND(AC7<>L32),1,\"\")","v":""},{"$f":"IF(AND(AD7<>L32),1,\"\")","v":""},{"$f":"IF(AND(AE7<>L32),1,\"\")","v":""},{"$f":"IF(AND(AF7<>L32),1,\"\")","v":""},{"$f":"IF(AND(AG7<>L32),1,\"\")","v":""},{"$f":"IF(AND(AH7<>L32),1,\"\")","v":""},{"$f":"IF(AND(AI7<>L32),1,\"\")","v":""},{"$f":"IF(AND(AJ7<>L32),1,\"\")","v":""},{"$f":"IF(AND(AK7<>L32),1,\"\")","v":""},null,null,{"$f":"AK$7","v":""},false,25,{"$error":"#NUM!"},{"$error":"#NUM!"}]
["",{"$f":"SUMIF(F18A!$A$9:$A$60,'F18'!A33,F18A!$B$9:$B$60)","v":{"v":0,"d":"0.00"}},{"$f":"SUMIF(F18A!$A$9:$A$60,'F18'!A33,F18A!$C$9:$C$60)","v":{"v":0,"d":"0.00"}},{"v":0,"d":"0.00"},{"$f":"SUMIF(F18A!$A$9:$A$60,'F18'!A33,F18A!$E$9:$E$60)","v":{"v":0,"d":"0.00"}},{"$f":"SUMIF(F18A!$A$9:$A$60,'F18'!A33,F18A!$F$9:$F$60)","v":{"v":0,"d":"0.00"}},{"v":0,"d":"0.00"},{"$nulls":32},{"$f":"K8","v":""},false,26,{"$error":"#NUM!"},{"$error":"#NUM!"}]
["",{"$f":"SUMIF(F18A!$A$9:$A$60,'F18'!A34,F18A!$B$9:$B$60)","v":{"v":0,"d":"0.00"}},{"$f":"SUMIF(F18A!$A$9:$A$60,'F18'!A34,F18A!$C$9:$C$60)","v":{"v":0,"d":"0.00"}},{"v":0,"d":"0.00"},{"$f":"SUMIF(F18A!$A$9:$A$60,'F18'!A34,F18A!$E$9:$E$60)","v":{"v":0,"d":"0.00"}},{"$f":"SUMIF(F18A!$A$9:$A$60,'F18'!A34,F18A!$F$9:$F$60)","v":{"v":0,"d":"0.00"}},{"v":0,"d":"0.00"},{"$nulls":32},{"$f":"K9","v":""},false,27,{"$error":"#NUM!"},{"$error":"#NUM!"}]
["",{"$f":"SUMIF(F18A!$A$9:$A$60,'F18'!A35,F18A!$B$9:$B$60)","v":{"v":0,"d":"0.00"}},{"$f":"SUMIF(F18A!$A$9:$A$60,'F18'!A35,F18A!$C$9:$C$60)","v":{"v":0,"d":"0.00"}},{"v":0,"d":"0.00"},{"$f":"SUMIF(F18A!$A$9:$A$60,'F18'!A35,F18A!$E$9:$E$60)","v":{"v":0,"d":"0.00"}},{"$f":"SUMIF(F18A!$A$9:$A$60,'F18'!A35,F18A!$F$9:$F$60)","v":{"v":0,"d":"0.00"}},{"v":0,"d":"0.00"},{"$nulls":32},"",false,28,{"$error":"#NUM!"},{"$error":"#NUM!"}]
["",{"$f":"SUMIF(F18A!$A$9:$A$60,'F18'!A36,F18A!$B$9:$B$60)","v":{"v":0,"d":"0.00"}},{"$f":"SUMIF(F18A!$A$9:$A$60,'F18'!A36,F18A!$C$9:$C$60)","v":{"v":0,"d":"0.00"}},{"v":0,"d":"0.00"},{"$f":"SUMIF(F18A!$A$9:$A$60,'F18'!A36,F18A!$E$9:$E$60)","v":{"v":0,"d":"0.00"}},{"$f":"SUMIF(F18A!$A$9:$A$60,'F18'!A36,F18A!$F$9:$F$60)","v":{"v":0,"d":"0.00"}},{"v":0,"d":"0.00"},{"$nulls":32},"",false,29,{"$error":"#NUM!"},{"$error":"#NUM!"}]
["",{"$f":"SUMIF(F18A!$A$9:$A$60,'F18'!A37,F18A!$B$9:$B$60)","v":{"v":0,"d":"0.00"}},{"$f":"SUMIF(F18A!$A$9:$A$60,'F18'!A37,F18A!$C$9:$C$60)","v":{"v":0,"d":"0.00"}},{"v":0,"d":"0.00"},{"$f":"SUMIF(F18A!$A$9:$A$60,'F18'!A37,F18A!$E$9:$E$60)","v":{"v":0,"d":"0.00"}},{"$f":"SUMIF(F18A!$A$9:$A$60,'F18'!A37,F18A!$F$9:$F$60)","v":{"v":0,"d":"0.00"}},{"v":0,"d":"0.00"},{"$nulls":32},"",false,30,{"$error":"#NUM!"},{"$error":"#NUM!"}]
["",{"$f":"SUMIF(F18A!$A$9:$A$60,'F18'!A38,F18A!$B$9:$B$60)","v":{"v":0,"d":"0.00"}},{"$f":"SUMIF(F18A!$A$9:$A$60,'F18'!A38,F18A!$C$9:$C$60)","v":{"v":0,"d":"0.00"}},{"v":0,"d":"0.00"},{"$f":"SUMIF(F18A!$A$9:$A$60,'F18'!A38,F18A!$E$9:$E$60)","v":{"v":0,"d":"0.00"}},{"$f":"SUMIF(F18A!$A$9:$A$60,'F18'!A38,F18A!$F$9:$F$60)","v":{"v":0,"d":"0.00"}},{"v":0,"d":"0.00"},{"$nulls":32},"",false,31,{"$error":"#NUM!"},{"$error":"#NUM!"}]
["",{"$f":"SUMIF(F18A!$A$9:$A$60,'F18'!A39,F18A!$B$9:$B$60)","v":{"v":0,"d":"0.00"}},{"$f":"SUMIF(F18A!$A$9:$A$60,'F18'!A39,F18A!$C$9:$C$60)","v":{"v":0,"d":"0.00"}},{"v":0,"d":"0.00"},{"$f":"SUMIF(F18A!$A$9:$A$60,'F18'!A39,F18A!$E$9:$E$60)","v":{"v":0,"d":"0.00"}},{"$f":"SUMIF(F18A!$A$9:$A$60,'F18'!A39,F18A!$F$9:$F$60)","v":{"v":0,"d":"0.00"}},{"v":0,"d":"0.00"},{"$nulls":32},"",false,32,{"$error":"#NUM!"},{"$error":"#NUM!"}]
["",{"$f":"SUMIF(F18A!$A$9:$A$60,'F18'!A40,F18A!$B$9:$B$60)","v":{"v":0,"d":"0.00"}},{"$f":"SUMIF(F18A!$A$9:$A$60,'F18'!A40,F18A!$C$9:$C$60)","v":{"v":0,"d":"0.00"}},{"v":0,"d":"0.00"},{"$f":"SUMIF(F18A!$A$9:$A$60,'F18'!A40,F18A!$E$9:$E$60)","v":{"v":0,"d":"0.00"}},{"$f":"SUMIF(F18A!$A$9:$A$60,'F18'!A40,F18A!$F$9:$F$60)","v":{"v":0,"d":"0.00"}},{"v":0,"d":"0.00"},{"$nulls":32},"",false,33,{"$error":"#NUM!"},{"$error":"#NUM!"}]
["",{"$f":"SUMIF(F18A!$A$9:$A$60,'F18'!A41,F18A!$B$9:$B$60)","v":{"v":0,"d":"0.00"}},{"$f":"SUMIF(F18A!$A$9:$A$60,'F18'!A41,F18A!$C$9:$C$60)","v":{"v":0,"d":"0.00"}},{"v":0,"d":"0.00"},{"$f":"SUMIF(F18A!$A$9:$A$60,'F18'!A41,F18A!$E$9:$E$60)","v":{"v":0,"d":"0.00"}},{"$f":"SUMIF(F18A!$A$9:$A$60,'F18'!A41,F18A!$F$9:$F$60)","v":{"v":0,"d":"0.00"}},{"v":0,"d":"0.00"},{"$nulls":32},"",{"$f":"IF(AN$8:AN$57<>\"\",ROW(AN41:AN85))","v":false},34,{"$error":"#NUM!"},{"$error":"#NUM!"}]
["",{"$f":"SUMIF(F18A!$A$9:$A$60,'F18'!A42,F18A!$B$9:$B$60)","v":{"v":0,"d":"0.00"}},{"$f":"SUMIF(F18A!$A$9:$A$60,'F18'!A42,F18A!$C$9:$C$60)","v":{"v":0,"d":"0.00"}},{"v":0,"d":"0.00"},{"$f":"SUMIF(F18A!$A$9:$A$60,'F18'!A42,F18A!$E$9:$E$60)","v":{"v":0,"d":"0.00"}},{"$f":"SUMIF(F18A!$A$9:$A$60,'F18'!A42,F18A!$F$9:$F$60)","v":{"v":0,"d":"0.00"}},{"v":0,"d":"0.00"},{"$nulls":32},"",{"$f":"IF(AN$8:AN$57<>\"\",ROW(AN42:AN87))","v":false},35,{"$error":"#NUM!"},{"$error":"#NUM!"}]
["",{"$f":"SUMIF(F18A!$A$9:$A$60,'F18'!A43,F18A!$B$9:$B$60)","v":{"v":0,"d":"0.00"}},{"$f":"SUMIF(F18A!$A$9:$A$60,'F18'!A43,F18A!$C$9:$C$60)","v":{"v":0,"d":"0.00"}},{"v":0,"d":"0.00"},{"$f":"SUMIF(F18A!$A$9:$A$60,'F18'!A43,F18A!$E$9:$E$60)","v":{"v":0,"d":"0.00"}},{"$f":"SUMIF(F18A!$A$9:$A$60,'F18'!A43,F18A!$F$9:$F$60)","v":{"v":0,"d":"0.00"}},{"v":0,"d":"0.00"},{"$nulls":32},"",{"$f":"IF(AN$8:AN$57<>\"\",ROW(AN43:AN89))","v":false},36,{"$error":"#NUM!"},{"$error":"#NUM!"}]
["",{"$f":"SUMIF(F18A!$A$9:$A$60,'F18'!A44,F18A!$B$9:$B$60)","v":{"v":0,"d":"0.00"}},{"$f":"SUMIF(F18A!$A$9:$A$60,'F18'!A44,F18A!$C$9:$C$60)","v":{"v":0,"d":"0.00"}},{"v":0,"d":"0.00"},{"$f":"SUMIF(F18A!$A$9:$A$60,'F18'!A44,F18A!$E$9:$E$60)","v":{"v":0,"d":"0.00"}},{"$f":"SUMIF(F18A!$A$9:$A$60,'F18'!A44,F18A!$F$9:$F$60)","v":{"v":0,"d":"0.00"}},{"v":0,"d":"0.00"},{"$nulls":32},"",{"$f":"IF(AN$8:AN$57<>\"\",ROW(AN44:AN91))","v":false},37,{"$error":"#NUM!"},{"$error":"#NUM!"}]
["",{"$f":"SUMIF(F18A!$A$9:$A$60,'F18'!A45,F18A!$B$9:$B$60)","v":{"v":0,"d":"0.00"}},{"$f":"SUMIF(F18A!$A$9:$A$60,'F18'!A45,F18A!$C$9:$C$60)","v":{"v":0,"d":"0.00"}},{"v":0,"d":"0.00"},{"$f":"SUMIF(F18A!$A$9:$A$60,'F18'!A45,F18A!$E$9:$E$60)","v":{"v":0,"d":"0.00"}},{"$f":"SUMIF(F18A!$A$9:$A$60,'F18'!A45,F18A!$F$9:$F$60)","v":{"v":0,"d":"0.00"}},{"v":0,"d":"0.00"},{"$nulls":32},"",false,38,{"$error":"#NUM!"},{"$error":"#NUM!"}]
["",{"$f":"SUMIF(F18A!$A$9:$A$60,'F18'!A46,F18A!$B$9:$B$60)","v":{"v":0,"d":"0.00"}},{"$f":"SUMIF(F18A!$A$9:$A$60,'F18'!A46,F18A!$C$9:$C$60)","v":{"v":0,"d":"0.00"}},{"v":0,"d":"0.00"},{"$f":"SUMIF(F18A!$A$9:$A$60,'F18'!A46,F18A!$E$9:$E$60)","v":{"v":0,"d":"0.00"}},{"$f":"SUMIF(F18A!$A$9:$A$60,'F18'!A46,F18A!$F$9:$F$60)","v":{"v":0,"d":"0.00"}},{"v":0,"d":"0.00"},{"$nulls":32},"",false,39,{"$error":"#NUM!"},{"$error":"#NUM!"}]
["",{"$f":"SUMIF(F18A!$A$9:$A$60,'F18'!A47,F18A!$B$9:$B$60)","v":{"v":0,"d":"0.00"}},{"$f":"SUMIF(F18A!$A$9:$A$60,'F18'!A47,F18A!$C$9:$C$60)","v":{"v":0,"d":"0.00"}},{"v":0,"d":"0.00"},{"$f":"SUMIF(F18A!$A$9:$A$60,'F18'!A47,F18A!$E$9:$E$60)","v":{"v":0,"d":"0.00"}},{"$f":"SUMIF(F18A!$A$9:$A$60,'F18'!A47,F18A!$F$9:$F$60)","v":{"v":0,"d":"0.00"}},{"v":0,"d":"0.00"},{"$nulls":32},"",false,40,{"$error":"#NUM!"},{"$error":"#NUM!"}]
["",{"$f":"SUMIF(F18A!$A$9:$A$60,'F18'!A48,F18A!$B$9:$B$60)","v":{"v":0,"d":"0.00"}},{"$f":"SUMIF(F18A!$A$9:$A$60,'F18'!A48,F18A!$C$9:$C$60)","v":{"v":0,"d":"0.00"}},{"v":0,"d":"0.00"},{"$f":"SUMIF(F18A!$A$9:$A$60,'F18'!A48,F18A!$E$9:$E$60)","v":{"v":0,"d":"0.00"}},{"$f":"SUMIF(F18A!$A$9:$A$60,'F18'!A48,F18A!$F$9:$F$60)","v":{"v":0,"d":"0.00"}},{"v":0,"d":"0.00"},{"$nulls":32},"",false,41,{"$error":"#NUM!"},{"$error":"#NUM!"}]
["",{"$f":"SUMIF(F18A!$A$9:$A$60,'F18'!A49,F18A!$B$9:$B$60)","v":{"v":0,"d":"0.00"}},{"$f":"SUMIF(F18A!$A$9:$A$60,'F18'!A49,F18A!$C$9:$C$60)","v":{"v":0,"d":"0.00"}},{"v":0,"d":"0.00"},{"$f":"SUMIF(F18A!$A$9:$A$60,'F18'!A49,F18A!$E$9:$E$60)","v":{"v":0,"d":"0.00"}},{"$f":"SUMIF(F18A!$A$9:$A$60,'F18'!A49,F18A!$F$9:$F$60)","v":{"v":0,"d":"0.00"}},{"v":0,"d":"0.00"},{"$nulls":32},"",false,42,{"$error":"#NUM!"},{"$error":"#NUM!"}]
["",{"$f":"SUMIF(F18A!$A$9:$A$60,'F18'!A50,F18A!$B$9:$B$60)","v":{"v":0,"d":"0.00"}},{"$f":"SUMIF(F18A!$A$9:$A$60,'F18'!A50,F18A!$C$9:$C$60)","v":{"v":0,"d":"0.00"}},{"v":0,"d":"0.00"},{"$f":"SUMIF(F18A!$A$9:$A$60,'F18'!A50,F18A!$E$9:$E$60)","v":{"v":0,"d":"0.00"}},{"$f":"SUMIF(F18A!$A$9:$A$60,'F18'!A50,F18A!$F$9:$F$60)","v":{"v":0,"d":"0.00"}},{"v":0,"d":"0.00"},{"$nulls":32},"",false,43,{"$error":"#NUM!"},{"$error":"#NUM!"}]
["",{"$f":"SUMIF(F18A!$A$9:$A$60,'F18'!A51,F18A!$B$9:$B$60)","v":{"v":0,"d":"0.00"}},{"$f":"SUMIF(F18A!$A$9:$A$60,'F18'!A51,F18A!$C$9:$C$60)","v":{"v":0,"d":"0.00"}},{"v":0,"d":"0.00"},{"$f":"SUMIF(F18A!$A$9:$A$60,'F18'!A51,F18A!$E$9:$E$60)","v":{"v":0,"d":"0.00"}},{"$f":"SUMIF(F18A!$A$9:$A$60,'F18'!A51,F18A!$F$9:$F$60)","v":{"v":0,"d":"0.00"}},{"v":0,"d":"0.00"},{"$nulls":32},"",false,44,{"$error":"#NUM!"},{"$error":"#NUM!"}]
["",{"$f":"SUMIF(F18A!$A$9:$A$60,'F18'!A52,F18A!$B$9:$B$60)","v":{"v":0,"d":"0.00"}},{"$f":"SUMIF(F18A!$A$9:$A$60,'F18'!A52,F18A!$C$9:$C$60)","v":{"v":0,"d":"0.00"}},{"v":0,"d":"0.00"},{"$f":"SUMIF(F18A!$A$9:$A$60,'F18'!A52,F18A!$E$9:$E$60)","v":{"v":0,"d":"0.00"}},{"$f":"SUMIF(F18A!$A$9:$A$60,'F18'!A52,F18A!$F$9:$F$60)","v":{"v":0,"d":"0.00"}},{"v":0,"d":"0.00"},{"$nulls":32},"",false,45,{"$error":"#NUM!"},{"$error":"#NUM!"}]
["",{"$f":"SUMIF(F18A!$A$9:$A$60,'F18'!A53,F18A!$B$9:$B$60)","v":{"v":0,"d":"0.00"}},{"$f":"SUMIF(F18A!$A$9:$A$60,'F18'!A53,F18A!$C$9:$C$60)","v":{"v":0,"d":"0.00"}},{"v":0,"d":"0.00"},{"$f":"SUMIF(F18A!$A$9:$A$60,'F18'!A53,F18A!$E$9:$E$60)","v":{"v":0,"d":"0.00"}},{"$f":"SUMIF(F18A!$A$9:$A$60,'F18'!A53,F18A!$F$9:$F$60)","v":{"v":0,"d":"0.00"}},{"v":0,"d":"0.00"},{"$nulls":32},"",false,46,{"$error":"#NUM!"},{"$error":"#NUM!"}]
["",{"$f":"SUMIF(F18A!$A$9:$A$60,'F18'!A54,F18A!$B$9:$B$60)","v":{"v":0,"d":"0.00"}},{"$f":"SUMIF(F18A!$A$9:$A$60,'F18'!A54,F18A!$C$9:$C$60)","v":{"v":0,"d":"0.00"}},{"v":0,"d":"0.00"},{"$f":"SUMIF(F18A!$A$9:$A$60,'F18'!A54,F18A!$E$9:$E$60)","v":{"v":0,"d":"0.00"}},{"$f":"SUMIF(F18A!$A$9:$A$60,'F18'!A54,F18A!$F$9:$F$60)","v":{"v":0,"d":"0.00"}},{"v":0,"d":"0.00"},{"$nulls":32},"",{"$f":"IF(AN$8:AN$57<>\"\",ROW(AN54:AN100))","v":false},47,{"$error":"#NUM!"},{"$error":"#NUM!"}]
["",{"$f":"SUMIF(F18A!$A$9:$A$60,'F18'!A55,F18A!$B$9:$B$60)","v":{"v":0,"d":"0.00"}},{"$f":"SUMIF(F18A!$A$9:$A$60,'F18'!A55,F18A!$C$9:$C$60)","v":{"v":0,"d":"0.00"}},{"v":0,"d":"0.00"},{"$f":"SUMIF(F18A!$A$9:$A$60,'F18'!A55,F18A!$E$9:$E$60)","v":{"v":0,"d":"0.00"}},{"$f":"SUMIF(F18A!$A$9:$A$60,'F18'!A55,F18A!$F$9:$F$60)","v":{"v":0,"d":"0.00"}},{"v":0,"d":"0.00"},{"$nulls":32},"",{"$f":"IF(AN$8:AN$57<>\"\",ROW(AN55:AN100))","v":false},48,{"$error":"#NUM!"},{"$error":"#NUM!"}]
["",{"$f":"SUMIF(F18A!$A$9:$A$60,'F18'!A56,F18A!$B$9:$B$60)","v":{"v":0,"d":"0.00"}},{"$f":"SUMIF(F18A!$A$9:$A$60,'F18'!A56,F18A!$C$9:$C$60)","v":{"v":0,"d":"0.00"}},{"v":0,"d":"0.00"},{"$f":"SUMIF(F18A!$A$9:$A$60,'F18'!A56,F18A!$E$9:$E$60)","v":{"v":0,"d":"0.00"}},{"$f":"SUMIF(F18A!$A$9:$A$60,'F18'!A56,F18A!$F$9:$F$60)","v":{"v":0,"d":"0.00"}},{"v":0,"d":"0.00"},{"$nulls":32},"",{"$f":"IF(AN$8:AN$57<>\"\",ROW(AN56:AN100))","v":false},49,{"$error":"#NUM!"},{"$error":"#NUM!"}]
["",{"$f":"SUMIF(F18A!$A$9:$A$60,'F18'!A57,F18A!$B$9:$B$60)","v":{"v":0,"d":"0.00"}},{"$f":"SUMIF(F18A!$A$9:$A$60,'F18'!A57,F18A!$C$9:$C$60)","v":{"v":0,"d":"0.00"}},{"v":0,"d":"0.00"},{"$f":"SUMIF(F18A!$A$9:$A$60,'F18'!A57,F18A!$E$9:$E$60)","v":{"v":0,"d":"0.00"}},{"$f":"SUMIF(F18A!$A$9:$A$60,'F18'!A57,F18A!$F$9:$F$60)","v":{"v":0,"d":"0.00"}},{"v":0,"d":"0.00"},{"$nulls":32},"",{"$f":"IF(AN$8:AN$57<>\"\",ROW(AN57:AN100))","v":false},50,{"$error":"#NUM!"},{"$error":"#NUM!"}]
["    Total del Egreso",{"$f":"SUM(B8:B57)","v":{"v":0,"d":"0.00"}},{"v":0,"d":"0.00"},{"v":0,"d":"0.00"},{"v":0,"d":"0.00"},{"v":0,"d":"0.00"},{"v":0,"d":"0.00"}]
[]
[{"$f":"\"Gobierno (Federal/Estatal/Municipal) de: \"&Validacion!A2","v":"Gobierno (Federal/Estatal/Municipal) de: Ixtlahuacán de los Membrillos"}]
["Estado Analítico del Ejercicio del Presupuesto de Egresos"]
["Clasificación Administrativa"]
[{"$f":"'F6'!A3","v":"DEL 1° DE ENERO AL 31 DE ENERO DE 2026"}]
["(Cifras en Pesos)"]
["Concepto","Egresos",{"$nulls":4},"Subejercicio"]
[null,"Aprobado","Ampliaciones/ (Reducciones)","Modificado","Devengado","Pagado"]
[]
["Poder Ejecutivo",{"v":0,"d":"0.00"},{"v":0,"d":"0.00"},{"$f":"B68+C68","v":{"v":0,"d":"0.00"}},{"v":0,"d":"0.00"},{"v":0,"d":"0.00"},{"$f":"D68-E68","v":{"v":0,"d":"0.00"}}]
["Poder Legislativo",{"v":0,"d":"0.00"},{"v":0,"d":"0.00"},{"$f":"B69+C69","v":{"v":0,"d":"0.00"}},{"v":0,"d":"0.00"},{"v":0,"d":"0.00"},{"$f":"D69-E69","v":{"v":0,"d":"0.00"}}]
["Poder Judicial",{"v":0,"d":"0.00"},{"v":0,"d":"0.00"},{"$f":"B70+C70","v":{"v":0,"d":"0.00"}},{"v":0,"d":"0.00"},{"v":0,"d":"0.00"},{"$f":"D70-E70","v":{"v":0,"d":"0.00"}}]
["Órganos Autónomos",{"v":0,"d":"0.00"},{"v":0,"d":"0.00"},{"$f":"B71+C71","v":{"v":0,"d":"0.00"}},{"v":0,"d":"0.00"},{"v":0,"d":"0.00"},{"$f":"D71-E71","v":{"v":0,"d":"0.00"}}]
[]
["   Total del Egreso",{"$f":"SUM(B68:B71)","v":{"v":0,"d":"0.00"}},{"v":0,"d":"0.00"},{"v":0,"d":"0.00"},{"v":0,"d":"0.00"},{"v":0,"d":"0.00"},{"v":0,"d":"0.00"}]
[]
[{"$f":"\"Sector Paraestatal del Gobierno (Federal/Estatal/Municipal) de: \"&Validacion!A2","v":"Sector Paraestatal del Gobierno (Federal/Estatal/Municipal) de: Ixtlahuacán de los Membrillos"}]
["Estado Analítico del Ejercicio del Presupuesto de Egresos"]
["Clasificación Administrativa"]
[{"$f":"'F6'!A3","v":"DEL 1° DE ENERO AL 31 DE ENERO DE 2026"}]
["(Cifras en Pesos)"]
["Concepto","Egresos",{"$nulls":4},"Subejercicio"]
[null,"Aprobado","Ampliaciones/ (Reducciones)","Modificado","Devengado","Pagado"]
[]
["Entidades Paraestatales y Fideicomisos No Empresariales y No Financieros",{"v":0,"d":"0.00"},{"v":0,"d":"0.00"},{"$f":"B83+C83","v":{"v":0,"d":"0.00"}},{"v":0,"d":"0.00"},{"v":0,"d":"0.00"},{"$f":"D83-E83","v":{"v":0,"d":"0.00"}}]
[]
["Instituciones Públicas de la Seguridad Social",{"v":0,"d":"0.00"},{"v":0,"d":"0.00"},{"v":0,"d":"0.00"},{"v":0,"d":"0.00"},{"v":0,"d":"0.00"},{"v":0,"d":"0.00"}]
[]
["Entidades Paraestatales Empresariales No Financieras con Participación Estatal Mayoritaria",{"v":0,"d":"0.00"},{"v":0,"d":"0.00"},{"v":0,"d":"0.00"},{"v":0,"d":"0.00"},{"v":0,"d":"0.00"},{"v":0,"d":"0.00"}]
[]
["Fideicomisos Empresariales No Financieros con Participación Estatal Mayoritaria",{"v":0,"d":"0.00"},{"v":0,"d":"0.00"},{"v":0,"d":"0.00"},{"v":0,"d":"0.00"},{"v":0,"d":"0.00"},{"v":0,"d":"0.00"}]
[]
["Entidades Paraestatales Empresariales Financieras Monetarias con Participación Estatal Mayoritaria",{"v":0,"d":"0.00"},{"v":0,"d":"0.00"},{"v":0,"d":"0.00"},{"v":0,"d":"0.00"},{"v":0,"d":"0.00"},{"v":0,"d":"0.00"}]
[]
["Entidades Paraestatales Empresariales Financieras No Monetarias con Participación Estatal Mayoritaria",{"v":0,"d":"0.00"},{"v":0,"d":"0.00"},{"v":0,"d":"0.00"},{"v":0,"d":"0.00"},{"v":0,"d":"0.00"},{"v":0,"d":"0.00"}]
[]
["Fideicomisos Financieros Públicos con Participación Estatal Mayoritaria",{"v":0,"d":"0.00"},{"v":0,"d":"0.00"},{"v":0,"d":"0.00"},{"v":0,"d":"0.00"},{"v":0,"d":"0.00"},{"v":0,"d":"0.00"}]
[]
["Entidades Paramunicipales (en sus diferentes clasificaciones)",null,null,{"v":0,"d":"0.00"},null,null,{"v":0,"d":"0.00"}]
[]
["   Total del Egreso",{"$f":"SUM(B83:B97)","v":{"v":0,"d":"0.00"}},{"v":0,"d":"0.00"},{"v":0,"d":"0.00"},{"v":0,"d":"0.00"},{"v":0,"d":"0.00"},{"v":0,"d":"0.00"}]
[]
["Bajo protesta de decir verdad declaramos que los Estados Financieros y sus notas, son razonablemente correctos y son responsabilidad del emisor."]
[]
[]
[]
[{"$f":"Validacion!A7","v":"LIC. JOSE HERIBERTO GARCIA MURILLO"},null,null,{"$f":"Validacion!A9","v":"LAE BRUNO GERMAN ENCISO GUILLEN"}]
[]
["Presidente Municipal o titular del ente público",null,null,"Encargado de la Hacienda Municipal\n o Responsable de las finanzas del ente público"]

{"sheet":"F18A","index":12,"n_rows":70,"n_cols":7,"rows_kept":70,"hidden":true,"merged":[[0,0,0,6],[1,0,1,6],[2,0,2,6],[3,0,3,6],[4,0,4,6],[5,0,6,0],[5,1,5,5],[5,6,6,6],[63,0,64,6],[67,0,68,1],[67,3,68,5],[69,0,70,1],[69,3,70,5]]}
[{"$f":"\"NOMBRE DEL ENTE PÚBLICO: \"&Validacion!A2","v":"NOMBRE DEL ENTE PÚBLICO: Ixtlahuacán de los Membrillos"}]
["Estado Analítico del Ejercicio del Presupuesto de Egresos Detallado - LDF"]
["Clasificación Administrativa"]
[{"$f":"'F6'!A3","v":"DEL 1° DE ENERO AL 31 DE ENERO DE 2026"}]
["(PESOS)"]
["Concepto","Egresos",{"$nulls":4},"Subejercicio"]
[null,"Aprobado","Ampliaciones/ (Reducciones)","Modificado","Devengado","Pagado"]
["I. Gasto No Etiquetado",{"$f":"SUM(B9:B33)","v":{"v":0,"d":"0.00"}},{"$f":"SUM(C9:C33)","v":{"v":0,"d":"0.00"}},{"v":0,"d":"0.00"},{"v":0,"d":"0.00"},{"v":0,"d":"0.00"},{"v":0,"d":"0.00"}]
[{"$nulls":3},{"$f":"B9+C9","v":{"v":0,"d":"0.00"}},null,null,{"$f":"D9-E9","v":{"v":0,"d":"0.00"}}]
[{"$nulls":3},{"$f":"B10+C10","v":{"v":0,"d":"0.00"}},null,null,{"$f":"D10-E10","v":{"v":0,"d":"0.00"}}]
[{"$nulls":3},{"v":0,"d":"0.00"},null,null,{"v":0,"d":"0.00"}]
[{"$nulls":3},{"v":0,"d":"0.00"},null,null,{"v":0,"d":"0.00"}]
[{"$nulls":3},{"v":0,"d":"0.00"},null,null,{"v":0,"d":"0.00"}]
[{"$nulls":3},{"v":0,"d":"0.00"},null,null,{"v":0,"d":"0.00"}]
[{"$nulls":3},{"v":0,"d":"0.00"},null,null,{"v":0,"d":"0.00"}]
[{"$nulls":3},{"v":0,"d":"0.00"},null,null,{"v":0,"d":"0.00"}]
[{"$nulls":3},{"v":0,"d":"0.00"},null,null,{"v":0,"d":"0.00"}]
[{"$nulls":3},{"v":0,"d":"0.00"},null,null,{"v":0,"d":"0.00"}]
[{"$nulls":3},{"v":0,"d":"0.00"},null,null,{"v":0,"d":"0.00"}]
[{"$nulls":3},{"v":0,"d":"0.00"},null,null,{"v":0,"d":"0.00"}]
[{"$nulls":3},{"v":0,"d":"0.00"},null,null,{"v":0,"d":"0.00"}]
[{"$nulls":3},{"v":0,"d":"0.00"},null,null,{"v":0,"d":"0.00"}]
[{"$nulls":3},{"v":0,"d":"0.00"},null,null,{"v":0,"d":"0.00"}]
[{"$nulls":3},{"v":0,"d":"0.00"},null,null,{"v":0,"d":"0.00"}]
[{"$nulls":3},{"v":0,"d":"0.00"},null,null,{"v":0,"d":"0.00"}]
[{"$nulls":3},{"v":0,"d":"0.00"},null,null,{"v":0,"d":"0.00"}]
[{"$nulls":3},{"v":0,"d":"0.00"},null,null,{"v":0,"d":"0.00"}]
[{"$nulls":3},{"v":0,"d":"0.00"},null,null,{"v":0,"d":"0.00"}]
[{"$nulls":3},{"v":0,"d":"0.00"},null,null,{"v":0,"d":"0.00"}]
[{"$nulls":3},{"v":0,"d":"0.00"},null,null,{"v":0,"d":"0.00"}]
[{"$nulls":3},{"v":0,"d":"0.00"},null,null,{"v":0,"d":"0.00"}]
[{"$nulls":3},{"v":0,"d":"0.00"},null,null,{"v":0,"d":"0.00"}]
[{"$nulls":3},{"v":0,"d":"0.00"},null,null,{"v":0,"d":"0.00"}]
[]
["II. Gasto Etiqutado",{"$f":"SUM(B36:B60)","v":{"v":0,"d":"0.00"}},{"$f":"SUM(C36:C60)","v":{"v":0,"d":"0.00"}},{"v":0,"d":"0.00"},{"v":0,"d":"0.00"},{"v":0,"d":"0.00"},{"v":0,"d":"0.00"}]
[{"$nulls":3},{"$f":"B36+C36","v":{"v":0,"d":"0.00"}},null,null,{"$f":"D36-E36","v":{"v":0,"d":"0.00"}}]
[{"$nulls":3},{"$f":"B37+C37","v":{"v":0,"d":"0.00"}},null,null,{"$f":"D37-E37","v":{"v":0,"d":"0.00"}}]
[{"$nulls":3},{"v":0,"d":"0.00"},null,null,{"v":0,"d":"0.00"}]
[{"$nulls":3},{"v":0,"d":"0.00"},null,null,{"v":0,"d":"0.00"}]
[{"$nulls":3},{"v":0,"d":"0.00"},null,null,{"v":0,"d":"0.00"}]
[{"$nulls":3},{"v":0,"d":"0.00"},null,null,{"v":0,"d":"0.00"}]
[{"$nulls":3},{"v":0,"d":"0.00"},null,null,{"v":0,"d":"0.00"}]
[{"$nulls":3},{"v":0,"d":"0.00"},null,null,{"v":0,"d":"0.00"}]
[{"$nulls":3},{"v":0,"d":"0.00"},null,null,{"v":0,"d":"0.00"}]
[{"$nulls":3},{"v":0,"d":"0.00"},null,null,{"v":0,"d":"0.00"}]
[{"$nulls":3},{"v":0,"d":"0.00"},null,null,{"v":0,"d":"0.00"}]
[{"$nulls":3},{"v":0,"d":"0.00"},null,null,{"v":0,"d":"0.00"}]
[{"$nulls":3},{"v":0,"d":"0.00"},null,null,{"v":0,"d":"0.00"}]
[{"$nulls":3},{"v":0,"d":"0.00"},null,null,{"v":0,"d":"0.00"}]
[{"$nulls":3},{"v":0,"d":"0.00"},null,null,{"v":0,"d":"0.00"}]
[{"$nulls":3},{"v":0,"d":"0.00"},null,null,{"v":0,"d":"0.00"}]
[{"$nulls":3},{"v":0,"d":"0.00"},null,null,{"v":0,"d":"0.00"}]
[{"$nulls":3},{"v":0,"d":"0.00"},null,null,{"v":0,"d":"0.00"}]
[{"$nulls":3},{"v":0,"d":"0.00"},null,null,{"v":0,"d":"0.00"}]
[{"$nulls":3},{"v":0,"d":"0.00"},null,null,{"v":0,"d":"0.00"}]
[{"$nulls":3},{"v":0,"d":"0.00"},null,null,{"v":0,"d":"0.00"}]
[{"$nulls":3},{"v":0,"d":"0.00"},null,null,{"v":0,"d":"0.00"}]
[{"$nulls":3},{"v":0,"d":"0.00"},null,null,{"v":0,"d":"0.00"}]
[{"$nulls":3},{"v":0,"d":"0.00"},null,null,{"v":0,"d":"0.00"}]
[{"$nulls":3},{"v":0,"d":"0.00"},null,null,{"v":0,"d":"0.00"}]
[]
["III. Total de Egresos",{"$f":"B8+B35","v":{"v":0,"d":"0.00"}},{"$f":"C8+C35","v":{"v":0,"d":"0.00"}},{"v":0,"d":"0.00"},{"v":0,"d":"0.00"},{"v":0,"d":"0.00"},{"$f":"G8+G35","v":{"v":0,"d":"0.00"}}]
[]
["Bajo protesta de decir verdad declaramos que los Estados Financieros y sus notas, son razonablemente correctos y son responsabilidad del emisor."]
[]
[]
[]
[{"$f":"Validacion!A7","v":"LIC. JOSE HERIBERTO GARCIA MURILLO"},null,null,{"$f":"Validacion!A9","v":"LAE BRUNO GERMAN ENCISO GUILLEN"}]
[]
["Presidente Municipal o titular del ente público",null,null,"Encargado de la Hacienda Municipal\n o Responsable de las finanzas del ente público"]

{"sheet":"F19A","index":13,"n_rows":83,"n_cols":9,"rows_kept":83,"hidden":true,"merged":[[0,1,0,9],[1,1,1,8],[2,1,2,8],[3,2,3,9],[4,2,4,9],[5,0,6,2],[5,3,5,7],[5,8,6,8],[17,1,17,2],[25,1,25,2],[35,1,35,2],[51,1,51,2],[59,1,59,2],[69,1,69,2],[75,1,75,2],[80,2,81,2],[80,4,81,7],[82,2,83,2],[82,4,83,7]]}
[null,{"$f":"\"NOMBRE DEL ENTE PÚBLICO: \"&Validacion!A2","v":"NOMBRE DEL ENTE PÚBLICO: Ixtlahuacán de los Membrillos"}]
[null,"Estado Analítico del Ejercicio del Presupuesto de Egresos Detallado - LDF"]
[null,"Clasificación Funcional (Finalidad y Función)"]
[null,null,{"$f":"'F6'!A3","v":"DEL 1° DE ENERO AL 31 DE ENERO DE 2026"}]
[null,null,"(PESOS)"]
["Concepto",null,null,"Egresos",{"$nulls":4},"Subejercicio"]
[{"$nulls":3},"Aprobado","Ampliaciones/ (Reducciones)","Modificado","Devengado","Pagado"]
["I.","Gasto No Etiquetado",null,{"$f":"D9+D18+D26+D36","v":{"v":0,"d":"0.00"}},{"$f":"E9+E18+E26+E36","v":{"v":0,"d":"0.00"}},{"v":0,"d":"0.00"},{"v":0,"d":"0.00"},{"v":0,"d":"0.00"},{"v":0,"d":"0.00"}]
[null,"A Gobierno",null,{"$f":"SUM(D10:D17)","v":{"v":0,"d":"0.00"}},{"$f":"SUM(E10:E17)","v":{"v":0,"d":"0.00"}},{"$f":"D9+E9","v":{"v":0,"d":"0.00"}},{"$f":"SUM(G10:G17)","v":{"v":0,"d":"0.00"}},{"v":0,"d":"0.00"},{"$f":"F9-G9","v":{"v":0,"d":"0.00"}}]
[null,null,"a1) Legislación",null,null,{"$f":"D10+E10","v":{"v":0,"d":"0.00"}},null,null,{"$f":"F10-G10","v":{"v":0,"d":"0.00"}}]
[null,null,"a2) Justicia",null,null,{"v":0,"d":"0.00"},null,null,{"v":0,"d":"0.00"}]
[null,null,"a3) Coordinación de la Política de Gobierno",null,null,{"v":0,"d":"0.00"},null,null,{"v":0,"d":"0.00"}]
[null,null,"a4) Relaciones Exteriores",null,null,{"v":0,"d":"0.00"},null,null,{"v":0,"d":"0.00"}]
[null,null,"a5) Asuntos Financieros y Hacendarios",null,null,{"v":0,"d":"0.00"},null,null,{"v":0,"d":"0.00"}]
[null,null,"a6) Seguridad Nacional",null,null,{"v":0,"d":"0.00"},null,null,{"v":0,"d":"0.00"}]
[null,null,"a7) Asuntos de Orden Público y de Seguridad Interior",null,null,{"v":0,"d":"0.00"},null,null,{"v":0,"d":"0.00"}]
[null,null,"a8) Otros Servicios Generales",null,null,{"v":0,"d":"0.00"},null,null,{"v":0,"d":"0.00"}]
[null,"B Desarrollo Social",null,{"$f":"SUM(D19:D25)","v":{"v":0,"d":"0.00"}},{"$f":"SUM(E19:E25)","v":{"v":0,"d":"0.00"}},{"v":0,"d":"0.00"},{"$f":"SUM(G19:G25)","v":{"v":0,"d":"0.00"}},{"v":0,"d":"0.00"},{"v":0,"d":"0.00"}]
[null,null,"b1) Protección Ambiental",null,null,{"v":0,"d":"0.00"},null,null,{"v":0,"d":"0.00"}]
[null,null,"b2) Vivienda y Servicios a la Comunidad",null,null,{"v":0,"d":"0.00"},null,null,{"v":0,"d":"0.00"}]
[null,null,"b3) Salud",null,null,{"v":0,"d":"0.00"},null,null,{"v":0,"d":"0.00"}]
[null,null,"b4) Recreación, Cultura y Otras Manifestaciones Sociales",null,null,{"v":0,"d":"0.00"},null,null,{"v":0,"d":"0.00"}]
[null,null,"b5) Educación",null,null,{"v":0,"d":"0.00"},null,null,{"v":0,"d":"0.00"}]
[null,null,"b6) Protección Social",null,null,{"v":0,"d":"0.00"},null,null,{"v":0,"d":"0.00"}]
[null,null,"b7) Otros Asuntos Sociales",null,null,{"v":0,"d":"0.00"},null,null,{"v":0,"d":"0.00"}]
[null,"C Desarrollo Económico",null,{"$f":"SUM(D27:D35)","v":{"v":0,"d":"0.00"}},{"$f":"SUM(E27:E35)","v":{"v":0,"d":"0.00"}},{"v":0,"d":"0.00"},{"$f":"SUM(G27:G35)","v":{"v":0,"d":"0.00"}},{"v":0,"d":"0.00"},{"v":0,"d":"0.00"}]
[null,null,"c1) Asuntos Económicos, Comerciales y Laborales en General",null,null,{"v":0,"d":"0.00"},null,null,{"v":0,"d":"0.00"}]
[null,null,"c2) Agropecuaria, Silvicultura, Pesca y Caza",null,null,{"v":0,"d":"0.00"},null,null,{"v":0,"d":"0.00"}]
[null,null,"c3) Combustibles y Energía",null,null,{"v":0,"d":"0.00"},null,null,{"v":0,"d":"0.00"}]
[null,null,"c4) Minería, Manufacturas y Construcción",null,null,{"v":0,"d":"0.00"},null,null,{"v":0,"d":"0.00"}]
[null,null,"c5) Transporte",null,null,{"v":0,"d":"0.00"},null,null,{"v":0,"d":"0.00"}]
[null,null,"c6) Comunicaciones",null,null,{"v":0,"d":"0.00"},null,null,{"v":0,"d":"0.00"}]
[null,null,"c7) Turismo",null,null,{"v":0,"d":"0.00"},null,null,{"v":0,"d":"0.00"}]
[null,null,"c8) Ciencia, Tecnología e Innovación",null,null,{"v":0,"d":"0.00"},null,null,{"v":0,"d":"0.00"}]
[null,null,"c9) Otras Industrias y Otros Asuntos Económicos",null,null,{"v":0,"d":"0.00"},null,null,{"v":0,"d":"0.00"}]
[null,"D Otras No Clasificadas en Funciones Anteriores",null,{"$f":"SUM(D37:D40)","v":{"v":0,"d":"0.00"}},{"$f":"SUM(E37:E40)","v":{"v":0,"d":"0.00"}},{"v":0,"d":"0.00"},{"$f":"SUM(G37:G40)","v":{"v":0,"d":"0.00"}},{"$f":"SUM(H37:H40)","v":{"v":0,"d":"0.00"}},{"v":0,"d":"0.00"}]
[null,null,"d1) Transacciones de la Deuda Publica / Costo Financiero de la Deuda",null,null,{"v":0,"d":"0.00"},null,null,{"v":0,"d":"0.00"}]
[null,null,"d2) Transferencias, Participaciones y Aportaciones Entre Diferentes Niveles y Ordenes de Gobierno",null,null,{"v":0,"d":"0.00"},null,null,{"v":0,"d":"0.00"}]
[null,null,"d3) Saneamiento del Sistema Financiero",null,null,{"v":0,"d":"0.00"},null,null,{"v":0,"d":"0.00"}]
[null,null,"d4) Adeudos de Ejercicios Fiscales Anteriores",null,null,{"v":0,"d":"0.00"},null,null,{"v":0,"d":"0.00"}]
[]
["II.","Gasto Etiquetado",null,{"$f":"D43+D52+D60+D70","v":{"v":0,"d":"0.00"}},{"$f":"E43+E52+E60+E70","v":{"v":0,"d":"0.00"}},{"v":0,"d":"0.00"},{"v":0,"d":"0.00"},{"v":0,"d":"0.00"},{"v":0,"d":"0.00"}]
[null,"A Gobierno",null,{"$f":"SUM(D44:D51)","v":{"v":0,"d":"0.00"}},{"$f":"SUM(E44:E51)","v":{"v":0,"d":"0.00"}},{"$f":"D43+E43","v":{"v":0,"d":"0.00"}},{"$f":"SUM(G44:G51)","v":{"v":0,"d":"0.00"}},{"v":0,"d":"0.00"},{"$f":"F43-G43","v":{"v":0,"d":"0.00"}}]
[null,null,"a1) Legislación",null,null,{"$f":"D44+E44","v":{"v":0,"d":"0.00"}},null,null,{"$f":"F44-G44","v":{"v":0,"d":"0.00"}}]
[null,null,"a2) Justicia",null,null,{"v":0,"d":"0.00"},null,null,{"v":0,"d":"0.00"}]
[null,null,"a3) Coordinación de la Política de Gobierno",null,null,{"v":0,"d":"0.00"},null,null,{"v":0,"d":"0.00"}]
[null,null,"a4) Relaciones Exteriores",null,null,{"v":0,"d":"0.00"},null,null,{"v":0,"d":"0.00"}]
[null,null,"a5) Asuntos Financieros y Hacendarios",null,null,{"v":0,"d":"0.00"},null,null,{"v":0,"d":"0.00"}]
[null,null,"a6) Seguridad Nacional",null,null,{"v":0,"d":"0.00"},null,null,{"v":0,"d":"0.00"}]
[null,null,"a7) Asuntos de Orden Público y de Seguridad Interior",null,null,{"v":0,"d":"0.00"},null,null,{"v":0,"d":"0.00"}]
[null,null,"a8) Otros Servicios Generales",null,null,{"v":0,"d":"0.00"},null,null,{"v":0,"d":"0.00"}]
[null,"B Desarrollo Social",null,{"$f":"SUM(D53:D59)","v":{"v":0,"d":"0.00"}},{"$f":"SUM(E53:E59)","v":{"v":0,"d":"0.00"}},{"v":0,"d":"0.00"},{"$f":"SUM(G53:G59)","v":{"v":0,"d":"0.00"}},{"v":0,"d":"0.00"},{"v":0,"d":"0.00"}]
[null,null,"b1) Protección Ambiental",null,null,{"v":0,"d":"0.00"},null,null,{"v":0,"d":"0.00"}]
[null,null,"b2) Vivienda y Servicios a la Comunidad",null,null,{"v":0,"d":"0.00"},null,null,{"v":0,"d":"0.00"}]
[null,null,"b3) Salud",null,null,{"v":0,"d":"0.00"},null,null,{"v":0,"d":"0.00"}]
[null,null,"b4) Recreación, Cultura y Otras Manifestaciones Sociales",null,null,{"v":0,"d":"0.00"},null,null,{"v":0,"d":"0.00"}]
[null,null,"b5) Educación",null,null,{"v":0,"d":"0.00"},null,null,{"v":0,"d":"0.00"}]
[null,null,"b6) Protección Social",null,null,{"v":0,"d":"0.00"},null,null,{"v":0,"d":"0.00"}]
[null,null,"b7) Otros Asuntos Sociales",null,null,{"v":0,"d":"0.00"},null,null,{"v":0,"d":"0.00"}]
[null,"C Desarrollo Económico",null,{"$f":"SUM(D61:D69)","v":{"v":0,"d":"0.00"}},{"$f":"SUM(E61:E69)","v":{"v":0,"d":"0.00"}},{"v":0,"d":"0.00"},{"$f":"SUM(G61:G69)","v":{"v":0,"d":"0.00"}},{"v":0,"d":"0.00"},{"v":0,"d":"0.00"}]
[null,null,"c1) Asuntos Económicos, Comerciales y Laborales en General",null,null,{"v":0,"d":"0.00"},null,null,{"v":0,"d":"0.00"}]
[null,null,"c2) Agropecuaria, Silvicultura, Pesca y Caza",null,null,{"v":0,"d":"0.00"},null,null,{"v":0,"d":"0.00"}]
[null,null,"c3) Combustibles y Energía",null,null,{"v":0,"d":"0.00"},null,null,{"v":0,"d":"0.00"}]
[null,null,"c4) Minería, Manufacturas y Construcción",null,null,{"v":0,"d":"0.00"},null,null,{"v":0,"d":"0.00"}]
[null,null,"c5) Transporte",null,null,{"v":0,"d":"0.00"},null,null,{"v":0,"d":"0.00"}]
[null,null,"c6) Comunicaciones",null,null,{"v":0,"d":"0.00"},null,null,{"v":0,"d":"0.00"}]
[null,null,"c7) Turismo",null,null,{"v":0,"d":"0.00"},null,null,{"v":0,"d":"0.00"}]
[null,null,"c8) Ciencia, Tecnología e Innovación",null,null,{"v":0,"d":"0.00"},null,null,{"v":0,"d":"0.00"}]
[null,null,"c9) Otras Industrias y Otros Asuntos Económicos",null,null,{"v":0,"d":"0.00"},null,null,{"v":0,"d":"0.00"}]
[null,"D Otras No Clasificadas en Funciones Anteriores",null,{"$f":"SUM(D71:D74)","v":{"v":0,"d":"0.00"}},{"$f":"SUM(E71:E74)","v":{"v":0,"d":"0.00"}},{"v":0,"d":"0.00"},{"$f":"SUM(G71:G74)","v":{"v":0,"d":"0.00"}},{"$f":"SUM(H71:H74)","v":{"v":0,"d":"0.00"}},{"v":0,"d":"0.00"}]
[null,null,"d1) Transacciones de la Deuda Publica / Costo Financiero de la Deuda",null,null,{"v":0,"d":"0.00"},null,null,{"v":0,"d":"0.00"}]
[null,null,"d2) Transferencias, Participaciones y Aportaciones Entre Diferentes Niveles y Ordenes de Gobierno",null,null,{"v":0,"d":"0.00"},null,null,{"v":0,"d":"0.00"}]
[null,null,"d3) Saneamiento del Sistema Financiero",null,null,{"v":0,"d":"0.00"},null,null,{"v":0,"d":"0.00"}]
[null,null,"d4) Adeudos de Ejercicios Fiscales Anteriores",null,null,{"v":0,"d":"0.00"},null,null,{"v":0,"d":"0.00"}]
[]
[null,"III. Total de Egresos",null,{"$f":"D8+D42","v":{"v":0,"d":"0.00"}},{"$f":"E8+E42","v":{"v":0,"d":"0.00"}},{"v":0,"d":"0.00"},{"v":0,"d":"0.00"},{"v":0,"d":"0.00"},{"$f":"I8+I42","v":{"v":0,"d":"0.00"}}]
[]
[null,"Bajo protesta de decir verdad declaramos que los Estados Financieros y sus notas, son razonablemente correctos y son responsabilidad del emisor."]
[]
[]
[null,null,{"$f":"Validacion!A7","v":"LIC. JOSE HERIBERTO GARCIA MURILLO"},null,{"$f":"Validacion!A9","v":"LAE BRUNO GERMAN ENCISO GUILLEN"}]
[]
[null,null,"Presidente Municipal o titular del ente público",null,"Encargado de la Hacienda Municipal\n o Responsable de las finanzas del ente público"]

{"sheet":"F21","index":14,"n_rows":39,"n_cols":9,"rows_kept":39,"hidden":true,"merged":[[0,0,0,8],[1,0,1,8],[2,0,2,8],[3,0,3,8],[4,0,4,8],[5,0,6,2],[5,3,5,7],[5,8,6,8],[7,1,7,2],[19,1,19,2],[31,1,31,2],[36,2,37,2],[36,5,37,7],[38,2,39,2],[38,5,39,7]]}
[{"$f":"\"NOMBRE DEL ENTE PÚBLICO: \"&Validacion!A2","v":"NOMBRE DEL ENTE PÚBLICO: Ixtlahuacán de los Membrillos"}]
["Estado Analítico del Ejercicio del Presupuesto de Egresos Detallado - LDF"]
["Clasificación de Servicos Personales por Categoría"]
[{"$f":"'F6'!A3","v":"DEL 1° DE ENERO AL 31 DE ENERO DE 2026"}]
["(PESOS)"]
["Concepto",null,null,"Egresos",{"$nulls":4},"Subejercicio"]
[{"$nulls":3},"Aprobado","Ampliaciones/ (Reducciones)","Modificado","Devengado","Pagado"]
[null,"I. Gasto No Etiquetado",null,{"$f":"D9+D10+D11+D14+D15+D18","v":{"v":0,"d":"0.00"}},{"$f":"E9+E10+E11+E14+E15+E18","v":{"v":0,"d":"0.00"}},{"v":0,"d":"0.00"},{"v":0,"d":"0.00"},{"v":0,"d":"0.00"},{"v":0,"d":"0.00"}]
[null,"A. Personal Administrativo y de Servicio Público",{"$nulls":3},{"$f":"D9+E9","v":{"v":0,"d":"0.00"}},null,null,{"$f":"F9-G9","v":{"v":0,"d":"0.00"}}]
[null,"B. Magisterio",{"$nulls":3},{"$f":"D10+E10","v":{"v":0,"d":"0.00"}},null,null,{"$f":"F10-G10","v":{"v":0,"d":"0.00"}}]
[null,"C. Servicios de Salud",null,{"$f":"D12+D13","v":{"v":0,"d":"0.00"}},{"$f":"E12+E13","v":{"v":0,"d":"0.00"}},{"v":0,"d":"0.00"},{"$f":"G12+G13","v":{"v":0,"d":"0.00"}},{"$f":"H12+H13","v":{"v":0,"d":"0.00"}},{"v":0,"d":"0.00"}]
[null,null,"c1) Personal Administrativo ",null,null,{"v":0,"d":"0.00"},null,null,{"v":0,"d":"0.00"}]
[null,null,"c2) Personal Médico, Paramédico y afín",null,null,{"v":0,"d":"0.00"},null,null,{"v":0,"d":"0.00"}]
[null,"D. Seguridad Pública",{"$nulls":3},{"v":0,"d":"0.00"},null,null,{"v":0,"d":"0.00"}]
[null,"E. Gastos asociados a la implementación  de nuevas leyes federales o reformas a las mismas",null,{"$f":"D16+D17","v":{"v":0,"d":"0.00"}},{"$f":"E16+E17","v":{"v":0,"d":"0.00"}},{"v":0,"d":"0.00"},{"$f":"G16+G17","v":{"v":0,"d":"0.00"}},{"$f":"H16+H17","v":{"v":0,"d":"0.00"}},{"v":0,"d":"0.00"}]
[null,null,"e1) Nombre del Programa o Ley",null,null,{"v":0,"d":"0.00"},null,null,{"v":0,"d":"0.00"}]
[null,null,"e2) Nombre del Programa o Ley",null,null,{"v":0,"d":"0.00"},null,null,{"v":0,"d":"0.00"}]
[null,"F. Sentencias laborales definitivas",{"$nulls":3},{"v":0,"d":"0.00"},null,null,{"v":0,"d":"0.00"}]
[]
[null,"II. Gasto Etiquetado",null,{"$f":"D21+D22+D23+D26+D27+D30","v":{"v":0,"d":"0.00"}},{"$f":"E21+E22+E23+E26+E27+E30","v":{"v":0,"d":"0.00"}},{"v":0,"d":"0.00"},{"v":0,"d":"0.00"},{"v":0,"d":"0.00"},{"v":0,"d":"0.00"}]
[null,"A. Personal Administrativo y de Servicio Público",{"$nulls":3},{"$f":"D21+E21","v":{"v":0,"d":"0.00"}},null,null,{"$f":"F21-G21","v":{"v":0,"d":"0.00"}}]
[null,"B. Magisterio",{"$nulls":3},{"$f":"D22+E22","v":{"v":0,"d":"0.00"}},null,null,{"v":0,"d":"0.00"}]
[null,"C. Servicios de Salud",null,{"$f":"D24+D25","v":{"v":0,"d":"0.00"}},{"$f":"E24+E25","v":{"v":0,"d":"0.00"}},{"$f":"D23+E23","v":{"v":0,"d":"0.00"}},{"$f":"G24+G25","v":{"v":0,"d":"0.00"}},{"v":0,"d":"0.00"},{"v":0,"d":"0.00"}]
[null,null,"c1) Personal Administrativo ",null,null,{"$f":"D24+E24","v":{"v":0,"d":"0.00"}},null,null,{"v":0,"d":"0.00"}]
[null,null,"c2) Personal Médico, Paramédico y afín",null,null,{"v":0,"d":"0.00"},null,null,{"v":0,"d":"0.00"}]
[null,"D. Seguridad Pública",{"$nulls":3},{"$f":"D26+E26","v":{"v":0,"d":"0.00"}},null,null,{"v":0,"d":"0.00"}]
[null,"E. Gastos asociados a la implementación  de nuevas leyes federales o reformas a las mismas",null,{"$f":"D28+D29","v":{"v":0,"d":"0.00"}},{"$f":"E28+E29","v":{"v":0,"d":"0.00"}},{"$f":"D27+E27","v":{"v":0,"d":"0.00"}},{"$f":"G28+G29","v":{"v":0,"d":"0.00"}},{"v":0,"d":"0.00"},{"v":0,"d":"0.00"}]
[null,null,"e1) Nombre del Programa o Ley",null,null,{"$f":"D28+E28","v":{"v":0,"d":"0.00"}},null,null,{"v":0,"d":"0.00"}]
[null,null,"e2) Nombre del Programa o Ley",null,null,{"v":0,"d":"0.00"},null,null,{"v":0,"d":"0.00"}]
[null,"F. Sentencias laborales definitivas",{"$nulls":3},{"$f":"D30+E30","v":{"v":0,"d":"0.00"}},null,null,{"v":0,"d":"0.00"}]
[]
[null,"III. Total del Gasto en Servicios Personales",null,{"$f":"D8+D20","v":{"v":0,"d":"0.00"}},{"$f":"E8+E20","v":{"v":0,"d":"0.00"}},{"v":0,"d":"0.00"},{"v":0,"d":"0.00"},{"v":0,"d":"0.00"},{"v":0,"d":"0.00"}]
[]
["Bajo protesta de decir verdad declaramos que los Estados Financieros y sus notas, son razonablemente correctos y son responsabilidad del emisor."]
[]
[]
[null,null,{"$f":"Validacion!A7","v":"LIC. JOSE HERIBERTO GARCIA MURILLO"},null,null,{"$f":"Validacion!A9","v":"LAE BRUNO GERMAN ENCISO GUILLEN"}]
[]
[null,null,"Presidente Municipal o titular del ente público",null,null,"Encargado de la Hacienda Municipal o\nResponsable de las finanzas del ente público"]

{"sheet":"F22","index":15,"n_rows":61,"n_cols":7,"rows_kept":61,"hidden":true,"merged":[[0,0,0,6],[1,0,1,6],[2,0,2,6],[3,0,3,6],[4,0,4,2],[19,0,19,2],[25,0,25,2],[34,0,34,2],[44,0,44,2],[54,0,55,6],[58,2,59,2],[58,4,59,6],[60,2,61,2],[60,4,61,6]]}
[{"$f":"\"NOMBRE DEL ENTE PÚBLICO: \"&Validacion!A2","v":"NOMBRE DEL ENTE PÚBLICO: Ixtlahuacán de los Membrillos"}]
["Balance Presupuestario - LDF"]
[{"$f":"'F6'!A3","v":"DEL 1° DE ENERO AL 31 DE ENERO DE 2026"}]
["(PESOS)"]
["Concepto",{"$nulls":3},"Estimado/\nAprobado","Devengado","Recaudado/\nPagado"]
[null,"A. Ingresos Totales",null,null,{"$f":"SUM(E7:E9)","v":{"v":0,"d":"0.00"}},{"$f":"SUM(F7:F9)","v":{"v":0,"d":"0.00"}},{"v":0,"d":"0.00"}]
[null,null,"A1. Ingresos de Libre Disposición",null,{"$f":"F7B!C39","v":{"v":0,"d":"0.00"}},{"$f":"F7B!F39","v":{"v":0,"d":"0.00"}},{"$f":"F7B!G39","v":{"v":0,"d":"0.00"}}]
[null,null,"A2.Transferencias Federales Etiquetadas",null,{"$f":"F7B!C61","v":{"v":0,"d":"0.00"}},{"$f":"F7B!F61","v":{"v":0,"d":"0.00"}},{"$f":"F7B!G61","v":{"v":0,"d":"0.00"}}]
[null,null,"A3. Financiamiento Neto",null,{"$f":"E33","v":{"v":0,"d":"0.00"}},{"$f":"F33","v":{"v":0,"d":"0.00"}},{"$f":"G33","v":{"v":0,"d":"0.00"}}]
[null,"B. Egresos Presupuestarios",null,null,{"$f":"SUM(E11:E12)","v":{"v":0,"d":"0.00"}},{"$f":"SUM(F11:F12)","v":{"v":0,"d":"0.00"}},{"v":0,"d":"0.00"}]
[null,null,"B1. Gastos No Etiquetado (sin incluir Amortización de la Deuda Pública)",null,{"$f":"F8B!D7-E31","v":{"v":0,"d":"0.00"}},{"$f":"F8B!G7-F31","v":{"v":0,"d":"0.00"}},{"$f":"F8B!H7-G31","v":{"v":0,"d":"0.00"}}]
[null,null,"B2. Gasto Etiquetado (sin incluir Amortización de la Deuda Pública)",null,{"$f":"F8B!D81-E32","v":{"v":0,"d":"0.00"}},{"$f":"F8B!G81-F32","v":{"v":0,"d":"0.00"}},{"$f":"F8B!H81-G32","v":{"v":0,"d":"0.00"}}]
[null,"C. Remanentes del Ejercicio Anterior",{"$nulls":3},{"$f":"SUM(F14:F15)","v":{"v":0,"d":"0.00"}},{"v":0,"d":"0.00"}]
[null,null,"C1. Remanentes de Ingresos de Libre Disposición aplicados en el periodo"]
[null,null,"C2. Remanentes de Transferencias Federales Etiquetadas aplicados en el periodo"]
[null,"I. Balance Presupuestario",null,null,{"$f":"E6-E10+E13","v":{"v":0,"d":"0.00"}},{"$f":"F6-F10+F13","v":{"v":0,"d":"0.00"}},{"v":0,"d":"0.00"}]
[null,"II. Balance Presupuestario sin Financiamiento Neto",null,null,{"$f":"E16-E9","v":{"v":0,"d":"0.00"}},{"$f":"F16-F9","v":{"v":0,"d":"0.00"}},{"v":0,"d":"0.00"}]
[null,"III. Balance Presupuestario sin Financiamiento Neto y sin Remanentes del Ejercicio Anterior",null,null,{"$f":"E17-E13","v":{"v":0,"d":"0.00"}},{"$f":"F17-F13","v":{"v":0,"d":"0.00"}},{"v":0,"d":"0.00"}]
[]
["Concepto",{"$nulls":3},"Aprobado","Devengado","Pagado"]
[null,"E. Intereses, Comisiones y Gastos de la Deuda",null,null,{"$f":"SUM(E22:E23)","v":{"v":0,"d":"0.00"}},{"$f":"SUM(F22:F23)","v":{"v":0,"d":"0.00"}},{"v":0,"d":"0.00"}]
[null,null,"E1. Intereses, Comisiones y Gastos de la Deuda con Gasto No Etiquetado",null,{"$f":"SUM(F8B!D74:D77)","v":{"v":0,"d":"0.00"}},{"$f":"SUM(F8B!G74:G77)","v":{"v":0,"d":"0.00"}},{"$f":"SUM(F8B!H74:H77)","v":{"v":0,"d":"0.00"}}]
[null,null,"E2. Intereses, Comisiones y Gastos de la Deuda con Gasto Etiquetado",null,{"$f":"SUM(F8B!D148:D151)","v":{"v":0,"d":"0.00"}},{"$f":"SUM(F8B!G148:G151)","v":{"v":0,"d":"0.00"}},{"$f":"SUM(F8B!H148:H151)","v":{"v":0,"d":"0.00"}}]
[null,"IV. Balance Primario",null,null,{"$f":"E18+E21","v":{"v":0,"d":"0.00"}},{"$f":"F18+F21","v":{"v":0,"d":"0.00"}},{"v":0,"d":"0.00"}]
[]
["Concepto",{"$nulls":3},"Estimado/\nAprobado","Devengado","Recaudado/\nPagado"]
[null,"F. Financiamiento ",null,null,{"$f":"SUM(E28:E29)","v":{"v":0,"d":"0.00"}},{"$f":"SUM(F28:F29)","v":{"v":0,"d":"0.00"}},{"v":0,"d":"0.00"}]
[null,null,"F1. Financiamiento con Fuente de Pago de Ingresos de Libre Disposición",null,{"$f":"F7B!C66","v":{"v":0,"d":"0.00"}},{"$f":"F7B!F66","v":{"v":0,"d":"0.00"}},{"$f":"F7B!G66","v":{"v":0,"d":"0.00"}}]
[null,null,"F2. Financiamiento con Fuente de Pago de Transferencias Federales Etiquetadas",null,{"$f":"F7B!C67","v":{"v":0,"d":"0.00"}},{"$f":"F7B!F67","v":{"v":0,"d":"0.00"}},{"$f":"F7B!G67","v":{"v":0,"d":"0.00"}}]
[null,"G. Amortización de la Deuda",null,null,{"$f":"SUM(E31:E32)","v":{"v":0,"d":"0.00"}},{"$f":"SUM(F31:F32)","v":{"v":0,"d":"0.00"}},{"v":0,"d":"0.00"}]
[null,null,"G1. Amortización de la Deuda Pública con Gasto No Etiquetado",null,{"$f":"F8B!D73","v":{"v":0,"d":"0.00"}},{"$f":"F8B!G73","v":{"v":0,"d":"0.00"}},{"$f":"F8B!H73","v":{"v":0,"d":"0.00"}}]
[null,null,"G2. Amortización de la Deuda Pública con Gasto Etiquetado",null,{"$f":"F8B!D147","v":{"v":0,"d":"0.00"}},{"$f":"F8B!G147","v":{"v":0,"d":"0.00"}},{"$f":"F8B!H147","v":{"v":0,"d":"0.00"}}]
[null,"A3.Financiamiento Neto",null,null,{"$f":"E27-E30","v":{"v":0,"d":"0.00"}},{"$f":"F27-F30","v":{"v":0,"d":"0.00"}},{"v":0,"d":"0.00"}]
[]
["Concepto",{"$nulls":3},"Estimado/\nAprobado","Devengado","Recaudado/\nPagado"]
[null,"A1. Ingresos de Libre Disposición",null,null,{"$f":"E7","v":{"v":0,"d":"0.00"}},{"$f":"F7","v":{"v":0,"d":"0.00"}},{"$f":"G7","v":{"v":0,"d":"0.00"}}]
[null,"A3.1 Financiamiento Neto con Fuente de Pago de Ingresos de Libre Disposición",null,null,{"$f":"E38-E39","v":{"v":0,"d":"0.00"}},{"$f":"F38-F39","v":{"v":0,"d":"0.00"}},{"$f":"G38-G39","v":{"v":0,"d":"0.00"}}]
[null,null,"F1. Financiamiento con Fuente de Pago de Ingresos de Libre Disposición",null,{"$f":"E28","v":{"v":0,"d":"0.00"}},{"$f":"F28","v":{"v":0,"d":"0.00"}},{"$f":"G28","v":{"v":0,"d":"0.00"}}]
[null,null,"G1. Amortización de la Deuda Pública con Gasto Etiquetado",null,{"$f":"E31","v":{"v":0,"d":"0.00"}},{"$f":"F31","v":{"v":0,"d":"0.00"}},{"$f":"G31","v":{"v":0,"d":"0.00"}}]
[null,"B1. Gasto No Etiquetado (sin incluir Amortización de la Deuda Pública)",null,null,{"$f":"E11","v":{"v":0,"d":"0.00"}},{"$f":"F11","v":{"v":0,"d":"0.00"}},{"$f":"G11","v":{"v":0,"d":"0.00"}}]
[null,"C1. Remanente de ingresos de libre disposición aplicados en el periodo",{"$nulls":3},{"$f":"F14","v":{"v":0,"d":"0.00"}},{"$f":"G14","v":{"v":0,"d":"0.00"}}]
[null,"V. Balance Presupuestario de Recursos Disponibles",null,null,{"$f":"E36+E37-E40+E41","v":{"v":0,"d":"0.00"}},{"$f":"F36+F37-F40+F41","v":{"v":0,"d":"0.00"}},{"$f":"G36+G37-G40+G41","v":{"v":0,"d":"0.00"}}]
[null,"VI. Balance Presupuestario de Recursos Disponibles sin Financiamiento Neto",null,null,{"$f":"E42-E37","v":{"v":0,"d":"0.00"}},{"$f":"F42-F37","v":{"v":0,"d":"0.00"}},{"$f":"G42-G37","v":{"v":0,"d":"0.00"}}]
[]
["Concepto",{"$nulls":3},"Estimado/\nAprobado","Devengado","Recaudado/\nPagado"]
[null,"A2. Transferencias Federales Etiquetadas",null,null,{"$f":"E8","v":{"v":0,"d":"0.00"}},{"$f":"F8","v":{"v":0,"d":"0.00"}},{"$f":"G8","v":{"v":0,"d":"0.00"}}]
[null,"A3.2 Financiamiento Neto con Fuente de Pago de Transferencias Federales Etiquetadas",null,null,{"$f":"E48-E49","v":{"v":0,"d":"0.00"}},{"$f":"F48-F49","v":{"v":0,"d":"0.00"}},{"v":0,"d":"0.00"}]
[null,null,"F2. Financiamiento con Fuente de Pago de Transferencias Federales Etiquetadas",null,{"$f":"E29","v":{"v":0,"d":"0.00"}},{"$f":"F29","v":{"v":0,"d":"0.00"}},{"$f":"G29","v":{"v":0,"d":"0.00"}}]
[null,null,"G2. Amortización de la Deuda Pública con Gasto Etiquetado",null,{"$f":"E32","v":{"v":0,"d":"0.00"}},{"$f":"F32","v":{"v":0,"d":"0.00"}},{"$f":"G32","v":{"v":0,"d":"0.00"}}]
[null,"B2. Gasto Etiquetado  (sin incluir Amortización de la Deuda Pública)",null,null,{"$f":"E12","v":{"v":0,"d":"0.00"}},{"$f":"F12","v":{"v":0,"d":"0.00"}},{"$f":"G12","v":{"v":0,"d":"0.00"}}]
[null,"C2. Remanentes de Transferencias Federales Etiquetadas aplicados en el periodo",{"$nulls":3},{"$f":"F15","v":{"v":0,"d":"0.00"}},{"$f":"G15","v":{"v":0,"d":"0.00"}}]
[null,"VII. Balance Presupuestario de Recursos Etiquetados",null,null,{"$f":"E46+E47-E50+E51","v":{"v":0,"d":"0.00"}},{"$f":"F46+F47-F50+F51","v":{"v":0,"d":"0.00"}},{"$f":"G46+G47-G50+G51","v":{"v":0,"d":"0.00"}}]
[null,"VIII. Balance Presupuestario de Recursos Etiquetados sin Financiamiento Neto",null,null,{"$f":"E52-E47","v":{"v":0,"d":"0.00"}},{"$f":"F52-F47","v":{"v":0,"d":"0.00"}},{"$f":"G52-G47","v":{"v":0,"d":"0.00"}}]
[]
["Bajo protesta de decir verdad declaramos que los Estados Financieros y sus notas, son razonablemente correctos y son responsabilidad del emisor."]
[]
[]
[]
[null,null,{"$f":"Validacion!A7","v":"LIC. JOSE HERIBERTO GARCIA MURILLO"},null,{"$f":"Validacion!A9","v":"LAE BRUNO GERMAN ENCISO GUILLEN"}]
[]
[null,null,"Presidente Municipal o titular del ente público",null,"Encargado de la Hacienda Municipal o\nResponsable de las finanzas del ente público"]

{"sheet":"F23","index":16,"n_rows":500,"n_cols":23,"rows_kept":500,"hidden":true,"merged":[[0,0,0,22],[1,0,1,22],[2,0,2,22],[3,0,3,22],[4,0,7,0],[4,1,7,1],[4,2,7,2],[4,3,7,3],[4,4,6,5],[4,6,5,9],[4,10,6,12],[4,13,6,14],[4,15,6,18],[4,19,7,19],[4,20,7,20],[4,21,6,22],[6,6,7,6],[6,7,6,9]]}
[{"$f":"\"Nombre del Ente Público: \"&Validacion!A2","v":"Nombre del Ente Público: Ixtlahuacán de los Membrillos"}]
["Informativa Anual de Obras"]
[{"$f":"'F6'!A3","v":"DEL 1° DE ENERO AL 31 DE ENERO DE 2026"}]
["(Cifra en pesos)"]
["NOMBRE DE OBRA O NÚMERO DE ORDEN DE TRABAJO","LOCALIDAD","DESCRIPCIÓN DE LA OBRA U OBJETO DEL CONTRATO","NOMBRE DEL EJECUTOR DE LA OBRA","UBICACIÓN GEOGRÁFICA",null,"MODALIDAD DE EJECUCIÓN",{"$nulls":3},"PLAZO DE EJECUCIÓN",null,null,"PRORROGA Y/O DIFERIMIENTO",null,"ORIGEN DEL RECURSO (MONTO)",{"$nulls":3},"IMPORTE TOTAL DEL PAGO","ESTATUS DE LA OBRA","ENTREGA RECEPCIÓN Y/O MINUTA DE TERMINACIÓIN"]
[]
[{"$nulls":6},"ADMÓN. DIRECTA","CONTRATO"]
[{"$nulls":4},"LATITUD","LONGITUD",null,"ADJ. DIRECTA","CONCURSO SIMPL.","LICITA. PÚBLICA","INICIO","TERMINO","DÍAS NATURALES","SI","NO","PROPIOS","ESTATAL","FISMDF","CONVENIO FEDERAL",null,null,"SI","NO"]
[{"$nulls":12},{"$f":"L9-K9","v":0},{"$nulls":6},{"$f":"SUM(P9:S9)","v":{"v":0,"d":"0.00"}}]
[{"$nulls":12},{"$f":"L10-K10","v":0},{"$nulls":6},{"$f":"SUM(P10:S10)","v":{"v":0,"d":"0.00"}}]
[{"$nulls":12},0,{"$nulls":6},{"v":0,"d":"0.00"}]
[{"$nulls":12},0,{"$nulls":6},{"v":0,"d":"0.00"}]
[{"$nulls":12},0,{"$nulls":6},{"v":0,"d":"0.00"}]
[{"$nulls":12},0,{"$nulls":6},{"v":0,"d":"0.00"}]
[{"$nulls":12},0,{"$nulls":6},{"v":0,"d":"0.00"}]
[{"$nulls":12},0,{"$nulls":6},{"v":0,"d":"0.00"}]
[{"$nulls":12},0,{"$nulls":6},{"v":0,"d":"0.00"}]
[{"$nulls":12},0,{"$nulls":6},{"v":0,"d":"0.00"}]
[{"$nulls":12},0,{"$nulls":6},{"v":0,"d":"0.00"}]
[{"$nulls":12},0,{"$nulls":6},{"v":0,"d":"0.00"}]
[{"$nulls":12},0,{"$nulls":6},{"v":0,"d":"0.00"}]
[{"$nulls":12},0,{"$nulls":6},{"v":0,"d":"0.00"}]
[{"$nulls":12},0,{"$nulls":6},{"v":0,"d":"0.00"}]
[{"$nulls":12},0,{"$nulls":6},{"v":0,"d":"0.00"}]
[{"$nulls":12},0,{"$nulls":6},{"v":0,"d":"0.00"}]
[{"$nulls":12},0,{"$nulls":6},{"v":0,"d":"0.00"}]
[{"$nulls":12},0,{"$nulls":6},{"v":0,"d":"0.00"}]
[{"$nulls":12},0,{"$nulls":6},{"v":0,"d":"0.00"}]
[{"$nulls":12},0,{"$nulls":6},{"v":0,"d":"0.00"}]
[{"$nulls":12},0,{"$nulls":6},{"v":0,"d":"0.00"}]
[{"$nulls":12},0,{"$nulls":6},{"v":0,"d":"0.00"}]
[{"$nulls":12},0,{"$nulls":6},{"v":0,"d":"0.00"}]
[{"$nulls":12},0,{"$nulls":6},{"v":0,"d":"0.00"}]
[{"$nulls":12},0,{"$nulls":6},{"v":0,"d":"0.00"}]
[{"$nulls":12},0,{"$nulls":6},{"v":0,"d":"0.00"}]
[{"$nulls":12},0,{"$nulls":6},{"v":0,"d":"0.00"}]
[{"$nulls":12},0,{"$nulls":6},{"v":0,"d":"0.00"}]
[{"$nulls":12},0,{"$nulls":6},{"v":0,"d":"0.00"}]
[{"$nulls":12},0,{"$nulls":6},{"v":0,"d":"0.00"}]
[{"$nulls":12},0,{"$nulls":6},{"v":0,"d":"0.00"}]
[{"$nulls":12},0,{"$nulls":6},{"v":0,"d":"0.00"}]
[{"$nulls":12},0,{"$nulls":6},{"v":0,"d":"0.00"}]
[{"$nulls":12},0,{"$nulls":6},{"v":0,"d":"0.00"}]
[{"$nulls":12},0,{"$nulls":6},{"v":0,"d":"0.00"}]
[{"$nulls":12},0,{"$nulls":6},{"v":0,"d":"0.00"}]
[{"$nulls":12},0,{"$nulls":6},{"v":0,"d":"0.00"}]
[{"$nulls":12},0,{"$nulls":6},{"v":0,"d":"0.00"}]
[{"$nulls":12},0,{"$nulls":6},{"v":0,"d":"0.00"}]
[{"$nulls":12},0,{"$nulls":6},{"v":0,"d":"0.00"}]
[{"$nulls":12},0,{"$nulls":6},{"v":0,"d":"0.00"}]
[{"$nulls":12},0,{"$nulls":6},{"v":0,"d":"0.00"}]
[{"$nulls":12},0,{"$nulls":6},{"v":0,"d":"0.00"}]
[{"$nulls":12},0,{"$nulls":6},{"v":0,"d":"0.00"}]
[{"$nulls":12},0,{"$nulls":6},{"v":0,"d":"0.00"}]
[{"$nulls":12},0,{"$nulls":6},{"v":0,"d":"0.00"}]
[{"$nulls":12},0,{"$nulls":6},{"v":0,"d":"0.00"}]
[{"$nulls":12},0,{"$nulls":6},{"v":0,"d":"0.00"}]
[{"$nulls":12},0,{"$nulls":6},{"v":0,"d":"0.00"}]
[{"$nulls":12},0,{"$nulls":6},{"v":0,"d":"0.00"}]
[{"$nulls":12},0,{"$nulls":6},{"v":0,"d":"0.00"}]
[{"$nulls":12},0,{"$nulls":6},{"v":0,"d":"0.00"}]
[{"$nulls":12},0,{"$nulls":6},{"v":0,"d":"0.00"}]
[{"$nulls":12},0,{"$nulls":6},{"v":0,"d":"0.00"}]
[{"$nulls":12},0,{"$nulls":6},{"v":0,"d":"0.00"}]
[{"$nulls":12},0,{"$nulls":6},{"v":0,"d":"0.00"}]
[{"$nulls":12},0,{"$nulls":6},{"v":0,"d":"0.00"}]
[{"$nulls":12},0,{"$nulls":6},{"v":0,"d":"0.00"}]
[{"$nulls":12},0,{"$nulls":6},{"v":0,"d":"0.00"}]
[{"$nulls":12},0,{"$nulls":6},{"v":0,"d":"0.00"}]
[{"$nulls":12},0,{"$nulls":6},{"v":0,"d":"0.00"}]
[{"$nulls":12},0,{"$nulls":6},{"v":0,"d":"0.00"}]
[{"$nulls":12},0,{"$nulls":6},{"v":0,"d":"0.00"}]
[{"$nulls":12},0,{"$nulls":6},{"v":0,"d":"0.00"}]
[{"$nulls":12},{"$f":"L74-K74","v":0},{"$nulls":6},{"$f":"SUM(P74:S74)","v":{"v":0,"d":"0.00"}}]
[{"$nulls":12},0,{"$nulls":6},{"v":0,"d":"0.00"}]
[{"$nulls":12},0,{"$nulls":6},{"v":0,"d":"0.00"}]
[{"$nulls":12},0,{"$nulls":6},{"v":0,"d":"0.00"}]
[{"$nulls":12},0,{"$nulls":6},{"v":0,"d":"0.00"}]
[{"$nulls":12},0,{"$nulls":6},{"v":0,"d":"0.00"}]
[{"$nulls":12},0,{"$nulls":6},{"v":0,"d":"0.00"}]
[{"$nulls":12},0,{"$nulls":6},{"v":0,"d":"0.00"}]
[{"$nulls":12},0,{"$nulls":6},{"v":0,"d":"0.00"}]
[{"$nulls":12},0,{"$nulls":6},{"v":0,"d":"0.00"}]
[{"$nulls":12},0,{"$nulls":6},{"v":0,"d":"0.00"}]
[{"$nulls":12},0,{"$nulls":6},{"v":0,"d":"0.00"}]
[{"$nulls":12},0,{"$nulls":6},{"v":0,"d":"0.00"}]
[{"$nulls":12},0,{"$nulls":6},{"v":0,"d":"0.00"}]
[{"$nulls":12},0,{"$nulls":6},{"v":0,"d":"0.00"}]
[{"$nulls":12},0,{"$nulls":6},{"v":0,"d":"0.00"}]
[{"$nulls":12},0,{"$nulls":6},{"v":0,"d":"0.00"}]
[{"$nulls":12},0,{"$nulls":6},{"v":0,"d":"0.00"}]
[{"$nulls":12},0,{"$nulls":6},{"v":0,"d":"0.00"}]
[{"$nulls":12},0,{"$nulls":6},{"v":0,"d":"0.00"}]
[{"$nulls":12},0,{"$nulls":6},{"v":0,"d":"0.00"}]
[{"$nulls":12},0,{"$nulls":6},{"v":0,"d":"0.00"}]
[{"$nulls":12},0,{"$nulls":6},{"v":0,"d":"0.00"}]
[{"$nulls":12},0,{"$nulls":6},{"v":0,"d":"0.00"}]
[{"$nulls":12},0,{"$nulls":6},{"v":0,"d":"0.00"}]
[{"$nulls":12},0,{"$nulls":6},{"v":0,"d":"0.00"}]
[{"$nulls":12},0,{"$nulls":6},{"v":0,"d":"0.00"}]
[{"$nulls":12},0,{"$nulls":6},{"v":0,"d":"0.00"}]
[{"$nulls":12},0,{"$nulls":6},{"v":0,"d":"0.00"}]
[{"$nulls":12},0,{"$nulls":6},{"v":0,"d":"0.00"}]
[{"$nulls":12},0,{"$nulls":6},{"v":0,"d":"0.00"}]
[{"$nulls":12},0,{"$nulls":6},{"v":0,"d":"0.00"}]
[{"$nulls":12},0,{"$nulls":6},{"v":0,"d":"0.00"}]
[{"$nulls":12},0,{"$nulls":6},{"v":0,"d":"0.00"}]
[{"$nulls":12},0,{"$nulls":6},{"v":0,"d":"0.00"}]
[{"$nulls":12},0,{"$nulls":6},{"v":0,"d":"0.00"}]
[{"$nulls":12},0,{"$nulls":6},{"v":0,"d":"0.00"}]
[{"$nulls":12},0,{"$nulls":6},{"v":0,"d":"0.00"}]
[{"$nulls":12},0,{"$nulls":6},{"v":0,"d":"0.00"}]
[{"$nulls":12},0,{"$nulls":6},{"v":0,"d":"0.00"}]
[{"$nulls":12},0,{"$nulls":6},{"v":0,"d":"0.00"}]
[{"$nulls":12},0,{"$nulls":6},{"v":0,"d":"0.00"}]
[{"$nulls":12},0,{"$nulls":6},{"v":0,"d":"0.00"}]
[{"$nulls":12},0,{"$nulls":6},{"v":0,"d":"0.00"}]
[{"$nulls":12},0,{"$nulls":6},{"v":0,"d":"0.00"}]
[{"$nulls":12},0,{"$nulls":6},{"v":0,"d":"0.00"}]
[{"$nulls":12},0,{"$nulls":6},{"v":0,"d":"0.00"}]
[{"$nulls":12},0,{"$nulls":6},{"v":0,"d":"0.00"}]
[{"$nulls":12},0,{"$nulls":6},{"v":0,"d":"0.00"}]
[{"$nulls":12},0,{"$nulls":6},{"v":0,"d":"0.00"}]
[{"$nulls":12},0,{"$nulls":6},{"v":0,"d":"0.00"}]
[{"$nulls":12},0,{"$nulls":6},{"v":0,"d":"0.00"}]
[{"$nulls":12},0,{"$nulls":6},{"v":0,"d":"0.00"}]
[{"$nulls":12},0,{"$nulls":6},{"v":0,"d":"0.00"}]
[{"$nulls":12},0,{"$nulls":6},{"v":0,"d":"0.00"}]
[{"$nulls":12},0,{"$nulls":6},{"v":0,"d":"0.00"}]
[{"$nulls":12},0,{"$nulls":6},{"v":0,"d":"0.00"}]
[{"$nulls":12},0,{"$nulls":6},{"v":0,"d":"0.00"}]
[{"$nulls":12},0,{"$nulls":6},{"v":0,"d":"0.00"}]
[{"$nulls":12},0,{"$nulls":6},{"v":0,"d":"0.00"}]
[{"$nulls":12},0,{"$nulls":6},{"v":0,"d":"0.00"}]
[{"$nulls":12},0,{"$nulls":6},{"v":0,"d":"0.00"}]
[{"$nulls":12},0,{"$nulls":6},{"v":0,"d":"0.00"}]
[{"$nulls":12},0,{"$nulls":6},{"v":0,"d":"0.00"}]
[{"$nulls":12},{"$f":"L138-K138","v":0},{"$nulls":6},{"$f":"SUM(P138:S138)","v":{"v":0,"d":"0.00"}}]
[{"$nulls":12},0,{"$nulls":6},{"v":0,"d":"0.00"}]
[{"$nulls":12},0,{"$nulls":6},{"v":0,"d":"0.00"}]
[{"$nulls":12},0,{"$nulls":6},{"v":0,"d":"0.00"}]
[{"$nulls":12},0,{"$nulls":6},{"v":0,"d":"0.00"}]
[{"$nulls":12},0,{"$nulls":6},{"v":0,"d":"0.00"}]
[{"$nulls":12},0,{"$nulls":6},{"v":0,"d":"0.00"}]
[{"$nulls":12},0,{"$nulls":6},{"v":0,"d":"0.00"}]
[{"$nulls":12},0,{"$nulls":6},{"v":0,"d":"0.00"}]
[{"$nulls":12},0,{"$nulls":6},{"v":0,"d":"0.00"}]
[{"$nulls":12},0,{"$nulls":6},{"v":0,"d":"0.00"}]
[{"$nulls":12},0,{"$nulls":6},{"v":0,"d":"0.00"}]
[{"$nulls":12},0,{"$nulls":6},{"v":0,"d":"0.00"}]
[{"$nulls":12},0,{"$nulls":6},{"v":0,"d":"0.00"}]
[{"$nulls":12},0,{"$nulls":6},{"v":0,"d":"0.00"}]
[{"$nulls":12},0,{"$nulls":6},{"v":0,"d":"0.00"}]
[{"$nulls":12},0,{"$nulls":6},{"v":0,"d":"0.00"}]
[{"$nulls":12},0,{"$nulls":6},{"v":0,"d":"0.00"}]
[{"$nulls":12},0,{"$nulls":6},{"v":0,"d":"0.00"}]
[{"$nulls":12},0,{"$nulls":6},{"v":0,"d":"0.00"}]
[{"$nulls":12},0,{"$nulls":6},{"v":0,"d":"0.00"}]
[{"$nulls":12},0,{"$nulls":6},{"v":0,"d":"0.00"}]
[{"$nulls":12},0,{"$nulls":6},{"v":0,"d":"0.00"}]
[{"$nulls":12},0,{"$nulls":6},{"v":0,"d":"0.00"}]
[{"$nulls":12},0,{"$nulls":6},{"v":0,"d":"0.00"}]
[{"$nulls":12},0,{"$nulls":6},{"v":0,"d":"0.00"}]
[{"$nulls":12},0,{"$nulls":6},{"v":0,"d":"0.00"}]
[{"$nulls":12},0,{"$nulls":6},{"v":0,"d":"0.00"}]
[{"$nulls":12},0,{"$nulls":6},{"v":0,"d":"0.00"}]
[{"$nulls":12},0,{"$nulls":6},{"v":0,"d":"0.00"}]
[{"$nulls":12},0,{"$nulls":6},{"v":0,"d":"0.00"}]
[{"$nulls":12},0,{"$nulls":6},{"v":0,"d":"0.00"}]
[{"$nulls":12},0,{"$nulls":6},{"v":0,"d":"0.00"}]
[{"$nulls":12},0,{"$nulls":6},{"v":0,"d":"0.00"}]
[{"$nulls":12},0,{"$nulls":6},{"v":0,"d":"0.00"}]
[{"$nulls":12},0,{"$nulls":6},{"v":0,"d":"0.00"}]
[{"$nulls":12},0,{"$nulls":6},{"v":0,"d":"0.00"}]
[{"$nulls":12},0,{"$nulls":6},{"v":0,"d":"0.00"}]
[{"$nulls":12},0,{"$nulls":6},{"v":0,"d":"0.00"}]
[{"$nulls":12},0,{"$nulls":6},{"v":0,"d":"0.00"}]
[{"$nulls":12},0,{"$nulls":6},{"v":0,"d":"0.00"}]
[{"$nulls":12},0,{"$nulls":6},{"v":0,"d":"0.00"}]
[{"$nulls":12},0,{"$nulls":6},{"v":0,"d":"0.00"}]
[{"$nulls":12},0,{"$nulls":6},{"v":0,"d":"0.00"}]
[{"$nulls":12},0,{"$nulls":6},{"v":0,"d":"0.00"}]
[{"$nulls":12},0,{"$nulls":6},{"v":0,"d":"0.00"}]
[{"$nulls":12},0,{"$nulls":6},{"v":0,"d":"0.00"}]
[{"$nulls":12},0,{"$nulls":6},{"v":0,"d":"0.00"}]
[{"$nulls":12},0,{"$nulls":6},{"v":0,"d":"0.00"}]
[{"$nulls":12},0,{"$nulls":6},{"v":0,"d":"0.00"}]
[{"$nulls":12},0,{"$nulls":6},{"v":0,"d":"0.00"}]
[{"$nulls":12},0,{"$nulls":6},{"v":0,"d":"0.00"}]
[{"$nulls":12},0,{"$nulls":6},{"v":0,"d":"0.00"}]
[{"$nulls":12},0,{"$nulls":6},{"v":0,"d":"0.00"}]
[{"$nulls":12},0,{"$nulls":6},{"v":0,"d":"0.00"}]
[{"$nulls":12},0,{"$nulls":6},{"v":0,"d":"0.00"}]
[{"$nulls":12},0,{"$nulls":6},{"v":0,"d":"0.00"}]
[{"$nulls":12},0,{"$nulls":6},{"v":0,"d":"0.00"}]
[{"$nulls":12},0,{"$nulls":6},{"v":0,"d":"0.00"}]
[{"$nulls":12},0,{"$nulls":6},{"v":0,"d":"0.00"}]
[{"$nulls":12},0,{"$nulls":6},{"v":0,"d":"0.00"}]
[{"$nulls":12},0,{"$nulls":6},{"v":0,"d":"0.00"}]
[{"$nulls":12},0,{"$nulls":6},{"v":0,"d":"0.00"}]
[{"$nulls":12},0,{"$nulls":6},{"v":0,"d":"0.00"}]
[{"$nulls":12},{"$f":"L202-K202","v":0},{"$nulls":6},{"$f":"SUM(P202:S202)","v":{"v":0,"d":"0.00"}}]
[{"$nulls":12},0,{"$nulls":6},{"v":0,"d":"0.00"}]
[{"$nulls":12},0,{"$nulls":6},{"v":0,"d":"0.00"}]
[{"$nulls":12},0,{"$nulls":6},{"v":0,"d":"0.00"}]
[{"$nulls":12},0,{"$nulls":6},{"v":0,"d":"0.00"}]
[{"$nulls":12},0,{"$nulls":6},{"v":0,"d":"0.00"}]
[{"$nulls":12},0,{"$nulls":6},{"v":0,"d":"0.00"}]
[{"$nulls":12},0,{"$nulls":6},{"v":0,"d":"0.00"}]
[{"$nulls":12},0,{"$nulls":6},{"v":0,"d":"0.00"}]
[{"$nulls":12},0,{"$nulls":6},{"v":0,"d":"0.00"}]
[{"$nulls":12},0,{"$nulls":6},{"v":0,"d":"0.00"}]
[{"$nulls":12},0,{"$nulls":6},{"v":0,"d":"0.00"}]
[{"$nulls":12},0,{"$nulls":6},{"v":0,"d":"0.00"}]
[{"$nulls":12},0,{"$nulls":6},{"v":0,"d":"0.00"}]
[{"$nulls":12},0,{"$nulls":6},{"v":0,"d":"0.00"}]
[{"$nulls":12},0,{"$nulls":6},{"v":0,"d":"0.00"}]
[{"$nulls":12},0,{"$nulls":6},{"v":0,"d":"0.00"}]
[{"$nulls":12},0,{"$nulls":6},{"v":0,"d":"0.00"}]
[{"$nulls":12},0,{"$nulls":6},{"v":0,"d":"0.00"}]
[{"$nulls":12},0,{"$nulls":6},{"v":0,"d":"0.00"}]
[{"$nulls":12},0,{"$nulls":6},{"v":0,"d":"0.00"}]
[{"$nulls":12},0,{"$nulls":6},{"v":0,"d":"0.00"}]
[{"$nulls":12},0,{"$nulls":6},{"v":0,"d":"0.00"}]
[{"$nulls":12},0,{"$nulls":6},{"v":0,"d":"0.00"}]
[{"$nulls":12},0,{"$nulls":6},{"v":0,"d":"0.00"}]
[{"$nulls":12},0,{"$nulls":6},{"v":0,"d":"0.00"}]
[{"$nulls":12},0,{"$nulls":6},{"v":0,"d":"0.00"}]
[{"$nulls":12},0,{"$nulls":6},{"v":0,"d":"0.00"}]
[{"$nulls":12},0,{"$nulls":6},{"v":0,"d":"0.00"}]
[{"$nulls":12},0,{"$nulls":6},{"v":0,"d":"0.00"}]
[{"$nulls":12},0,{"$nulls":6},{"v":0,"d":"0.00"}]
[{"$nulls":12},0,{"$nulls":6},{"v":0,"d":"0.00"}]
[{"$nulls":12},0,{"$nulls":6},{"v":0,"d":"0.00"}]
[{"$nulls":12},0,{"$nulls":6},{"v":0,"d":"0.00"}]
[{"$nulls":12},0,{"$nulls":6},{"v":0,"d":"0.00"}]
[{"$nulls":12},0,{"$nulls":6},{"v":0,"d":"0.00"}]
[{"$nulls":12},0,{"$nulls":6},{"v":0,"d":"0.00"}]
[{"$nulls":12},0,{"$nulls":6},{"v":0,"d":"0.00"}]
[{"$nulls":12},0,{"$nulls":6},{"v":0,"d":"0.00"}]
[{"$nulls":12},0,{"$nulls":6},{"v":0,"d":"0.00"}]
[{"$nulls":12},0,{"$nulls":6},{"v":0,"d":"0.00"}]
[{"$nulls":12},0,{"$nulls":6},{"v":0,"d":"0.00"}]
[{"$nulls":12},0,{"$nulls":6},{"v":0,"d":"0.00"}]
[{"$nulls":12},0,{"$nulls":6},{"v":0,"d":"0.00"}]
[{"$nulls":12},0,{"$nulls":6},{"v":0,"d":"0.00"}]
[{"$nulls":12},0,{"$nulls":6},{"v":0,"d":"0.00"}]
[{"$nulls":12},0,{"$nulls":6},{"v":0,"d":"0.00"}]
[{"$nulls":12},0,{"$nulls":6},{"v":0,"d":"0.00"}]
[{"$nulls":12},0,{"$nulls":6},{"v":0,"d":"0.00"}]
[{"$nulls":12},0,{"$nulls":6},{"v":0,"d":"0.00"}]
[{"$nulls":12},0,{"$nulls":6},{"v":0,"d":"0.00"}]
[{"$nulls":12},0,{"$nulls":6},{"v":0,"d":"0.00"}]
[{"$nulls":12},0,{"$nulls":6},{"v":0,"d":"0.00"}]
[{"$nulls":12},0,{"$nulls":6},{"v":0,"d":"0.00"}]
[{"$nulls":12},0,{"$nulls":6},{"v":0,"d":"0.00"}]
[{"$nulls":12},0,{"$nulls":6},{"v":0,"d":"0.00"}]
[{"$nulls":12},0,{"$nulls":6},{"v":0,"d":"0.00"}]
[{"$nulls":12},0,{"$nulls":6},{"v":0,"d":"0.00"}]
[{"$nulls":12},0,{"$nulls":6},{"v":0,"d":"0.00"}]
[{"$nulls":12},0,{"$nulls":6},{"v":0,"d":"0.00"}]
[{"$nulls":12},0,{"$nulls":6},{"v":0,"d":"0.00"}]
[{"$nulls":12},0,{"$nulls":6},{"v":0,"d":"0.00"}]
[{"$nulls":12},0,{"$nulls":6},{"v":0,"d":"0.00"}]
[{"$nulls":12},0,{"$nulls":6},{"v":0,"d":"0.00"}]
[{"$nulls":12},{"$f":"L266-K266","v":0},{"$nulls":6},{"$f":"SUM(P266:S266)","v":{"v":0,"d":"0.00"}}]
[{"$nulls":12},0,{"$nulls":6},{"v":0,"d":"0.00"}]
[{"$nulls":12},0,{"$nulls":6},{"v":0,"d":"0.00"}]
[{"$nulls":12},0,{"$nulls":6},{"v":0,"d":"0.00"}]
[{"$nulls":12},0,{"$nulls":6},{"v":0,"d":"0.00"}]
[{"$nulls":12},0,{"$nulls":6},{"v":0,"d":"0.00"}]
[{"$nulls":12},0,{"$nulls":6},{"v":0,"d":"0.00"}]
[{"$nulls":12},0,{"$nulls":6},{"v":0,"d":"0.00"}]
[{"$nulls":12},0,{"$nulls":6},{"v":0,"d":"0.00"}]
[{"$nulls":12},0,{"$nulls":6},{"v":0,"d":"0.00"}]
[{"$nulls":12},0,{"$nulls":6},{"v":0,"d":"0.00"}]
[{"$nulls":12},0,{"$nulls":6},{"v":0,"d":"0.00"}]
[{"$nulls":12},0,{"$nulls":6},{"v":0,"d":"0.00"}]
[{"$nulls":12},0,{"$nulls":6},{"v":0,"d":"0.00"}]
[{"$nulls":12},0,{"$nulls":6},{"v":0,"d":"0.00"}]
[{"$nulls":12},0,{"$nulls":6},{"v":0,"d":"0.00"}]
[{"$nulls":12},0,{"$nulls":6},{"v":0,"d":"0.00"}]
[{"$nulls":12},0,{"$nulls":6},{"v":0,"d":"0.00"}]
[{"$nulls":12},0,{"$nulls":6},{"v":0,"d":"0.00"}]
[{"$nulls":12},0,{"$nulls":6},{"v":0,"d":"0.00"}]
[{"$nulls":12},0,{"$nulls":6},{"v":0,"d":"0.00"}]
[{"$nulls":12},0,{"$nulls":6},{"v":0,"d":"0.00"}]
[{"$nulls":12},0,{"$nulls":6},{"v":0,"d":"0.00"}]
[{"$nulls":12},0,{"$nulls":6},{"v":0,"d":"0.00"}]
[{"$nulls":12},0,{"$nulls":6},{"v":0,"d":"0.00"}]
[{"$nulls":12},0,{"$nulls":6},{"v":0,"d":"0.00"}]
[{"$nulls":12},0,{"$nulls":6},{"v":0,"d":"0.00"}]
[{"$nulls":12},0,{"$nulls":6},{"v":0,"d":"0.00"}]
[{"$nulls":12},0,{"$nulls":6},{"v":0,"d":"0.00"}]
[{"$nulls":12},0,{"$nulls":6},{"v":0,"d":"0.00"}]
[{"$nulls":12},0,{"$nulls":6},{"v":0,"d":"0.00"}]
[{"$nulls":12},0,{"$nulls":6},{"v":0,"d":"0.00"}]
[{"$nulls":12},0,{"$nulls":6},{"v":0,"d":"0.00"}]
[{"$nulls":12},0,{"$nulls":6},{"v":0,"d":"0.00"}]
[{"$nulls":12},0,{"$nulls":6},{"v":0,"d":"0.00"}]
[{"$nulls":12},0,{"$nulls":6},{"v":0,"d":"0.00"}]
[{"$nulls":12},0,{"$nulls":6},{"v":0,"d":"0.00"}]
[{"$nulls":12},0,{"$nulls":6},{"v":0,"d":"0.00"}]
[{"$nulls":12},0,{"$nulls":6},{"v":0,"d":"0.00"}]
[{"$nulls":12},0,{"$nulls":6},{"v":0,"d":"0.00"}]
[{"$nulls":12},0,{"$nulls":6},{"v":0,"d":"0.00"}]
[{"$nulls":12},0,{"$nulls":6},{"v":0,"d":"0.00"}]
[{"$nulls":12},0,{"$nulls":6},{"v":0,"d":"0.00"}]
[{"$nulls":12},0,{"$nulls":6},{"v":0,"d":"0.00"}]
[{"$nulls":12},0,{"$nulls":6},{"v":0,"d":"0.00"}]
[{"$nulls":12},0,{"$nulls":6},{"v":0,"d":"0.00"}]
[{"$nulls":12},0,{"$nulls":6},{"v":0,"d":"0.00"}]
[{"$nulls":12},0,{"$nulls":6},{"v":0,"d":"0.00"}]
[{"$nulls":12},0,{"$nulls":6},{"v":0,"d":"0.00"}]
[{"$nulls":12},0,{"$nulls":6},{"v":0,"d":"0.00"}]
[{"$nulls":12},0,{"$nulls":6},{"v":0,"d":"0.00"}]
[{"$nulls":12},0,{"$nulls":6},{"v":0,"d":"0.00"}]
[{"$nulls":12},0,{"$nulls":6},{"v":0,"d":"0.00"}]
[{"$nulls":12},0,{"$nulls":6},{"v":0,"d":"0.00"}]
[{"$nulls":12},0,{"$nulls":6},{"v":0,"d":"0.00"}]
[{"$nulls":12},0,{"$nulls":6},{"v":0,"d":"0.00"}]
[{"$nulls":12},0,{"$nulls":6},{"v":0,"d":"0.00"}]
[{"$nulls":12},0,{"$nulls":6},{"v":0,"d":"0.00"}]
[{"$nulls":12},0,{"$nulls":6},{"v":0,"d":"0.00"}]
[{"$nulls":12},0,{"$nulls":6},{"v":0,"d":"0.00"}]
[{"$nulls":12},0,{"$nulls":6},{"v":0,"d":"0.00"}]
[{"$nulls":12},0,{"$nulls":6},{"v":0,"d":"0.00"}]
[{"$nulls":12},0,{"$nulls":6},{"v":0,"d":"0.00"}]
[{"$nulls":12},0,{"$nulls":6},{"v":0,"d":"0.00"}]
[{"$nulls":12},{"$f":"L330-K330","v":0},{"$nulls":6},{"$f":"SUM(P330:S330)","v":{"v":0,"d":"0.00"}}]
[{"$nulls":12},0,{"$nulls":6},{"v":0,"d":"0.00"}]
[{"$nulls":12},0,{"$nulls":6},{"v":0,"d":"0.00"}]
[{"$nulls":12},0,{"$nulls":6},{"v":0,"d":"0.00"}]
[{"$nulls":12},0,{"$nulls":6},{"v":0,"d":"0.00"}]
[{"$nulls":12},0,{"$nulls":6},{"v":0,"d":"0.00"}]
[{"$nulls":12},0,{"$nulls":6},{"v":0,"d":"0.00"}]
[{"$nulls":12},0,{"$nulls":6},{"v":0,"d":"0.00"}]
[{"$nulls":12},0,{"$nulls":6},{"v":0,"d":"0.00"}]
[{"$nulls":12},0,{"$nulls":6},{"v":0,"d":"0.00"}]
[{"$nulls":12},0,{"$nulls":6},{"v":0,"d":"0.00"}]
[{"$nulls":12},0,{"$nulls":6},{"v":0,"d":"0.00"}]
[{"$nulls":12},0,{"$nulls":6},{"v":0,"d":"0.00"}]
[{"$nulls":12},0,{"$nulls":6},{"v":0,"d":"0.00"}]
[{"$nulls":12},0,{"$nulls":6},{"v":0,"d":"0.00"}]
[{"$nulls":12},0,{"$nulls":6},{"v":0,"d":"0.00"}]
[{"$nulls":12},0,{"$nulls":6},{"v":0,"d":"0.00"}]
[{"$nulls":12},0,{"$nulls":6},{"v":0,"d":"0.00"}]
[{"$nulls":12},0,{"$nulls":6},{"v":0,"d":"0.00"}]
[{"$nulls":12},0,{"$nulls":6},{"v":0,"d":"0.00"}]
[{"$nulls":12},0,{"$nulls":6},{"v":0,"d":"0.00"}]
[{"$nulls":12},0,{"$nulls":6},{"v":0,"d":"0.00"}]
[{"$nulls":12},0,{"$nulls":6},{"v":0,"d":"0.00"}]
[{"$nulls":12},0,{"$nulls":6},{"v":0,"d":"0.00"}]
[{"$nulls":12},0,{"$nulls":6},{"v":0,"d":"0.00"}]
[{"$nulls":12},0,{"$nulls":6},{"v":0,"d":"0.00"}]
[{"$nulls":12},0,{"$nulls":6},{"v":0,"d":"0.00"}]
[{"$nulls":12},0,{"$nulls":6},{"v":0,"d":"0.00"}]
[{"$nulls":12},0,{"$nulls":6},{"v":0,"d":"0.00"}]
[{"$nulls":12},0,{"$nulls":6},{"v":0,"d":"0.00"}]
[{"$nulls":12},0,{"$nulls":6},{"v":0,"d":"0.00"}]
[{"$nulls":12},0,{"$nulls":6},{"v":0,"d":"0.00"}]
[{"$nulls":12},0,{"$nulls":6},{"v":0,"d":"0.00"}]
[{"$nulls":12},0,{"$nulls":6},{"v":0,"d":"0.00"}]
[{"$nulls":12},0,{"$nulls":6},{"v":0,"d":"0.00"}]
[{"$nulls":12},0,{"$nulls":6},{"v":0,"d":"0.00"}]
[{"$nulls":12},0,{"$nulls":6},{"v":0,"d":"0.00"}]
[{"$nulls":12},0,{"$nulls":6},{"v":0,"d":"0.00"}]
[{"$nulls":12},0,{"$nulls":6},{"v":0,"d":"0.00"}]
[{"$nulls":12},0,{"$nulls":6},{"v":0,"d":"0.00"}]
[{"$nulls":12},0,{"$nulls":6},{"v":0,"d":"0.00"}]
[{"$nulls":12},0,{"$nulls":6},{"v":0,"d":"0.00"}]
[{"$nulls":12},0,{"$nulls":6},{"v":0,"d":"0.00"}]
[{"$nulls":12},0,{"$nulls":6},{"v":0,"d":"0.00"}]
[{"$nulls":12},0,{"$nulls":6},{"v":0,"d":"0.00"}]
[{"$nulls":12},0,{"$nulls":6},{"v":0,"d":"0.00"}]
[{"$nulls":12},0,{"$nulls":6},{"v":0,"d":"0.00"}]
[{"$nulls":12},0,{"$nulls":6},{"v":0,"d":"0.00"}]
[{"$nulls":12},0,{"$nulls":6},{"v":0,"d":"0.00"}]
[{"$nulls":12},0,{"$nulls":6},{"v":0,"d":"0.00"}]
[{"$nulls":12},0,{"$nulls":6},{"v":0,"d":"0.00"}]
[{"$nulls":12},0,{"$nulls":6},{"v":0,"d":"0.00"}]
[{"$nulls":12},0,{"$nulls":6},{"v":0,"d":"0.00"}]
[{"$nulls":12},0,{"$nulls":6},{"v":0,"d":"0.00"}]
[{"$nulls":12},0,{"$nulls":6},{"v":0,"d":"0.00"}]
[{"$nulls":12},0,{"$nulls":6},{"v":0,"d":"0.00"}]
[{"$nulls":12},0,{"$nulls":6},{"v":0,"d":"0.00"}]
[{"$nulls":12},0,{"$nulls":6},{"v":0,"d":"0.00"}]
[{"$nulls":12},0,{"$nulls":6},{"v":0,"d":"0.00"}]
[{"$nulls":12},0,{"$nulls":6},{"v":0,"d":"0.00"}]
[{"$nulls":12},0,{"$nulls":6},{"v":0,"d":"0.00"}]
[{"$nulls":12},0,{"$nulls":6},{"v":0,"d":"0.00"}]
[{"$nulls":12},0,{"$nulls":6},{"v":0,"d":"0.00"}]
[{"$nulls":12},0,{"$nulls":6},{"v":0,"d":"0.00"}]
[{"$nulls":12},{"$f":"L394-K394","v":0},{"$nulls":6},{"$f":"SUM(P394:S394)","v":{"v":0,"d":"0.00"}}]
[{"$nulls":12},0,{"$nulls":6},{"v":0,"d":"0.00"}]
[{"$nulls":12},0,{"$nulls":6},{"v":0,"d":"0.00"}]
[{"$nulls":12},0,{"$nulls":6},{"v":0,"d":"0.00"}]
[{"$nulls":12},0,{"$nulls":6},{"v":0,"d":"0.00"}]
[{"$nulls":12},0,{"$nulls":6},{"v":0,"d":"0.00"}]
[{"$nulls":12},0,{"$nulls":6},{"v":0,"d":"0.00"}]
[{"$nulls":12},0,{"$nulls":6},{"v":0,"d":"0.00"}]
[{"$nulls":12},0,{"$nulls":6},{"v":0,"d":"0.00"}]
[{"$nulls":12},0,{"$nulls":6},{"v":0,"d":"0.00"}]
[{"$nulls":12},0,{"$nulls":6},{"v":0,"d":"0.00"}]
[{"$nulls":12},0,{"$nulls":6},{"v":0,"d":"0.00"}]
[{"$nulls":12},0,{"$nulls":6},{"v":0,"d":"0.00"}]
[{"$nulls":12},0,{"$nulls":6},{"v":0,"d":"0.00"}]
[{"$nulls":12},0,{"$nulls":6},{"v":0,"d":"0.00"}]
[{"$nulls":12},0,{"$nulls":6},{"v":0,"d":"0.00"}]
[{"$nulls":12},0,{"$nulls":6},{"v":0,"d":"0.00"}]
[{"$nulls":12},0,{"$nulls":6},{"v":0,"d":"0.00"}]
[{"$nulls":12},0,{"$nulls":6},{"v":0,"d":"0.00"}]
[{"$nulls":12},0,{"$nulls":6},{"v":0,"d":"0.00"}]
[{"$nulls":12},0,{"$nulls":6},{"v":0,"d":"0.00"}]
[{"$nulls":12},0,{"$nulls":6},{"v":0,"d":"0.00"}]
[{"$nulls":12},0,{"$nulls":6},{"v":0,"d":"0.00"}]
[{"$nulls":12},0,{"$nulls":6},{"v":0,"d":"0.00"}]
[{"$nulls":12},0,{"$nulls":6},{"v":0,"d":"0.00"}]
[{"$nulls":12},0,{"$nulls":6},{"v":0,"d":"0.00"}]
[{"$nulls":12},0,{"$nulls":6},{"v":0,"d":"0.00"}]
[{"$nulls":12},0,{"$nulls":6},{"v":0,"d":"0.00"}]
[{"$nulls":12},0,{"$nulls":6},{"v":0,"d":"0.00"}]
[{"$nulls":12},0,{"$nulls":6},{"v":0,"d":"0.00"}]
[{"$nulls":12},0,{"$nulls":6},{"v":0,"d":"0.00"}]
[{"$nulls":12},0,{"$nulls":6},{"v":0,"d":"0.00"}]
[{"$nulls":12},0,{"$nulls":6},{"v":0,"d":"0.00"}]
[{"$nulls":12},0,{"$nulls":6},{"v":0,"d":"0.00"}]
[{"$nulls":12},0,{"$nulls":6},{"v":0,"d":"0.00"}]
[{"$nulls":12},0,{"$nulls":6},{"v":0,"d":"0.00"}]
[{"$nulls":12},0,{"$nulls":6},{"v":0,"d":"0.00"}]
[{"$nulls":12},0,{"$nulls":6},{"v":0,"d":"0.00"}]
[{"$nulls":12},0,{"$nulls":6},{"v":0,"d":"0.00"}]
[{"$nulls":12},0,{"$nulls":6},{"v":0,"d":"0.00"}]
[{"$nulls":12},0,{"$nulls":6},{"v":0,"d":"0.00"}]
[{"$nulls":12},0,{"$nulls":6},{"v":0,"d":"0.00"}]
[{"$nulls":12},0,{"$nulls":6},{"v":0,"d":"0.00"}]
[{"$nulls":12},0,{"$nulls":6},{"v":0,"d":"0.00"}]
[{"$nulls":12},0,{"$nulls":6},{"v":0,"d":"0.00"}]
[{"$nulls":12},0,{"$nulls":6},{"v":0,"d":"0.00"}]
[{"$nulls":12},0,{"$nulls":6},{"v":0,"d":"0.00"}]
[{"$nulls":12},0,{"$nulls":6},{"v":0,"d":"0.00"}]
[{"$nulls":12},0,{"$nulls":6},{"v":0,"d":"0.00"}]
[{"$nulls":12},0,{"$nulls":6},{"v":0,"d":"0.00"}]
[{"$nulls":12},0,{"$nulls":6},{"v":0,"d":"0.00"}]
[{"$nulls":12},0,{"$nulls":6},{"v":0,"d":"0.00"}]
[{"$nulls":12},0,{"$nulls":6},{"v":0,"d":"0.00"}]
[{"$nulls":12},0,{"$nulls":6},{"v":0,"d":"0.00"}]
[{"$nulls":12},0,{"$nulls":6},{"v":0,"d":"0.00"}]
[{"$nulls":12},0,{"$nulls":6},{"v":0,"d":"0.00"}]
[{"$nulls":12},0,{"$nulls":6},{"v":0,"d":"0.00"}]
[{"$nulls":12},0,{"$nulls":6},{"v":0,"d":"0.00"}]
[{"$nulls":12},0,{"$nulls":6},{"v":0,"d":"0.00"}]
[{"$nulls":12},0,{"$nulls":6},{"v":0,"d":"0.00"}]
[{"$nulls":12},0,{"$nulls":6},{"v":0,"d":"0.00"}]
[{"$nulls":12},0,{"$nulls":6},{"v":0,"d":"0.00"}]
[{"$nulls":12},0,{"$nulls":6},{"v":0,"d":"0.00"}]
[{"$nulls":12},0,{"$nulls":6},{"v":0,"d":"0.00"}]
[{"$nulls":12},{"$f":"L458-K458","v":0},{"$nulls":6},{"$f":"SUM(P458:S458)","v":{"v":0,"d":"0.00"}}]
[{"$nulls":12},0,{"$nulls":6},{"v":0,"d":"0.00"}]
[{"$nulls":12},0,{"$nulls":6},{"v":0,"d":"0.00"}]
[{"$nulls":12},0,{"$nulls":6},{"v":0,"d":"0.00"}]
[{"$nulls":12},0,{"$nulls":6},{"v":0,"d":"0.00"}]
[{"$nulls":12},0,{"$nulls":6},{"v":0,"d":"0.00"}]
[{"$nulls":12},0,{"$nulls":6},{"v":0,"d":"0.00"}]
[{"$nulls":12},0,{"$nulls":6},{"v":0,"d":"0.00"}]
[{"$nulls":12},0,{"$nulls":6},{"v":0,"d":"0.00"}]
[{"$nulls":12},0,{"$nulls":6},{"v":0,"d":"0.00"}]
[{"$nulls":12},0,{"$nulls":6},{"v":0,"d":"0.00"}]
[{"$nulls":12},0,{"$nulls":6},{"v":0,"d":"0.00"}]
[{"$nulls":12},0,{"$nulls":6},{"v":0,"d":"0.00"}]
[{"$nulls":12},0,{"$nulls":6},{"v":0,"d":"0.00"}]
[{"$nulls":12},0,{"$nulls":6},{"v":0,"d":"0.00"}]
[{"$nulls":12},0,{"$nulls":6},{"v":0,"d":"0.00"}]
[{"$nulls":12},0,{"$nulls":6},{"v":0,"d":"0.00"}]
[{"$nulls":12},0,{"$nulls":6},{"v":0,"d":"0.00"}]
[{"$nulls":12},0,{"$nulls":6},{"v":0,"d":"0.00"}]
[{"$nulls":12},0,{"$nulls":6},{"v":0,"d":"0.00"}]
[{"$nulls":12},0,{"$nulls":6},{"v":0,"d":"0.00"}]
[{"$nulls":12},0,{"$nulls":6},{"v":0,"d":"0.00"}]
[{"$nulls":12},0,{"$nulls":6},{"v":0,"d":"0.00"}]
[{"$nulls":12},0,{"$nulls":6},{"v":0,"d":"0.00"}]
[{"$nulls":12},0,{"$nulls":6},{"v":0,"d":"0.00"}]
[{"$nulls":12},0,{"$nulls":6},{"v":0,"d":"0.00"}]
[{"$nulls":12},0,{"$nulls":6},{"v":0,"d":"0.00"}]
[{"$nulls":12},0,{"$nulls":6},{"v":0,"d":"0.00"}]
[{"$nulls":12},0,{"$nulls":6},{"v":0,"d":"0.00"}]
[{"$nulls":12},0,{"$nulls":6},{"v":0,"d":"0.00"}]
[{"$nulls":12},0,{"$nulls":6},{"v":0,"d":"0.00"}]
[{"$nulls":12},0,{"$nulls":6},{"v":0,"d":"0.00"}]
[{"$nulls":12},0,{"$nulls":6},{"v":0,"d":"0.00"}]
[{"$nulls":12},0,{"$nulls":6},{"v":0,"d":"0.00"}]
[{"$nulls":12},0,{"$nulls":6},{"v":0,"d":"0.00"}]
[{"$nulls":12},0,{"$nulls":6},{"v":0,"d":"0.00"}]
[{"$nulls":12},0,{"$nulls":6},{"v":0,"d":"0.00"}]
[{"$nulls":12},0,{"$nulls":6},{"v":0,"d":"0.00"}]
[{"$nulls":12},0,{"$nulls":6},{"v":0,"d":"0.00"}]
[{"$nulls":12},0,{"$nulls":6},{"v":0,"d":"0.00"}]
[{"$nulls":12},0,{"$nulls":6},{"v":0,"d":"0.00"}]
[{"$nulls":12},0,{"$nulls":6},{"v":0,"d":"0.00"}]
[{"$nulls":12},0,{"$nulls":6},{"v":0,"d":"0.00"}]

{"sheet":"F1","index":17,"n_rows":120,"n_cols":66,"rows_kept":120,"hidden":true,"merged":[[0,1,0,65],[1,1,1,65],[2,1,2,65],[3,1,3,65],[4,1,4,30],[4,34,4,63],[5,1,5,30],[5,34,5,63],[6,1,6,30],[6,34,6,63],[7,1,7,30],[7,34,7,63],[8,1,8,30],[8,34,8,63],[9,1,9,30],[9,34,9,63],[10,1,10,30],[10,34,10,63],[11,1,11,30],[11,34,11,63],[12,1,12,30],[12,34,12,63],[13,1,13,30],[13,34,13,63],[14,1,14,30],[14,34,14,63],[15,1,15,30],[15,34,15,63],[16,1,16,30],[16,34,16,63],[17,1,17,30],[17,34,17,63],[18,1,18,30],[18,34,18,63],[19,1,19,30],[19,34,19,63],[20,1,20,30],[20,34,20,63],[21,1,21,30],[21,34,21,63],[22,1,22,30],[22,34,22,63],[23,1,23,30],[23,34,23,63],[24,1,24,30],[24,34,24,63],[25,1,25,30],[25,34,25,63],[26,1,26,30],[26,34,26,63],[27,1,27,30],[27,34,27,63],[28,1,28,30],[28,34,28,63],[29,1,29,30],[29,34,29,63],[30,1,30,30],[30,34,30,63],[31,1,31,30],[31,34,31,63],[32,1,32,30],[32,34,32,63],[33,1,33,30],[33,34,33,63],[34,1,34,30],[34,34,34,63],[35,1,35,30],[35,34,35,63],[36,1,36,30],[36,34,36,63],[37,1,37,30],[37,34,37,63],[38,1,38,30],[38,34,38,63],[39,1,39,30],[39,34,39,63],[40,1,40,30],[40,34,40,63],[41,1,41,30],[41,34,41,63],[42,1,42,30],[42,34,42,63],[43,1,43,30],[43,34,43,63],[44,1,44,30],[44,34,44,63],[45,1,45,30],[45,34,45,63],[46,1,46,30],[46,34,46,63],[47,1,47,30],[47,34,47,63],[48,1,48,30],[48,34,48,63],[49,1,49,30],[49,34,49,63],[50,1,50,30],[50,34,50,63],[51,1,51,30],[51,34,51,63],[52,1,52,30],[52,34,52,63],[53,1,53,30],[53,34,53,63],[54,1,54,30],[54,34,54,63],[55,1,55,30],[55,34,55,63],[56,1,56,30],[56,34,56,63],[57,1,57,30],[57,34,57,63],[58,1,58,30],[58,34,58,63],[59,1,59,30],[59,34,59,63],[60,1,60,30],[60,34,60,63],[61,1,61,30],[61,34,61,63],[62,1,62,30],[62,34,62,63],[63,1,63,30],[63,34,63,63],[64,1,64,30],[64,34,64,63],[65,1,65,30],[65,34,65,63],[66,1,66,30],[66,34,66,63],[67,1,67,30],[67,34,67,63],[68,1,68,30],[68,34,68,63],[69,1,69,30],[69,34,69,63],[70,1,70,30],[70,34,70,63],[71,1,71,30],[71,34,71,63],[72,1,72,30],[72,34,72,63],[73,1,73,30],[73,34,73,63],[74,1,74,30],[74,34,74,63],[75,1,75,30],[75,34,75,63],[76,1,76,30],[76,34,76,63],[77,1,77,30],[77,34,77,63],[78,1,78,30],[78,34,78,63],[79,1,79,30],[79,34,79,63],[80,1,80,30],[80,34,80,63],[81,1,81,30],[81,34,81,63],[82,1,82,30],[82,34,82,63],[83,1,83,30],[83,34,83,63],[84,1,84,30],[84,34,84,63],[85,1,85,30],[85,34,85,63],[86,1,86,30],[86,34,86,63],[87,1,87,30],[87,34,87,63],[88,1,88,30],[88,34,88,63],[89,1,89,30],[89,34,89,63],[90,1,90,30],[90,34,90,63],[91,1,91,30],[91,34,91,63],[92,1,92,30],[92,34,92,63],[93,1,93,30],[93,34,93,63],[94,1,94,30],[94,34,94,63],[95,1,95,30],[95,34,95,63],[96,1,96,30],[96,34,96,63],[97,1,97,30],[97,34,97,63],[98,1,98,30],[98,34,98,63],[99,1,99,30],[99,34,99,63],[100,1,100,30],[100,34,100,63],[101,1,101,30],[101,34,101,63],[102,1,102,30],[102,34,102,63],[103,1,103,30],[103,34,103,63],[104,1,104,30],[105,1,105,30],[105,34,105,63],[106,1,106,30],[106,34,106,63],[116,18,116,30],[116,51,116,63],[117,16,118,31],[117,48,118,64],[119,16,121,31],[119,48,121,64]]}
[null,{"$f":"\"Nombre del Ente Público: \"&Validacion!A2","v":"Nombre del Ente Público: Ixtlahuacán de los Membrillos"}]
[null,"Estado Analítico de Situación Financiera"]
[null,{"$f":"\"Al \"&INDEX(Validacion!D185:D196,MATCH(Validacion!A11,Validacion!C185:C196,0))","v":"Al 31 de Enero de 2026"}]
[null,"(Cifra en pesos)"]
["CTA","Concepto",{"$nulls":29},{"$f":"Validacion!F185","v":2026},{"$f":"Validacion!F186","v":2025},"CTA","Concepto",{"$nulls":29},{"$f":"Validacion!F185","v":2026},{"$f":"Validacion!F186","v":2025}]
[10000,"ACTIVO",{"$nulls":31},"20000","PASIVO"]
[11000,"  ACTIVO CIRCULANTE",{"$nulls":31},"21000","  PASIVO CIRCULANTE"]
[11100,"    EFECTIVO Y EQUIVALENTES",{"$nulls":29},{"$f":"SUM(AF9:AF15)","v":{"v":11441107.55,"d":"11,441,107.55"}},{"$f":"SUM(AG9:AG15)","v":{"v":2739418.71,"d":"2,739,418.71"}},"21100","    CUENTAS POR PAGAR A CORTO PLAZO",{"$nulls":29},{"$f":"SUM(BM9:BM17)","v":{"v":6824990.67,"d":"6,824,990.67"}},{"$f":"SUM(BN9:BN17)","v":{"v":7039817.08,"d":"7,039,817.08"}}]
[11110,"      Efectivo",{"$nulls":29},{"$f":"Balanza!G6","v":{"v":297939.06,"d":"297,939.06"}},{"$f":"Balanza!C6","v":{"v":297939.06,"d":"297,939.06"}},"21110","      Servicios personales por pagar a corto plazo",{"$nulls":29},{"$f":"Balanza!H104","v":{"v":145,"d":"145.00"}},{"$f":"Balanza!D104","v":{"v":0,"d":"0.00"}}]
[11120,"      Bancos/Tesorería",{"$nulls":29},{"$f":"Balanza!G7","v":{"v":6308568.49,"d":"6,308,568.49"}},{"$f":"Balanza!C7","v":{"v":-2393120.35,"d":"-2,393,120.35"}},"21120","      Proveedores por pagar a corto plazo",{"$nulls":29},{"$f":"Balanza!H105","v":{"v":7256438.35,"d":"7,256,438.35"}},{"$f":"Balanza!D105","v":{"v":7637422.77,"d":"7,637,422.77"}}]
[11130,"      Bancos/Dependencias y otros",{"$nulls":29},{"$f":"Balanza!G8","v":{"v":0,"d":"0.00"}},{"$f":"Balanza!C8","v":{"v":0,"d":"0.00"}},"21130","      Contratistas por obras públicas por pagar a corto plazo",{"$nulls":29},{"$f":"Balanza!H106","v":{"v":0,"d":"0.00"}},{"$f":"Balanza!D106","v":{"v":0,"d":"0.00"}}]
[11140,"      Inversiones temporales (hasta 3 meses)",{"$nulls":29},{"$f":"Balanza!G9","v":{"v":0,"d":"0.00"}},{"$f":"Balanza!C9","v":{"v":0,"d":"0.00"}},"21140","      Participaciones y aportaciones por pagar a corto plazo",{"$nulls":29},{"$f":"Balanza!H107","v":{"v":0,"d":"0.00"}},{"$f":"Balanza!D107","v":{"v":0,"d":"0.00"}}]
[11150,"      Fondos con afectación específica",{"$nulls":29},{"$f":"Balanza!G10","v":{"v":0,"d":"0.00"}},{"$f":"Balanza!C10","v":{"v":0,"d":"0.00"}},"21150","      Transferencias otorgadas por pagar a corto plazo",{"$nulls":29},{"$f":"Balanza!H108","v":{"v":0,"d":"0.00"}},{"$f":"Balanza!D108","v":{"v":0,"d":"0.00"}}]
[11160,"      Depósitos de fondos de terceros en garantía y/o administración",{"$nulls":29},{"$f":"Balanza!G11","v":{"v":0,"d":"0.00"}},{"$f":"Balanza!C11","v":{"v":0,"d":"0.00"}},"21160","      Intereses, comisiones y otros gastos de la deuda pública por pagar a corto plazo",{"$nulls":29},{"$f":"Balanza!H109","v":{"v":0,"d":"0.00"}},{"$f":"Balanza!D109","v":{"v":0,"d":"0.00"}}]
[11190,"      Otros efectivos y equivalentes",{"$nulls":29},{"$f":"Balanza!G12","v":{"v":4834600,"d":"4,834,600.00"}},{"$f":"Balanza!C12","v":{"v":4834600,"d":"4,834,600.00"}},"21170","      Retenciones y contribuciones por pagar a corto plazo",{"$nulls":29},{"$f":"Balanza!H110","v":{"v":-431592.68,"d":"-431,592.68"}},{"$f":"Balanza!D110","v":{"v":-597605.69,"d":"-597,605.69"}}]
[11200,"    DERECHOS A RECIBIR EFECTIVO O EQUIVALENTES",{"$nulls":29},{"$f":"SUM(AF17:AF23)","v":{"v":4756017.479999999,"d":"4,756,017.48"}},{"$f":"SUM(AG17:AG23)","v":{"v":4312934.560000001,"d":"4,312,934.56"}},"21180","      Devoluciones de la ley de ingresos por pagar a corto plazo",{"$nulls":29},{"$f":"Balanza!H111","v":{"v":0,"d":"0.00"}},{"$f":"Balanza!D111","v":{"v":0,"d":"0.00"}}]
[11210,"      Inversiones financieras de corto plazo",{"$nulls":29},{"$f":"Balanza!G14","v":{"v":0,"d":"0.00"}},{"$f":"Balanza!C14","v":{"v":0,"d":"0.00"}},"21190","      Otras cuentas por pagar a corto plazo",{"$nulls":29},{"$f":"Balanza!H112","v":{"v":0,"d":"0.00"}},{"$f":"Balanza!D112","v":{"v":0,"d":"0.00"}}]
[11220,"      Cuentas por cobrar a corto plazo",{"$nulls":29},{"$f":"Balanza!G15","v":{"v":0,"d":"0.00"}},{"$f":"Balanza!C15","v":{"v":0,"d":"0.00"}},"21200","    DOCUMENTOS POR PAGAR A CORTO PLAZO",{"$nulls":29},{"$f":"SUM(BM19:BM21)","v":{"v":372541.27,"d":"372,541.27"}},{"$f":"SUM(BN19:BN21)","v":{"v":372541.27,"d":"372,541.27"}}]
["11230","      Deudores diversos por cobrar a corto plazo",{"$nulls":29},{"$f":"Balanza!G16","v":{"v":14195643.86,"d":"14,195,643.86"}},{"$f":"Balanza!C16","v":{"v":12728163.46,"d":"12,728,163.46"}},"21210","      Documentos  comerciales por pagar a corto plazo",{"$nulls":29},{"$f":"Balanza!H114","v":{"v":0,"d":"0.00"}},{"$f":"Balanza!D114","v":{"v":0,"d":"0.00"}}]
["11240","      Ingresos por recuperar a corto plazo",{"$nulls":29},{"$f":"Balanza!G17","v":{"v":0,"d":"0.00"}},{"$f":"Balanza!C17","v":{"v":0,"d":"0.00"}},"21220","      Documentos con contratistas por obras públicas por pagar a corto plazo",{"$nulls":29},{"$f":"Balanza!H115","v":{"v":372541.27,"d":"372,541.27"}},{"$f":"Balanza!D115","v":{"v":372541.27,"d":"372,541.27"}}]
["11250","      Deudores por anticipos de la tesorería a corto plazo",{"$nulls":29},{"$f":"Balanza!G18","v":{"v":-11056330.32,"d":"-11,056,330.32"}},{"$f":"Balanza!C18","v":{"v":-9888799.43,"d":"-9,888,799.43"}},"21290","      Otros documentos por pagar a corto plazo",{"$nulls":29},{"$f":"Balanza!H116","v":{"v":0,"d":"0.00"}},{"$f":"Balanza!D116","v":{"v":0,"d":"0.00"}}]
["11260","      Préstamos otorgados a corto plazo",{"$nulls":29},{"$f":"Balanza!G19","v":{"v":1616703.94,"d":"1,616,703.94"}},{"$f":"Balanza!C19","v":{"v":1473570.53,"d":"1,473,570.53"}},"21300","    PORCIÓN A CORTO PLAZO DE LA DEUDA PÚBLICA A LARGO PLAZO",{"$nulls":29},{"$f":"SUM(BM23:BM25)","v":{"v":849023.57,"d":"849,023.57"}},{"$f":"SUM(BN23:BN25)","v":{"v":0,"d":"0.00"}}]
["11290","      Otros derechos a recibir efectivo o equivalentes a corto plazo",{"$nulls":29},{"$f":"Balanza!G20","v":{"v":0,"d":"0.00"}},{"$f":"Balanza!C20","v":{"v":0,"d":"0.00"}},"21310","      Porción a corto plazo de la deuda pública interna",{"$nulls":29},{"$f":"Balanza!H118","v":{"v":849023.57,"d":"849,023.57"}},{"$f":"Balanza!D118","v":{"v":0,"d":"0.00"}}]
["11300","    DERECHOS A RECIBIR BIENES O SERVICIOS",{"$nulls":29},{"$f":"SUM(AF25:AF29)","v":{"v":5960656.96,"d":"5,960,656.96"}},{"$f":"SUM(AG25:AG29)","v":{"v":5581556.699999999,"d":"5,581,556.70"}},"21320","      Porción a corto plazo de la deuda pública externa",{"$nulls":29},{"$f":"Balanza!H119","v":{"v":0,"d":"0.00"}},{"$f":"Balanza!D119","v":{"v":0,"d":"0.00"}}]
["11310","      Anticipo a proveedores por adquisición de bienes y prestación de servicios a corto plazo",{"$nulls":29},{"$f":"Balanza!G22","v":{"v":5474836.89,"d":"5,474,836.89"}},{"$f":"Balanza!C22","v":{"v":5581556.89,"d":"5,581,556.89"}},"21330","      Porción a corto plazo de arrendamiento financiero",{"$nulls":29},{"$f":"Balanza!H120","v":{"v":0,"d":"0.00"}},{"$f":"Balanza!D120","v":{"v":0,"d":"0.00"}}]
["11320","      Anticipo a proveedores por adquisición de bienes inmuebles y muebles a corto plazo",{"$nulls":29},{"$f":"Balanza!G23","v":{"v":0,"d":"0.00"}},{"$f":"Balanza!C23","v":{"v":0,"d":"0.00"}},"21400","    TÍTULOS Y VALORES A CORTO PLAZO",{"$nulls":29},{"$f":"SUM(BM27:BM28)","v":{"v":0,"d":"0.00"}},{"$f":"SUM(BN27:BN28)","v":{"v":0,"d":"0.00"}}]
["11330","      Anticipo a proveedores por adquisición de bienes intangibles a corto plazo",{"$nulls":29},{"$f":"Balanza!G24","v":{"v":0,"d":"0.00"}},{"$f":"Balanza!C24","v":{"v":0,"d":"0.00"}},"21410","      Títulos y valores de la deuda pública interna a corto plazo",{"$nulls":29},{"$f":"Balanza!H122","v":{"v":0,"d":"0.00"}},{"$f":"Balanza!D122","v":{"v":0,"d":"0.00"}}]
["11340","      Anticipo a contratistas por obras públicas a corto plazo",{"$nulls":29},{"$f":"Balanza!G25","v":{"v":485820.07,"d":"485,820.07"}},{"$f":"Balanza!C25","v":-0.19},"21420","      Títulos y valores de la deuda pública externa a corto plazo",{"$nulls":29},{"$f":"Balanza!H123","v":{"v":0,"d":"0.00"}},{"$f":"Balanza!D123","v":{"v":0,"d":"0.00"}}]
["11390","      Otros derechos a recibir bienes o servicios a corto plazo",{"$nulls":29},{"$f":"Balanza!G26","v":{"v":0,"d":"0.00"}},{"$f":"Balanza!C26","v":{"v":0,"d":"0.00"}},"21500","    PASIVOS DIFERIDOS A CORTO PLAZO",{"$nulls":29},{"$f":"SUM(BM30:BM32)","v":{"v":0,"d":"0.00"}},{"$f":"SUM(BN30:BN32)","v":{"v":0,"d":"0.00"}}]
["11400","    INVENTARIOS",{"$nulls":29},{"$f":"SUM(AF31:AF35)","v":{"v":0,"d":"0.00"}},{"$f":"SUM(AG31:AG35)","v":{"v":0,"d":"0.00"}},"21510","      Ingresos cobrados por adelantado a corto plazo",{"$nulls":29},{"$f":"Balanza!H125","v":{"v":0,"d":"0.00"}},{"$f":"Balanza!D125","v":{"v":0,"d":"0.00"}}]
["11410","      Inventario de mercancías para venta",{"$nulls":29},{"$f":"Balanza!G28","v":{"v":0,"d":"0.00"}},{"$f":"Balanza!C28","v":{"v":0,"d":"0.00"}},"21520","      Intereses cobrados por adelantado a corto plazo",{"$nulls":29},{"$f":"Balanza!H126","v":{"v":0,"d":"0.00"}},{"$f":"Balanza!D126","v":{"v":0,"d":"0.00"}}]
["11420","      Inventario de mercancías terminadas",{"$nulls":29},{"$f":"Balanza!G29","v":{"v":0,"d":"0.00"}},{"$f":"Balanza!C29","v":{"v":0,"d":"0.00"}},"21590","      Otros pasivos diferidos a corto plazo",{"$nulls":29},{"$f":"Balanza!H127","v":{"v":0,"d":"0.00"}},{"$f":"Balanza!D127","v":{"v":0,"d":"0.00"}}]
["11430","      Inventario de mercancías en proceso de elaboración",{"$nulls":29},{"$f":"Balanza!G30","v":{"v":0,"d":"0.00"}},{"$f":"Balanza!C30","v":{"v":0,"d":"0.00"}},"21600","    FONDOS Y BIENES DE TERCEROS EN GARANTÍA Y/O ADMINISTRACIÓN A CORTO PLAZO",{"$nulls":29},{"$f":"SUM(BM34:BM39)","v":{"v":0,"d":"0.00"}},{"$f":"SUM(BN34:BN39)","v":{"v":0,"d":"0.00"}}]
["11440","      Inventario de materias primas, materiales y suministros para producción",{"$nulls":29},{"$f":"Balanza!G31","v":{"v":0,"d":"0.00"}},{"$f":"Balanza!C31","v":{"v":0,"d":"0.00"}},"21610","      Fondos en garantía a corto plazo",{"$nulls":29},{"$f":"Balanza!H129","v":{"v":0,"d":"0.00"}},{"$f":"Balanza!D129","v":{"v":0,"d":"0.00"}}]
["11450","      Bienes en tránsito",{"$nulls":29},{"$f":"Balanza!G32","v":{"v":0,"d":"0.00"}},{"$f":"Balanza!C32","v":{"v":0,"d":"0.00"}},"21620","      Fondos en administración a corto plazo",{"$nulls":29},{"$f":"Balanza!H130","v":{"v":0,"d":"0.00"}},{"$f":"Balanza!D130","v":{"v":0,"d":"0.00"}}]
["11500","    ALMACENES",{"$nulls":29},{"$f":"AF37","v":{"v":0,"d":"0.00"}},{"$f":"AG37","v":{"v":0,"d":"0.00"}},"21630","      Fondos contingentes a corto plazo",{"$nulls":29},{"$f":"Balanza!H131","v":{"v":0,"d":"0.00"}},{"$f":"Balanza!D131","v":{"v":0,"d":"0.00"}}]
["11510","      Almacén de materiales y suministro para el consumo",{"$nulls":29},{"$f":"Balanza!G34","v":{"v":0,"d":"0.00"}},{"$f":"Balanza!C34","v":{"v":0,"d":"0.00"}},"21640","      Fondos de fideicomisos, mandatos y contratos análogos a corto plazo",{"$nulls":29},{"$f":"Balanza!H132","v":{"v":0,"d":"0.00"}},{"$f":"Balanza!D132","v":{"v":0,"d":"0.00"}}]
["11600","    ESTIMACIÓN POR PÉRDIDA O DETERIORO DE ACTIVOS CIRCULANTES",{"$nulls":29},{"$f":"SUM(AF39:AF40)","v":{"v":0,"d":"0.00"}},{"$f":"SUM(AG39:AG40)","v":{"v":0,"d":"0.00"}},"21650","      Otros fondos de terceros en garantía y/o administración a corto plazo",{"$nulls":29},{"$f":"Balanza!H133","v":{"v":0,"d":"0.00"}},{"$f":"Balanza!D133","v":{"v":0,"d":"0.00"}}]
["11610","      Estimaciones para cuentas incobrables por derechos a recibir efectivo o equivalentes",{"$nulls":29},{"$f":"Balanza!G36","v":{"v":0,"d":"0.00"}},{"$f":"Balanza!C36","v":{"v":0,"d":"0.00"}},"21660","      Valores y bienes en garantía a corto plazo",{"$nulls":29},{"$f":"Balanza!H134","v":{"v":0,"d":"0.00"}},{"$f":"Balanza!D134","v":{"v":0,"d":"0.00"}}]
["11620","      Estimación por deterioro de inventarios",{"$nulls":29},{"$f":"Balanza!G37","v":{"v":0,"d":"0.00"}},{"$f":"Balanza!C37","v":{"v":0,"d":"0.00"}},"21700","    PROVISIONES A CORTO PLAZO",{"$nulls":29},{"$f":"SUM(BM41:BM43)","v":{"v":0,"d":"0.00"}},{"$f":"SUM(BN41:BN43)","v":{"v":0,"d":"0.00"}}]
["11900","    OTROS ACTIVOS CIRCULANTES",{"$nulls":29},{"$f":"SUM(AF42:AF45)","v":{"v":0,"d":"0.00"}},{"$f":"SUM(AG42:AG45)","v":{"v":0,"d":"0.00"}},"21710","      Provisión para demandas y juicios a corto plazo",{"$nulls":29},{"$f":"Balanza!H136","v":{"v":0,"d":"0.00"}},{"$f":"Balanza!D136","v":{"v":0,"d":"0.00"}}]
["11910","      Valores en garantía",{"$nulls":29},{"$f":"Balanza!G39","v":{"v":0,"d":"0.00"}},{"$f":"Balanza!C39","v":{"v":0,"d":"0.00"}},"21720","      Provisión para contingencias a corto plazo",{"$nulls":29},{"$f":"Balanza!H137","v":{"v":0,"d":"0.00"}},{"$f":"Balanza!D137","v":{"v":0,"d":"0.00"}}]
["11920","      Bienes en garantía (excluye depósitos de fondos)",{"$nulls":29},{"$f":"Balanza!G40","v":{"v":0,"d":"0.00"}},{"$f":"Balanza!C40","v":{"v":0,"d":"0.00"}},"21790","      Otras provisiones a corto plazo",{"$nulls":29},{"$f":"Balanza!H138","v":{"v":0,"d":"0.00"}},{"$f":"Balanza!D138","v":{"v":0,"d":"0.00"}}]
["11930","      Bienes derivados de embargos,  decomisos, aseguramientos y dación en pago",{"$nulls":29},{"$f":"Balanza!G41","v":{"v":0,"d":"0.00"}},{"$f":"Balanza!C41","v":{"v":0,"d":"0.00"}},"21900","    OTROS PASIVOS A CORTO PLAZO",{"$nulls":29},{"$f":"SUM(BM45:BM47)","v":{"v":0,"d":"0.00"}},{"$f":"SUM(BN45:BN47)","v":{"v":0,"d":"0.00"}}]
["11940","      Adquisición con fondos de terceros",{"$nulls":29},{"$f":"Balanza!G42","v":{"v":0,"d":"0.00"}},{"$f":"Balanza!C42","v":{"v":0,"d":"0.00"}},"21910","      Ingresos por clasificar",{"$nulls":29},{"$f":"Balanza!H140","v":{"v":0,"d":"0.00"}},{"$f":"Balanza!D140","v":{"v":0,"d":"0.00"}}]
[null,"ACTIVOS CIRCULANTES",{"$nulls":29},{"$f":"AF8+AF16+AF24+AF30+AF36+AF38+AF41","v":{"v":22157781.99,"d":"22,157,781.99"}},{"$f":"AG8+AG16+AG24+AG30+AG36+AG38+AG41","v":{"v":12633909.97,"d":"12,633,909.97"}},"21920","      Recaudación por participar",{"$nulls":29},{"$f":"Balanza!H141","v":{"v":0,"d":"0.00"}},{"$f":"Balanza!D141","v":{"v":0,"d":"0.00"}}]
["12000","  ACTIVO NO CIRCULANTE",{"$nulls":31},"21990","      Otros pasivos circulantes",{"$nulls":29},{"$f":"Balanza!H142","v":{"v":0,"d":"0.00"}},{"$f":"Balanza!D142","v":{"v":0,"d":"0.00"}}]
["12100","    INVERSIONES FINANCIERAS A LARGO PLAZO",{"$nulls":29},{"$f":"SUM(AF49:AF52)","v":{"v":40562.35,"d":"40,562.35"}},{"$f":"SUM(AG49:AG52)","v":{"v":0,"d":"0.00"}},null,"PASIVOS CIRCULANTES",{"$nulls":29},{"$f":"BM8+BM18+BM22+BM26+BM29+BM33+BM40+BM44","v":{"v":8046555.51,"d":"8,046,555.51"}},{"$f":"BN8+BN18+BN22+BN26+BN29+BN33+BN40+BN44","v":{"v":7412358.35,"d":"7,412,358.35"}}]
["12110","      Inversiones a largo plazo",{"$nulls":29},{"$f":"Balanza!G45","v":{"v":40562.35,"d":"40,562.35"}},{"$f":"Balanza!C45","v":{"v":0,"d":"0.00"}},"22000","  PASIVO NO CIRCULANTE"]
["12120","      Títulos y valores a largo plazo",{"$nulls":29},{"$f":"Balanza!G46","v":{"v":0,"d":"0.00"}},{"$f":"Balanza!C46","v":{"v":0,"d":"0.00"}},"22100","    CUENTAS POR PAGAR A LARGO PLAZO",{"$nulls":29},{"$f":"SUM(BM51:BM52)","v":{"v":0,"d":"0.00"}},{"$f":"SUM(BN51:BN52)","v":{"v":0,"d":"0.00"}}]
["12130","      Fideicomisos, mandatos y contratos análogos",{"$nulls":29},{"$f":"Balanza!G47","v":{"v":0,"d":"0.00"}},{"$f":"Balanza!C47","v":{"v":0,"d":"0.00"}},"22110","      Proveedores por pagar a largo plazo",{"$nulls":29},{"$f":"Balanza!H145","v":{"v":0,"d":"0.00"}},{"$f":"Balanza!D145","v":{"v":0,"d":"0.00"}}]
["12140","      Participaciones y aportaciones de capital",{"$nulls":29},{"$f":"Balanza!G48","v":{"v":0,"d":"0.00"}},{"$f":"Balanza!C48","v":{"v":0,"d":"0.00"}},"22120","      Contratistas por obras públicas por pagar a largo plazo",{"$nulls":29},{"$f":"Balanza!H146","v":{"v":0,"d":"0.00"}},{"$f":"Balanza!D146","v":{"v":0,"d":"0.00"}}]
["12200","    DERECHOS A RECIBIR EFECTIVO O EQUIVALENTES A LARGO PLAZO",{"$nulls":29},{"$f":"SUM(AF54:AF58)","v":{"v":0,"d":"0.00"}},{"$f":"SUM(AG54:AG58)","v":{"v":0,"d":"0.00"}},"22200","    DOCUMENTOS POR PAGAR A LARGO PLAZO",{"$nulls":29},{"$f":"SUM(BM54:BM56)","v":{"v":0,"d":"0.00"}},{"$f":"SUM(BN54:BN56)","v":{"v":0,"d":"0.00"}}]
["12210","      Documentos por cobrar a largo plazo",{"$nulls":29},{"$f":"Balanza!G50","v":{"v":0,"d":"0.00"}},{"$f":"Balanza!C50","v":{"v":0,"d":"0.00"}},"22210","      Documentos comerciales por pagar a largo plazo",{"$nulls":29},{"$f":"Balanza!H148","v":{"v":0,"d":"0.00"}},{"$f":"Balanza!D148","v":{"v":0,"d":"0.00"}}]
["12220","      Deudores diversos a largo plazo",{"$nulls":29},{"$f":"Balanza!G51","v":{"v":0,"d":"0.00"}},{"$f":"Balanza!C51","v":{"v":0,"d":"0.00"}},"22220","      Documentos con contratistas por obras públicas por pagar a largo plazo",{"$nulls":29},{"$f":"Balanza!H149","v":{"v":0,"d":"0.00"}},{"$f":"Balanza!D149","v":{"v":0,"d":"0.00"}}]
["12230","      Ingresos por recuperar a largo plazo",{"$nulls":29},{"$f":"Balanza!G52","v":{"v":0,"d":"0.00"}},{"$f":"Balanza!C52","v":{"v":0,"d":"0.00"}},"22290","      Otros documentos por pagar a largo plazo",{"$nulls":29},{"$f":"Balanza!H150","v":{"v":0,"d":"0.00"}},{"$f":"Balanza!D150","v":{"v":0,"d":"0.00"}}]
["12240","      Préstamos otorgados a largo plazo",{"$nulls":29},{"$f":"Balanza!G53","v":{"v":0,"d":"0.00"}},{"$f":"Balanza!C53","v":{"v":0,"d":"0.00"}},"22300","    DEUDA PÚBLICA A LARGO PLAZO",{"$nulls":29},{"$f":"SUM(BM58:BM62)","v":{"v":27613307.72,"d":"27,613,307.72"}},{"$f":"SUM(BN58:BN62)","v":{"v":28533916.26,"d":"28,533,916.26"}}]
["12290","      Otros derechos a recibir efectivo o equivalentes a largo plazo",{"$nulls":29},{"$f":"Balanza!G54","v":{"v":0,"d":"0.00"}},{"$f":"Balanza!C54","v":{"v":0,"d":"0.00"}},"22310","      Títulos y valores de la deuda pública interna a largo plazo",{"$nulls":29},{"$f":"Balanza!H152","v":{"v":0,"d":"0.00"}},{"$f":"Balanza!D152","v":{"v":0,"d":"0.00"}}]
["12300","    BIENES INMUEBLES, INFRAESTRUCTURA Y CONSTRUCCIONES EN PROCESO",{"$nulls":29},{"$f":"SUM(AF60:AF66)","v":{"v":366916050.95,"d":"366,916,050.95"}},{"$f":"SUM(AG60:AG66)","v":{"v":366636307.45,"d":"366,636,307.45"}},"22320","      Títulos y valores de la deuda pública externa a largo plazo",{"$nulls":29},{"$f":"Balanza!H153","v":{"v":0,"d":"0.00"}},{"$f":"Balanza!D153","v":{"v":0,"d":"0.00"}}]
["12310","      Terrenos",{"$nulls":29},{"$f":"Balanza!G56","v":{"v":55647301.01,"d":"55,647,301.01"}},{"$f":"Balanza!C56","v":{"v":55647301.01,"d":"55,647,301.01"}},"22330","      Préstamos de la deuda pública interna por pagar a largo plazo",{"$nulls":29},{"$f":"Balanza!H154","v":{"v":27613307.72,"d":"27,613,307.72"}},{"$f":"Balanza!D154","v":{"v":28533916.26,"d":"28,533,916.26"}}]
["12320","      Viviendas",{"$nulls":29},{"$f":"Balanza!G57","v":{"v":0,"d":"0.00"}},{"$f":"Balanza!C57","v":{"v":0,"d":"0.00"}},"22340","      Préstamos de la deuda pública externa por pagar a largo plazo",{"$nulls":29},{"$f":"Balanza!H155","v":{"v":0,"d":"0.00"}},{"$f":"Balanza!D155","v":{"v":0,"d":"0.00"}}]
["12330","      Edificios no habitacionales",{"$nulls":29},{"$f":"Balanza!G58","v":{"v":33513320.53,"d":"33,513,320.53"}},{"$f":"Balanza!C58","v":{"v":33513320.53,"d":"33,513,320.53"}},"22350","      Arrendamiento financiero por pagar a largo plazo",{"$nulls":29},{"$f":"Balanza!H156","v":{"v":0,"d":"0.00"}},{"$f":"Balanza!D156","v":{"v":0,"d":"0.00"}}]
["12340","      Infraestructura",{"$nulls":29},{"$f":"Balanza!G59","v":{"v":56560545,"d":"56,560,545.00"}},{"$f":"Balanza!C59","v":{"v":56560545,"d":"56,560,545.00"}},"22400","    PASIVOS DIFERIDOS A LARGO PLAZO",{"$nulls":29},{"$f":"SUM(BM64:BM66)","v":{"v":0,"d":"0.00"}},{"$f":"SUM(BN64:BN66)","v":{"v":0,"d":"0.00"}}]
["12350","      Construcciones en proceso en bienes de dominio público",{"$nulls":29},{"$f":"Balanza!G60","v":{"v":221194884.41,"d":"221,194,884.41"}},{"$f":"Balanza!C60","v":{"v":220915140.91,"d":"220,915,140.91"}},"22410","      Créditos diferidos a largo plazo",{"$nulls":29},{"$f":"Balanza!H158","v":{"v":0,"d":"0.00"}},{"$f":"Balanza!D158","v":{"v":0,"d":"0.00"}}]
["12360","      Construcciones en proceso en bienes propios",{"$nulls":29},{"$f":"Balanza!G61","v":{"v":0,"d":"0.00"}},{"$f":"Balanza!C61","v":{"v":0,"d":"0.00"}},"22420","      Intereses cobrados por adelantado a largo plazo",{"$nulls":29},{"$f":"Balanza!H159","v":{"v":0,"d":"0.00"}},{"$f":"Balanza!D159","v":{"v":0,"d":"0.00"}}]
["12390","      Otros bienes inmuebles",{"$nulls":29},{"$f":"Balanza!G62","v":{"v":0,"d":"0.00"}},{"$f":"Balanza!C62","v":{"v":0,"d":"0.00"}},"22490","      Otros pasivos diferidos a largo plazo",{"$nulls":29},{"$f":"Balanza!H160","v":{"v":0,"d":"0.00"}},{"$f":"Balanza!D160","v":{"v":0,"d":"0.00"}}]
["12400","    BIENES MUEBLES",{"$nulls":29},{"$f":"SUM(AF68:AF75)","v":{"v":54350880.760000005,"d":"54,350,880.76"}},{"$f":"SUM(AG68:AG75)","v":{"v":54303320.760000005,"d":"54,303,320.76"}},"22500","    FONDOS Y BIENES DE TERCEROS EN GARANTÍA Y/O ADMINISTRACIÓN A LARGO PLAZO",{"$nulls":29},{"$f":"SUM(BM68:BM73)","v":{"v":0,"d":"0.00"}},{"$f":"SUM(BN68:BN73)","v":{"v":0,"d":"0.00"}}]
["12410","      Mobiliario y equipo de administración",{"$nulls":29},{"$f":"Balanza!G64","v":{"v":6840960.68,"d":"6,840,960.68"}},{"$f":"Balanza!C64","v":{"v":6840960.68,"d":"6,840,960.68"}},"22510","      Fondos en garantía a largo plazo",{"$nulls":29},{"$f":"Balanza!H162","v":{"v":0,"d":"0.00"}},{"$f":"Balanza!D162","v":{"v":0,"d":"0.00"}}]
["12420","      Mobiliario y equipo educacional y recreativo",{"$nulls":29},{"$f":"Balanza!G65","v":{"v":1250481.82,"d":"1,250,481.82"}},{"$f":"Balanza!C65","v":{"v":1250481.82,"d":"1,250,481.82"}},"22520","      Fondos en administración a largo plazo",{"$nulls":29},{"$f":"Balanza!H163","v":{"v":0,"d":"0.00"}},{"$f":"Balanza!D163","v":{"v":0,"d":"0.00"}}]
["12430","      Equipo e instrumental médico y de laboratorio",{"$nulls":29},{"$f":"Balanza!G66","v":{"v":2063418.2,"d":"2,063,418.20"}},{"$f":"Balanza!C66","v":{"v":2063418.2,"d":"2,063,418.20"}},"22530","      Fondos contingentes a largo plazo",{"$nulls":29},{"$f":"Balanza!H164","v":{"v":0,"d":"0.00"}},{"$f":"Balanza!D164","v":{"v":0,"d":"0.00"}}]
["12440","      Vehículos y equipo de transporte",{"$nulls":29},{"$f":"Balanza!G67","v":{"v":34915759.02,"d":"34,915,759.02"}},{"$f":"Balanza!C67","v":{"v":34915759.02,"d":"34,915,759.02"}},"22540","      Fondos de fideicomisos, mandatos y contratos análogos a largo plazo",{"$nulls":29},{"$f":"Balanza!H165","v":{"v":0,"d":"0.00"}},{"$f":"Balanza!D165","v":{"v":0,"d":"0.00"}}]
["12450","      Equipo de defensa y seguridad",{"$nulls":29},{"$f":"Balanza!G68","v":{"v":867562.13,"d":"867,562.13"}},{"$f":"Balanza!C68","v":{"v":867562.13,"d":"867,562.13"}},"22550","      Otros fondos de terceros en garantía y/o administración a largo plazo",{"$nulls":29},{"$f":"Balanza!H166","v":{"v":0,"d":"0.00"}},{"$f":"Balanza!D166","v":{"v":0,"d":"0.00"}}]
["12460","      Maquinaria, otros equipos y herramientas",{"$nulls":29},{"$f":"Balanza!G69","v":{"v":7779470.45,"d":"7,779,470.45"}},{"$f":"Balanza!C69","v":{"v":7779470.45,"d":"7,779,470.45"}},"22560","      Valores y bienes en garantía a largo plazo",{"$nulls":29},{"$f":"Balanza!H167","v":{"v":0,"d":"0.00"}},{"$f":"Balanza!D167","v":{"v":0,"d":"0.00"}}]
["12470","      Colecciones, obras de arte y objetos valiosos",{"$nulls":29},{"$f":"Balanza!G70","v":{"v":454678.46,"d":"454,678.46"}},{"$f":"Balanza!C70","v":{"v":407118.46,"d":"407,118.46"}},"22600","    PROVISIONES A LARGO PLAZO",{"$nulls":29},{"$f":"SUM(BM75:BM78)","v":{"v":0,"d":"0.00"}},{"$f":"SUM(BN75:BN78)","v":{"v":0,"d":"0.00"}}]
["12480","      Activos biológicos",{"$nulls":29},{"$f":"Balanza!G71","v":{"v":178550,"d":"178,550.00"}},{"$f":"Balanza!C71","v":{"v":178550,"d":"178,550.00"}},"22610","      Provisión para demandas y juicios a largo plazo",{"$nulls":29},{"$f":"Balanza!H169","v":{"v":0,"d":"0.00"}},{"$f":"Balanza!D169","v":{"v":0,"d":"0.00"}}]
["12500","    ACTIVOS INTANGIBLES",{"$nulls":29},{"$f":"SUM(AF77:AF81)","v":{"v":2757222.7,"d":"2,757,222.70"}},{"$f":"SUM(AG77:AG81)","v":{"v":2757222.7,"d":"2,757,222.70"}},"22620","      Provisión para pensiones a largo plazo",{"$nulls":29},{"$f":"Balanza!H170","v":{"v":0,"d":"0.00"}},{"$f":"Balanza!D170","v":{"v":0,"d":"0.00"}}]
["12510","      Software",{"$nulls":29},{"$f":"Balanza!G73","v":{"v":34678.2,"d":"34,678.20"}},{"$f":"Balanza!C73","v":{"v":34678.2,"d":"34,678.20"}},"22630","      Provisión para contingencias a largo plazo",{"$nulls":29},{"$f":"Balanza!H171","v":{"v":0,"d":"0.00"}},{"$f":"Balanza!D171","v":{"v":0,"d":"0.00"}}]
["12520","      Patentes, marcas y derechos",{"$nulls":29},{"$f":"Balanza!G74","v":{"v":0,"d":"0.00"}},{"$f":"Balanza!C74","v":{"v":0,"d":"0.00"}},"22690","      Otras provisiones a largo plazo",{"$nulls":29},{"$f":"Balanza!H172","v":{"v":0,"d":"0.00"}},{"$f":"Balanza!D172","v":{"v":0,"d":"0.00"}}]
["12530","      Concesiones y franquicias",{"$nulls":29},{"$f":"Balanza!G75","v":{"v":0,"d":"0.00"}},{"$f":"Balanza!C75","v":{"v":0,"d":"0.00"}},null,"PASIVOS NO CIRCULANTES",{"$nulls":29},{"$f":"BM50+BM53+BM57+BM63+BM67+BM74","v":{"v":27613307.72,"d":"27,613,307.72"}},{"$f":"BN50+BN53+BN57+BN63+BN67+BN74","v":{"v":28533916.26,"d":"28,533,916.26"}}]
["12540","      Licencias",{"$nulls":29},{"$f":"Balanza!G76","v":{"v":2722544.5,"d":"2,722,544.50"}},{"$f":"Balanza!C76","v":{"v":2722544.5,"d":"2,722,544.50"}},null,"TOTAL DE PASIVOS",{"$nulls":29},{"$f":"BM48+BM79","v":{"v":35659863.23,"d":"35,659,863.23"}},{"$f":"BN48+BN79","v":{"v":35946274.61,"d":"35,946,274.61"}}]
["12590","      Otros activos intangibles",{"$nulls":29},{"$f":"Balanza!G77","v":{"v":0,"d":"0.00"}},{"$f":"Balanza!C77","v":{"v":0,"d":"0.00"}},"30000","HACIENDA PÚBLICA/ PATRIMONIO"]
["12600","    DEPRECIACIÓN, DETERIORO Y AMORTIZACIÓN ACUMULADA DE BIENES",{"$nulls":29},{"$f":"SUM(AF83:AF87)","v":{"v":-18350457.8,"d":"-18,350,457.80"}},{"$f":"SUM(AG83:AG87)","v":{"v":-18350457.8,"d":"-18,350,457.80"}},"31000","  HACIENDA PÚBLICA/ PATRIMONIO CONTRIBUIDO",{"$nulls":29},{"$f":"SUM(BM83:BM85)","v":{"v":0,"d":"0.00"}},{"$f":"SUM(BN83:BN85)","v":{"v":0,"d":"0.00"}}]
["12610","      Depreciación acumulada de bienes inmuebles",{"$nulls":29},{"$f":"(Balanza!H79)*-1","v":{"v":-120623.78,"d":"-120,623.78"}},{"$f":"(Balanza!D79)*-1","v":{"v":-120623.78,"d":"-120,623.78"}},"31100","    Aportaciones",{"$nulls":29},{"$f":"Balanza!H175","v":{"v":0,"d":"0.00"}},{"$f":"Balanza!D175","v":{"v":0,"d":"0.00"}}]
["12620","      Depreciación acumulada de infraestructura",{"$nulls":29},{"$f":"(Balanza!H80)*-1","v":{"v":0,"d":"0.00"}},{"$f":"(Balanza!D80)*-1","v":{"v":0,"d":"0.00"}},"31200","    Donaciones de capítal",{"$nulls":29},{"$f":"Balanza!H176","v":{"v":0,"d":"0.00"}},{"$f":"Balanza!D176","v":{"v":0,"d":"0.00"}}]
["12630","      Depreciación acumulada de bienes muebles",{"$nulls":29},{"$f":"(Balanza!H81)*-1","v":{"v":-17893932.55,"d":"-17,893,932.55"}},{"$f":"(Balanza!D81)*-1","v":{"v":-17893932.55,"d":"-17,893,932.55"}},"31300","    Actualización de la hacienda pública/patrimonio",{"$nulls":29},{"$f":"Balanza!H177","v":{"v":0,"d":"0.00"}},{"$f":"Balanza!D177","v":{"v":0,"d":"0.00"}}]
["12640","      Deterioro acumulado de bienes",{"$nulls":29},{"$f":"(Balanza!H82)*-1","v":{"v":0,"d":"0.00"}},{"$f":"(Balanza!D82)*-1","v":{"v":0,"d":"0.00"}},"32000","  HACIENDA PÚBLICA/PATRIMONIO GENERADO",{"$nulls":29},{"$f":"BM87+BM88+BM89+BM94+BM98","v":{"v":392212177.72,"d":"392,212,177.72"}},{"$f":"BN87+BN88+BN89+BN94+BN98","v":{"v":382034028.46999997,"d":"382,034,028.47"}}]
["12650","      Amortización acumulada de activos intangibles",{"$nulls":29},{"$f":"(Balanza!H83)*-1","v":{"v":-335901.47,"d":"-335,901.47"}},{"$f":"(Balanza!D83)*-1","v":{"v":-335901.47,"d":"-335,901.47"}},"32100","    Resultado del ejercicio  (ahorro/desahorro)",{"$nulls":29},{"$f":"Balanza!H179","v":{"v":10178149.25,"d":"10,178,149.25"}},{"$f":"Balanza!D179","v":{"v":-25621832.120000005,"d":"-25,621,832.12"}}]
["12700","    ACTIVOS DIFERIDOS",{"$nulls":29},{"$f":"SUM(AF89:AF94)","v":{"v":0,"d":"0.00"}},{"$f":"SUM(AG89:AG94)","v":{"v":0,"d":"0.00"}},"32200","    Resultados de ejercicios anteriores",{"$nulls":29},{"$f":"Balanza!H180","v":{"v":382034028.47,"d":"382,034,028.47"}},{"$f":"Balanza!D180","v":{"v":407655860.59,"d":"407,655,860.59"}}]
["12710","      Estudios, formulación y evaluación de proyectos",{"$nulls":29},{"$f":"Balanza!G85","v":{"v":0,"d":"0.00"}},{"$f":"Balanza!C85","v":{"v":0,"d":"0.00"}},"32300","  REVALÚOS",{"$nulls":29},{"$f":"SUM(BM90:BM93)","v":{"v":0,"d":"0.00"}},{"$f":"SUM(BN90:BN93)","v":{"v":0,"d":"0.00"}}]
["12720","      Derechos sobre bienes en régimen de arrendamiento financiero",{"$nulls":29},{"$f":"Balanza!G86","v":{"v":0,"d":"0.00"}},{"$f":"Balanza!C86","v":{"v":0,"d":"0.00"}},"32310","    Revalúo de bienes inmuebles",{"$nulls":29},{"$f":"Balanza!H182","v":{"v":0,"d":"0.00"}},{"$f":"Balanza!D182","v":{"v":0,"d":"0.00"}}]
["12730","      Gastos pagados por adelantado a largo plazo",{"$nulls":29},{"$f":"Balanza!G87","v":{"v":0,"d":"0.00"}},{"$f":"Balanza!C87","v":{"v":0,"d":"0.00"}},"32320","    Revalúo de bienes muebles",{"$nulls":29},{"$f":"Balanza!H183","v":{"v":0,"d":"0.00"}},{"$f":"Balanza!D183","v":{"v":0,"d":"0.00"}}]
["12740","      Anticipos a largo plazo",{"$nulls":29},{"$f":"Balanza!G88","v":{"v":0,"d":"0.00"}},{"$f":"Balanza!C88","v":{"v":0,"d":"0.00"}},"32330","    Revalúo de bienes intangibles",{"$nulls":29},{"$f":"Balanza!H184","v":{"v":0,"d":"0.00"}},{"$f":"Balanza!D184","v":{"v":0,"d":"0.00"}}]
["12750","      Beneficios al retiro de empleados pagados por adelantado",{"$nulls":29},{"$f":"Balanza!G89","v":{"v":0,"d":"0.00"}},{"$f":"Balanza!C89","v":{"v":0,"d":"0.00"}},"32390","    Otros revalúos",{"$nulls":29},{"$f":"Balanza!H185","v":{"v":0,"d":"0.00"}},{"$f":"Balanza!D185","v":{"v":0,"d":"0.00"}}]
["12790","      Otros activos diferidos",{"$nulls":29},{"$f":"Balanza!G90","v":{"v":0,"d":"0.00"}},{"$f":"Balanza!C90","v":{"v":0,"d":"0.00"}},"32400","  RESERVAS",{"$nulls":29},{"$f":"SUM(BM95:BM97)","v":{"v":0,"d":"0.00"}},{"$f":"SUM(BN95:BN97)","v":{"v":0,"d":"0.00"}}]
["12800","    ESTIMACIÓN POR PÉRDIDA O DETERIORO DE ACTIVOS NO CIRCULANTES",{"$nulls":29},{"$f":"SUM(AF96:AF100)","v":{"v":0,"d":"0.00"}},{"$f":"SUM(AG96:AG100)","v":{"v":0,"d":"0.00"}},"32410","    Reservas de patrimonio",{"$nulls":29},{"$f":"Balanza!H187","v":{"v":0,"d":"0.00"}},{"$f":"Balanza!D187","v":{"v":0,"d":"0.00"}}]
["12810","      Estimaciones por pérdida de cuentas incobrables de documentos por cobrar a largo plazo",{"$nulls":29},{"$f":"(Balanza!H92)*-1","v":{"v":0,"d":"0.00"}},{"$f":"(Balanza!D92)*-1","v":{"v":0,"d":"0.00"}},"32420","    Reservas territoriales",{"$nulls":29},{"$f":"Balanza!H188","v":{"v":0,"d":"0.00"}},{"$f":"Balanza!D188","v":{"v":0,"d":"0.00"}}]
["12820","      Estimaciones por pérdida de cuentas incobrables de deudores diversos por cobrar a largo plazo",{"$nulls":29},{"$f":"(Balanza!H93)*-1","v":{"v":0,"d":"0.00"}},{"$f":"(Balanza!D93)*-1","v":{"v":0,"d":"0.00"}},"32430","    Reservas por contingencias",{"$nulls":29},{"$f":"Balanza!H189","v":{"v":0,"d":"0.00"}},{"$f":"Balanza!D189","v":{"v":0,"d":"0.00"}}]
["12830","      Estimaciones por pérdida de cuentas incobrables de ingresos por cobrar a largo plazo",{"$nulls":29},{"$f":"(Balanza!H94)*-1","v":{"v":0,"d":"0.00"}},{"$f":"(Balanza!D94)*-1","v":{"v":0,"d":"0.00"}},"32500","  RECTIFICACIONES DE RESULTADOS DE EJERCICIOS ANTERIORES",{"$nulls":29},{"$f":"SUM(BM99:BM101)","v":{"v":0,"d":"0.00"}},{"$f":"SUM(BN99:BN101)","v":{"v":0,"d":"0.00"}}]
["12840","      Estimaciones por pérdida de cuentas incobrables de préstamos otorgados a largo plazo",{"$nulls":29},{"$f":"(Balanza!H95)*-1","v":{"v":0,"d":"0.00"}},{"$f":"(Balanza!D95)*-1","v":{"v":0,"d":"0.00"}},"32510","    Cambios en políticas contables",{"$nulls":29},{"$f":"Balanza!H191","v":{"v":0,"d":"0.00"}},{"$f":"Balanza!D191","v":{"v":0,"d":"0.00"}}]
["12890","      Estimaciones por pérdida de otras cuentas incobrables a largo plazo",{"$nulls":29},{"$f":"(Balanza!H96)*-1","v":{"v":0,"d":"0.00"}},{"$f":"(Balanza!D96)*-1","v":{"v":0,"d":"0.00"}},"32520","    Cambios por errores contables",{"$nulls":29},{"$f":"Balanza!H192","v":{"v":0,"d":"0.00"}},{"$f":"Balanza!D192","v":{"v":0,"d":"0.00"}}]
["12900","    OTROS ACTIVOS NO CIRCULANTES",{"$nulls":29},{"$f":"SUM(AF102:AF104)","v":{"v":0,"d":"0.00"}},{"$f":"SUM(AG102:AG104)","v":{"v":0,"d":"0.00"}},32530,"    Cambios en estimaciones contables",{"$nulls":29},{"$f":"Balanza!H193","v":{"v":0,"d":"0.00"}},{"$f":"Balanza!D193","v":{"v":0,"d":"0.00"}}]
["12910","      Bienes en concesión",{"$nulls":29},{"$f":"Balanza!G98","v":{"v":0,"d":"0.00"}},{"$f":"Balanza!C98","v":{"v":0,"d":"0.00"}},"33000","  EXCESO O INSUFICIENCIA EN LA ACTUALIZACIÓN DE LA HACIENDA PÚBLICA / PATRIMONIO",{"$nulls":29},{"$f":"SUM(BM103:BM104)","v":{"v":0,"d":"0.00"}},{"$f":"SUM(BN103:BN104)","v":{"v":0,"d":"0.00"}}]
["12920","      Bienes en arrendamiento financiero",{"$nulls":29},{"$f":"Balanza!G99","v":{"v":0,"d":"0.00"}},{"$f":"Balanza!C99","v":{"v":0,"d":"0.00"}},"33100","    Resultado por posición monetaria",{"$nulls":29},{"$f":"Balanza!H195","v":{"v":0,"d":"0.00"}},{"$f":"Balanza!D195","v":{"v":0,"d":"0.00"}}]
["12930","      Bienes en comodato",{"$nulls":29},{"$f":"Balanza!G100","v":{"v":0,"d":"0.00"}},{"$f":"Balanza!C100","v":{"v":0,"d":"0.00"}},"33200","    Resultado por tenencia de activos no monetarios",{"$nulls":29},{"$f":"Balanza!H196","v":{"v":0,"d":"0.00"}},{"$f":"Balanza!D196","v":{"v":0,"d":"0.00"}}]
[null,"ACTIVOS NO CIRCULANTES",{"$nulls":29},{"$f":"AF48+AF53+AF59+AF67+AF76+AF82+AF88+AF95+AF101","v":{"v":405714258.96,"d":"405,714,258.96"}},{"$f":"AG48+AG53+AG59+AG67+AG76+AG82+AG88+AG95+AG101","v":{"v":405346393.10999995,"d":"405,346,393.11"}},{"$nulls":30},"TOTAL HACIENDA PUBLICA / PATRIMONIO",{"$f":"BM82+BM86+BM102","v":{"v":392212177.72,"d":"392,212,177.72"}},{"$f":"BN82+BN86+BN102","v":{"v":382034028.46999997,"d":"382,034,028.47"}}]
[null,"TOTAL DEL ACTIVO",{"$nulls":29},{"$f":"AF46+AF105","v":{"v":427872040.95,"d":"427,872,040.95"}},{"$f":"AG46+AG105","v":{"v":417980303.08,"d":"417,980,303.08"}},null,"SUMA DE PASIVO Y PATRIMONIO / HACIENDA PÚBLICA",{"$nulls":29},{"$f":"BM80+BM105","v":{"v":427872040.95000005,"d":"427,872,040.95"}},{"$f":"BN80+BN105","v":{"v":417980303.08,"d":"417,980,303.08"}}]
[]
[]
[null,"Bajo protesta de decir verdad declaramos que los estados financieros y sus notas, son razonablemente correctos y son responsabilidad del emisor."]
{"$rows_empty":8}
[{"$nulls":16},{"$f":"Validacion!A7","v":"LIC. JOSE HERIBERTO GARCIA MURILLO"},{"$nulls":31},{"$f":"Validacion!A9","v":"LAE BRUNO GERMAN ENCISO GUILLEN"}]
[]
[{"$nulls":16},"Presidente Municipal o Títular del ente público",{"$nulls":31},"Encargado de la Hacienda Pública Municipal o Responsable de las finanzas del ente público"]

{"sheet":"F1A","index":18,"n_rows":50,"n_cols":66,"rows_kept":50,"merged":[[0,1,0,65],[1,1,1,65],[2,1,2,65],[3,1,3,65],[4,1,4,30],[4,34,4,63],[5,1,5,30],[5,34,5,63],[6,1,6,30],[6,34,6,63],[7,1,7,30],[7,34,7,63],[8,1,8,30],[8,34,8,63],[9,1,9,30],[9,34,9,63],[10,1,10,30],[10,34,10,63],[11,1,11,30],[11,34,11,63],[12,1,12,30],[12,34,12,63],[13,1,13,30],[13,34,13,63],[14,1,14,30],[14,34,14,63],[15,1,15,30],[15,34,15,63],[16,1,16,30],[16,34,16,63],[17,1,17,30],[17,34,17,63],[18,1,18,30],[18,34,18,63],[19,1,19,30],[19,34,19,63],[20,1,20,30],[20,34,20,63],[21,1,21,30],[21,34,21,63],[22,1,22,30],[22,34,22,63],[23,1,23,30],[23,34,23,63],[24,1,24,30],[24,34,24,63],[25,1,25,30],[25,34,25,63],[26,1,26,30],[26,34,26,63],[27,34,27,63],[28,34,28,63],[29,34,29,63],[30,34,30,63],[31,34,31,63],[32,34,32,63],[33,34,33,63],[34,34,34,63],[35,34,35,63],[36,34,36,63],[37,34,37,63],[38,34,38,63],[39,34,39,63],[40,34,40,63],[41,1,41,30],[41,34,41,63],[46,18,46,30],[46,32,48,47],[46,51,46,63],[47,16,48,31],[47,48,48,64],[49,16,51,31],[49,48,51,64]]}
[null,"MUNICIPIO IXTLAHUACÁN DE LOS MEMBRILLOS"]
[null,"Estado de Situación Financiera"]
[null,"AL 31 DE ENERO DE 2026"]
[null,"(Cifras en pesos)"]
[null,"Concepto",{"$nulls":29},{"$f":"Validacion!F185","v":2026},{"$f":"Validacion!F186","v":2025},null,"Concepto",{"$nulls":29},{"$f":"Validacion!F185","v":2026},{"$f":"Validacion!F186","v":2025}]
[null,"ACTIVO",{"$nulls":32},"PASIVO"]
[null,"Activo Circulante",{"$nulls":32},"Pasivo Circulante"]
[null,"    Efectivo y Equivalentes",{"$nulls":29},{"$f":"Balanza!G5","v":{"v":11441107.55,"d":"11,441,107.55"}},{"$f":"Balanza!C5","v":{"v":2739418.71,"d":"2,739,418.71"}},null,"    Cuentas por Pagar a Corto Plazo",{"$nulls":29},{"$f":"Balanza!H103","v":{"v":6824990.67,"d":"6,824,990.67"}},{"$f":"Balanza!D103","v":{"v":7039817.08,"d":"7,039,817.08"}}]
[null,"    Derechos a Recibir Efectivo o Equivalentes",{"$nulls":29},{"$f":"Balanza!G13","v":{"v":4756017.479999999,"d":"4,756,017.48"}},{"$f":"Balanza!C13","v":{"v":4312934.560000001,"d":"4,312,934.56"}},null,"    Documentos por Pagar a Corto Plazo",{"$nulls":29},{"$f":"Balanza!H113","v":{"v":372541.27,"d":"372,541.27"}},{"$f":"Balanza!D113","v":{"v":372541.27,"d":"372,541.27"}}]
[null,"    Derechos a Recibir Bienes o Servicios",{"$nulls":29},{"$f":"Balanza!G21","v":{"v":5960656.96,"d":"5,960,656.96"}},{"$f":"Balanza!C21","v":{"v":5581556.699999999,"d":"5,581,556.70"}},null,"    Porción a Corto Plazo de la Deuda Pública a Largo Plazo",{"$nulls":29},{"$f":"Balanza!H117","v":{"v":849023.57,"d":"849,023.57"}},{"$f":"Balanza!D117","v":{"v":0,"d":"0.00"}}]
[null,"    Inventarios",{"$nulls":29},{"$f":"Balanza!G27","v":{"v":0,"d":"0.00"}},{"$f":"Balanza!C27","v":{"v":0,"d":"0.00"}},null,"    Títulos y Valores a Corto Plazo",{"$nulls":29},{"$f":"Balanza!H121","v":{"v":0,"d":"0.00"}},{"$f":"Balanza!D121","v":{"v":0,"d":"0.00"}}]
[null,"    Almacenes",{"$nulls":29},{"$f":"Balanza!G33","v":{"v":0,"d":"0.00"}},{"$f":"Balanza!C33","v":{"v":0,"d":"0.00"}},null,"    Pasivos Diferidos a Corto Plazo",{"$nulls":29},{"$f":"Balanza!H124","v":{"v":0,"d":"0.00"}},{"$f":"Balanza!D124","v":{"v":0,"d":"0.00"}}]
[null,"    Estimación por Pérdida o Deterioro de Activos Circulantes",{"$nulls":29},{"$f":"Balanza!G35","v":{"v":0,"d":"0.00"}},{"$f":"Balanza!C35","v":{"v":0,"d":"0.00"}},null,"    Fondos y Bienes de Terceros en Garantía y/o Administración a Corto Plazo",{"$nulls":29},{"$f":"Balanza!H128","v":{"v":0,"d":"0.00"}},{"$f":"Balanza!D128","v":{"v":0,"d":"0.00"}}]
[null,"    Otros Activos Circulantes",{"$nulls":29},{"$f":"Balanza!G38","v":{"v":0,"d":"0.00"}},{"$f":"Balanza!C38","v":{"v":0,"d":"0.00"}},null,"    Provisiones a Corto Plazo",{"$nulls":29},{"$f":"Balanza!H135","v":{"v":0,"d":"0.00"}},{"$f":"Balanza!D135","v":{"v":0,"d":"0.00"}}]
[null," Total de Activos Circulantes",{"$nulls":29},{"$f":"AF8+AF9+AF10+AF11+AF12+AF13+AF14","v":{"v":22157781.99,"d":"22,157,781.99"}},{"$f":"AG8+AG9+AG10+AG11+AG12+AG13+AG14","v":{"v":12633909.97,"d":"12,633,909.97"}},null,"    Otros Pasivos a Corto Plazo",{"$nulls":29},{"$f":"Balanza!H139","v":{"v":0,"d":"0.00"}},{"$f":"Balanza!D139","v":{"v":0,"d":"0.00"}}]
[null,"Activo No Circulantes",{"$nulls":32}," Total de Pasivos Circulante",{"$nulls":29},{"$f":"BM8+BM9+BM10+BM11+BM12+BM13+BM14+BM15","v":{"v":8046555.51,"d":"8,046,555.51"}},{"$f":"BN8+BN9+BN10+BN11+BN12+BN13+BN14+BN15","v":{"v":7412358.35,"d":"7,412,358.35"}}]
[null,"    Inversiones Financieras a Largo Plazo",{"$nulls":29},{"$f":"Balanza!G44","v":{"v":40562.35,"d":"40,562.35"}},{"$f":"Balanza!C44","v":{"v":0,"d":"0.00"}},null,"Pasivos No Circulante"]
[null,"    Derechos a Recibir Efectivo o Equivalentes a Largo Plazo",{"$nulls":29},{"$f":"Balanza!G49","v":{"v":0,"d":"0.00"}},{"$f":"Balanza!C49","v":{"v":0,"d":"0.00"}},null,"    Cuentas por Pagar a Largo Plazo",{"$nulls":29},{"$f":"Balanza!H144","v":{"v":0,"d":"0.00"}},{"$f":"Balanza!D144","v":{"v":0,"d":"0.00"}}]
[null,"    Bienes Inmuebles, Infraestructura y Construcciones en Proceso",{"$nulls":29},{"$f":"Balanza!G55","v":{"v":366916050.95,"d":"366,916,050.95"}},{"$f":"Balanza!C55","v":{"v":366636307.45,"d":"366,636,307.45"}},null,"    Documentos por Pagar a Largo Plazo",{"$nulls":29},{"$f":"Balanza!H147","v":{"v":0,"d":"0.00"}},{"$f":"Balanza!D147","v":{"v":0,"d":"0.00"}}]
[null,"    Bienes Muebles",{"$nulls":29},{"$f":"Balanza!G63","v":{"v":54350880.760000005,"d":"54,350,880.76"}},{"$f":"Balanza!C63","v":{"v":54303320.760000005,"d":"54,303,320.76"}},null,"    Deuda Pública a Largo Plazo",{"$nulls":29},{"$f":"Balanza!H151","v":{"v":27613307.72,"d":"27,613,307.72"}},{"$f":"Balanza!D151","v":{"v":28533916.26,"d":"28,533,916.26"}}]
[null,"    Activos Intangibles",{"$nulls":29},{"$f":"Balanza!G72","v":{"v":2757222.7,"d":"2,757,222.70"}},{"$f":"Balanza!C72","v":{"v":2757222.7,"d":"2,757,222.70"}},null,"    Pasivos Diferidos a Largo Plazo",{"$nulls":29},{"$f":"Balanza!H157","v":{"v":0,"d":"0.00"}},{"$f":"Balanza!D157","v":{"v":0,"d":"0.00"}}]
[null,"    Depreciación, Deterioro y Amortización Acumulada de Bienes",{"$nulls":29},{"$f":"(Balanza!H78)*-1","v":{"v":-18350457.8,"d":"-18,350,457.80"}},{"$f":"(Balanza!D78)*-1","v":{"v":-18350457.8,"d":"-18,350,457.80"}},null,"    Fondos y Bienes de Terceros en Garantía y/o Administración a Largo Plazo",{"$nulls":29},{"$f":"Balanza!H161","v":{"v":0,"d":"0.00"}},{"$f":"Balanza!D161","v":{"v":0,"d":"0.00"}}]
[null,"    Activos Diferidos",{"$nulls":29},{"$f":"Balanza!G84","v":{"v":0,"d":"0.00"}},{"$f":"Balanza!C84","v":{"v":0,"d":"0.00"}},null,"    Provisiones a Largo Plazo",{"$nulls":29},{"$f":"Balanza!H168","v":{"v":0,"d":"0.00"}},{"$f":"Balanza!D168","v":{"v":0,"d":"0.00"}}]
[null,"    Estimación por Pérdida o Deterioro de Activos no Circulantes",{"$nulls":29},{"$f":"(Balanza!H91)*-1","v":{"v":0,"d":"0.00"}},{"$f":"(Balanza!D91)*-1","v":{"v":0,"d":"0.00"}},null," Total de Pasivos No Circulantes",{"$nulls":29},{"$f":"BM18+BM19+BM20+BM21+BM22+BM23","v":{"v":27613307.72,"d":"27,613,307.72"}},{"$f":"BN18+BN19+BN20+BN21+BN22+BN23","v":{"v":28533916.26,"d":"28,533,916.26"}}]
[null,"    Otros Activos no Circulantes",{"$nulls":29},{"$f":"Balanza!G97","v":{"v":0,"d":"0.00"}},{"$f":"Balanza!C97","v":{"v":0,"d":"0.00"}},null," Total del Pasivo",{"$nulls":29},{"$f":"BM16+BM24","v":{"v":35659863.23,"d":"35,659,863.23"}},{"$f":"BN16+BN24","v":{"v":35946274.61,"d":"35,946,274.61"}}]
[null," Total de Activos No Circulantes",{"$nulls":29},{"$f":"AF17+AF18+AF19+AF20+AF21+AF22+AF23+AF24+AF25","v":{"v":405714258.96,"d":"405,714,258.96"}},{"$f":"AG17+AG18+AG19+AG20+AG21+AG22+AG23+AG24+AG25","v":{"v":405346393.10999995,"d":"405,346,393.11"}},null,"HACIENDA PÚBLICA/PATRIMONIO"]
[null," Total del Activo",{"$nulls":29},{"$f":"AF15+AF26","v":{"v":427872040.95,"d":"427,872,040.95"}},{"$f":"AG15+AG26","v":{"v":417980303.08,"d":"417,980,303.08"}},null,"Hacienda Pública/Patrimonio Contribuido",{"$nulls":29},{"$f":"SUM(BM28:BM30)","v":{"v":0,"d":"0.00"}},{"$f":"SUM(BN28:BN30)","v":{"v":0,"d":"0.00"}}]
[{"$nulls":34},"    Aportaciones",{"$nulls":29},{"$f":"Balanza!H175","v":{"v":0,"d":"0.00"}},{"$f":"Balanza!D175","v":{"v":0,"d":"0.00"}}]
[{"$nulls":34},"    Donaciones de Capital",{"$nulls":29},{"$f":"Balanza!H176","v":{"v":0,"d":"0.00"}},{"$f":"Balanza!D176","v":{"v":0,"d":"0.00"}}]
[{"$nulls":34},"    Actualización de la Hacienda Pública/Patrimonio",{"$nulls":29},{"$f":"Balanza!H177","v":{"v":0,"d":"0.00"}},{"$f":"Balanza!D177","v":{"v":0,"d":"0.00"}}]
[{"$nulls":34},"Hacienda Pública/Patrimonio Generado",{"$nulls":29},{"$f":"BM32+BM33+BM34+BM35+BM36","v":{"v":392212177.72,"d":"392,212,177.72"}},{"$f":"BN32+BN33+BN34+BN35+BN36","v":{"v":382034028.46999997,"d":"382,034,028.47"}}]
[{"$nulls":34},"    Resultado del Ejercicio  (Ahorro/Desahorro)",{"$nulls":29},{"$f":"Balanza!H179","v":{"v":10178149.25,"d":"10,178,149.25"}},{"$f":"Balanza!D179","v":{"v":-25621832.120000005,"d":"-25,621,832.12"}}]
[{"$nulls":34},"    Resultados de Ejercicios Anteriores",{"$nulls":29},{"$f":"Balanza!H180","v":{"v":382034028.47,"d":"382,034,028.47"}},{"$f":"Balanza!D180","v":{"v":407655860.59,"d":"407,655,860.59"}}]
[{"$nulls":34},"   Revalúos",{"$nulls":29},{"$f":"Balanza!H181","v":{"v":0,"d":"0.00"}},{"$f":"Balanza!D181","v":{"v":0,"d":"0.00"}}]
[{"$nulls":34},"   Reservas",{"$nulls":29},{"$f":"Balanza!H186","v":{"v":0,"d":"0.00"}},{"$f":"Balanza!D186","v":{"v":0,"d":"0.00"}}]
[{"$nulls":34},"   Rectificaciones de Resultados de Ejercicios Anteriores",{"$nulls":29},{"$f":"Balanza!H190","v":{"v":0,"d":"0.00"}},{"$f":"Balanza!D190","v":{"v":0,"d":"0.00"}}]
[{"$nulls":34},"Exceso o Insuficiencia en la Actualización de la Hacienda Pública/Patrimonio",{"$nulls":29},{"$f":"SUM(BM38:BM39)","v":{"v":0,"d":"0.00"}},{"$f":"SUM(BN38:BN39)","v":{"v":0,"d":"0.00"}}]
[{"$nulls":34},"    Resultado por Posición Monetaria",{"$nulls":29},{"$f":"Balanza!H195","v":{"v":0,"d":"0.00"}},{"$f":"Balanza!D195","v":{"v":0,"d":"0.00"}}]
[{"$nulls":34},"    Resultado por Tenencia de Activos no Monetarios",{"$nulls":29},{"$f":"Balanza!H196","v":{"v":0,"d":"0.00"}},{"$f":"Balanza!D196","v":{"v":0,"d":"0.00"}}]
[{"$nulls":34},"Total Hacienda Pública/Patrimonio",{"$nulls":29},{"$f":"BM27+BM31+BM37","v":{"v":392212177.72,"d":"392,212,177.72"}},{"$f":"BN27+BN31+BN37","v":{"v":382034028.46999997,"d":"382,034,028.47"}}]
[{"$nulls":34},"Total del Pasivo y Hacienda Pública/Patrimonio",{"$nulls":29},{"$f":"BM25+BM40","v":{"v":427872040.95000005,"d":"427,872,040.95"}},{"$f":"BN25+BN40","v":{"v":417980303.08,"d":"417,980,303.08"}}]
[]
[]
[null,"Bajo protesta de decir verdad declaramos que los Estados Financieros y sus notas, son razonablemente correctos y son responsabilidad del emisor."]
[]
[]
[{"$nulls":32},"ASEJ2026-01-31-03-2026-1"]
[{"$nulls":16},"LIC. JOSE HERIBERTO GARCIA MURILLO",{"$nulls":31},"LAE BRUNO GERMAN ENCISO GUILLEN"]
[]
[{"$nulls":16},"PRESIDENTE MUNICIPAL",{"$nulls":31},"ENCARGADO DE LA HACIENDA MUNICIPAL"]

{"sheet":"F1LDF","index":19,"n_rows":78,"n_cols":66,"rows_kept":78,"hidden":true,"merged":[[0,1,0,65],[1,1,1,65],[2,1,2,65],[3,1,3,65],[4,1,4,30],[4,34,4,63],[5,1,5,30],[5,34,5,63],[6,1,6,30],[6,34,6,63],[7,1,7,30],[7,34,7,63],[8,1,8,30],[8,34,8,63],[9,1,9,30],[9,34,9,63],[10,1,10,30],[10,34,10,63],[11,1,11,30],[11,34,11,63],[12,1,12,30],[12,34,12,63],[13,1,13,30],[13,34,13,63],[14,1,14,30],[14,34,14,63],[15,1,15,30],[15,34,15,63],[16,1,16,30],[16,34,16,63],[17,1,17,30],[17,34,17,63],[18,1,18,30],[18,34,18,63],[19,1,19,30],[19,34,19,63],[20,1,20,30],[20,34,20,63],[21,1,21,30],[21,34,21,63],[22,1,22,30],[22,34,22,63],[23,1,23,30],[23,34,23,63],[24,1,24,30],[24,34,24,63],[25,1,25,30],[25,34,25,63],[26,1,26,30],[26,34,26,63],[27,1,27,30],[27,34,27,63],[28,1,28,30],[28,34,28,63],[29,1,29,30],[29,34,29,63],[30,1,30,30],[30,34,30,63],[31,1,31,30],[31,34,31,63],[32,1,32,30],[32,34,32,63],[33,1,33,30],[33,34,33,63],[34,1,34,30],[34,34,34,63],[35,1,35,30],[35,34,35,63],[36,1,36,30],[36,34,36,63],[37,1,37,30],[37,34,37,63],[38,1,38,30],[38,34,38,63],[39,1,39,30],[39,34,39,63],[40,1,40,30],[40,34,40,63],[41,1,41,30],[41,34,41,63],[42,1,42,30],[42,34,42,63],[43,1,43,30],[43,34,43,63],[44,1,44,30],[44,34,44,63],[45,1,45,30],[45,34,45,63],[46,1,46,30],[46,34,46,63],[47,1,47,30],[47,34,47,63],[48,1,48,30],[48,34,48,63],[49,1,49,30],[49,34,49,63],[50,1,50,30],[50,34,50,63],[51,1,51,30],[51,34,51,63],[52,1,52,30],[52,34,52,63],[53,1,53,30],[53,34,53,63],[54,1,54,30],[54,34,54,63],[55,1,55,30],[55,34,55,63],[56,1,56,30],[56,34,56,63],[57,1,57,30],[57,34,57,63],[58,34,58,63],[59,34,59,63],[60,34,60,63],[61,34,61,63],[62,34,62,63],[63,34,63,63],[64,34,64,63],[65,34,65,63],[66,34,66,63],[67,34,67,63],[68,34,68,63],[69,34,69,63],[70,34,70,63],[74,18,74,30],[74,51,74,63],[75,16,76,31],[75,48,76,64],[77,16,79,31],[77,48,79,64]]}
[null,{"$f":"\"NOMBRE DEL ENTE PÚBLICO: \"&Validacion!A2","v":"NOMBRE DEL ENTE PÚBLICO: Ixtlahuacán de los Membrillos"}]
[null,"Estado de Situación Financiera Detallado - LDF"]
[null,{"$f":"\"Al \"&INDEX(Validacion!D185:D196,MATCH(Validacion!A11,Validacion!C185:C196,0))","v":"Al 31 de Enero de 2026"}]
[null,"(PESOS)"]
[null,"Concepto",{"$nulls":29},{"$f":"Validacion!F185","v":2026},{"$f":"\"31 DE DICIEMBRE\nDE \"&Validacion!F186","v":"31 DE DICIEMBRE\nDE 2025"},null,"Concepto",{"$nulls":29},{"$f":"Validacion!F185","v":2026},{"$f":"\"31 DE DICIEMBRE\nDE \"&Validacion!F186","v":"31 DE DICIEMBRE\nDE 2025"}]
[null,"ACTIVO",{"$nulls":32},"PASIVO"]
[null,"  Activo Circulante",{"$nulls":32},"Pasivo Circulante"]
[null,"    a. Efectivo y Equivalentes",{"$nulls":29},{"$f":"SUM(AF9:AF15)","v":{"v":11441107.55,"d":"11,441,107.55"}},{"$f":"SUM(AG9:AG15)","v":{"v":2739418.71,"d":"2,739,418.71"}},null,"    a. Cuentas por Pagar a Corto Plazo",{"$nulls":29},{"$f":"SUM(BM9:BM17)","v":{"v":6824990.67,"d":"6,824,990.67"}},{"$f":"SUM(BN9:BN17)","v":{"v":7039817.08,"d":"7,039,817.08"}}]
[null,"     a1) Efectivo",{"$nulls":29},{"$f":"Balanza!G6","v":{"v":297939.06,"d":"297,939.06"}},{"$f":"Balanza!C6","v":{"v":297939.06,"d":"297,939.06"}},null,"     a1) Servicios Personales por Pagar a Corto Plazo",{"$nulls":29},{"$f":"Balanza!H104","v":{"v":145,"d":"145.00"}},{"$f":"Balanza!D104","v":{"v":0,"d":"0.00"}}]
[null,"     a2) Bancos/Tesorería",{"$nulls":29},{"$f":"Balanza!G7","v":{"v":6308568.49,"d":"6,308,568.49"}},{"$f":"Balanza!C7","v":{"v":-2393120.35,"d":"-2,393,120.35"}},null,"     a2) Proveedores por Pagar a Corto Plazo",{"$nulls":29},{"$f":"Balanza!H105","v":{"v":7256438.35,"d":"7,256,438.35"}},{"$f":"Balanza!D105","v":{"v":7637422.77,"d":"7,637,422.77"}}]
[null,"     a3) Bancos/Dependencias y Otros",{"$nulls":29},{"$f":"Balanza!G8","v":{"v":0,"d":"0.00"}},{"$f":"Balanza!C8","v":{"v":0,"d":"0.00"}},null,"     a3) Contratistas por Obras Públicas por Pagar a Corto Plazo",{"$nulls":29},{"$f":"Balanza!H106","v":{"v":0,"d":"0.00"}},{"$f":"Balanza!D106","v":{"v":0,"d":"0.00"}}]
[null,"     a4) Inversiones Temporales (Hasta 3 meses)",{"$nulls":29},{"$f":"Balanza!G9","v":{"v":0,"d":"0.00"}},{"$f":"Balanza!C9","v":{"v":0,"d":"0.00"}},null,"     a4) Participaciones y Aportaciones por Pagar a Corto Plazo",{"$nulls":29},{"$f":"Balanza!H107","v":{"v":0,"d":"0.00"}},{"$f":"Balanza!D107","v":{"v":0,"d":"0.00"}}]
[null,"     a5) Fondos con Afectación Específica",{"$nulls":29},{"$f":"Balanza!G10","v":{"v":0,"d":"0.00"}},{"$f":"Balanza!C10","v":{"v":0,"d":"0.00"}},null,"     a5) Transferencias Otorgadas por Pagar a Corto Plazo",{"$nulls":29},{"$f":"Balanza!H108","v":{"v":0,"d":"0.00"}},{"$f":"Balanza!D108","v":{"v":0,"d":"0.00"}}]
[null,"     a6) Depósitos de Fondos de Terceros en Garantía y/o Administración",{"$nulls":29},{"$f":"Balanza!G11","v":{"v":0,"d":"0.00"}},{"$f":"Balanza!C11","v":{"v":0,"d":"0.00"}},null,"     a6) Intereses, Comisiones y Otros Gastos de la Deuda Pública por Pagar a Corto Plazo",{"$nulls":29},{"$f":"Balanza!H109","v":{"v":0,"d":"0.00"}},{"$f":"Balanza!D109","v":{"v":0,"d":"0.00"}}]
[null,"     a7) Otros Efectivos y Equivalentes",{"$nulls":29},{"$f":"Balanza!G12","v":{"v":4834600,"d":"4,834,600.00"}},{"$f":"Balanza!C12","v":{"v":4834600,"d":"4,834,600.00"}},null,"     a7) Retenciones y Contribuciones por Pagar a Corto Plazo",{"$nulls":29},{"$f":"Balanza!H110","v":{"v":-431592.68,"d":"-431,592.68"}},{"$f":"Balanza!D110","v":{"v":-597605.69,"d":"-597,605.69"}}]
[null,"   b. Derechos a Recibir Efectivo o Equivalentes",{"$nulls":29},{"$f":"SUM(AF17:AF23)","v":{"v":4756017.479999999,"d":"4,756,017.48"}},{"$f":"SUM(AG17:AG23)","v":{"v":4312934.560000001,"d":"4,312,934.56"}},null,"     a8) Devoluciones de la Ley de Ingresos por Pagar a Corto Plazo",{"$nulls":29},{"$f":"Balanza!H111","v":{"v":0,"d":"0.00"}},{"$f":"Balanza!D111","v":{"v":0,"d":"0.00"}}]
[null,"     b1) Inversiones Financieras de Corto Plazo",{"$nulls":29},{"$f":"Balanza!G14","v":{"v":0,"d":"0.00"}},{"$f":"Balanza!C14","v":{"v":0,"d":"0.00"}},null,"     a9) Otras Cuentas por Pagar a Corto Plazo",{"$nulls":29},{"$f":"Balanza!H112","v":{"v":0,"d":"0.00"}},{"$f":"Balanza!D112","v":{"v":0,"d":"0.00"}}]
[null,"     b2) Cuentas por Cobrar a Corto Plazo",{"$nulls":29},{"$f":"Balanza!G15","v":{"v":0,"d":"0.00"}},{"$f":"Balanza!C15","v":{"v":0,"d":"0.00"}},null,"   b. Documentos por Pagar a Corto Plazo",{"$nulls":29},{"$f":"SUM(BM19:BM21)","v":{"v":372541.27,"d":"372,541.27"}},{"$f":"SUM(BN19:BN21)","v":{"v":372541.27,"d":"372,541.27"}}]
[null,"     b3) Deudores Diversos por Cobrar a Corto Plazo",{"$nulls":29},{"$f":"Balanza!G16","v":{"v":14195643.86,"d":"14,195,643.86"}},{"$f":"Balanza!C16","v":{"v":12728163.46,"d":"12,728,163.46"}},null,"     b1) Documentos Comerciales por Pagar a Corto Plazo",{"$nulls":29},{"$f":"Balanza!H114","v":{"v":0,"d":"0.00"}},{"$f":"Balanza!D114","v":{"v":0,"d":"0.00"}}]
[null,"     b4) Ingresos por Recuperar a Corto Plazo",{"$nulls":29},{"$f":"Balanza!G17","v":{"v":0,"d":"0.00"}},{"$f":"Balanza!C17","v":{"v":0,"d":"0.00"}},null,"     b2) Documentos con Contratistas por Obras Públicas por Pagar a Corto Plazo",{"$nulls":29},{"$f":"Balanza!H115","v":{"v":372541.27,"d":"372,541.27"}},{"$f":"Balanza!D115","v":{"v":372541.27,"d":"372,541.27"}}]
[null,"     b5) Deudores por Anticipos de la Tesorería a Corto Plazo",{"$nulls":29},{"$f":"Balanza!G18","v":{"v":-11056330.32,"d":"-11,056,330.32"}},{"$f":"Balanza!C18","v":{"v":-9888799.43,"d":"-9,888,799.43"}},null,"     b3) Otros Documentos por Pagar a Corto Plazo",{"$nulls":29},{"$f":"Balanza!H116","v":{"v":0,"d":"0.00"}},{"$f":"Balanza!D116","v":{"v":0,"d":"0.00"}}]
[null,"     b6) Préstamos Otorgados a Corto Plazo",{"$nulls":29},{"$f":"Balanza!G19","v":{"v":1616703.94,"d":"1,616,703.94"}},{"$f":"Balanza!C19","v":{"v":1473570.53,"d":"1,473,570.53"}},null,"   c. Porción a Corto Plazo de la Deuda Pública a Largo Plazo",{"$nulls":29},{"$f":"SUM(BM23:BM24)","v":{"v":849023.57,"d":"849,023.57"}},{"$f":"SUM(BN23:BN24)","v":{"v":0,"d":"0.00"}}]
[null,"     b7) Otros Derechos a Recibir Efectivo o Equivalentes a Corto Plazo",{"$nulls":29},{"$f":"Balanza!G20","v":{"v":0,"d":"0.00"}},{"$f":"Balanza!C20","v":{"v":0,"d":"0.00"}},null,"     c1) Porción a Corto Plazo de la Deuda Pública",{"$nulls":29},{"$f":"Balanza!H118","v":{"v":849023.57,"d":"849,023.57"}},{"$f":"Balanza!D118","v":{"v":0,"d":"0.00"}}]
[null,"   c. Derechos a Recibir Bienes o Servicios",{"$nulls":29},{"$f":"SUM(AF25:AF29)","v":{"v":5960656.96,"d":"5,960,656.96"}},{"$f":"SUM(AG25:AG29)","v":{"v":5581556.699999999,"d":"5,581,556.70"}},null,"     c2) Porción a Corto Plazo de Arrendamiento Financiero",{"$nulls":29},{"$f":"Balanza!H120","v":{"v":0,"d":"0.00"}},{"$f":"Balanza!D120","v":{"v":0,"d":"0.00"}}]
[null,"     c1) Anticipo a Proveedores por Adquisición de Bienes y Prestación de Servicios a Corto Plazo",{"$nulls":29},{"$f":"Balanza!G22","v":{"v":5474836.89,"d":"5,474,836.89"}},{"$f":"Balanza!C22","v":{"v":5581556.89,"d":"5,581,556.89"}},null,"   d. Títulos y Valores a Corto Plazo",{"$nulls":29},{"$f":"Balanza!H121","v":{"v":0,"d":"0.00"}},{"$f":"Balanza!D121","v":{"v":0,"d":"0.00"}}]
[null,"     c2) Anticipo a Proveedores por Adquisición de Bienes Inmuebles y Muebles a Corto Plazo",{"$nulls":29},{"$f":"Balanza!G23","v":{"v":0,"d":"0.00"}},{"$f":"Balanza!C23","v":{"v":0,"d":"0.00"}},null,"   e. Pasivos Diferidos a Corto Plazo",{"$nulls":29},{"$f":"SUM(BM27:BM29)","v":{"v":0,"d":"0.00"}},{"$f":"SUM(BN27:BN29)","v":{"v":0,"d":"0.00"}}]
[null,"     c3) Anticipo a Proveedores por Adquisición de Bienes Intangibles a Corto Plazo",{"$nulls":29},{"$f":"Balanza!G24","v":{"v":0,"d":"0.00"}},{"$f":"Balanza!C24","v":{"v":0,"d":"0.00"}},null,"     e1) Ingresos Cobrados por Adelantado a Corto Plazo",{"$nulls":29},{"$f":"Balanza!H125","v":{"v":0,"d":"0.00"}},{"$f":"Balanza!D125","v":{"v":0,"d":"0.00"}}]
[null,"     c4) Anticipo a Contratistas por Obras Públicas a Corto Plazo",{"$nulls":29},{"$f":"Balanza!G25","v":{"v":485820.07,"d":"485,820.07"}},{"$f":"Balanza!C25","v":-0.19},null,"     e2) Intereses Cobrados por Adelantado a Corto Plazo",{"$nulls":29},{"$f":"Balanza!H126","v":{"v":0,"d":"0.00"}},{"$f":"Balanza!D126","v":{"v":0,"d":"0.00"}}]
[null,"     c5) Otros Derechos a Recibir Bienes o Servicios a Corto Plazo",{"$nulls":29},{"$f":"Balanza!G26","v":{"v":0,"d":"0.00"}},{"$f":"Balanza!C26","v":{"v":0,"d":"0.00"}},null,"     e3) Otros Pasivos Diferidos a Corto Plazo",{"$nulls":29},{"$f":"Balanza!H127","v":{"v":0,"d":"0.00"}},{"$f":"Balanza!D127","v":{"v":0,"d":"0.00"}}]
[null,"   d. Inventarios",{"$nulls":29},{"$f":"SUM(AF31:AF35)","v":{"v":0,"d":"0.00"}},{"$f":"SUM(AG31:AG35)","v":{"v":0,"d":"0.00"}},null,"   f. Fondos y Bienes de Terceros en Garantía y/o Administración a Corto Plazo",{"$nulls":29},{"$f":"SUM(BM31:BM36)","v":{"v":0,"d":"0.00"}},{"$f":"SUM(BN31:BN36)","v":{"v":0,"d":"0.00"}}]
[null,"     d1) Inventario de Mercancías para Venta",{"$nulls":29},{"$f":"Balanza!G28","v":{"v":0,"d":"0.00"}},{"$f":"Balanza!C28","v":{"v":0,"d":"0.00"}},null,"     f1) Fondos en Garantía a Corto Plazo",{"$nulls":29},{"$f":"Balanza!H129","v":{"v":0,"d":"0.00"}},{"$f":"Balanza!D129","v":{"v":0,"d":"0.00"}}]
[null,"     d2) Inventario de Mercancías Terminadas",{"$nulls":29},{"$f":"Balanza!G29","v":{"v":0,"d":"0.00"}},{"$f":"Balanza!C29","v":{"v":0,"d":"0.00"}},null,"     f2) Fondos en Administración a Corto Plazo",{"$nulls":29},{"$f":"Balanza!H130","v":{"v":0,"d":"0.00"}},{"$f":"Balanza!D130","v":{"v":0,"d":"0.00"}}]
[null,"     d3) Inventario de Mercancías en Proceso de Elaboración",{"$nulls":29},{"$f":"Balanza!G30","v":{"v":0,"d":"0.00"}},{"$f":"Balanza!C30","v":{"v":0,"d":"0.00"}},null,"     f3) Fondos Contingentes a Corto Plazo",{"$nulls":29},{"$f":"Balanza!H131","v":{"v":0,"d":"0.00"}},{"$f":"Balanza!D131","v":{"v":0,"d":"0.00"}}]
[null,"     d4) Inventario de Materias Primas, Materiales y Suministros para Producción",{"$nulls":29},{"$f":"Balanza!G31","v":{"v":0,"d":"0.00"}},{"$f":"Balanza!C31","v":{"v":0,"d":"0.00"}},null,"     f4) Fondos de Fideicomisos, Mandatos y Contratos Análogos a Corto Plazo",{"$nulls":29},{"$f":"Balanza!H132","v":{"v":0,"d":"0.00"}},{"$f":"Balanza!D132","v":{"v":0,"d":"0.00"}}]
[null,"     d5) Bienes en Tránsito",{"$nulls":29},{"$f":"Balanza!G32","v":{"v":0,"d":"0.00"}},{"$f":"Balanza!C32","v":{"v":0,"d":"0.00"}},null,"     f5) Otros Fondos de Terceros en Garantía y/o Administración a Corto Plazo",{"$nulls":29},{"$f":"Balanza!H133","v":{"v":0,"d":"0.00"}},{"$f":"Balanza!D133","v":{"v":0,"d":"0.00"}}]
[null,"   e. Almacenes",{"$nulls":29},{"$f":"Balanza!G34","v":{"v":0,"d":"0.00"}},{"$f":"Balanza!C34","v":{"v":0,"d":"0.00"}},null,"     f6) Valores y Bienes en Garantía a Corto Plazo",{"$nulls":29},{"$f":"Balanza!H134","v":{"v":0,"d":"0.00"}},{"$f":"Balanza!D134","v":{"v":0,"d":"0.00"}}]
[null,"   f. Estimación por Pérdida o Deterioro de Activos Circulantes",{"$nulls":29},{"$f":"SUM(AF38:AF39)","v":{"v":0,"d":"0.00"}},{"$f":"SUM(AG38:AG39)","v":{"v":0,"d":"0.00"}},null,"   g. Provisiones a Corto Plazo",{"$nulls":29},{"$f":"SUM(BM38:BM40)","v":{"v":0,"d":"0.00"}},{"$f":"SUM(BN38:BN40)","v":{"v":0,"d":"0.00"}}]
[null,"     f1) Estimaciones para Cuentas Incobrables por Derechos a Recibir Efectivo o Equivalentes",{"$nulls":29},{"$f":"Balanza!G36","v":{"v":0,"d":"0.00"}},{"$f":"Balanza!C36","v":{"v":0,"d":"0.00"}},null,"     g1) Provisión para Demandas y Juicios a Corto Plazo",{"$nulls":29},{"$f":"Balanza!H136","v":{"v":0,"d":"0.00"}},{"$f":"Balanza!D136","v":{"v":0,"d":"0.00"}}]
[null,"     f2) Estimación por Deterioro de Inventarios",{"$nulls":29},{"$f":"Balanza!G37","v":{"v":0,"d":"0.00"}},{"$f":"Balanza!C37","v":{"v":0,"d":"0.00"}},null,"     g2) Provisión para Contingencias a Corto Plazo",{"$nulls":29},{"$f":"Balanza!H137","v":{"v":0,"d":"0.00"}},{"$f":"Balanza!D137","v":{"v":0,"d":"0.00"}}]
[null,"   g. Otros Activos Circulantes",{"$nulls":29},{"$f":"SUM(AF41:AF44)","v":{"v":0,"d":"0.00"}},{"$f":"SUM(AG41:AG44)","v":{"v":0,"d":"0.00"}},null,"     g3) Otras Provisiones a Corto Plazo",{"$nulls":29},{"$f":"Balanza!H138","v":{"v":0,"d":"0.00"}},{"$f":"Balanza!D138","v":{"v":0,"d":"0.00"}}]
[null,"     g1) Valores en Garantía",{"$nulls":29},{"$f":"Balanza!G39","v":{"v":0,"d":"0.00"}},{"$f":"Balanza!C39","v":{"v":0,"d":"0.00"}},null,"   h. Otros Pasivos a Corto Plazo",{"$nulls":29},{"$f":"SUM(BM42:BM44)","v":{"v":0,"d":"0.00"}},{"$f":"SUM(BN42:BN44)","v":{"v":0,"d":"0.00"}}]
[null,"     g2) Bienes en Garantía (excluye depósitos de fondos)",{"$nulls":29},{"$f":"Balanza!G40","v":{"v":0,"d":"0.00"}},{"$f":"Balanza!C40","v":{"v":0,"d":"0.00"}},null,"     h1) Ingresos por Clasificar",{"$nulls":29},{"$f":"Balanza!H140","v":{"v":0,"d":"0.00"}},{"$f":"Balanza!D140","v":{"v":0,"d":"0.00"}}]
[null,"     g3) Bienes Derivados de Embargos, Decomisos, Aseguramientos y Dación en Pago",{"$nulls":29},{"$f":"Balanza!G41","v":{"v":0,"d":"0.00"}},{"$f":"Balanza!C41","v":{"v":0,"d":"0.00"}},null,"     h2) Recaudación por Participar",{"$nulls":29},{"$f":"Balanza!H141","v":{"v":0,"d":"0.00"}},{"$f":"Balanza!D141","v":{"v":0,"d":"0.00"}}]
[null,"     g4) Adquisición con Fondos de Terceros",{"$nulls":29},{"$f":"Balanza!G42","v":{"v":0,"d":"0.00"}},{"$f":"Balanza!C42","v":{"v":0,"d":"0.00"}},null,"     h3) Otros Pasivos Circulantes",{"$nulls":29},{"$f":"Balanza!H142","v":{"v":0,"d":"0.00"}},{"$f":"Balanza!D142","v":{"v":0,"d":"0.00"}}]
[null,"IA. Total de Activos Circulantes",{"$nulls":29},{"$f":"AF8+AF16+AF24+AF30+AF36+AF37+AF40","v":{"v":22157781.99,"d":"22,157,781.99"}},{"$f":"AG8+AG16+AG24+AG30+AG36+AG37+AG40","v":{"v":12633909.97,"d":"12,633,909.97"}},null,"IIA. Total de Pasivos Circulantes",{"$nulls":29},{"$f":"BM8+BM18+BM22+BM25+BM26+BM30+BM37+BM41","v":{"v":8046555.51,"d":"8,046,555.51"}},{"$f":"BN8+BN18+BN22+BN25+BN26+BN30+BN37+BN41","v":{"v":7412358.35,"d":"7,412,358.35"}}]
[null,"Activo No Circulantes",{"$nulls":32},"  Pasivo No Circulante"]
[null,"   a. Inversiones Financieras a Largo Plazo",{"$nulls":29},{"$f":"Balanza!G44","v":{"v":40562.35,"d":"40,562.35"}},{"$f":"Balanza!C44","v":{"v":0,"d":"0.00"}},null,"   a. Cuentas por Pagar a Largo Plazo",{"$nulls":29},{"$f":"Balanza!H144","v":{"v":0,"d":"0.00"}},{"$f":"Balanza!D144","v":{"v":0,"d":"0.00"}}]
[null,"   b. Derechos a Recibir Efectivo o Equivalentes a Largo Plazo",{"$nulls":29},{"$f":"Balanza!G49","v":{"v":0,"d":"0.00"}},{"$f":"Balanza!C49","v":{"v":0,"d":"0.00"}},null,"   b. Documentos por Pagar a Largo Plazo",{"$nulls":29},{"$f":"Balanza!H147","v":{"v":0,"d":"0.00"}},{"$f":"Balanza!D147","v":{"v":0,"d":"0.00"}}]
[null,"   c. Bienes Inmuebles, Infraestructura y Construcciones en Proceso",{"$nulls":29},{"$f":"Balanza!G55","v":{"v":366916050.95,"d":"366,916,050.95"}},{"$f":"Balanza!C55","v":{"v":366636307.45,"d":"366,636,307.45"}},null,"   c. Deuda Pública a Largo Plazo",{"$nulls":29},{"$f":"Balanza!H151","v":{"v":27613307.72,"d":"27,613,307.72"}},{"$f":"Balanza!D151","v":{"v":28533916.26,"d":"28,533,916.26"}}]
[null,"   d. Bienes Muebles",{"$nulls":29},{"$f":"Balanza!G63","v":{"v":54350880.760000005,"d":"54,350,880.76"}},{"$f":"Balanza!C63","v":{"v":54303320.760000005,"d":"54,303,320.76"}},null,"   d. Pasivos Diferidos a Largo Plazo",{"$nulls":29},{"$f":"Balanza!H157","v":{"v":0,"d":"0.00"}},{"$f":"Balanza!D157","v":{"v":0,"d":"0.00"}}]
[null,"   e. Activos Intangibles",{"$nulls":29},{"$f":"Balanza!G72","v":{"v":2757222.7,"d":"2,757,222.70"}},{"$f":"Balanza!C72","v":{"v":2757222.7,"d":"2,757,222.70"}},null,"   e. Fondos y Bienes de Terceros en Garantía y/o Administración a Largo Plazo",{"$nulls":29},{"$f":"Balanza!H161","v":{"v":0,"d":"0.00"}},{"$f":"Balanza!D161","v":{"v":0,"d":"0.00"}}]
[null,"   f. Depreciación, Deterioro y Amortización Acumulada de Bienes",{"$nulls":29},{"$f":"(Balanza!H78)*-1","v":{"v":-18350457.8,"d":"-18,350,457.80"}},{"$f":"(Balanza!D78)*-1","v":{"v":-18350457.8,"d":"-18,350,457.80"}},null,"   f. Provisiones a Largo Plazo",{"$nulls":29},{"$f":"Balanza!H168","v":{"v":0,"d":"0.00"}},{"$f":"Balanza!D168","v":{"v":0,"d":"0.00"}}]
[null,"   g. Activos Diferidos",{"$nulls":29},{"$f":"Balanza!G84","v":{"v":0,"d":"0.00"}},{"$f":"Balanza!C84","v":{"v":0,"d":"0.00"}},null,"IIB. Total de Pasivos No Circulantes",{"$nulls":29},{"$f":"BM47+BM48+BM49+BM50+BM51+BM52","v":{"v":27613307.72,"d":"27,613,307.72"}},{"$f":"BN47+BN48+BN49+BN50+BN51+BN52","v":{"v":28533916.26,"d":"28,533,916.26"}}]
[null,"   h. Estimación por Pérdida o Deterioro de Activos no Circulantes",{"$nulls":29},{"$f":"(Balanza!H91)*-1","v":{"v":0,"d":"0.00"}},{"$f":"(Balanza!D91)*-1","v":{"v":0,"d":"0.00"}},null,"II. Total del Pasivo",{"$nulls":29},{"$f":"BM45+BM53","v":{"v":35659863.23,"d":"35,659,863.23"}},{"$f":"BN45+BN53","v":{"v":35946274.61,"d":"35,946,274.61"}}]
[null,"   i. Otros Activos no Circulantes",{"$nulls":29},{"$f":"Balanza!G97","v":{"v":0,"d":"0.00"}},{"$f":"Balanza!C97","v":{"v":0,"d":"0.00"}},null,"HACIENDA PÚBLICA/PATRIMONIO"]
[null,"IB. Total de Activos No Circulantes",{"$nulls":29},{"$f":"AF47+AF48+AF49+AF50+AF51+AF52+AF53+AF54+AF55","v":{"v":405714258.96,"d":"405,714,258.96"}},{"$f":"AG47+AG48+AG49+AG50+AG51+AG52+AG53+AG54+AG55","v":{"v":405346393.10999995,"d":"405,346,393.11"}},null,"IIIA. Hacienda Pública/Patrimonio Contribuido",{"$nulls":29},{"$f":"SUM(BM57:BM59)","v":{"v":0,"d":"0.00"}},{"$f":"SUM(BN57:BN59)","v":{"v":0,"d":"0.00"}}]
[null,"I. Total del Activo",{"$nulls":29},{"$f":"AF45+AF56","v":{"v":427872040.95,"d":"427,872,040.95"}},{"$f":"AG45+AG56","v":{"v":417980303.08,"d":"417,980,303.08"}},null,"   a. Aportaciones",{"$nulls":29},{"$f":"Balanza!H175","v":{"v":0,"d":"0.00"}},{"$f":"Balanza!D175","v":{"v":0,"d":"0.00"}}]
[{"$nulls":34},"   b. Donaciones de Capital",{"$nulls":29},{"$f":"Balanza!H176","v":{"v":0,"d":"0.00"}},{"$f":"Balanza!D176","v":{"v":0,"d":"0.00"}}]
[{"$nulls":34},"   c. Actualización de la Hacienda Pública/Patrimonio",{"$nulls":29},{"$f":"Balanza!H177","v":{"v":0,"d":"0.00"}},{"$f":"Balanza!D177","v":{"v":0,"d":"0.00"}}]
[{"$nulls":34},"IIIB. Hacienda Pública/Patrimonio Generado",{"$nulls":29},{"$f":"BM61+BM62+BM63+BM64+BM65","v":{"v":392212177.72,"d":"392,212,177.72"}},{"$f":"BN61+BN62+BN63+BN64+BN65","v":{"v":382034028.46999997,"d":"382,034,028.47"}}]
[{"$nulls":34},"   a. Resultado del Ejercicio  (Ahorro/Desahorro)",{"$nulls":29},{"$f":"Balanza!H179","v":{"v":10178149.25,"d":"10,178,149.25"}},{"$f":"Balanza!D179","v":{"v":-25621832.120000005,"d":"-25,621,832.12"}}]
[{"$nulls":34},"   b. Resultados de Ejercicios Anteriores",{"$nulls":29},{"$f":"Balanza!H180","v":{"v":382034028.47,"d":"382,034,028.47"}},{"$f":"Balanza!D180","v":{"v":407655860.59,"d":"407,655,860.59"}}]
[{"$nulls":34},"  c. Revalúos",{"$nulls":29},{"$f":"Balanza!H181","v":{"v":0,"d":"0.00"}},{"$f":"Balanza!D181","v":{"v":0,"d":"0.00"}}]
[{"$nulls":34},"  d. Reservas",{"$nulls":29},{"$f":"Balanza!H186","v":{"v":0,"d":"0.00"}},{"$f":"Balanza!D186","v":{"v":0,"d":"0.00"}}]
[{"$nulls":34},"  e. Rectificaciones de Resultados de Ejercicios Anteriores",{"$nulls":29},{"$f":"Balanza!H190","v":{"v":0,"d":"0.00"}},{"$f":"Balanza!D190","v":{"v":0,"d":"0.00"}}]
[{"$nulls":34},"IIIC. Exceso o Insuficiencia en la Actualización de la Hacienda Pública/Patrimonio",{"$nulls":29},{"$f":"SUM(BM67:BM68)","v":{"v":0,"d":"0.00"}},{"$f":"SUM(BN67:BN68)","v":{"v":0,"d":"0.00"}}]
[{"$nulls":34},"   a. Resultado por Posición Monetaria",{"$nulls":29},{"$f":"Balanza!H195","v":{"v":0,"d":"0.00"}},{"$f":"Balanza!D195","v":{"v":0,"d":"0.00"}}]
[{"$nulls":34},"   b. Resultado por Tenencia de Activos no Monetarios",{"$nulls":29},{"$f":"Balanza!H196","v":{"v":0,"d":"0.00"}},{"$f":"Balanza!D196","v":{"v":0,"d":"0.00"}}]
[{"$nulls":34},"III. Total Hacienda Pública/Patrimonio",{"$nulls":29},{"$f":"BM56+BM60+BM66","v":{"v":392212177.72,"d":"392,212,177.72"}},{"$f":"BN56+BN60+BN66","v":{"v":382034028.46999997,"d":"382,034,028.47"}}]
[{"$nulls":34},"IV. Total del Pasivo y Hacienda Pública/Patrimonio",{"$nulls":29},{"$f":"BM54+BM69","v":{"v":427872040.95000005,"d":"427,872,040.95"}},{"$f":"BN54+BN69","v":{"v":417980303.08,"d":"417,980,303.08"}}]
[]
[null,"Bajo protesta de decir verdad declaramos que los Estados Financieros y sus notas, son razonablemente correctos y son responsabilidad del emisor."]
[]
[]
[]
[{"$nulls":16},{"$f":"Validacion!A7","v":"LIC. JOSE HERIBERTO GARCIA MURILLO"},{"$nulls":31},{"$f":"Validacion!A9","v":"LAE BRUNO GERMAN ENCISO GUILLEN"}]
[]
[{"$nulls":16},"Presidente Municipal o Títular del ente público",{"$nulls":31},"Encargado de la Hacienda Pública Municipal o Responsable de las finanzas del ente público"]

{"sheet":"F6","index":20,"n_rows":550,"n_cols":52,"rows_kept":550,"hidden":true,"merged":[[0,0,0,50],[1,0,1,50],[2,0,2,50],[3,0,3,50],[4,1,4,48],[183,1,183,48],[538,1,538,48],[539,1,539,48],[546,15,546,31],[546,47,546,50],[547,15,548,31],[547,47,548,50],[549,15,550,31],[549,47,550,50]]}
[{"$f":"\"Nombre del Ente Público: \"&Validacion!A2","v":"Nombre del Ente Público: Ixtlahuacán de los Membrillos"}]
["Estado Analítico del Actividades"]
[{"$f":"'F9-EDP'!A3","v":"DEL 1° DE ENERO AL 31 DE ENERO DE 2026"}]
["(Cifras en pesos)"]
["CTA","Concepto",{"$nulls":47},{"$f":"Validacion!F185","v":2026},{"$f":"Validacion!F186","v":2025}]
["40000","INGRESOS Y OTROS BENEFICIOS"]
["41000","INGRESOS DE GESTIÓN",{"$nulls":47},{"$f":"AX8+AX29+AX35+AX40+AX72+AX81+AX102","v":{"v":11618942.64,"d":"11,618,942.64"}},{"$f":"AY8+AY29+AY35+AY40+AY72+AY81+AY102","v":{"v":104942611.5,"d":"104,942,611.50"}}]
["41100","IMPUESTOS",{"$nulls":47},{"$f":"AX9+AX11+AX15+AX16+AX17+AX18+AX19+AX25+AX27","v":{"v":7919529.54,"d":"7,919,529.54"}},{"$f":"AY9+AY11+AY15+AY16+AY17+AY18+AY19+AY25+AY27","v":{"v":51909718.15,"d":"51,909,718.15"}}]
[41110,"Impuestos sobre los ingresos",{"$nulls":47},{"$f":"SUM(AX10)","v":{"v":0,"d":"0.00"}},{"$f":"SUM(AY10)","v":{"v":1500,"d":"1,500.00"}}]
["41110-1","  Impuestos sobre espectáculos públicos",{"$nulls":47},{"$f":"Balanza!H201","v":{"v":0,"d":"0.00"}},{"$f":"Balanza!D201","v":{"v":1500,"d":"1,500.00"}}]
[41120,"Impuestos sobre el patrimonio",{"$nulls":47},{"$f":"SUM(AX12:AX14)","v":{"v":7635991.75,"d":"7,635,991.75"}},{"$f":"SUM(AY12:AY14)","v":{"v":50092183.67,"d":"50,092,183.67"}}]
["41120-1","  Impuesto predial ",{"$nulls":47},{"$f":"Balanza!H203","v":{"v":6314720.64,"d":"6,314,720.64"}},{"$f":"Balanza!D203","v":{"v":22035419.36,"d":"22,035,419.36"}}]
["41120-2","  Impuestos sobre transmisiones patrimoniales",{"$nulls":47},{"$f":"Balanza!H204","v":{"v":1319887.11,"d":"1,319,887.11"}},{"$f":"Balanza!D204","v":{"v":27818853,"d":"27,818,853.00"}}]
["41120-3","  Impuestos sobre negocios jurídicos",{"$nulls":47},{"$f":"Balanza!H205","v":{"v":1384,"d":"1,384.00"}},{"$f":"Balanza!D205","v":{"v":237911.31,"d":"237,911.31"}}]
["41130","Impuestos sobre la producción, el consumo y las transacciones",{"$nulls":47},{"v":0,"d":"0.00"},{"v":0,"d":"0.00"}]
["41140","Impuestos al comercio exterior",{"$nulls":47},{"v":0,"d":"0.00"},{"v":0,"d":"0.00"}]
["41150","Impuestos sobre nóminas y asimilables",{"$nulls":47},{"v":0,"d":"0.00"},{"v":0,"d":"0.00"}]
["41160","Impuestos ecológicos",{"$nulls":47},{"v":0,"d":"0.00"},{"v":0,"d":"0.00"}]
["41170","Accesorios de impuestos",{"$nulls":47},{"$f":"SUM(AX20:AX24)","v":{"v":283537.79000000004,"d":"283,537.79"}},{"$f":"SUM(AY20:AY24)","v":{"v":1816034.48,"d":"1,816,034.48"}}]
["41170-1","  Recargos",{"$nulls":47},{"$f":"Balanza!H211","v":{"v":166036.57,"d":"166,036.57"}},{"$f":"Balanza!D211","v":{"v":987753.19,"d":"987,753.19"}}]
["41170-2","  Actualizaciones",{"$nulls":47},{"$f":"Balanza!H212","v":{"v":0,"d":"0.00"}},{"$f":"Balanza!D212","v":{"v":0,"d":"0.00"}}]
["41170-3","  Multas",{"$nulls":47},{"$f":"Balanza!H213","v":{"v":117501.22,"d":"117,501.22"}},{"$f":"Balanza!D213","v":{"v":827266.08,"d":"827,266.08"}}]
["41170-4","  Gastos de ejecución",{"$nulls":47},{"$f":"Balanza!H214","v":{"v":0,"d":"0.00"}},{"$f":"Balanza!D214","v":{"v":1015.21,"d":"1,015.21"}}]
["41170-5","  Otros no especificados",{"$nulls":47},{"$f":"Balanza!H215","v":{"v":0,"d":"0.00"}},{"$f":"Balanza!D215","v":{"v":0,"d":"0.00"}}]
["41180","Impuestos no comprendidos en la ley de ingresos vigente, causados en ejercicio fiscales anteriores pendientes de liquidar o pago",{"$nulls":47},{"$f":"SUM(AX26)","v":{"v":0,"d":"0.00"}},{"$f":"SUM(AY26)","v":{"v":0,"d":"0.00"}}]
["41180-1","Impuestos no comprendidos en la ley de ingresos vigente, causados en ejercicio fiscales anteriores pendientes de liquidar o pago",{"$nulls":47},{"$f":"Balanza!H217","v":{"v":0,"d":"0.00"}},{"$f":"Balanza!D217","v":{"v":0,"d":"0.00"}}]
["41190","Otros Impuestos",{"$nulls":47},{"$f":"SUM(AX28)","v":{"v":0,"d":"0.00"}},{"$f":"SUM(AY28)","v":{"v":0,"d":"0.00"}}]
["41190-1","  Otros impuestos",{"$nulls":47},{"$f":"Balanza!H219","v":{"v":0,"d":"0.00"}},{"$f":"Balanza!D219","v":{"v":0,"d":"0.00"}}]
["41200","CUOTAS Y APORTACIONES DE SEGURIDAD SOCIAL",{"$nulls":47},{"$f":"SUM(AX30:AX34)","v":{"v":0,"d":"0.00"}},{"$f":"SUM(AY30:AY34)","v":{"v":0,"d":"0.00"}}]
["41210","Aportaciones para fondos de vivienda",{"$nulls":47},{"v":0,"d":"0.00"},{"v":0,"d":"0.00"}]
["41220","Cuotas para la seguridad social",{"$nulls":47},{"v":0,"d":"0.00"},{"v":0,"d":"0.00"}]
["41230","Cuotas de ahorro para el retiro",{"$nulls":47},{"v":0,"d":"0.00"},{"v":0,"d":"0.00"}]
["41240","Accesorios de cuotas y aportaciones de seguridad social",{"$nulls":47},{"v":0,"d":"0.00"},{"v":0,"d":"0.00"}]
["41290","Otras cuotas y aportaciones para la seguridad social",{"$nulls":47},{"v":0,"d":"0.00"},{"v":0,"d":"0.00"}]
["41300","CONTRIBUCIONES DE MEJORAS",{"$nulls":47},{"$f":"AX36+AX38","v":{"v":0,"d":"0.00"}},{"$f":"AY36+AY38","v":{"v":0,"d":"0.00"}}]
["41310","Contribuciones de mejoras por obras públicas",{"$nulls":47},{"$f":"SUM(AX37)","v":{"v":0,"d":"0.00"}},{"$f":"SUM(AY37)","v":{"v":0,"d":"0.00"}}]
["41310-1","  Contribuciones de mejoras por obras públicas",{"$nulls":47},{"$f":"Balanza!H228","v":{"v":0,"d":"0.00"}},{"$f":"Balanza!D228","v":{"v":0,"d":"0.00"}}]
["41320","Contribuciones de mejoras no comprendidas en la ley de ing. vigente, causadas en ejercicios fiscales anteriores pendientes de liq. o pago",{"$nulls":47},{"$f":"SUM(AX39)","v":{"v":0,"d":"0.00"}},{"$f":"SUM(AY39)","v":{"v":0,"d":"0.00"}}]
["41320-1","  Contribuciones de mejoras no comprendidas en la ley de ing. vigente, causadas en ejercicios fiscales anteriores pendientes de liq. o pago",{"$nulls":47},{"$f":"Balanza!H230","v":{"v":0,"d":"0.00"}},{"$f":"Balanza!D230","v":{"v":0,"d":"0.00"}}]
["41400","DERECHOS",{"$nulls":47},{"$f":"AX41+AX46+AX47+AX62+AX68+AX70","v":{"v":3506678.6100000003,"d":"3,506,678.61"}},{"$f":"AY41+AY46+AY47+AY62+AY68+AY70","v":{"v":43986432.300000004,"d":"43,986,432.30"}}]
["41410","Derechos por el uso, goce, aprovechamiento o explotación de bienes de dominio público",{"$nulls":47},{"$f":"SUM(AX42:AX45)","v":{"v":950460.4,"d":"950,460.40"}},{"$f":"SUM(AY42:AY45)","v":{"v":3450843.95,"d":"3,450,843.95"}}]
["41410-1","  Derechos por el uso del piso",{"$nulls":47},{"$f":"Balanza!H233","v":{"v":140000,"d":"140,000.00"}},{"$f":"Balanza!D233","v":{"v":1756428.42,"d":"1,756,428.42"}}]
["41410-2","  Derechos por el uso de los estacionamientos",{"$nulls":47},{"$f":"Balanza!H234","v":{"v":284542.4,"d":"284,542.40"}},{"$f":"Balanza!D234","v":{"v":709922,"d":"709,922.00"}}]
["41410-3","  Derechos de uso de cementerios y panteones municipales",{"$nulls":47},{"$f":"Balanza!H235","v":{"v":518768,"d":"518,768.00"}},{"$f":"Balanza!D235","v":{"v":964443.53,"d":"964,443.53"}}]
["41410-4","  Derechos de concesiones y demás inmuebles de propiedad municipal",{"$nulls":47},{"$f":"Balanza!H236","v":{"v":7150,"d":"7,150.00"}},{"$f":"Balanza!D236","v":{"v":20050,"d":"20,050.00"}}]
["41420","Derechos a los hidrocarburos (derogada)",{"$nulls":47},{"v":0,"d":"0.00"},{"v":0,"d":"0.00"}]
["41430","Derechos por prestación de servicios",{"$nulls":47},{"$f":"SUM(AX48:AX61)","v":{"v":2143318.2100000004,"d":"2,143,318.21"}},{"$f":"SUM(AY48:AY61)","v":{"v":34848579.13,"d":"34,848,579.13"}}]
["41430-1","  Derechos de licencias y permisos de giros",{"$nulls":47},{"$f":"Balanza!H239","v":{"v":804328,"d":"804,328.00"}},{"$f":"Balanza!D239","v":{"v":5060565.27,"d":"5,060,565.27"}}]
["41430-2","  Derechos de licencias y permisos de anuncios",{"$nulls":47},{"$f":"Balanza!H240","v":{"v":342740.35,"d":"342,740.35"}},{"$f":"Balanza!D240","v":{"v":961943.22,"d":"961,943.22"}}]
["41430-3","  Derechos de licencias de construcción, reconstrucción, reparación o demolición de obras",{"$nulls":47},{"$f":"Balanza!H241","v":{"v":54980.84,"d":"54,980.84"}},{"$f":"Balanza!D241","v":{"v":11284653.88,"d":"11,284,653.88"}}]
["41430-4","  Derechos de regularizaciones de los registros de obra",{"$nulls":47},{"$f":"Balanza!H242","v":{"v":0,"d":"0.00"}},{"$f":"Balanza!D242","v":{"v":1250,"d":"1,250.00"}}]
["41430-5","  Derechos de alineamiento, designación de número oficial e inspección",{"$nulls":47},{"$f":"Balanza!H243","v":{"v":7686.28,"d":"7,686.28"}},{"$f":"Balanza!D243","v":{"v":277496.2,"d":"277,496.20"}}]
["41430-6","  Derechos de licencias de cambio de régimen de propiedad y urbanización",{"$nulls":47},{"$f":"Balanza!H244","v":{"v":0,"d":"0.00"}},{"$f":"Balanza!D244","v":{"v":12252574.68,"d":"12,252,574.68"}}]
["41430-7","  Derechos de servicios de obra",{"$nulls":47},{"$f":"Balanza!H245","v":{"v":0,"d":"0.00"}},{"$f":"Balanza!D245","v":{"v":370,"d":"370.00"}}]
["41430-8","  Derechos de servicios de sanidad",{"$nulls":47},{"$f":"Balanza!H246","v":{"v":3616,"d":"3,616.00"}},{"$f":"Balanza!D246","v":{"v":45567.89,"d":"45,567.89"}}]
["41430-9","  Derechos de servicio de limpieza, recolección, traslado, tratamiento y disposición final de residuos",{"$nulls":47},{"$f":"Balanza!H247","v":{"v":264367,"d":"264,367.00"}},{"$f":"Balanza!D247","v":{"v":1113326.37,"d":"1,113,326.37"}}]
["41430-10","  Derechos de agua potable, drenaje, alcantarillado, tratamiento y disposición final de aguas residuales",{"$nulls":47},{"$f":"Balanza!H248","v":{"v":0,"d":"0.00"}},{"$f":"Balanza!D248","v":{"v":0,"d":"0.00"}}]
["41430-11","  Derechos del rastro",{"$nulls":47},{"$f":"Balanza!H249","v":{"v":19376,"d":"19,376.00"}},{"$f":"Balanza!D249","v":{"v":97407,"d":"97,407.00"}}]
["41430-12","  Derechos del registro civil",{"$nulls":47},{"$f":"Balanza!H250","v":{"v":51998.5,"d":"51,998.50"}},{"$f":"Balanza!D250","v":{"v":614129.74,"d":"614,129.74"}}]
["41430-13","  Derechos de las certificaciones",{"$nulls":47},{"$f":"Balanza!H251","v":{"v":559751.47,"d":"559,751.47"}},{"$f":"Balanza!D251","v":{"v":2436875.77,"d":"2,436,875.77"}}]
["41430-14","  Derechos de los servicios de catastro",{"$nulls":47},{"$f":"Balanza!H252","v":{"v":34473.77,"d":"34,473.77"}},{"$f":"Balanza!D252","v":{"v":702419.11,"d":"702,419.11"}}]
["41440","Accesorios de derecho",{"$nulls":47},{"$f":"SUM(AX63:AX67)","v":{"v":412900,"d":"412,900.00"}},{"$f":"SUM(AY63:AY67)","v":{"v":446793.22,"d":"446,793.22"}}]
["41440-1","  Recargos",{"$nulls":47},{"$f":"Balanza!H254","v":{"v":6600,"d":"6,600.00"}},{"$f":"Balanza!D254","v":{"v":38832,"d":"38,832.00"}}]
["41440-2","  Actualizaciones",{"$nulls":47},{"$f":"Balanza!H255","v":{"v":0,"d":"0.00"}},{"$f":"Balanza!D255","v":{"v":0,"d":"0.00"}}]
["41440-3","  Multas",{"$nulls":47},{"$f":"Balanza!H256","v":{"v":1999,"d":"1,999.00"}},{"$f":"Balanza!D256","v":{"v":407961.22,"d":"407,961.22"}}]
["41440-4","  Gastos de ejecución",{"$nulls":47},{"$f":"Balanza!H257","v":{"v":0,"d":"0.00"}},{"$f":"Balanza!D257","v":{"v":0,"d":"0.00"}}]
["41440-5","  Otros no especificados",{"$nulls":47},{"$f":"Balanza!H258","v":{"v":404301,"d":"404,301.00"}},{"$f":"Balanza!D258","v":{"v":0,"d":"0.00"}}]
["41450","Derechos no comprendidos en la ley de ingresos vigente, causados en ejercicios fiscales anteriores pendientes de liquidación o pago",{"$nulls":47},{"$f":"SUM(AX69)","v":{"v":0,"d":"0.00"}},{"$f":"SUM(AY69)","v":{"v":0,"d":"0.00"}}]
["41450-1","  Derechos no comprendidos en la ley de ingresos vigente, causados en ejercicios fiscales anteriores pendientes de liquidación o pago",{"$nulls":47},{"$f":"Balanza!H260","v":{"v":0,"d":"0.00"}},{"$f":"Balanza!D260","v":{"v":0,"d":"0.00"}}]
["41490","Otros derechos",{"$nulls":47},{"$f":"SUM(AX71)","v":{"v":0,"d":"0.00"}},{"$f":"SUM(AY71)","v":{"v":5240216,"d":"5,240,216.00"}}]
["41490-1","  Otros derechos",{"$nulls":47},{"$f":"Balanza!H262","v":{"v":0,"d":"0.00"}},{"$f":"Balanza!D262","v":{"v":5240216,"d":"5,240,216.00"}}]
["41500","PRODUCTOS",{"$nulls":47},{"$f":"AX73+AX76+AX77+AX78+AX80","v":{"v":72792.36,"d":"72,792.36"}},{"$f":"AY73+AY76+AY77+AY78+AY80","v":{"v":563407.4600000001,"d":"563,407.46"}}]
["41510","Productos ",{"$nulls":47},{"$f":"SUM(AX74:AX75)","v":{"v":72792.36,"d":"72,792.36"}},{"$f":"SUM(AY74:AY75)","v":{"v":563407.4600000001,"d":"563,407.46"}}]
["41510-1","  Uso, goce, aprovechamiento o explotación de bienes de dominio privado",{"$nulls":47},{"$f":"Balanza!H265","v":{"v":0,"d":"0.00"}},{"$f":"Balanza!D265","v":{"v":12614.9,"d":"12,614.90"}}]
["41510-2","  Productos diversos",{"$nulls":47},{"$f":"Balanza!H266","v":{"v":72792.36,"d":"72,792.36"}},{"$f":"Balanza!D266","v":{"v":550792.56,"d":"550,792.56"}}]
["41520","Enajenación de bienes muebles no sujetos a ser inventariados (derogada)",{"$nulls":47},{"v":0,"d":"0.00"},{"v":0,"d":"0.00"}]
["41530","Accesorios de productos (derogada)",{"$nulls":47},{"v":0,"d":"0.00"},{"v":0,"d":"0.00"}]
["41540","Productos no comprendidos en la ley de ingresos vigente, causados en ejercicios fiscales anteriores pendientes de liquidación o pago",{"$nulls":47},{"$f":"SUM(AX79)","v":{"v":0,"d":"0.00"}},{"$f":"SUM(AY79)","v":{"v":0,"d":"0.00"}}]
["41540-1","  Productos no comprendidos en la ley de ingresos vigente, causadas en ejercicios fiscales anteriores pendientes de liquidación o pago",{"$nulls":47},{"$f":"Balanza!H270","v":{"v":0,"d":"0.00"}},{"$f":"Balanza!D270","v":{"v":0,"d":"0.00"}}]
["41590","Otros productos que generan ingresos corrientes (derogada)",{"$nulls":47},{"v":0,"d":"0.00"},{"v":0,"d":"0.00"}]
["41600","APROVECHAMIENTOS",{"$nulls":47},{"$f":"AX82+AX83+AX85+AX87+AX89+AX91+AX93+AX94+AX100","v":{"v":119942.13,"d":"119,942.13"}},{"$f":"AY82+AY83+AY85+AY87+AY89+AY91+AY93+AY94+AY100","v":{"v":8483053.59,"d":"8,483,053.59"}}]
["41610","Incentivos derivados de la colaboración fiscal (derogada)",{"$nulls":47},{"v":0,"d":"0.00"},{"v":0,"d":"0.00"}]
["41620","Multas",{"$nulls":47},{"$f":"SUM(AX84)","v":{"v":90615.84,"d":"90,615.84"}},{"$f":"SUM(AY84)","v":{"v":488284.76,"d":"488,284.76"}}]
["41620-1","  Multas",{"$nulls":47},{"$f":"Balanza!H275","v":{"v":90615.84,"d":"90,615.84"}},{"$f":"Balanza!D275","v":{"v":488284.76,"d":"488,284.76"}}]
["41630","Indemnizaciones",{"$nulls":47},{"$f":"SUM(AX86)","v":{"v":0,"d":"0.00"}},{"$f":"SUM(AY86)","v":{"v":1999,"d":"1,999.00"}}]
["41630-1","  Indemnizaciones",{"$nulls":47},{"$f":"Balanza!H277","v":{"v":0,"d":"0.00"}},{"$f":"Balanza!D277","v":{"v":1999,"d":"1,999.00"}}]
["41640","Reintegros",{"$nulls":47},{"$f":"SUM(AX88)","v":{"v":0,"d":"0.00"}},{"$f":"SUM(AY88)","v":{"v":0,"d":"0.00"}}]
["41640-1","  Reintegros",{"$nulls":47},{"$f":"Balanza!H279","v":{"v":0,"d":"0.00"}},{"$f":"Balanza!D279","v":{"v":0,"d":"0.00"}}]
["41650","Aprovechamientos provenientes de obras públicas",{"$nulls":47},{"$f":"SUM(AX90)","v":{"v":0,"d":"0.00"}},{"$f":"SUM(AY90)","v":{"v":6812903,"d":"6,812,903.00"}}]
["41650-1","  Aprovechamientos provenientes de obras públicas",{"$nulls":47},{"$f":"Balanza!H281","v":{"v":0,"d":"0.00"}},{"$f":"Balanza!D281","v":{"v":6812903,"d":"6,812,903.00"}}]
["41660","Aprovechamientos no comprendidos en la ley de ing. vigente, causados en ejercicios fiscales anteriores pendientes de liquidación o pago",{"$nulls":47},{"$f":"SUM(AX92)","v":{"v":0,"d":"0.00"}},{"$f":"SUM(AY92)","v":474.27}]
["41660-1","  Aprovechamientos no comprendidos en la ley de ing. vigente, causados en ejercicios fiscales anteriores pendientes de liquidación o pago",{"$nulls":47},{"$f":"Balanza!H283","v":{"v":0,"d":"0.00"}},{"$f":"Balanza!D283","v":474.27}]
["41670","Aprovechamientos por aportaciones y cooperaciones (derogada)",{"$nulls":47},{"v":0,"d":"0.00"},{"v":0,"d":"0.00"}]
["41680","Accesorios de aprovechamiento",{"$nulls":47},{"$f":"SUM(AX95:AX99)","v":{"v":29326.29,"d":"29,326.29"}},{"$f":"SUM(AY95:AY99)","v":{"v":1179392.56,"d":"1,179,392.56"}}]
["41680-1","  Recargos",{"$nulls":47},{"$f":"Balanza!H286","v":{"v":0,"d":"0.00"}},{"$f":"Balanza!D286","v":{"v":0,"d":"0.00"}}]
["41680-2","  Actualizaciones",{"$nulls":47},{"$f":"Balanza!H287","v":{"v":0,"d":"0.00"}},{"$f":"Balanza!D287","v":{"v":0,"d":"0.00"}}]
["41680-3","  Multas",{"$nulls":47},{"$f":"Balanza!H288","v":{"v":0,"d":"0.00"}},{"$f":"Balanza!D288","v":{"v":0,"d":"0.00"}}]
["41680-4","  Gastos de ejecución",{"$nulls":47},{"$f":"Balanza!H289","v":{"v":0,"d":"0.00"}},{"$f":"Balanza!D289","v":{"v":0,"d":"0.00"}}]
["41680-5","  Otros no especificados",{"$nulls":47},{"$f":"Balanza!H290","v":{"v":29326.29,"d":"29,326.29"}},{"$f":"Balanza!D290","v":{"v":1179392.56,"d":"1,179,392.56"}}]
["41690","Otros aprovechamientos",{"$nulls":47},{"$f":"SUM(AX101)","v":{"v":0,"d":"0.00"}},{"$f":"SUM(AY101)","v":{"v":0,"d":"0.00"}}]
["41690-1","  Otros aprovechamientos",{"$nulls":47},{"$f":"Balanza!H292","v":{"v":0,"d":"0.00"}},{"$f":"Balanza!D292","v":{"v":0,"d":"0.00"}}]
["41700","INGRESOS POR VENTAS DE BIENES Y PRESTACIÓN DE SERVICIOS",{"$nulls":47},{"$f":"AX103+AX105+AX106+AX108+AX109+AX110+AX111+AX113","v":{"v":0,"d":"0.00"}},{"$f":"AY103+AY105+AY106+AY108+AY109+AY110+AY111+AY113","v":{"v":0,"d":"0.00"}}]
["41710","Ingresos por venta de bienes y prestación de servicios de instituciones públicas de seguridad social",{"$nulls":47},{"$f":"SUM(AX104)","v":{"v":0,"d":"0.00"}},{"$f":"SUM(AY104)","v":{"v":0,"d":"0.00"}}]
["41710-1","  Ingresos por venta de bienes y prestación de servicios de instituciones públicas de seguridad social",{"$nulls":47},{"$f":"Balanza!H295","v":{"v":0,"d":"0.00"}},{"$f":"Balanza!D295","v":{"v":0,"d":"0.00"}}]
["41720","Ingresos por venta de bienes y prestación de servicios de empresas públicas del estado",{"$nulls":47},{"v":0,"d":"0.00"},{"v":0,"d":"0.00"}]
["41730","Ingresos por venta de bienes y prestación de servicios de entidades paraestatales y fideicomisos no empresariales y no financieros",{"$nulls":47},{"$f":"SUM(AX107)","v":{"v":0,"d":"0.00"}},{"$f":"SUM(AY107)","v":{"v":0,"d":"0.00"}}]
["41730-1","  Ingresos por venta de bienes y prestación de servicios de entidades paraestatales y fideicomisos no empresariales y no financieros",{"$nulls":47},{"$f":"Balanza!H298","v":{"v":0,"d":"0.00"}},{"$f":"Balanza!D298","v":{"v":0,"d":"0.00"}}]
["41740","Ingresos por venta de bienes y prestación de servicios de entidades paraestatales empresariales no financieras con participación estatal mayoritaria",{"$nulls":47},{"v":0,"d":"0.00"},{"v":0,"d":"0.00"}]
["41750","Ing. por vta. de bienes y prestación de servicios de entidades paraestatales empresariales financieras monetarias con participación estatal mayoritaria",{"$nulls":47},{"v":0,"d":"0.00"},{"v":0,"d":"0.00"}]
["41760","Ing. por vta. de bienes y prestación de servicios de entidades paraestatales empresariales financieras no monetarias con participación estatal mayoritaria",{"$nulls":47},{"v":0,"d":"0.00"},{"v":0,"d":"0.00"}]
["41770","Ingresos por venta de bienes y prestación de servicios de fideicomisos financieros públicos con participación estatal mayoritaria",{"$nulls":47},{"$f":"SUM(AX112)","v":{"v":0,"d":"0.00"}},{"$f":"SUM(AY112)","v":{"v":0,"d":"0.00"}}]
["41770-1","  Ingresos por venta de bienes y prestación de servicios de fideicomisos financieros públicos con participación estatal mayoritaria",{"$nulls":47},{"$f":"Balanza!H303","v":{"v":0,"d":"0.00"}},{"$f":"Balanza!D303","v":{"v":0,"d":"0.00"}}]
["41780","Ingresos por venta de bienes y prestación de servicios de los poderes legislativo y judicial, y de los órganos autónomos",{"$nulls":47},{"v":0,"d":"0.00"},{"v":0,"d":"0.00"}]
[41900,"ING. NO COMPRENDIDOS EN LAS FRACC. DE LA LEY DE ING. CAUSADAS EN EJERCICIOS FISCALES ANTERIORES PENDIENTES DE LIQUIDACIÓN O PAGO (DEROGADA)",{"$nulls":47},{"$f":"AX115+AX116","v":{"v":0,"d":"0.00"}},{"$f":"AY115+AY116","v":{"v":0,"d":"0.00"}},{"$f":"AZ115+AZ117+AZ118+AZ120+AZ121+AZ122+AZ123+AZ125","v":{"v":0,"d":"0.00"}}]
[41910,"Ingresos no comprendidos en las fracciones de la ley de ingresos causadas en ejercicios fiscales anteriores pendientes de liquidación o pago (Derogada)",{"$nulls":47},{"v":0,"d":"0.00"},{"v":0,"d":"0.00"}]
[41920,"Cont. de mejoras, derechos, productos, y aprovechamientos no compren. en las fracc. de la ley de ing. caus. en ejer. fisc. ant. pen. de liqui. o pago (Derogada)",{"$nulls":47},{"v":0,"d":"0.00"},{"v":0,"d":"0.00"}]
["42000"," PART, APORT, CONV, INCEN. DERIV. DE LA COLAB. FISC, FONDOS DISTINTOS DE APORT, TRANSF, ASIG, SUB Y SUBVE, Y PENS. Y JUB.",{"$nulls":47},{"$f":"AX118+AX149","v":{"v":18446220.95,"d":"18,446,220.95"}},{"$f":"AY118+AY149","v":{"v":227303887,"d":"227,303,887.00"}}]
["42100","PARTIC. APORT. CONVENIOS, INCENTIVOS DERIVADOS DE LA COLABORACIÓN FISCAL Y FONDOS DISTINTOS DE APORTACIONES.",{"$nulls":47},{"$f":"AX119+AX132+AX135+AX140+AX146","v":{"v":18446220.95,"d":"18,446,220.95"}},{"$f":"AY119+AY132+AY135+AY140+AY146","v":{"v":227303887,"d":"227,303,887.00"}}]
["42110","Participaciones",{"$nulls":47},{"$f":"SUM(AX120:AX131)","v":{"v":10273028.82,"d":"10,273,028.82"}},{"$f":"SUM(AY120:AY131)","v":{"v":138095306.82999998,"d":"138,095,306.83"}}]
["42110-1","  Fondo general de participaciones (federal)",{"$nulls":47},{"$f":"Balanza!H311","v":{"v":6286360.36,"d":"6,286,360.36"}},{"$f":"Balanza!D311","v":{"v":84127019.49,"d":"84,127,019.49"}}]
["42110-2","  Fondo de fomento municipal (federal)",{"$nulls":47},{"$f":"Balanza!H312","v":{"v":1682917.59,"d":"1,682,917.59"}},{"$f":"Balanza!D312","v":{"v":25251370.23,"d":"25,251,370.23"}}]
["42110-3","  Fondo de fiscalización y recaudación (federal)",{"$nulls":47},{"$f":"Balanza!H313","v":{"v":675410.34,"d":"675,410.34"}},{"$f":"Balanza!D313","v":{"v":4153596.56,"d":"4,153,596.56"}}]
["42110-4","  Fondo de compensación (federal)",{"$nulls":47},{"$f":"Balanza!H314","v":{"v":0,"d":"0.00"}},{"$f":"Balanza!D314","v":{"v":31913.15,"d":"31,913.15"}}]
["42110-5","  Fondo de extracción de hidrocarburos (federal)",{"$nulls":47},{"$f":"Balanza!H315","v":{"v":0,"d":"0.00"}},{"$f":"Balanza!D315","v":{"v":0,"d":"0.00"}}]
["42110-6","  Impuesto especial sobre producción y servicios (federal)",{"$nulls":47},{"$f":"Balanza!H316","v":{"v":124840.09,"d":"124,840.09"}},{"$f":"Balanza!D316","v":{"v":1793805.63,"d":"1,793,805.63"}}]
["42110-7","  0.136% de la recaudación federal participable (federal)",{"$nulls":47},{"$f":"Balanza!H317","v":{"v":0,"d":"0.00"}},{"$f":"Balanza!D317","v":{"v":0,"d":"0.00"}}]
["42110-8","  3.17% sobre extracción de petróleo (federal)",{"$nulls":47},{"$f":"Balanza!H318","v":{"v":0,"d":"0.00"}},{"$f":"Balanza!D318","v":{"v":0,"d":"0.00"}}]
["42110-9","  Gasolinas y diésel (federal)",{"$nulls":47},{"$f":"Balanza!H319","v":{"v":204179.27,"d":"204,179.27"}},{"$f":"Balanza!D319","v":{"v":2454172.1,"d":"2,454,172.10"}}]
["42110-10","  Fondo del impuesto sobre la renta (federal)",{"$nulls":47},{"$f":"Balanza!H320","v":{"v":0,"d":"0.00"}},{"$f":"Balanza!D320","v":{"v":2699767.2,"d":"2,699,767.20"}}]
["42110-11","  Fondo de estabilización de los ingresos de las entidades federativas (federal)",{"$nulls":47},{"$f":"Balanza!H321","v":{"v":0,"d":"0.00"}},{"$f":"Balanza!D321","v":{"v":0,"d":"0.00"}}]
["42110-12","  Participaciones del estado",{"$nulls":47},{"$f":"Balanza!H322","v":{"v":1299321.17,"d":"1,299,321.17"}},{"$f":"Balanza!D322","v":{"v":17583662.47,"d":"17,583,662.47"}}]
["42120"," Aportaciones",{"$nulls":47},{"$f":"SUM(AX133:AX134)","v":{"v":7172677.180000001,"d":"7,172,677.18"}},{"$f":"SUM(AY133:AY134)","v":{"v":78150188.25,"d":"78,150,188.25"}}]
["42120-1","  Fondo de aportaciones para la infraestructura social municipal",{"$nulls":47},{"$f":"Balanza!H324","v":{"v":1050202.7,"d":"1,050,202.70"}},{"$f":"Balanza!D324","v":{"v":10609906.43,"d":"10,609,906.43"}}]
["42120-2","  Fondo de aportaciones para el fortalecimiento municipal",{"$nulls":47},{"$f":"Balanza!H325","v":{"v":6122474.48,"d":"6,122,474.48"}},{"$f":"Balanza!D325","v":{"v":67540281.82,"d":"67,540,281.82"}}]
["42130","Convenios",{"$nulls":47},{"$f":"SUM(AX136:AX139)","v":{"v":602424.4,"d":"602,424.40"}},{"$f":"SUM(AY136:AY139)","v":{"v":7639059.27,"d":"7,639,059.27"}}]
["42130-1","  Convenios de protección social en salud",{"$nulls":47},{"$f":"Balanza!H327","v":{"v":0,"d":"0.00"}},{"$f":"Balanza!D327","v":{"v":0,"d":"0.00"}}]
["42130-2","  Convenios de descentralizados",{"$nulls":47},{"$f":"Balanza!H328","v":{"v":0,"d":"0.00"}},{"$f":"Balanza!D328","v":{"v":0,"d":"0.00"}}]
["42130-3","  Convenio de reasignación",{"$nulls":47},{"$f":"Balanza!H329","v":{"v":0,"d":"0.00"}},{"$f":"Balanza!D329","v":{"v":0,"d":"0.00"}}]
["42130-456","  Otros convenios y subsidios",{"$nulls":47},{"$f":"Balanza!H330+Balanza!H331+Balanza!H332","v":{"v":602424.4,"d":"602,424.40"}},{"$f":"Balanza!D330+Balanza!D331+Balanza!D332","v":{"v":7639059.27,"d":"7,639,059.27"}}]
["42140","Incentivos derivados de la colaboración fiscal",{"$nulls":47},{"$f":"SUM(AX141:AX145)","v":{"v":398090.55000000005,"d":"398,090.55"}},{"$f":"SUM(AY141:AY145)","v":{"v":3419332.65,"d":"3,419,332.65"}}]
["42140-1","  Tenencia o uso de vehículos",{"$nulls":47},{"$f":"Balanza!H334","v":1.78},{"$f":"Balanza!D334","v":21.56}]
["42140-2","  Fondo de compensación ISAN",{"$nulls":47},{"$f":"Balanza!H335","v":{"v":36336.17,"d":"36,336.17"}},{"$f":"Balanza!D335","v":{"v":351044.65,"d":"351,044.65"}}]
["42140-3","  Impuesto sobre automóviles nuevos",{"$nulls":47},{"$f":"Balanza!H336","v":{"v":194679.06,"d":"194,679.06"}},{"$f":"Balanza!D336","v":{"v":2170582.19,"d":"2,170,582.19"}}]
["42140-4","  Fondo de compensación de repecos-intermedios",{"$nulls":47},{"$f":"Balanza!H337","v":{"v":0,"d":"0.00"}},{"$f":"Balanza!D337","v":{"v":0,"d":"0.00"}}]
["42140-5","  Otros incentivos económicos",{"$nulls":47},{"$f":"Balanza!H338","v":{"v":167073.54,"d":"167,073.54"}},{"$f":"Balanza!D338","v":{"v":897684.25,"d":"897,684.25"}}]
["42150","Fondos distintos de aportaciones",{"$nulls":47},{"$f":"SUM(AX147:AX148)","v":{"v":0,"d":"0.00"}},{"$f":"SUM(AY147:AY148)","v":{"v":0,"d":"0.00"}}]
["42150-1","  Fondo para entidades federativas y municipios productores de hidrocarburos",{"$nulls":47},{"$f":"Balanza!H340","v":{"v":0,"d":"0.00"}},{"$f":"Balanza!D340","v":{"v":0,"d":"0.00"}}]
["42150-2","  Fondo minero",{"$nulls":47},{"$f":"Balanza!H341","v":{"v":0,"d":"0.00"}},{"$f":"Balanza!D341","v":{"v":0,"d":"0.00"}}]
["42200","TRANSFERENCIAS, ASIGNACIONES, SUBSIDIOS Y  SUBVENCIONES, PENSIONES Y JUBILACIONES",{"$nulls":47},{"$f":"AX150+AX152+AX153+AX155+AX156+AX158+AX159","v":{"v":0,"d":"0.00"}},{"$f":"AY150+AY152+AY153+AY155+AY156+AY158+AY159","v":{"v":0,"d":"0.00"}}]
["42210","Transferencias y asignaciones",{"$nulls":47},{"$f":"SUM(AX151)","v":{"v":0,"d":"0.00"}},{"$f":"SUM(AY151)","v":{"v":0,"d":"0.00"}}]
["42210-12","  Transferencias y asignaciones",{"$nulls":47},{"$f":"Balanza!H344+Balanza!H345","v":{"v":0,"d":"0.00"}},{"$f":"Balanza!D344+Balanza!D345","v":{"v":0,"d":"0.00"}}]
["42220","Transferencias del sector público (derogada)",{"$nulls":47},{"v":0,"d":"0.00"},{"v":0,"d":"0.00"}]
["42230","Subsidios y subvenciones",{"$nulls":47},{"$f":"SUM(AX154)","v":{"v":0,"d":"0.00"}},{"$f":"SUM(AY154)","v":{"v":0,"d":"0.00"}}]
["42230-12","  Subsidios y subvenciones",{"$nulls":47},{"$f":"Balanza!H348+Balanza!H349","v":{"v":0,"d":"0.00"}},{"$f":"Balanza!D348+Balanza!D349","v":{"v":0,"d":"0.00"}}]
["42240","Ayudas sociales (derogada)",{"$nulls":47},{"v":0,"d":"0.00"},{"v":0,"d":"0.00"}]
["42250","Pensiones y jubilaciones",{"$nulls":47},{"$f":"SUM(AX157)","v":{"v":0,"d":"0.00"}},{"$f":"SUM(AY157)","v":{"v":0,"d":"0.00"}}]
["42250-1","  Pensiones y jubilaciones",{"$nulls":47},{"$f":"Balanza!H352","v":{"v":0,"d":"0.00"}},{"$f":"Balanza!D352","v":{"v":0,"d":"0.00"}}]
["42260","Transferencias del exterior (derogada)",{"$nulls":47},{"v":0,"d":"0.00"},{"v":0,"d":"0.00"}]
["42270","Transferencias del fondo mexicano del petróleo para la estabilización y el desarrollo",{"$nulls":47},{"$f":"SUM(AX160)","v":{"v":0,"d":"0.00"}},{"$f":"SUM(AY160)","v":{"v":0,"d":"0.00"}}]
["42270-1","  Transferencias del fondo mexicano del petróleo para la estabilización y el desarrollo",{"$nulls":47},{"$f":"Balanza!H355","v":{"v":0,"d":"0.00"}},{"$f":"Balanza!D355","v":{"v":0,"d":"0.00"}}]
["43000"," OTROS INGRESOS Y BENEFICIOS",{"$nulls":47},{"$f":"AX162+AX165+AX171+AX173+AX175","v":{"v":0,"d":"0.00"}},{"$f":"AY162+AY165+AY171+AY173+AY175","v":{"v":0,"d":"0.00"}}]
["43100","INGRESOS FINANCIEROS",{"$nulls":47},{"$f":"SUM(AX163:AX164)","v":{"v":0,"d":"0.00"}},{"$f":"SUM(AY163:AY164)","v":{"v":0,"d":"0.00"}}]
["43110","Intereses ganados de títulos, valores y demás instrumentos financieros",{"$nulls":47},{"$f":"Balanza!H359","v":{"v":0,"d":"0.00"}},{"$f":"Balanza!D359","v":{"v":0,"d":"0.00"}}]
["43190","Otros ingresos financieros",{"$nulls":47},{"$f":"Balanza!H361","v":{"v":0,"d":"0.00"}},{"$f":"Balanza!D361","v":{"v":0,"d":"0.00"}}]
["43200","INCREMENTO POR VARIACIÓN DE INVENTARIOS",{"$nulls":47},{"$f":"SUM(AX166:AX170)","v":{"v":0,"d":"0.00"}},{"$f":"SUM(AY166:AY170)","v":{"v":0,"d":"0.00"}}]
["43210","Incremento por varación de inventarios de mercancías para venta",{"$nulls":47},{"v":0,"d":"0.00"},{"v":0,"d":"0.00"}]
["43220","Incremento por variación de inventarios de mercancías terminadas",{"$nulls":47},{"v":0,"d":"0.00"},{"v":0,"d":"0.00"}]
["43230","Incremento por variación de inventarios de mercancías en proceso de elaboración",{"$nulls":47},{"v":0,"d":"0.00"},{"v":0,"d":"0.00"}]
["43240","Incremento por variación de inventarios de materias primas, materiales y suministros para producción",{"$nulls":47},{"v":0,"d":"0.00"},{"v":0,"d":"0.00"}]
["43250","Incremento por variación de almacén de mercancías primas, materiales y suministros de consumo",{"$nulls":47},{"v":0,"d":"0.00"},{"v":0,"d":"0.00"}]
["43300","DISMINUCIÓN DEL EXCESO DE ESTIMACIONES POR PÉRDIDA O DETERIORO U OBSOLESCENCIA",{"$nulls":47},{"$f":"SUM(AX172)","v":{"v":0,"d":"0.00"}},{"$f":"SUM(AY172)","v":{"v":0,"d":"0.00"}}]
["43310","Disminución del Exceso de Estimaciones por Pérdida o Deterioro u Obsolescencia",{"$nulls":47},{"$f":"Balanza!H370","v":{"v":0,"d":"0.00"}},{"$f":"Balanza!D370","v":{"v":0,"d":"0.00"}}]
["43400","DISMINUCIÓN DEL EXCESO DE PROVISIONES",{"$nulls":47},{"$f":"AX174","v":{"v":0,"d":"0.00"}},{"$f":"AY174","v":{"v":0,"d":"0.00"}}]
["43410","Disminución del exceso de provisiones",{"$nulls":47},{"$f":"Balanza!H373","v":{"v":0,"d":"0.00"}},{"$f":"Balanza!D373","v":{"v":0,"d":"0.00"}}]
["43900","OTROS INGRESOS Y BENEFICIOS VARIOS",{"$nulls":47},{"$f":"SUM(AX176:AX183)","v":{"v":0,"d":"0.00"}},{"$f":"SUM(AY176:AY183)","v":{"v":0,"d":"0.00"}}]
["43910","Otros ingresos de ejercicios anteriores (derogada)",{"$nulls":47},{"v":0,"d":"0.00"},{"v":0,"d":"0.00"}]
["43920","Bonificaciónes y descuentos obtenidos",{"$nulls":47},{"$f":"Balanza!H377","v":{"v":0,"d":"0.00"}},{"$f":"Balanza!D377","v":{"v":0,"d":"0.00"}}]
["43930","Diferencias por tipo de cambio a favor",{"$nulls":47},{"$f":"Balanza!H379","v":{"v":0,"d":"0.00"}},{"$f":"Balanza!D379","v":{"v":0,"d":"0.00"}}]
["43940","Diferencias de cotizaciones a favor en valores negociables",{"$nulls":47},{"$f":"Balanza!H381","v":{"v":0,"d":"0.00"}},{"$f":"Balanza!D381","v":{"v":0,"d":"0.00"}}]
["43950","Resultado por posición monetaria",{"$nulls":47},{"$f":"Balanza!H383","v":{"v":0,"d":"0.00"}},{"$f":"Balanza!D383","v":{"v":0,"d":"0.00"}}]
["43960","Utilidades por participación patrimonial",{"$nulls":47},{"$f":"Balanza!H385","v":{"v":0,"d":"0.00"}},{"$f":"Balanza!D385","v":{"v":0,"d":"0.00"}}]
["43970","Diferencias por reestructuración de deuda pública a favor",{"$nulls":47},{"$f":"Balanza!H387","v":{"v":0,"d":"0.00"}},{"$f":"Balanza!D387","v":{"v":0,"d":"0.00"}}]
["43990","Otros ingresos y beneficios varios",{"$nulls":47},{"$f":"Balanza!H389","v":{"v":0,"d":"0.00"}},{"$f":"Balanza!D389","v":{"v":0,"d":"0.00"}}]
[null,"TOTAL DE INGRESOS",{"$nulls":47},{"$f":"AX7+AX117+AX161","v":{"v":30065163.59,"d":"30,065,163.59"}},{"$f":"AY7+AY117+AY161","v":{"v":332246498.5,"d":"332,246,498.50"}}]
["50000","GASTOS Y OTRAS PÉRDIDAS"]
["51000"," GASTOS DE FUNCIONAMIENTO",{"$nulls":47},{"$f":"AX187+AX222+AX287","v":{"v":18353177.630000003,"d":"18,353,177.63"}},{"$f":"AY187+AY222+AY287","v":{"v":246352434.60999998,"d":"246,352,434.61"}}]
["51100","SERVICIOS PERSONALES",{"$nulls":47},{"$f":"AX188+AX193+AX198+AX207+AX212+AX219","v":{"v":6852124.45,"d":"6,852,124.45"}},{"$f":"AY188+AY193+AY198+AY207+AY212+AY219","v":{"v":88011042.47,"d":"88,011,042.47"}}]
["51110","Remuneraciones al personal de carácter permanente",{"$nulls":47},{"$f":"SUM(AX189:AX192)","v":{"v":3723834.6399999997,"d":"3,723,834.64"}},{"$f":"SUM(AY189:AY192)","v":{"v":45534947.480000004,"d":"45,534,947.48"}}]
["51110-1","  Dietas",{"$nulls":47},{"$f":"Balanza!G394","v":{"v":500786.26,"d":"500,786.26"}},{"$f":"Balanza!C394","v":{"v":6115199.21,"d":"6,115,199.21"}}]
["51110-2","  Haberes",{"$nulls":47},{"$f":"Balanza!G395","v":{"v":0,"d":"0.00"}},{"$f":"Balanza!C395","v":{"v":0,"d":"0.00"}}]
["51110-3","  Sueldos base al personal permanente",{"$nulls":47},{"$f":"Balanza!G396","v":{"v":3223048.38,"d":"3,223,048.38"}},{"$f":"Balanza!C396","v":{"v":39419748.27,"d":"39,419,748.27"}}]
["51110-4","  Remuneraciones por adscripción laboral en el extranjero",{"$nulls":47},{"$f":"Balanza!G397","v":{"v":0,"d":"0.00"}},{"$f":"Balanza!C397","v":{"v":0,"d":"0.00"}}]
["51120","Remuneraciones al personal de carácter transitorio",{"$nulls":47},{"$f":"SUM(AX194:AX197)","v":{"v":2092896.04,"d":"2,092,896.04"}},{"$f":"SUM(AY194:AY197)","v":{"v":22675151.02,"d":"22,675,151.02"}}]
["51120-1","  Honorarios asimilables a salarios",{"$nulls":47},{"$f":"Balanza!G399","v":{"v":0,"d":"0.00"}},{"$f":"Balanza!C399","v":{"v":0,"d":"0.00"}}]
["51120-2","  Sueldos base al personal eventual",{"$nulls":47},{"$f":"Balanza!G400","v":{"v":2092896.04,"d":"2,092,896.04"}},{"$f":"Balanza!C400","v":{"v":22675151.02,"d":"22,675,151.02"}}]
["51120-3","  Retribuciones por servicios de carácter social",{"$nulls":47},{"$f":"Balanza!G401","v":{"v":0,"d":"0.00"}},{"$f":"Balanza!C401","v":{"v":0,"d":"0.00"}}]
["51120-4","  Retribución a los representantes de los trabajadores y de los patrones en la Junta de Conciliación y Arbitraje",{"$nulls":47},{"$f":"Balanza!G402","v":{"v":0,"d":"0.00"}},{"$f":"Balanza!C402","v":{"v":0,"d":"0.00"}}]
["51130","Remuneraciones adicionales y especiales",{"$nulls":47},{"$f":"SUM(AX199:AX206)","v":{"v":69933.99,"d":"69,933.99"}},{"$f":"SUM(AY199:AY206)","v":{"v":11448350.379999999,"d":"11,448,350.38"}}]
["51130-1","  Primas por años de servicios efectivos prestados",{"$nulls":47},{"$f":"Balanza!G404","v":{"v":0,"d":"0.00"}},{"$f":"Balanza!C404","v":{"v":2080,"d":"2,080.00"}}]
["51130-2","  Primas de vacaciones, dominical y gratificación de fin de año",{"$nulls":47},{"$f":"Balanza!G405","v":{"v":2950.8,"d":"2,950.80"}},{"$f":"Balanza!C405","v":{"v":9851356.28,"d":"9,851,356.28"}}]
["51130-3","  Horas extraordinarias",{"$nulls":47},{"$f":"Balanza!G406","v":{"v":66983.19,"d":"66,983.19"}},{"$f":"Balanza!C406","v":{"v":1594914.1,"d":"1,594,914.10"}}]
["51130-4","  Compensaciones",{"$nulls":47},{"$f":"Balanza!G407","v":{"v":0,"d":"0.00"}},{"$f":"Balanza!C407","v":{"v":0,"d":"0.00"}}]
["51130-5","  Sobrehaberes",{"$nulls":47},{"$f":"Balanza!G408","v":{"v":0,"d":"0.00"}},{"$f":"Balanza!C408","v":{"v":0,"d":"0.00"}}]
["51130-6","  Asignaciones de técnico, de mando, por comisión, de vuelo y de técnico especial",{"$nulls":47},{"$f":"Balanza!G409","v":{"v":0,"d":"0.00"}},{"$f":"Balanza!C409","v":{"v":0,"d":"0.00"}}]
["51130-7","  Honorarios especiales",{"$nulls":47},{"$f":"Balanza!G410","v":{"v":0,"d":"0.00"}},{"$f":"Balanza!C410","v":{"v":0,"d":"0.00"}}]
["51130-8","  Participaciones por vigilancia en el cumplimiento de la leyes y custodia de valores",{"$nulls":47},{"$f":"Balanza!G411","v":{"v":0,"d":"0.00"}},{"$f":"Balanza!C411","v":{"v":0,"d":"0.00"}}]
["51140","Seguridad social",{"$nulls":47},{"$f":"SUM(AX208:AX211)","v":{"v":0,"d":"0.00"}},{"$f":"SUM(AY208:AY211)","v":{"v":0,"d":"0.00"}}]
["51140-1","  Aportaciones de seguridad social",{"$nulls":47},{"$f":"Balanza!G413","v":{"v":0,"d":"0.00"}},{"$f":"Balanza!C413","v":{"v":0,"d":"0.00"}}]
["51140-2","  Aportaciones a fondos de vivienda",{"$nulls":47},{"$f":"Balanza!G414","v":{"v":0,"d":"0.00"}},{"$f":"Balanza!C414","v":{"v":0,"d":"0.00"}}]
["51140-3","  Aportaciones al sistema para el retiro",{"$nulls":47},{"$f":"Balanza!G415","v":{"v":0,"d":"0.00"}},{"$f":"Balanza!C415","v":{"v":0,"d":"0.00"}}]
["51140-4","  Aportaciones para seguros",{"$nulls":47},{"$f":"Balanza!G416","v":{"v":0,"d":"0.00"}},{"$f":"Balanza!C416","v":{"v":0,"d":"0.00"}}]
["51150","Otras prestaciones sociales y económicas",{"$nulls":47},{"$f":"SUM(AX213:AX218)","v":{"v":315735.58,"d":"315,735.58"}},{"$f":"SUM(AY213:AY218)","v":{"v":1749870.25,"d":"1,749,870.25"}}]
["51150-1","  Cuotas para el fondo de ahorro y fondo de trabajo",{"$nulls":47},{"$f":"Balanza!G418","v":{"v":0,"d":"0.00"}},{"$f":"Balanza!C418","v":{"v":0,"d":"0.00"}}]
["51150-2","  Indemnizaciones",{"$nulls":47},{"$f":"Balanza!G419","v":{"v":315735.58,"d":"315,735.58"}},{"$f":"Balanza!C419","v":{"v":1701870.25,"d":"1,701,870.25"}}]
["51150-3","  Prestaciones y haberes de retiro",{"$nulls":47},{"$f":"Balanza!G420","v":{"v":0,"d":"0.00"}},{"$f":"Balanza!C420","v":{"v":0,"d":"0.00"}}]
["51150-4","  Prestaciones contractuales",{"$nulls":47},{"$f":"Balanza!G421","v":{"v":0,"d":"0.00"}},{"$f":"Balanza!C421","v":{"v":0,"d":"0.00"}}]
["51150-5","  Apoyos a la capacitación de los servidores públicos",{"$nulls":47},{"$f":"Balanza!G422","v":{"v":0,"d":"0.00"}},{"$f":"Balanza!C422","v":{"v":0,"d":"0.00"}}]
["51150-6","  Otras prestaciones sociales y económicas",{"$nulls":47},{"$f":"Balanza!G423","v":{"v":0,"d":"0.00"}},{"$f":"Balanza!C423","v":{"v":48000,"d":"48,000.00"}}]
["51160","Pago de estímulos a servidores públicos",{"$nulls":47},{"$f":"SUM(AX220:AX221)","v":{"v":649724.2,"d":"649,724.20"}},{"$f":"SUM(AY220:AY221)","v":{"v":6602723.34,"d":"6,602,723.34"}}]
["51160-1","  Estímulos",{"$nulls":47},{"$f":"Balanza!G425","v":{"v":649724.2,"d":"649,724.20"}},{"$f":"Balanza!C425","v":{"v":6602723.34,"d":"6,602,723.34"}}]
["51160-2","  Recompensas",{"$nulls":47},{"$f":"Balanza!G426","v":{"v":0,"d":"0.00"}},{"$f":"Balanza!C426","v":{"v":0,"d":"0.00"}}]
["51200","MATERIALES Y SUMINISTROS",{"$nulls":47},{"$f":"AX223+AX232+AX236+AX246+AX256+AX264+AX267+AX273+AX277","v":{"v":4157409.64,"d":"4,157,409.64"}},{"$f":"AY223+AY232+AY236+AY246+AY256+AY264+AY267+AY273+AY277","v":{"v":70314648.38999999,"d":"70,314,648.39"}}]
["51210","Materiales de administración, emisión de documentos y artículos oficiales",{"$nulls":47},{"$f":"SUM(AX224:AX231)","v":{"v":264618.52,"d":"264,618.52"}},{"$f":"SUM(AY224:AY231)","v":{"v":5592863.2299999995,"d":"5,592,863.23"}}]
["51210-1","  Materiales, útiles y equipos menores de oficina",{"$nulls":47},{"$f":"Balanza!G429","v":{"v":40783.01,"d":"40,783.01"}},{"$f":"Balanza!C429","v":{"v":2226158.14,"d":"2,226,158.14"}}]
["51210-2","  Materiales y útiles de impresión y reproducción",{"$nulls":47},{"$f":"Balanza!G430","v":{"v":120186.67,"d":"120,186.67"}},{"$f":"Balanza!C430","v":{"v":728640.47,"d":"728,640.47"}}]
["51210-3","  Material estadístico y geográfico",{"$nulls":47},{"$f":"Balanza!G431","v":{"v":0,"d":"0.00"}},{"$f":"Balanza!C431","v":{"v":0,"d":"0.00"}}]
["51210-4","  Materiales, útiles y equipos menores de tecnologías de la información y comunicaciones",{"$nulls":47},{"$f":"Balanza!G432","v":{"v":77224.1,"d":"77,224.10"}},{"$f":"Balanza!C432","v":{"v":954074.3,"d":"954,074.30"}}]
["51210-5","  Material impreso e información digital",{"$nulls":47},{"$f":"Balanza!G433","v":{"v":0,"d":"0.00"}},{"$f":"Balanza!C433","v":{"v":1118507.75,"d":"1,118,507.75"}}]
["51210-6","  Material de limpieza",{"$nulls":47},{"$f":"Balanza!G434","v":{"v":14744.74,"d":"14,744.74"}},{"$f":"Balanza!C434","v":{"v":328053.77,"d":"328,053.77"}}]
["51210-7","  Materiales y útiles de enseñanza",{"$nulls":47},{"$f":"Balanza!G435","v":{"v":0,"d":"0.00"}},{"$f":"Balanza!C435","v":{"v":0,"d":"0.00"}}]
["51210-8","  Materiales para el registro e identificación de bienes y personas",{"$nulls":47},{"$f":"Balanza!G436","v":{"v":11680,"d":"11,680.00"}},{"$f":"Balanza!C436","v":{"v":237428.8,"d":"237,428.80"}}]
["51220","Alimentos y utensilios",{"$nulls":47},{"$f":"SUM(AX233:AX235)","v":{"v":30228,"d":"30,228.00"}},{"$f":"SUM(AY233:AY235)","v":{"v":813812.1499999999,"d":"813,812.15"}}]
["51220-1","  Productos alimenticios para personas",{"$nulls":47},{"$f":"Balanza!G438","v":{"v":13198,"d":"13,198.00"}},{"$f":"Balanza!C438","v":{"v":493628.37,"d":"493,628.37"}}]
["51220-2","  Productos alimenticios para animales",{"$nulls":47},{"$f":"Balanza!G439","v":{"v":17030,"d":"17,030.00"}},{"$f":"Balanza!C439","v":{"v":292150.58,"d":"292,150.58"}}]
["51220-3","  Utensilios para el servicio de alimentación",{"$nulls":47},{"$f":"Balanza!G440","v":{"v":0,"d":"0.00"}},{"$f":"Balanza!C440","v":{"v":28033.2,"d":"28,033.20"}}]
["51230","Materias primas y materiales de producción y comercialización",{"$nulls":47},{"$f":"SUM(AX237:AX245)","v":{"v":0,"d":"0.00"}},{"$f":"SUM(AY237:AY245)","v":{"v":0,"d":"0.00"}}]
["51230-1","  Productos alimenticios, agropecuarios y forestales adquiridos como materia prima",{"$nulls":47},{"$f":"Balanza!G442","v":{"v":0,"d":"0.00"}},{"$f":"Balanza!C442","v":{"v":0,"d":"0.00"}}]
["51230-2","  Insumos textiles adquiridos como materia prima",{"$nulls":47},{"$f":"Balanza!G443","v":{"v":0,"d":"0.00"}},{"$f":"Balanza!C443","v":{"v":0,"d":"0.00"}}]
["51230-3","  Productos de papel, cartón e impresos adquiridos como materia prima",{"$nulls":47},{"$f":"Balanza!G444","v":{"v":0,"d":"0.00"}},{"$f":"Balanza!C444","v":{"v":0,"d":"0.00"}}]
["51230-4","  Combustibles, lubricantes, aditivos, carbón y sus derivados adquiridos como materia prima",{"$nulls":47},{"$f":"Balanza!G445","v":{"v":0,"d":"0.00"}},{"$f":"Balanza!C445","v":{"v":0,"d":"0.00"}}]
["51230-5","  Productos químicos, farmacéuticos y de laboratorio adquiridos como materia prima",{"$nulls":47},{"$f":"Balanza!G446","v":{"v":0,"d":"0.00"}},{"$f":"Balanza!C446","v":{"v":0,"d":"0.00"}}]
["51230-6","  Productos metálicos y a base de minerales no metálicos adquiridos como materia prima",{"$nulls":47},{"$f":"Balanza!G447","v":{"v":0,"d":"0.00"}},{"$f":"Balanza!C447","v":{"v":0,"d":"0.00"}}]
["51230-7","  Productos de cuero, piel, plástico y hule adquiridos como materia prima",{"$nulls":47},{"$f":"Balanza!G448","v":{"v":0,"d":"0.00"}},{"$f":"Balanza!C448","v":{"v":0,"d":"0.00"}}]
["51230-8","  Mercancías adquiridas para su comercialización",{"$nulls":47},{"$f":"Balanza!G449","v":{"v":0,"d":"0.00"}},{"$f":"Balanza!C449","v":{"v":0,"d":"0.00"}}]
["51230-9","  Otros productos adquiridos como materia prima",{"$nulls":47},{"$f":"Balanza!G450","v":{"v":0,"d":"0.00"}},{"$f":"Balanza!C450","v":{"v":0,"d":"0.00"}}]
["51240","Materiales y artículos de construcción y de reparación",{"$nulls":47},{"$f":"SUM(AX247:AX255)","v":{"v":1786978.07,"d":"1,786,978.07"}},{"$f":"SUM(AY247:AY255)","v":{"v":17234590.78,"d":"17,234,590.78"}}]
["51240-1","  Productos minerales no metálicos",{"$nulls":47},{"$f":"Balanza!G452","v":{"v":1196353.82,"d":"1,196,353.82"}},{"$f":"Balanza!C452","v":{"v":2356524.64,"d":"2,356,524.64"}}]
["51240-2","  Cemento y productos de concreto",{"$nulls":47},{"$f":"Balanza!G453","v":{"v":142965.74,"d":"142,965.74"}},{"$f":"Balanza!C453","v":{"v":1036837.98,"d":"1,036,837.98"}}]
["51240-3","  Cal, yeso y productos de yeso",{"$nulls":47},{"$f":"Balanza!G454","v":{"v":0,"d":"0.00"}},{"$f":"Balanza!C454","v":{"v":75048.5,"d":"75,048.50"}}]
["51240-4","  Madera y productos de madera",{"$nulls":47},{"$f":"Balanza!G455","v":{"v":0,"d":"0.00"}},{"$f":"Balanza!C455","v":{"v":38836.8,"d":"38,836.80"}}]
["51240-5","  Vidrio y productos de vidrio",{"$nulls":47},{"$f":"Balanza!G456","v":{"v":0,"d":"0.00"}},{"$f":"Balanza!C456","v":{"v":0,"d":"0.00"}}]
["51240-6","  Material eléctrico y electrónico",{"$nulls":47},{"$f":"Balanza!G457","v":{"v":365566.16,"d":"365,566.16"}},{"$f":"Balanza!C457","v":{"v":12768119.49,"d":"12,768,119.49"}}]
["51240-7","  Artículos metálicos para la construcción",{"$nulls":47},{"$f":"Balanza!G458","v":{"v":0,"d":"0.00"}},{"$f":"Balanza!C458","v":{"v":56845.74,"d":"56,845.74"}}]
["51240-8","  Materiales complementarios",{"$nulls":47},{"$f":"Balanza!G459","v":{"v":0,"d":"0.00"}},{"$f":"Balanza!C459","v":{"v":15917.4,"d":"15,917.40"}}]
["51240-9","  Otros materiales y artículos de construcción y reparación",{"$nulls":47},{"$f":"Balanza!G460","v":{"v":82092.35,"d":"82,092.35"}},{"$f":"Balanza!C460","v":{"v":886460.23,"d":"886,460.23"}}]
["51250","Productos químicos, farmacéuticos y de laboratorio",{"$nulls":47},{"$f":"SUM(AX257:AX263)","v":{"v":428032.77,"d":"428,032.77"}},{"$f":"SUM(AY257:AY263)","v":{"v":5962012.88,"d":"5,962,012.88"}}]
["51250-1","  Productos químicos básicos",{"$nulls":47},{"$f":"Balanza!G462","v":{"v":0,"d":"0.00"}},{"$f":"Balanza!C462","v":{"v":0,"d":"0.00"}}]
["51250-2","  Fertilizantes, pesticidas y otros agroquímicos",{"$nulls":47},{"$f":"Balanza!G463","v":{"v":0,"d":"0.00"}},{"$f":"Balanza!C463","v":{"v":632672.59,"d":"632,672.59"}}]
["51250-3","  Medicinas y productos farmacéuticos",{"$nulls":47},{"$f":"Balanza!G464","v":{"v":428032.77,"d":"428,032.77"}},{"$f":"Balanza!C464","v":{"v":4813355.73,"d":"4,813,355.73"}}]
["51250-4","  Materiales, accesorios y suministros médicos",{"$nulls":47},{"$f":"Balanza!G465","v":{"v":0,"d":"0.00"}},{"$f":"Balanza!C465","v":{"v":501507.76,"d":"501,507.76"}}]
["51250-5","  Materiales, accesorios y suministros de laboratorio",{"$nulls":47},{"$f":"Balanza!G466","v":{"v":0,"d":"0.00"}},{"$f":"Balanza!C466","v":{"v":0,"d":"0.00"}}]
["51250-6","  Fibras sintéticas, hules plásticos y derivados",{"$nulls":47},{"$f":"Balanza!G467","v":{"v":0,"d":"0.00"}},{"$f":"Balanza!C467","v":{"v":14476.8,"d":"14,476.80"}}]
["51250-7","  Otros productos químicos",{"$nulls":47},{"$f":"Balanza!G468","v":{"v":0,"d":"0.00"}},{"$f":"Balanza!C468","v":{"v":0,"d":"0.00"}}]
["51260","Combustibles, lubricantes y aditivos",{"$nulls":47},{"$f":"SUM(AX265:AX266)","v":{"v":1006908.84,"d":"1,006,908.84"}},{"$f":"SUM(AY265:AY266)","v":{"v":28100812.87,"d":"28,100,812.87"}}]
["51260-1","  Combustibles, lubricantes y aditivos",{"$nulls":47},{"$f":"Balanza!G470","v":{"v":1006908.84,"d":"1,006,908.84"}},{"$f":"Balanza!C470","v":{"v":28100812.87,"d":"28,100,812.87"}}]
["51260-2","  Carbón y sus derivados",{"$nulls":47},{"$f":"Balanza!G471","v":{"v":0,"d":"0.00"}},{"$f":"Balanza!C471","v":{"v":0,"d":"0.00"}}]
["51270","Vestuario, blancos, prendas de protección y artículos deportivos",{"$nulls":47},{"$f":"SUM(AX268:AX272)","v":{"v":40158.98,"d":"40,158.98"}},{"$f":"SUM(AY268:AY272)","v":{"v":1965045.1199999999,"d":"1,965,045.12"}}]
["51270-1","  Vestuario y uniformes",{"$nulls":47},{"$f":"Balanza!G473","v":{"v":0,"d":"0.00"}},{"$f":"Balanza!C473","v":{"v":1722984.65,"d":"1,722,984.65"}}]
["51270-2","  Prendas de seguridad y protección personal",{"$nulls":47},{"$f":"Balanza!G474","v":{"v":40158.98,"d":"40,158.98"}},{"$f":"Balanza!C474","v":{"v":212210.57,"d":"212,210.57"}}]
["51270-3","  Artículos deportivos",{"$nulls":47},{"$f":"Balanza!G475","v":{"v":0,"d":"0.00"}},{"$f":"Balanza!C475","v":{"v":29849.9,"d":"29,849.90"}}]
["51270-4","  Productos textiles",{"$nulls":47},{"$f":"Balanza!G476","v":{"v":0,"d":"0.00"}},{"$f":"Balanza!C476","v":{"v":0,"d":"0.00"}}]
["51270-5","  Blancos y otros productos textiles, excepto prendas de vestir",{"$nulls":47},{"$f":"Balanza!G477","v":{"v":0,"d":"0.00"}},{"$f":"Balanza!C477","v":{"v":0,"d":"0.00"}}]
["51280","Materiales y suministros para seguridad",{"$nulls":47},{"$f":"SUM(AX274:AX276)","v":{"v":0,"d":"0.00"}},{"$f":"SUM(AY274:AY276)","v":{"v":753065.1799999999,"d":"753,065.18"}}]
["51280-1","  Sustancias y materiales explosivos",{"$nulls":47},{"$f":"Balanza!G479","v":{"v":0,"d":"0.00"}},{"$f":"Balanza!C479","v":{"v":0,"d":"0.00"}}]
["51280-2","  Materiales de seguridad pública",{"$nulls":47},{"$f":"Balanza!G480","v":{"v":0,"d":"0.00"}},{"$f":"Balanza!C480","v":{"v":68305.44,"d":"68,305.44"}}]
["51280-3","  Prendas de protección para seguridad pública y nacional",{"$nulls":47},{"$f":"Balanza!G481","v":{"v":0,"d":"0.00"}},{"$f":"Balanza!C481","v":{"v":684759.74,"d":"684,759.74"}}]
["51290","Herramientas, refacciones y accesorios menores",{"$nulls":47},{"$f":"SUM(AX278:AX286)","v":{"v":600484.46,"d":"600,484.46"}},{"$f":"SUM(AY278:AY286)","v":{"v":9892446.18,"d":"9,892,446.18"}}]
["51290-1","  Herramientas menores",{"$nulls":47},{"$f":"Balanza!G483","v":{"v":237721.59,"d":"237,721.59"}},{"$f":"Balanza!C483","v":{"v":4728407.31,"d":"4,728,407.31"}}]
["51290-2","  Refacciones y accesorios menores de edificios",{"$nulls":47},{"$f":"Balanza!G484","v":{"v":0,"d":"0.00"}},{"$f":"Balanza!C484","v":{"v":3113,"d":"3,113.00"}}]
["51290-3","  Refacciones y accesorios menores de mobiliario  y equipo de administración, educacional y recreativo",{"$nulls":47},{"$f":"Balanza!G485","v":{"v":0,"d":"0.00"}},{"$f":"Balanza!C485","v":{"v":181678.81,"d":"181,678.81"}}]
["51290-4","  Refacciones y accesorios menores de equipo de cómputo y tecnologías de la información",{"$nulls":47},{"$f":"Balanza!G486","v":{"v":11600.7,"d":"11,600.70"}},{"$f":"Balanza!C486","v":{"v":158030.3,"d":"158,030.30"}}]
["51290-5","  Refacciones y accesorios menores de equipo e instrumental médico y de laboratorio",{"$nulls":47},{"$f":"Balanza!G487","v":{"v":0,"d":"0.00"}},{"$f":"Balanza!C487","v":{"v":0,"d":"0.00"}}]
["51290-6","  Refacciones y accesorios menores de equipo de transporte",{"$nulls":47},{"$f":"Balanza!G488","v":{"v":303262.17,"d":"303,262.17"}},{"$f":"Balanza!C488","v":{"v":3486773.81,"d":"3,486,773.81"}}]
["51290-7","  Refacciones y accesorios menores de equipo de defensa y seguridad",{"$nulls":47},{"$f":"Balanza!G489","v":{"v":0,"d":"0.00"}},{"$f":"Balanza!C489","v":{"v":14000.05,"d":"14,000.05"}}]
["51290-8","  Refacciones y accesorios menores de maquinaria y otros equipos",{"$nulls":47},{"$f":"Balanza!G490","v":{"v":47900,"d":"47,900.00"}},{"$f":"Balanza!C490","v":{"v":1320442.9,"d":"1,320,442.90"}}]
["51290-9","  Refacciones y accesorios menores otros bienes muebles",{"$nulls":47},{"$f":"Balanza!G491","v":{"v":0,"d":"0.00"}},{"$f":"Balanza!C491","v":{"v":0,"d":"0.00"}}]
["51300","SERVICIOS GENERALES",{"$nulls":47},{"$f":"AX288+AX298+AX308+AX318+AX328+AX338+AX346+AX356+AX362","v":{"v":7343643.540000001,"d":"7,343,643.54"}},{"$f":"AY288+AY298+AY308+AY318+AY328+AY338+AY346+AY356+AY362","v":{"v":88026743.75,"d":"88,026,743.75"}}]
["51310","Servicios básicos",{"$nulls":47},{"$f":"SUM(AX289:AX297)","v":{"v":1369984.03,"d":"1,369,984.03"}},{"$f":"SUM(AY289:AY297)","v":{"v":15672859.469999999,"d":"15,672,859.47"}}]
["51310-1","  Energía eléctrica",{"$nulls":47},{"$f":"Balanza!G494","v":{"v":1301993.08,"d":"1,301,993.08"}},{"$f":"Balanza!C494","v":{"v":14876629.9,"d":"14,876,629.90"}}]
["51310-2","  Gas ",{"$nulls":47},{"$f":"Balanza!G495","v":{"v":0,"d":"0.00"}},{"$f":"Balanza!C495","v":{"v":2994.2,"d":"2,994.20"}}]
["51310-3","  Agua",{"$nulls":47},{"$f":"Balanza!G496","v":{"v":0,"d":"0.00"}},{"$f":"Balanza!C496","v":{"v":0,"d":"0.00"}}]
["51310-4","  Telefonía tradicional",{"$nulls":47},{"$f":"Balanza!G497","v":{"v":0,"d":"0.00"}},{"$f":"Balanza!C497","v":{"v":14015.53,"d":"14,015.53"}}]
["51310-5","  Telefonía celular",{"$nulls":47},{"$f":"Balanza!G498","v":{"v":0,"d":"0.00"}},{"$f":"Balanza!C498","v":{"v":0,"d":"0.00"}}]
["51310-6","  Servicios de telecomunicaciones y satélites",{"$nulls":47},{"$f":"Balanza!G499","v":{"v":0,"d":"0.00"}},{"$f":"Balanza!C499","v":{"v":0,"d":"0.00"}}]
["51310-7","  Servicios de acceso de Internet, redes y procesamiento de información",{"$nulls":47},{"$f":"Balanza!G500","v":{"v":67990.95,"d":"67,990.95"}},{"$f":"Balanza!C500","v":{"v":773869.37,"d":"773,869.37"}}]
["51310-8","  Servicios postales y telegráficos",{"$nulls":47},{"$f":"Balanza!G501","v":{"v":0,"d":"0.00"}},{"$f":"Balanza!C501","v":{"v":5350.47,"d":"5,350.47"}}]
["51310-9","  Servicios integrales y otros servicios",{"$nulls":47},{"$f":"Balanza!G502","v":{"v":0,"d":"0.00"}},{"$f":"Balanza!C502","v":{"v":0,"d":"0.00"}}]
["51320","Servicios de arrendamiento",{"$nulls":47},{"$f":"SUM(AX299:AX307)","v":{"v":816494.7,"d":"816,494.70"}},{"$f":"SUM(AY299:AY307)","v":{"v":4313981.83,"d":"4,313,981.83"}}]
["51320-1","  Arrendamiento de terrenos",{"$nulls":47},{"$f":"Balanza!G504","v":{"v":0,"d":"0.00"}},{"$f":"Balanza!C504","v":{"v":0,"d":"0.00"}}]
["51320-2","  Arrendamiento de edificios",{"$nulls":47},{"$f":"Balanza!G505","v":{"v":135000,"d":"135,000.00"}},{"$f":"Balanza!C505","v":{"v":1774070.07,"d":"1,774,070.07"}}]
["51320-3","  Arrendamiento de mobiliario y equipo de administración, educacional y recreativo",{"$nulls":47},{"$f":"Balanza!G506","v":{"v":31426.62,"d":"31,426.62"}},{"$f":"Balanza!C506","v":{"v":222561.89,"d":"222,561.89"}}]
["51320-4","  Arrendamiento de equipo e instrumental médico y de laboratorio",{"$nulls":47},{"$f":"Balanza!G507","v":{"v":0,"d":"0.00"}},{"$f":"Balanza!C507","v":{"v":0,"d":"0.00"}}]
["51320-5","  Arrendamiento de equipo de transporte",{"$nulls":47},{"$f":"Balanza!G508","v":{"v":0,"d":"0.00"}},{"$f":"Balanza!C508","v":{"v":181374.8,"d":"181,374.80"}}]
["51320-6","  Arrendamiento de maquinaria, otros equipos y herramientas",{"$nulls":47},{"$f":"Balanza!G509","v":{"v":620600,"d":"620,600.00"}},{"$f":"Balanza!C509","v":{"v":1065409,"d":"1,065,409.00"}}]
["51320-7","  Arrendamiento de activos intangibles",{"$nulls":47},{"$f":"Balanza!G510","v":{"v":29468.08,"d":"29,468.08"}},{"$f":"Balanza!C510","v":{"v":1070566.07,"d":"1,070,566.07"}}]
["51320-8","  Arrendamiento financiero",{"$nulls":47},{"$f":"Balanza!G511","v":{"v":0,"d":"0.00"}},{"$f":"Balanza!C511","v":{"v":0,"d":"0.00"}}]
["51320-9","  Otros arrendamientos",{"$nulls":47},{"$f":"Balanza!G512","v":{"v":0,"d":"0.00"}},{"$f":"Balanza!C512","v":{"v":0,"d":"0.00"}}]
["51330","Servicios profesionales, científicos, técnicos y otros servicios",{"$nulls":47},{"$f":"SUM(AX309:AX317)","v":{"v":1732316.6,"d":"1,732,316.60"}},{"$f":"SUM(AY309:AY317)","v":{"v":7358962.369999999,"d":"7,358,962.37"}}]
["51330-1","  Servicios legales, de contabilidad, auditoría y relacionados",{"$nulls":47},{"$f":"Balanza!G514","v":{"v":0,"d":"0.00"}},{"$f":"Balanza!C514","v":{"v":0,"d":"0.00"}}]
["51330-2","  Servicios de diseño, arquitectura, ingeniería y actividades relacionadas",{"$nulls":47},{"$f":"Balanza!G515","v":{"v":0,"d":"0.00"}},{"$f":"Balanza!C515","v":{"v":42355,"d":"42,355.00"}}]
["51330-3","  Servicios de consultoría administrativa, procesos, técnica y en tecnologías de la información",{"$nulls":47},{"$f":"Balanza!G516","v":{"v":0,"d":"0.00"}},{"$f":"Balanza!C516","v":{"v":0,"d":"0.00"}}]
["51330-4","  Servicios de capacitación",{"$nulls":47},{"$f":"Balanza!G517","v":{"v":1552080,"d":"1,552,080.00"}},{"$f":"Balanza!C517","v":{"v":2646132,"d":"2,646,132.00"}}]
["51330-5","  Servicios de investigación científica y desarrollo",{"$nulls":47},{"$f":"Balanza!G518","v":{"v":0,"d":"0.00"}},{"$f":"Balanza!C518","v":{"v":0,"d":"0.00"}}]
["51330-6","  Servicios de apoyo administrativo, traducción, fotocopiado e impresión",{"$nulls":47},{"$f":"Balanza!G519","v":{"v":0,"d":"0.00"}},{"$f":"Balanza!C519","v":{"v":7296.4,"d":"7,296.40"}}]
["51330-7","  Servicios de protección y seguridad",{"$nulls":47},{"$f":"Balanza!G520","v":{"v":0,"d":"0.00"}},{"$f":"Balanza!C520","v":{"v":0,"d":"0.00"}}]
["51330-8","  Servicios de vigilancia",{"$nulls":47},{"$f":"Balanza!G521","v":{"v":0,"d":"0.00"}},{"$f":"Balanza!C521","v":{"v":0,"d":"0.00"}}]
["51330-9","  Servicios profesionales, científicos y técnicos integrales",{"$nulls":47},{"$f":"Balanza!G522","v":{"v":180236.6,"d":"180,236.60"}},{"$f":"Balanza!C522","v":{"v":4663178.97,"d":"4,663,178.97"}}]
["51340","Servicios financieros, bancarios y comerciales",{"$nulls":47},{"$f":"SUM(AX319:AX327)","v":{"v":366709.65,"d":"366,709.65"}},{"$f":"SUM(AY319:AY327)","v":{"v":3778489.08,"d":"3,778,489.08"}}]
["51340-1","  Servicios financieros y bancarios",{"$nulls":47},{"$f":"Balanza!G524","v":{"v":34880.09,"d":"34,880.09"}},{"$f":"Balanza!C524","v":{"v":2064602.08,"d":"2,064,602.08"}}]
["51340-2","  Servicios de cobranza, investigación crediticia y similar",{"$nulls":47},{"$f":"Balanza!G525","v":{"v":0,"d":"0.00"}},{"$f":"Balanza!C525","v":{"v":0,"d":"0.00"}}]
["51340-3","  Servicios de recaudación, traslado y custodia de valores",{"$nulls":47},{"$f":"Balanza!G526","v":{"v":0,"d":"0.00"}},{"$f":"Balanza!C526","v":{"v":0,"d":"0.00"}}]
["51340-4","  Seguros de responsabilidad patrimonial y fianzas",{"$nulls":47},{"$f":"Balanza!G527","v":{"v":100912.6,"d":"100,912.60"}},{"$f":"Balanza!C527","v":{"v":113277.6,"d":"113,277.60"}}]
["51340-5","  Seguro de bienes patrimoniales",{"$nulls":47},{"$f":"Balanza!G528","v":{"v":230916.96,"d":"230,916.96"}},{"$f":"Balanza!C528","v":{"v":1519001.4,"d":"1,519,001.40"}}]
["51340-6","  Almacenaje, envase y embalaje",{"$nulls":47},{"$f":"Balanza!G529","v":{"v":0,"d":"0.00"}},{"$f":"Balanza!C529","v":{"v":0,"d":"0.00"}}]
["51340-7","  Fletes y maniobras",{"$nulls":47},{"$f":"Balanza!G530","v":{"v":0,"d":"0.00"}},{"$f":"Balanza!C530","v":{"v":81608,"d":"81,608.00"}}]
["51340-8","  Comisiones por ventas",{"$nulls":47},{"$f":"Balanza!G531","v":{"v":0,"d":"0.00"}},{"$f":"Balanza!C531","v":{"v":0,"d":"0.00"}}]
["51340-9","  Servicios financieros, bancarios y comerciales integrales",{"$nulls":47},{"$f":"Balanza!G532","v":{"v":0,"d":"0.00"}},{"$f":"Balanza!C532","v":{"v":0,"d":"0.00"}}]
["51350","Servicios de instalación, reparación, mantenimiento y conservación",{"$nulls":47},{"$f":"SUM(AX329:AX337)","v":{"v":2038375.15,"d":"2,038,375.15"}},{"$f":"SUM(AY329:AY337)","v":{"v":30461856.31,"d":"30,461,856.31"}}]
["51350-1","  Conservación y mantenimiento menor de inmuebles",{"$nulls":47},{"$f":"Balanza!G534","v":{"v":720860,"d":"720,860.00"}},{"$f":"Balanza!C534","v":{"v":10736281.36,"d":"10,736,281.36"}}]
["51350-2","  Instalación, reparación y mantenimiento de mobiliario y equipo de administración, educacional y recreativo",{"$nulls":47},{"$f":"Balanza!G535","v":{"v":0,"d":"0.00"}},{"$f":"Balanza!C535","v":{"v":138329.24,"d":"138,329.24"}}]
["51350-3","  Instalación, reparación y mantenimiento de equipo de cómputo y tecnología de la información",{"$nulls":47},{"$f":"Balanza!G536","v":{"v":7453,"d":"7,453.00"}},{"$f":"Balanza!C536","v":{"v":861448.04,"d":"861,448.04"}}]
["51350-4","  Instalación, reparación y mantenimiento de equipo e instrumental médico y de laboratorio",{"$nulls":47},{"$f":"Balanza!G537","v":{"v":0,"d":"0.00"}},{"$f":"Balanza!C537","v":{"v":16356,"d":"16,356.00"}}]
["51350-5","  Reparación y mantenimiento de equipo de transporte",{"$nulls":47},{"$f":"Balanza!G538","v":{"v":337786.59,"d":"337,786.59"}},{"$f":"Balanza!C538","v":{"v":6044927.59,"d":"6,044,927.59"}}]
["51350-6","  Reparación y mantenimiento de equipo de defensa y seguridad",{"$nulls":47},{"$f":"Balanza!G539","v":{"v":0,"d":"0.00"}},{"$f":"Balanza!C539","v":{"v":80786.54,"d":"80,786.54"}}]
["51350-7","  Instalación, reparación y mantenimiento de maquinaria, otros equipos y herramienta",{"$nulls":47},{"$f":"Balanza!G540","v":{"v":830702.6,"d":"830,702.60"}},{"$f":"Balanza!C540","v":{"v":10233672.02,"d":"10,233,672.02"}}]
["51350-8","  Servicios de limpieza y manejo de desechos",{"$nulls":47},{"$f":"Balanza!G541","v":{"v":141572.96,"d":"141,572.96"}},{"$f":"Balanza!C541","v":{"v":2088472.8,"d":"2,088,472.80"}}]
["51350-9","  Servicios de jardinería y fumigación",{"$nulls":47},{"$f":"Balanza!G542","v":{"v":0,"d":"0.00"}},{"$f":"Balanza!C542","v":{"v":261582.72,"d":"261,582.72"}}]
["51360","Servicios de comunicación social y publicidad",{"$nulls":47},{"$f":"SUM(AX339:AX345)","v":{"v":5334.34,"d":"5,334.34"}},{"$f":"SUM(AY339:AY345)","v":{"v":614955.8400000001,"d":"614,955.84"}}]
["51360-1","  Difusión por radio, televisión y otros medios de mensajes sobre programas y actividades gubernamentales",{"$nulls":47},{"$f":"Balanza!G544","v":{"v":0,"d":"0.00"}},{"$f":"Balanza!C544","v":{"v":538814.8,"d":"538,814.80"}}]
["51360-2","  Difusión por radio, televisión y otros medios de mensajes comerciales para promover la venta de bienes o servicios",{"$nulls":47},{"$f":"Balanza!G545","v":{"v":0,"d":"0.00"}},{"$f":"Balanza!C545","v":{"v":0,"d":"0.00"}}]
["51360-3","  Servicios de creatividad, preproducción y producción de publicidad, excepto Internet",{"$nulls":47},{"$f":"Balanza!G546","v":{"v":5334.34,"d":"5,334.34"}},{"$f":"Balanza!C546","v":{"v":0,"d":"0.00"}}]
["51360-4","  Servicios de revelado de  fotografías",{"$nulls":47},{"$f":"Balanza!G547","v":{"v":0,"d":"0.00"}},{"$f":"Balanza!C547","v":{"v":0,"d":"0.00"}}]
["51360-5","  Servicios de la industria fílmica, del sonido y del video",{"$nulls":47},{"$f":"Balanza!G548","v":{"v":0,"d":"0.00"}},{"$f":"Balanza!C548","v":{"v":0,"d":"0.00"}}]
["51360-6","  Servicio de creación y difusión de contenido exclusivamente a través de Internet",{"$nulls":47},{"$f":"Balanza!G549","v":{"v":0,"d":"0.00"}},{"$f":"Balanza!C549","v":{"v":76141.04,"d":"76,141.04"}}]
["51360-7","  Otros servicios de información",{"$nulls":47},{"$f":"Balanza!G550","v":{"v":0,"d":"0.00"}},{"$f":"Balanza!C550","v":{"v":0,"d":"0.00"}}]
["51370","Servicios de traslado y viáticos",{"$nulls":47},{"$f":"SUM(AX347:AX355)","v":{"v":11200,"d":"11,200.00"}},{"$f":"SUM(AY347:AY355)","v":{"v":253797.12000000002,"d":"253,797.12"}}]
["51370-1","  Pasajes aéreos",{"$nulls":47},{"$f":"Balanza!G552","v":{"v":0,"d":"0.00"}},{"$f":"Balanza!C552","v":204.57}]
["51370-2","  Pasajes terrestres",{"$nulls":47},{"$f":"Balanza!G553","v":{"v":0,"d":"0.00"}},{"$f":"Balanza!C553","v":{"v":0,"d":"0.00"}}]
["51370-3","  Pasajes marítimos, lacustres y fluviales",{"$nulls":47},{"$f":"Balanza!G554","v":{"v":0,"d":"0.00"}},{"$f":"Balanza!C554","v":{"v":0,"d":"0.00"}}]
["51370-4","  Autotransporte",{"$nulls":47},{"$f":"Balanza!G555","v":{"v":0,"d":"0.00"}},{"$f":"Balanza!C555","v":{"v":0,"d":"0.00"}}]
["51370-5","  Viáticos en el país",{"$nulls":47},{"$f":"Balanza!G556","v":{"v":0,"d":"0.00"}},{"$f":"Balanza!C556","v":{"v":180176.95,"d":"180,176.95"}}]
["51370-6","  Viáticos en el extranjero ",{"$nulls":47},{"$f":"Balanza!G557","v":{"v":0,"d":"0.00"}},{"$f":"Balanza!C557","v":{"v":0,"d":"0.00"}}]
["51370-7","  Gastos de instalación y traslado de menaje",{"$nulls":47},{"$f":"Balanza!G558","v":{"v":0,"d":"0.00"}},{"$f":"Balanza!C558","v":{"v":13085.6,"d":"13,085.60"}}]
["51370-8","  Servicios integrales de traslado y viáticos",{"$nulls":47},{"$f":"Balanza!G559","v":{"v":0,"d":"0.00"}},{"$f":"Balanza!C559","v":{"v":0,"d":"0.00"}}]
["51370-9","  Otros servicios de traslado y hospedaje",{"$nulls":47},{"$f":"Balanza!G560","v":{"v":11200,"d":"11,200.00"}},{"$f":"Balanza!C560","v":{"v":60330,"d":"60,330.00"}}]
["51380","Servicios oficiales",{"$nulls":47},{"$f":"SUM(AX357:AX361)","v":{"v":876971.78,"d":"876,971.78"}},{"$f":"SUM(AY357:AY361)","v":{"v":25173466.44,"d":"25,173,466.44"}}]
["51380-1","  Gastos de ceremonial",{"$nulls":47},{"$f":"Balanza!G562","v":{"v":0,"d":"0.00"}},{"$f":"Balanza!C562","v":{"v":715281,"d":"715,281.00"}}]
["51380-2","  Gastos de orden  social y cultural",{"$nulls":47},{"$f":"Balanza!G563","v":{"v":876971.78,"d":"876,971.78"}},{"$f":"Balanza!C563","v":{"v":24458185.44,"d":"24,458,185.44"}}]
["51380-3","  Congresos y convenciones",{"$nulls":47},{"$f":"Balanza!G564","v":{"v":0,"d":"0.00"}},{"$f":"Balanza!C564","v":{"v":0,"d":"0.00"}}]
["51380-4","  Exposiciones",{"$nulls":47},{"$f":"Balanza!G565","v":{"v":0,"d":"0.00"}},{"$f":"Balanza!C565","v":{"v":0,"d":"0.00"}}]
["51380-5","  Gastos de representación",{"$nulls":47},{"$f":"Balanza!G566","v":{"v":0,"d":"0.00"}},{"$f":"Balanza!C566","v":{"v":0,"d":"0.00"}}]
["51390","Otros servicios generales",{"$nulls":47},{"$f":"SUM(AX363:AX371)","v":{"v":126257.29,"d":"126,257.29"}},{"$f":"SUM(AY363:AY371)","v":{"v":398375.29000000004,"d":"398,375.29"}}]
["51390-1","  Servicios funerarios y de cementerios",{"$nulls":47},{"$f":"Balanza!G568","v":{"v":0,"d":"0.00"}},{"$f":"Balanza!C568","v":{"v":101840,"d":"101,840.00"}}]
["51390-2","  Impuestos y derechos",{"$nulls":47},{"$f":"Balanza!G569","v":{"v":0,"d":"0.00"}},{"$f":"Balanza!C569","v":{"v":255660.28,"d":"255,660.28"}}]
["51390-3","  Impuestos y derechos de importación",{"$nulls":47},{"$f":"Balanza!G570","v":{"v":0,"d":"0.00"}},{"$f":"Balanza!C570","v":{"v":0,"d":"0.00"}}]
["51390-4","  Sentencias y resoluciones por autoridad competente",{"$nulls":47},{"$f":"Balanza!G571","v":{"v":0,"d":"0.00"}},{"$f":"Balanza!C571","v":{"v":23975.01,"d":"23,975.01"}}]
["51390-5","  Penas, multas, accesorios y actualizaciones",{"$nulls":47},{"$f":"Balanza!G572","v":{"v":0,"d":"0.00"}},{"$f":"Balanza!C572","v":{"v":16900,"d":"16,900.00"}}]
["51390-6","  Otros gastos por responsabilidades",{"$nulls":47},{"$f":"Balanza!G573","v":{"v":0,"d":"0.00"}},{"$f":"Balanza!C573","v":{"v":0,"d":"0.00"}}]
["51390-7","  Utilidades",{"$nulls":47},{"$f":"Balanza!G574","v":{"v":0,"d":"0.00"}},{"$f":"Balanza!C574","v":{"v":0,"d":"0.00"}}]
["51390-8","  Impuesto sobre nómina y otros que se deriven de una relación laboral",{"$nulls":47},{"$f":"Balanza!G575","v":{"v":0,"d":"0.00"}},{"$f":"Balanza!C575","v":{"v":0,"d":"0.00"}}]
["51390-9","  Otros servicios generales",{"$nulls":47},{"$f":"Balanza!G576","v":{"v":126257.29,"d":"126,257.29"}},{"$f":"Balanza!C576","v":{"v":0,"d":"0.00"}}]
["52000"," TRANSFERENCIAS, ASIGNACIONES, SUBSIDIOS Y OTRAS  AYUDAS",{"$nulls":47},{"$f":"AX373+AX385+AX391+AX403+AX416+AX423+AX433+AX436+AX447","v":{"v":1295370.3699999999,"d":"1,295,370.37"}},{"$f":"AY373+AY385+AY391+AY403+AY416+AY423+AY433+AY436+AY447","v":{"v":29835636.169999998,"d":"29,835,636.17"}}]
["52100","TRANSFERENCIAS INTERNAS Y ASIGNACIONES AL SECTOR PÚBLICO",{"$nulls":47},{"$f":"AX374+AX384","v":{"v":0,"d":"0.00"}},{"$f":"AY374+AY384","v":{"v":0,"d":"0.00"}}]
["52110","Asignaciones al sector público",{"$nulls":47},{"$f":"SUM(AX375:AX383)","v":{"v":0,"d":"0.00"}},{"$f":"SUM(AY375:AY383)","v":{"v":0,"d":"0.00"}}]
["52110-1","  Asignaciones presupuestarias al Poder Ejecutivo",{"$nulls":47},{"$f":"Balanza!G580","v":{"v":0,"d":"0.00"}},{"$f":"Balanza!C580","v":{"v":0,"d":"0.00"}}]
["52110-2","  Asignaciones presupuestarias al Poder Legislativo",{"$nulls":47},{"$f":"Balanza!G581","v":{"v":0,"d":"0.00"}},{"$f":"Balanza!C581","v":{"v":0,"d":"0.00"}}]
["52110-3","  Asignaciones presupuestarias al Poder Judicial",{"$nulls":47},{"$f":"Balanza!G582","v":{"v":0,"d":"0.00"}},{"$f":"Balanza!C582","v":{"v":0,"d":"0.00"}}]
["52110-4","  Asignaciones presupuestarias a Órganos Autónomos",{"$nulls":47},{"$f":"Balanza!G583","v":{"v":0,"d":"0.00"}},{"$f":"Balanza!C583","v":{"v":0,"d":"0.00"}}]
["52110-5","  Transferencias internas otorgadas a entidades paraestatales no empresariales y no financieras",{"$nulls":47},{"$f":"Balanza!G584","v":{"v":0,"d":"0.00"}},{"$f":"Balanza!C584","v":{"v":0,"d":"0.00"}}]
["52110-6","  Transferencias internas otorgadas a entidades paraestatales empresariales y no financieras",{"$nulls":47},{"$f":"Balanza!G585","v":{"v":0,"d":"0.00"}},{"$f":"Balanza!C585","v":{"v":0,"d":"0.00"}}]
["52110-7","  Transferencias internas otorgadas a fideicomisos públicos empresariales y no financieros",{"$nulls":47},{"$f":"Balanza!G586","v":{"v":0,"d":"0.00"}},{"$f":"Balanza!C586","v":{"v":0,"d":"0.00"}}]
["52110-8","  Transferencias internas otorgadas a instituciones paraestatales públicas financieras",{"$nulls":47},{"$f":"Balanza!G587","v":{"v":0,"d":"0.00"}},{"$f":"Balanza!C587","v":{"v":0,"d":"0.00"}}]
["52110-9","  Transferencias internas otorgadas a fideicomisos públicos financieros",{"$nulls":47},{"$f":"Balanza!G588","v":{"v":0,"d":"0.00"}},{"$f":"Balanza!C588","v":{"v":0,"d":"0.00"}}]
["52120","Transferencias internas al sector público",{"$nulls":47},{"$f":"Balanza!G589","v":{"v":0,"d":"0.00"}},{"$f":"Balanza!C589","v":{"v":0,"d":"0.00"}}]
["52200","TRANSFERENCIAS  AL RESTO DEL SECTOR PÚBLICO",{"$nulls":47},{"$f":"AX386+AX390","v":{"v":101005.58,"d":"101,005.58"}},{"$f":"AY386+AY390","v":{"v":1733957.61,"d":"1,733,957.61"}}]
[52210,"Transferencias a entidades paraestatales",{"$nulls":47},{"$f":"SUM(AX387:AX389)","v":{"v":101005.58,"d":"101,005.58"}},{"$f":"SUM(AY387:AY389)","v":{"v":1733957.61,"d":"1,733,957.61"}}]
["52210-1","  Transferencias otorgadas a entidades paraestatales no empresariales y no financieras",{"$nulls":47},{"$f":"Balanza!G592","v":{"v":101005.58,"d":"101,005.58"}},{"$f":"Balanza!C592","v":{"v":1733957.61,"d":"1,733,957.61"}}]
["52210-2","  Transferencias otorgadas para entidades paraestatales empresariales y no financieras",{"$nulls":47},{"$f":"Balanza!G593","v":{"v":0,"d":"0.00"}},{"$f":"Balanza!C593","v":{"v":0,"d":"0.00"}}]
["52210-3","  Transferencias otorgadas para instituciones paraestatales públicas financieras  ",{"$nulls":47},{"$f":"Balanza!G594","v":{"v":0,"d":"0.00"}},{"$f":"Balanza!C594","v":{"v":0,"d":"0.00"}}]
["52220-12","Transferencias a entidades federativas y municipios",{"$nulls":47},{"$f":"Balanza!G595","v":{"v":0,"d":"0.00"}},{"$f":"Balanza!C595","v":{"v":0,"d":"0.00"}}]
["52300","SUBSIDIOS Y SUBVENCIONES",{"$nulls":47},{"$f":"AX392+AX401","v":{"v":1083635.2,"d":"1,083,635.20"}},{"$f":"AY392+AY401","v":{"v":14663614.36,"d":"14,663,614.36"}}]
["52310","Subsidios",{"$nulls":47},{"$f":"SUM(AX393:AX400)","v":{"v":1083635.2,"d":"1,083,635.20"}},{"$f":"SUM(AY393:AY400)","v":{"v":14663614.36,"d":"14,663,614.36"}}]
["52310-1","  Subsidios a la producción",{"$nulls":47},{"$f":"Balanza!G600","v":{"v":0,"d":"0.00"}},{"$f":"Balanza!C600","v":{"v":0,"d":"0.00"}}]
["52310-2","  Subsidios a la distribución",{"$nulls":47},{"$f":"Balanza!G601","v":{"v":0,"d":"0.00"}},{"$f":"Balanza!C601","v":{"v":0,"d":"0.00"}}]
["52310-3","  Subsidios a la inversión",{"$nulls":47},{"$f":"Balanza!G602","v":{"v":0,"d":"0.00"}},{"$f":"Balanza!C602","v":{"v":0,"d":"0.00"}}]
["52310-4","  Subsidios a la prestación de servicios públicos",{"$nulls":47},{"$f":"Balanza!G603","v":{"v":0,"d":"0.00"}},{"$f":"Balanza!C603","v":{"v":0,"d":"0.00"}}]
["52310-5","  Subsidios para cubrir diferenciales de tasas de interés",{"$nulls":47},{"$f":"Balanza!G604","v":{"v":0,"d":"0.00"}},{"$f":"Balanza!C604","v":{"v":0,"d":"0.00"}}]
["52310-6","  Subsidios a la vivienda ",{"$nulls":47},{"$f":"Balanza!G605","v":{"v":0,"d":"0.00"}},{"$f":"Balanza!C605","v":{"v":0,"d":"0.00"}}]
["52310-7","  Subsidios a entidades federativas y municipios",{"$nulls":47},{"$f":"Balanza!G606","v":{"v":0,"d":"0.00"}},{"$f":"Balanza!C606","v":{"v":0,"d":"0.00"}}]
["52310-8","  Otros subsidios",{"$nulls":47},{"$f":"Balanza!G607","v":{"v":1083635.2,"d":"1,083,635.20"}},{"$f":"Balanza!C607","v":{"v":14663614.36,"d":"14,663,614.36"}}]
["52320","Subvenciones  ",{"$nulls":47},{"$f":"SUM(AX402)","v":{"v":0,"d":"0.00"}},{"$f":"SUM(AY402)","v":{"v":0,"d":"0.00"}}]
["52320-1","  Subvenciones al consumo",{"$nulls":47},{"$f":"Balanza!G609","v":{"v":0,"d":"0.00"}},{"$f":"Balanza!C609","v":{"v":0,"d":"0.00"}}]
["52400","AYUDAS SOCIALES",{"$nulls":47},{"$f":"AX404+AX406+AX408+AX414","v":{"v":103596.39,"d":"103,596.39"}},{"$f":"AY404+AY406+AY408+AY414","v":{"v":13352465.8,"d":"13,352,465.80"}}]
["52410","Ayudas sociales a personas",{"$nulls":47},{"$f":"SUM(AX405)","v":{"v":71016.39,"d":"71,016.39"}},{"$f":"SUM(AY405)","v":{"v":928726.24,"d":"928,726.24"}}]
["52410-1","  Ayudas sociales a personas ",{"$nulls":47},{"$f":"Balanza!G612","v":{"v":71016.39,"d":"71,016.39"}},{"$f":"Balanza!C612","v":{"v":928726.24,"d":"928,726.24"}}]
["52420","Becas   ",{"$nulls":47},{"$f":"SUM(AX407)","v":{"v":0,"d":"0.00"}},{"$f":"SUM(AY407)","v":{"v":0,"d":"0.00"}}]
["52420-1","Becas y otras ayudas para programas de capacitación",{"$nulls":47},{"$f":"Balanza!G614","v":{"v":0,"d":"0.00"}},{"$f":"Balanza!C614","v":{"v":0,"d":"0.00"}}]
["52430","Ayudas sociales a instituciones",{"$nulls":47},{"$f":"SUM(AX409:AX413)","v":{"v":32580,"d":"32,580.00"}},{"$f":"SUM(AY409:AY413)","v":{"v":12423739.56,"d":"12,423,739.56"}}]
["52430-1","  Ayudas sociales a instituciones de enseñanza",{"$nulls":47},{"$f":"Balanza!G616","v":{"v":32580,"d":"32,580.00"}},{"$f":"Balanza!C616","v":{"v":12423739.56,"d":"12,423,739.56"}}]
["52430-2","  Ayudas sociales a actividades científicas o académicas",{"$nulls":47},{"$f":"Balanza!G617","v":{"v":0,"d":"0.00"}},{"$f":"Balanza!C617","v":{"v":0,"d":"0.00"}}]
["52430-3","  Ayudas sociales a instituciones sin fines de lucro",{"$nulls":47},{"$f":"Balanza!G618","v":{"v":0,"d":"0.00"}},{"$f":"Balanza!C618","v":{"v":0,"d":"0.00"}}]
["52430-4","  Ayudas sociales a cooperativas",{"$nulls":47},{"$f":"Balanza!G619","v":{"v":0,"d":"0.00"}},{"$f":"Balanza!C619","v":{"v":0,"d":"0.00"}}]
["52430-5","  Ayudas sociales a entidades de interés público",{"$nulls":47},{"$f":"Balanza!G620","v":{"v":0,"d":"0.00"}},{"$f":"Balanza!C620","v":{"v":0,"d":"0.00"}}]
["52440","Ayudas sociales por desastres naturales y otros siniestros",{"$nulls":47},{"$f":"SUM(AX415)","v":{"v":0,"d":"0.00"}},{"$f":"SUM(AY415)","v":{"v":0,"d":"0.00"}}]
["52440-1","  Ayudas por desastres naturales y otros siniestros",{"$nulls":47},{"$f":"Balanza!G622","v":{"v":0,"d":"0.00"}},{"$f":"Balanza!C622","v":{"v":0,"d":"0.00"}}]
["52500","PENSIONES Y JUBILACIONES",{"$nulls":47},{"$f":"AX417+AX419+AX421","v":{"v":7133.2,"d":"7,133.20"}},{"$f":"AY417+AY419+AY421","v":{"v":85598.4,"d":"85,598.40"}}]
["52510","Pensiones",{"$nulls":47},{"$f":"SUM(AX418)","v":{"v":0,"d":"0.00"}},{"$f":"SUM(AY418)","v":{"v":0,"d":"0.00"}}]
["52510-1","  Pensiones",{"$nulls":47},{"$f":"Balanza!G625","v":{"v":0,"d":"0.00"}},{"$f":"Balanza!C625","v":{"v":0,"d":"0.00"}}]
["52520","Jubilaciones",{"$nulls":47},{"$f":"SUM(AX420)","v":{"v":7133.2,"d":"7,133.20"}},{"$f":"SUM(AY420)","v":{"v":85598.4,"d":"85,598.40"}}]
["52520-1","  Jubilaciones",{"$nulls":47},{"$f":"Balanza!G627","v":{"v":7133.2,"d":"7,133.20"}},{"$f":"Balanza!C627","v":{"v":85598.4,"d":"85,598.40"}}]
["52590","Otras pensiones y jubilaciones",{"$nulls":47},{"$f":"SUM(AX422)","v":{"v":0,"d":"0.00"}},{"$f":"SUM(AY422)","v":{"v":0,"d":"0.00"}}]
["52590-1","  Otras pensiones y jubilaciones",{"$nulls":47},{"$f":"Balanza!G629","v":{"v":0,"d":"0.00"}},{"$f":"Balanza!C629","v":{"v":0,"d":"0.00"}}]
["52600","TRANSFERENCIAS A FIDEICOMISOS, MANDATOS Y CONTRATOS ANÁLOGOS",{"$nulls":47},{"$f":"AX424+AX428","v":{"v":0,"d":"0.00"}},{"$f":"AY424+AY428","v":{"v":0,"d":"0.00"}}]
["52610","Transferencias a fideicomisos, mandatos y contratos análogos al gobierno",{"$nulls":47},{"$f":"SUM(AX425:AX427)","v":{"v":0,"d":"0.00"}},{"$f":"SUM(AY425:AY427)","v":{"v":0,"d":"0.00"}}]
["52610-1","  Transferencias a fideicomisos del Poder Ejecutivo",{"$nulls":47},{"$f":"Balanza!G632","v":{"v":0,"d":"0.00"}},{"$f":"Balanza!C632","v":{"v":0,"d":"0.00"}}]
["52610-2","  Transferencias a fideicomisos del Poder Legislativo",{"$nulls":47},{"$f":"Balanza!G633","v":{"v":0,"d":"0.00"}},{"$f":"Balanza!C633","v":{"v":0,"d":"0.00"}}]
["52610-3","  Transferencias a fideicomisos del Poder Judicial",{"$nulls":47},{"$f":"Balanza!G634","v":{"v":0,"d":"0.00"}},{"$f":"Balanza!C634","v":{"v":0,"d":"0.00"}}]
["52620","Transferencias a fideicomisos, mandatos y contratos análogos a entidades paraestatales",{"$nulls":47},{"$f":"SUM(AX429:AX432)","v":{"v":0,"d":"0.00"}},{"$f":"SUM(AY429:AY432)","v":{"v":0,"d":"0.00"}}]
["52620-1","  Transferencias a fideicomisos públicos de entidades paraestatales no empresariales y no financieras",{"$nulls":47},{"$f":"Balanza!G636","v":{"v":0,"d":"0.00"}},{"$f":"Balanza!C636","v":{"v":0,"d":"0.00"}}]
["52620-2","  Transferencias a fideicomisos públicos de entidades paraestatales empresariales y no financieras",{"$nulls":47},{"$f":"Balanza!G637","v":{"v":0,"d":"0.00"}},{"$f":"Balanza!C637","v":{"v":0,"d":"0.00"}}]
["52620-3","  Transferencias a fideicomisos de instituciones públicas financieras",{"$nulls":47},{"$f":"Balanza!G638","v":{"v":0,"d":"0.00"}},{"$f":"Balanza!C638","v":{"v":0,"d":"0.00"}}]
["52620-4","  Otras transferencias a fideicomisos   ",{"$nulls":47},{"$f":"Balanza!G639","v":{"v":0,"d":"0.00"}},{"$f":"Balanza!C639","v":{"v":0,"d":"0.00"}}]
["52700","TRANSFERENCIAS A LA SEGURIDAD SOCIAL",{"$nulls":47},{"$f":"SUM(AX434)","v":{"v":0,"d":"0.00"}},{"$f":"SUM(AY434)","v":{"v":0,"d":"0.00"}}]
["52710","Transferencias por obligaciones de ley",{"$nulls":47},{"$f":"SUM(AX435)","v":{"v":0,"d":"0.00"}},{"$f":"SUM(AY435)","v":{"v":0,"d":"0.00"}}]
["52710-1","  Transferencias por obligación de ley",{"$nulls":47},{"$f":"Balanza!G642","v":{"v":0,"d":"0.00"}},{"$f":"Balanza!C642","v":{"v":0,"d":"0.00"}}]
["52800","DONATIVOS",{"$nulls":47},{"$f":"AX437+AX439+AX441+AX443+AX445","v":{"v":0,"d":"0.00"}},{"$f":"AY437+AY439+AY441+AY443+AY445","v":{"v":0,"d":"0.00"}}]
["52810","Donativos a instituciones sin fines de lucro",{"$nulls":47},{"$f":"SUM(AX438)","v":{"v":0,"d":"0.00"}},{"$f":"SUM(AY438)","v":{"v":0,"d":"0.00"}}]
["52810-1","  Donativos a instituciones sin fines de lucro",{"$nulls":47},{"$f":"Balanza!G645","v":{"v":0,"d":"0.00"}},{"$f":"Balanza!C645","v":{"v":0,"d":"0.00"}}]
["52820","Donativos a entidades federativas y municipios",{"$nulls":47},{"$f":"SUM(AX440)","v":{"v":0,"d":"0.00"}},{"$f":"SUM(AY440)","v":{"v":0,"d":"0.00"}}]
["52820-1","  Donativos a entidades federativas ",{"$nulls":47},{"$f":"Balanza!G647","v":{"v":0,"d":"0.00"}},{"$f":"Balanza!C647","v":{"v":0,"d":"0.00"}}]
["52830","Donativos a fideicomisos, mandatos y contratos análogos privados",{"$nulls":47},{"$f":"SUM(AX442)","v":{"v":0,"d":"0.00"}},{"$f":"SUM(AY442)","v":{"v":0,"d":"0.00"}}]
["52830-1","  Donativos a fideicomisos privados",{"$nulls":47},{"$f":"Balanza!G649","v":{"v":0,"d":"0.00"}},{"$f":"Balanza!C649","v":{"v":0,"d":"0.00"}}]
["52840","Donativos a fideicomisos, mandatos y contratos análogos estatales",{"$nulls":47},{"$f":"SUM(AX444)","v":{"v":0,"d":"0.00"}},{"$f":"SUM(AY444)","v":{"v":0,"d":"0.00"}}]
["52840-1","  Donativos a fideicomisos estatales",{"$nulls":47},{"$f":"Balanza!G651","v":{"v":0,"d":"0.00"}},{"$f":"Balanza!C651","v":{"v":0,"d":"0.00"}}]
["52850","Donativos internacional",{"$nulls":47},{"$f":"SUM(AX446)","v":{"v":0,"d":"0.00"}},{"$f":"SUM(AY446)","v":{"v":0,"d":"0.00"}}]
["52850-1","  Donativos internacional",{"$nulls":47},{"$f":"Balanza!G653","v":{"v":0,"d":"0.00"}},{"$f":"Balanza!C653","v":{"v":0,"d":"0.00"}}]
["52900","TRANSFERENCIAS AL EXTERIOR",{"$nulls":47},{"$f":"AX448+AX451","v":{"v":0,"d":"0.00"}},{"$f":"AY448+AY451","v":{"v":0,"d":"0.00"}}]
["52910","Transferencias al exterior a gobiernos extranjeros y organismos internacionales",{"$nulls":47},{"$f":"SUM(AX449:AX450)","v":{"v":0,"d":"0.00"}},{"$f":"SUM(AY449:AY450)","v":{"v":0,"d":"0.00"}}]
["52910-1","Transferencias para gobiernos extranjeros",{"$nulls":47},{"$f":"Balanza!G656","v":{"v":0,"d":"0.00"}},{"$f":"Balanza!C656","v":{"v":0,"d":"0.00"}}]
["52910-2","Transferencias para organismos internacionales",{"$nulls":47},{"$f":"Balanza!G657","v":{"v":0,"d":"0.00"}},{"$f":"Balanza!C657","v":{"v":0,"d":"0.00"}}]
["52920","Transferencias al sector privado externo",{"$nulls":47},{"$f":"SUM(AX452)","v":{"v":0,"d":"0.00"}},{"$f":"SUM(AY452)","v":{"v":0,"d":"0.00"}}]
["52920-1","  Transferencias para el sector privado externo",{"$nulls":47},{"$f":"Balanza!G659","v":{"v":0,"d":"0.00"}},{"$f":"Balanza!C659","v":{"v":0,"d":"0.00"}}]
["53000"," PARTICIPACIONES Y APORTACIONES",{"$nulls":47},{"$f":"AX454+AX463+AX471","v":{"v":0,"d":"0.00"}},{"$f":"AY454+AY463+AY471","v":{"v":0,"d":"0.00"}}]
["53100","PARTICIPACIONES",{"$nulls":47},{"$f":"AX455+AX459","v":{"v":0,"d":"0.00"}},{"$f":"AY455+AY459","v":{"v":0,"d":"0.00"}}]
["53110","Participaciones de la federación a entidades federativas y municipios",{"$nulls":47},{"$f":"SUM(AX456:AX458)","v":{"v":0,"d":"0.00"}},{"$f":"SUM(AY456:AY458)","v":{"v":0,"d":"0.00"}}]
["53110-1","  Fondo general de participaciones",{"$nulls":47},{"$f":"Balanza!G663","v":{"v":0,"d":"0.00"}},{"$f":"Balanza!C663","v":{"v":0,"d":"0.00"}}]
["53110-2","  Otros conceptos participables de la Federación a entidades federativas",{"$nulls":47},{"$f":"Balanza!G664","v":{"v":0,"d":"0.00"}},{"$f":"Balanza!C664","v":{"v":0,"d":"0.00"}}]
["53110-3","  Fondo de fomento municipal",{"$nulls":47},{"$f":"Balanza!G665","v":{"v":0,"d":"0.00"}},{"$f":"Balanza!C665","v":{"v":0,"d":"0.00"}}]
["53120","Participaciones de las entidades federativas a los municipios",{"$nulls":47},{"$f":"SUM(AX460:AX462)","v":{"v":0,"d":"0.00"}},{"$f":"SUM(AY460:AY462)","v":{"v":0,"d":"0.00"}}]
["53120-1","  Participaciones de las entidades federativas a los municipios",{"$nulls":47},{"$f":"Balanza!G667","v":{"v":0,"d":"0.00"}},{"$f":"Balanza!C667","v":{"v":0,"d":"0.00"}}]
["53120-2","  Otros conceptos participables de la Federación a municipios",{"$nulls":47},{"$f":"Balanza!G668","v":{"v":0,"d":"0.00"}},{"$f":"Balanza!C668","v":{"v":0,"d":"0.00"}}]
["53120-3","  Convenios de colaboración administrativa",{"$nulls":47},{"$f":"Balanza!G669","v":{"v":0,"d":"0.00"}},{"$f":"Balanza!C669","v":{"v":0,"d":"0.00"}}]
["53200","APORTACIONES",{"$nulls":47},{"$f":"AX464+AX469","v":{"v":0,"d":"0.00"}},{"$f":"AY464+AY469","v":{"v":0,"d":"0.00"}}]
["53210","Aportaciones de la federación a entidades federativas y municipios",{"$nulls":47},{"v":0,"d":"0.00"},{"v":0,"d":"0.00"}]
["53210-1","  Aportaciones de la Federación a las entidades federativas",{"$nulls":47},{"$f":"Balanza!G672","v":{"v":0,"d":"0.00"}},{"$f":"Balanza!C672","v":{"v":0,"d":"0.00"}}]
["53210-2","  Aportaciones de la Federación a municipios",{"$nulls":47},{"$f":"Balanza!G673","v":{"v":0,"d":"0.00"}},{"$f":"Balanza!C673","v":{"v":0,"d":"0.00"}}]
["53210-3","  Aportaciones  previstas en leyes y decretos al sistema de protección social",{"$nulls":47},{"$f":"Balanza!G674","v":{"v":0,"d":"0.00"}},{"$f":"Balanza!C674","v":{"v":0,"d":"0.00"}}]
["53210-4","  Aportaciones previstas en leyes y decretos compensatorias a entidades federativas y municipios",{"$nulls":47},{"$f":"Balanza!G675","v":{"v":0,"d":"0.00"}},{"$f":"Balanza!C675","v":{"v":0,"d":"0.00"}}]
["53220","Aportaciones de las entidades federativas a los municipios",{"$nulls":47},{"$f":"SUM(AX470)","v":{"v":0,"d":"0.00"}},{"$f":"SUM(AY470)","v":{"v":0,"d":"0.00"}}]
["53220-1","  Aportaciones de las entidades federativas a los municipios",{"$nulls":47},{"$f":"Balanza!G677","v":{"v":0,"d":"0.00"}},{"$f":"Balanza!C677","v":{"v":0,"d":"0.00"}}]
["53300","CONVENIOS",{"$nulls":47},{"$f":"AX472+AX474","v":{"v":0,"d":"0.00"}},{"$f":"AY472+AY474","v":{"v":0,"d":"0.00"}}]
["53310","Convenios de reasignación",{"$nulls":47},{"$f":"SUM(AX473)","v":{"v":0,"d":"0.00"}},{"$f":"SUM(AY473)","v":{"v":0,"d":"0.00"}}]
["53310-1","  Convenios de reasignación",{"$nulls":47},{"$f":"Balanza!G680","v":{"v":0,"d":"0.00"}},{"$f":"Balanza!C680","v":{"v":0,"d":"0.00"}}]
["53320","Convenios de descentralización y otros",{"$nulls":47},{"$f":"SUM(AX475:AX476)","v":{"v":0,"d":"0.00"}},{"$f":"SUM(AY475:AY476)","v":{"v":0,"d":"0.00"}}]
["53320-1","  Convenios de descentralización",{"$nulls":47},{"$f":"Balanza!G682","v":{"v":0,"d":"0.00"}},{"$f":"Balanza!C682","v":{"v":0,"d":"0.00"}}]
["53320-2","  Otros convenios",{"$nulls":47},{"$f":"Balanza!G683","v":{"v":0,"d":"0.00"}},{"$f":"Balanza!C683","v":{"v":0,"d":"0.00"}}]
["54000"," INTERESES, COMISIONES Y OTROS GASTOS DE LA DEUDA PÚBLICA",{"$nulls":47},{"$f":"AX478+AX489+AX494+AX499+AX502","v":{"v":238466.34,"d":"238,466.34"}},{"$f":"AY478+AY489+AY494+AY499+AY502","v":{"v":3046714.94,"d":"3,046,714.94"}}]
["54100","INTERESES DE LA DEUDA PÚBLICA",{"$nulls":47},{"$f":"AX479+AX483","v":{"v":238466.34,"d":"238,466.34"}},{"$f":"AY479+AY483","v":{"v":3046714.94,"d":"3,046,714.94"}}]
["54110","Intereses de la deuda pública interna",{"$nulls":47},{"$f":"SUM(AX480:AX482)","v":{"v":238466.34,"d":"238,466.34"}},{"$f":"SUM(AY480:AY482)","v":{"v":3046714.94,"d":"3,046,714.94"}}]
["54110-1","  Intereses de la deuda interna con instituciones de crédito",{"$nulls":47},{"$f":"Balanza!G687","v":{"v":238466.34,"d":"238,466.34"}},{"$f":"Balanza!C687","v":{"v":3046714.94,"d":"3,046,714.94"}}]
["54110-2","  Intereses derivados de la colocación de títulos y valores",{"$nulls":47},{"$f":"Balanza!G688","v":{"v":0,"d":"0.00"}},{"$f":"Balanza!C688","v":{"v":0,"d":"0.00"}}]
["54110-3","  Intereses por arrendamientos  financieros nacionales",{"$nulls":47},{"$f":"Balanza!G689","v":{"v":0,"d":"0.00"}},{"$f":"Balanza!C689","v":{"v":0,"d":"0.00"}}]
["54120","Intereses de la deuda pública externa",{"$nulls":47},{"$f":"SUM(AX484:AX488)","v":{"v":0,"d":"0.00"}},{"$f":"SUM(AY484:AY488)","v":{"v":0,"d":"0.00"}}]
["54120-1","  Intereses de la deuda externa con instituciones de crédito ",{"$nulls":47},{"$f":"Balanza!G691","v":{"v":0,"d":"0.00"}},{"$f":"Balanza!C691","v":{"v":0,"d":"0.00"}}]
["54120-2","  Intereses de la deuda con organismos financieros internacionales",{"$nulls":47},{"$f":"Balanza!G692","v":{"v":0,"d":"0.00"}},{"$f":"Balanza!C692","v":{"v":0,"d":"0.00"}}]
["54120-3","  Intereses de la deuda bilateral  ",{"$nulls":47},{"$f":"Balanza!G693","v":{"v":0,"d":"0.00"}},{"$f":"Balanza!C693","v":{"v":0,"d":"0.00"}}]
["54120-4","  Intereses derivados de la colocación de títulos y valores en el exterior",{"$nulls":47},{"$f":"Balanza!G694","v":{"v":0,"d":"0.00"}},{"$f":"Balanza!C694","v":{"v":0,"d":"0.00"}}]
["54120-5","  Intereses por arrendamientos financieros internacionales",{"$nulls":47},{"$f":"Balanza!G695","v":{"v":0,"d":"0.00"}},{"$f":"Balanza!C695","v":{"v":0,"d":"0.00"}}]
["54200","COMISIONES DE LA DEUDA PÚBLICA",{"$nulls":47},{"$f":"AX490+AX492","v":{"v":0,"d":"0.00"}},{"$f":"AY490+AY492","v":{"v":0,"d":"0.00"}}]
["54210","Comisiones de la deuda pública interna",{"$nulls":47},{"$f":"SUM(AX491)","v":{"v":0,"d":"0.00"}},{"$f":"SUM(AY491)","v":{"v":0,"d":"0.00"}}]
["54210-1","  Comisiones de la deuda pública interna",{"$nulls":47},{"$f":"Balanza!G698","v":{"v":0,"d":"0.00"}},{"$f":"Balanza!C698","v":{"v":0,"d":"0.00"}}]
["54220","Comisiones de la deuda pública externa",{"$nulls":47},{"$f":"SUM(AX493)","v":{"v":0,"d":"0.00"}},{"$f":"SUM(AY493)","v":{"v":0,"d":"0.00"}}]
["54220-1","  Comisiones de la deuda pública externa",{"$nulls":47},{"$f":"Balanza!G700","v":{"v":0,"d":"0.00"}},{"$f":"Balanza!C700","v":{"v":0,"d":"0.00"}}]
["54300","GASTOS DE LA DEUDA PÚBLICA",{"$nulls":47},{"$f":"AX495+AX497","v":{"v":0,"d":"0.00"}},{"$f":"AY495+AY497","v":{"v":0,"d":"0.00"}}]
["54310","Gastos de la deuda pública interna",{"$nulls":47},{"$f":"SUM(AX496)","v":{"v":0,"d":"0.00"}},{"$f":"SUM(AY496)","v":{"v":0,"d":"0.00"}}]
["54310-1","  Gastos de la deuda pública interna",{"$nulls":47},{"$f":"Balanza!G703","v":{"v":0,"d":"0.00"}},{"$f":"Balanza!C703","v":{"v":0,"d":"0.00"}}]
["54320","Gastos de la deuda pública externa",{"$nulls":47},{"$f":"SUM(AX498)","v":{"v":0,"d":"0.00"}},{"$f":"SUM(AY498)","v":{"v":0,"d":"0.00"}}]
["54320-1","  Gastos de la deuda pública externa",{"$nulls":47},{"$f":"Balanza!G705","v":{"v":0,"d":"0.00"}},{"$f":"Balanza!C705","v":{"v":0,"d":"0.00"}}]
["54400","COSTO POR COBERTURAS",{"$nulls":47},{"$f":"AX500","v":{"v":0,"d":"0.00"}},{"$f":"AY500","v":{"v":0,"d":"0.00"}}]
["54410","Costo por coberturas",{"$nulls":47},{"$f":"SUM(AX501)","v":{"v":0,"d":"0.00"}},{"$f":"SUM(AY501)","v":{"v":0,"d":"0.00"}}]
["54410-1","  Costo por coberturas",{"$nulls":47},{"$f":"Balanza!G708","v":{"v":0,"d":"0.00"}},{"$f":"Balanza!C708","v":{"v":0,"d":"0.00"}}]
["54500","APOYOS FINANCIEROS",{"$nulls":47},{"$f":"AX503+AX505","v":{"v":0,"d":"0.00"}},{"$f":"AY503+AY505","v":{"v":0,"d":"0.00"}}]
["54510","Apoyos financieros a intermediarios",{"$nulls":47},{"$f":"SUM(AX504)","v":{"v":0,"d":"0.00"}},{"$f":"SUM(AY504)","v":{"v":0,"d":"0.00"}}]
["54510-1","  Apoyos financieros a intermediarios",{"$nulls":47},{"$f":"Balanza!G711","v":{"v":0,"d":"0.00"}},{"$f":"Balanza!C711","v":{"v":0,"d":"0.00"}}]
["54520","Apoyos financieros a ahorradores y deudores del sistema financiero nacional",{"$nulls":47},{"$f":"SUM(AX506)","v":{"v":0,"d":"0.00"}},{"$f":"SUM(AY506)","v":{"v":0,"d":"0.00"}}]
["54520-1","  Apoyos financieros a ahorradores y deudores del sistema financiero nacional",{"$nulls":47},{"$f":"Balanza!G713","v":{"v":0,"d":"0.00"}},{"$f":"Balanza!C713","v":{"v":0,"d":"0.00"}}]
["55000"," OTROS GASTOS Y PÉRDIDAS EXTRAORDINARIAS",{"$nulls":47},{"$f":"AX508+AX517+AX520+AX526","v":{"v":0,"d":"0.00"}},{"$f":"AY508+AY517+AY520+AY526","v":{"v":0,"d":"0.00"}}]
["55100","ESTIMACIONES, DEPRECIACIONES, DETERIOROS, OBSOLESCENCIA Y AMORTIZACIONES",{"$nulls":47},{"$f":"SUM(AX509:AX516)","v":{"v":0,"d":"0.00"}},{"$f":"SUM(AY509:AY516)","v":{"v":0,"d":"0.00"}}]
["55110","Estimaciones de pérdida por deterioro de activos circulantes",{"$nulls":47},{"$f":"Balanza!G716","v":{"v":0,"d":"0.00"}},{"$f":"Balanza!C716","v":{"v":0,"d":"0.00"}}]
["55120","Estimaciones de pérdida por deterioro de activo no circulante",{"$nulls":47},{"$f":"Balanza!G717","v":{"v":0,"d":"0.00"}},{"$f":"Balanza!C717","v":{"v":0,"d":"0.00"}}]
["55130","Depreciación de bienes inmuebles",{"$nulls":47},{"$f":"Balanza!G718","v":{"v":0,"d":"0.00"}},{"$f":"Balanza!C718","v":{"v":0,"d":"0.00"}}]
["55140","Depreciación de infraestructura",{"$nulls":47},{"$f":"Balanza!G719","v":{"v":0,"d":"0.00"}},{"$f":"Balanza!C719","v":{"v":0,"d":"0.00"}}]
["55150","Depreciación de bienes muebles",{"$nulls":47},{"$f":"Balanza!G720","v":{"v":0,"d":"0.00"}},{"$f":"Balanza!C720","v":{"v":0,"d":"0.00"}}]
["55160","Deterioro de bienes",{"$nulls":47},{"$f":"Balanza!G721","v":{"v":0,"d":"0.00"}},{"$f":"Balanza!C721","v":{"v":0,"d":"0.00"}}]
["55170","Amortización de activos intangibles",{"$nulls":47},{"$f":"Balanza!G722","v":{"v":0,"d":"0.00"}},{"$f":"Balanza!C722","v":{"v":0,"d":"0.00"}}]
["55180","Disminución de bienes por pérdida u obsolescencia",{"$nulls":47},{"$f":"Balanza!G723","v":{"v":0,"d":"0.00"}},{"$f":"Balanza!C723","v":{"v":0,"d":"0.00"}}]
["55200","PROVISIONES  ",{"$nulls":47},{"$f":"SUM(AX518:AX519)","v":{"v":0,"d":"0.00"}},{"$f":"SUM(AY518:AY519)","v":{"v":0,"d":"0.00"}}]
["55210","Provisiones de pasivos a corto plazo",{"$nulls":47},{"$f":"Balanza!G725","v":{"v":0,"d":"0.00"}},{"$f":"Balanza!C725","v":{"v":0,"d":"0.00"}}]
["55220","Provisiones de pasivos a largo plazo",{"$nulls":47},{"$f":"Balanza!G726","v":{"v":0,"d":"0.00"}},{"$f":"Balanza!C726","v":{"v":0,"d":"0.00"}}]
["55300","DISMINUCIÓN DE INVENTARIOS",{"$nulls":47},{"$f":"SUM(AX521:AX525)","v":{"v":0,"d":"0.00"}},{"$f":"SUM(AY521:AY525)","v":{"v":0,"d":"0.00"}}]
["55310","Disminución de inventarios de mercancías para venta",{"$nulls":47},{"$f":"Balanza!G728","v":{"v":0,"d":"0.00"}},{"$f":"Balanza!C728","v":{"v":0,"d":"0.00"}}]
["55320","Disminución de inventarios de mercancías terminadas",{"$nulls":47},{"$f":"Balanza!G729","v":{"v":0,"d":"0.00"}},{"$f":"Balanza!C729","v":{"v":0,"d":"0.00"}}]
["55330","Disminución de inventarios de mercancías en proceso de elaboración",{"$nulls":47},{"$f":"Balanza!G730","v":{"v":0,"d":"0.00"}},{"$f":"Balanza!C730","v":{"v":0,"d":"0.00"}}]
["55340","Disminución de inventarios de materias primas, materiales y suministros para producción",{"$nulls":47},{"$f":"Balanza!G731","v":{"v":0,"d":"0.00"}},{"$f":"Balanza!C731","v":{"v":0,"d":"0.00"}}]
["55350","Disminución de almacén de materiales y suministros de consumo",{"$nulls":47},{"$f":"Balanza!G732","v":{"v":0,"d":"0.00"}},{"$f":"Balanza!C732","v":{"v":0,"d":"0.00"}}]
["55900","OTROS GASTOS",{"$nulls":47},{"$f":"SUM(AX527:AX535)","v":{"v":0,"d":"0.00"}},{"$f":"SUM(AY527:AY535)","v":{"v":0,"d":"0.00"}}]
["55910","Gastos de ejercicios anteriores",{"$nulls":47},{"$f":"Balanza!G738","v":{"v":0,"d":"0.00"}},{"$f":"Balanza!C738","v":{"v":0,"d":"0.00"}}]
["55920","Pérdidas por responsabilidades",{"$nulls":47},{"$f":"Balanza!G739","v":{"v":0,"d":"0.00"}},{"$f":"Balanza!C739","v":{"v":0,"d":"0.00"}}]
["55930","Bonificaciones y descuentos otorgados",{"$nulls":47},{"$f":"Balanza!G740","v":{"v":0,"d":"0.00"}},{"$f":"Balanza!C740","v":{"v":0,"d":"0.00"}}]
["55940","Diferencias por tipo de cambio negativas",{"$nulls":47},{"$f":"Balanza!G741","v":{"v":0,"d":"0.00"}},{"$f":"Balanza!C741","v":{"v":0,"d":"0.00"}}]
["55950","Diferencias de cotizaciones negativas en valores negociables",{"$nulls":47},{"$f":"Balanza!G742","v":{"v":0,"d":"0.00"}},{"$f":"Balanza!C742","v":{"v":0,"d":"0.00"}}]
["55960","Resultado por posición monetaria",{"$nulls":47},{"$f":"Balanza!G743","v":{"v":0,"d":"0.00"}},{"$f":"Balanza!C743","v":{"v":0,"d":"0.00"}}]
["55970","Pérdidas por participación patrimonial",{"$nulls":47},{"$f":"Balanza!G744","v":{"v":0,"d":"0.00"}},{"$f":"Balanza!C744","v":{"v":0,"d":"0.00"}}]
["55980","Diferencias por reestructuración de deuda pública negativas",{"$nulls":47},{"$f":"Balanza!G745","v":{"v":0,"d":"0.00"}},{"$f":"Balanza!C745","v":{"v":0,"d":"0.00"}}]
["55990","Otros gastos varios",{"$nulls":47},{"$f":"Balanza!G746","v":{"v":0,"d":"0.00"}},{"$f":"Balanza!C746","v":{"v":0,"d":"0.00"}}]
["56000"," INVERSIÓN PÚBLICA",{"$nulls":47},{"$f":"AX537","v":{"v":0,"d":"0.00"}},{"$f":"AY537","v":{"v":78633544.9,"d":"78,633,544.90"}}]
["56100","INVERSIÓN PÚBLICA NO CAPITALIZABLE",{"$nulls":47},{"$f":"SUM(AX538)","v":{"v":0,"d":"0.00"}},{"$f":"SUM(AY538)","v":{"v":78633544.9,"d":"78,633,544.90"}}]
["56110","Construcción en bienes no capitalizables",{"$nulls":47},{"$f":"Balanza!G749","v":{"v":0,"d":"0.00"}},{"$f":"Balanza!C749","v":{"v":78633544.9,"d":"78,633,544.90"}}]
[null,"TOTAL DE GASTOS Y OTRAS PERDIDAS",{"$nulls":47},{"$f":"AX186+AX372+AX453+AX477+AX507+AX536","v":{"v":19887014.340000004,"d":"19,887,014.34"}},{"$f":"AY186+AY372+AY453+AY477+AY507+AY536","v":{"v":357868330.62,"d":"357,868,330.62"}}]
[null,"RESULTADO DEL EJERCICIO (AHORRO/DESAHORRO)",{"$nulls":47},{"$f":"AX184-AX539","v":{"v":10178149.249999996,"d":"10,178,149.25"}},{"$f":"AY184-AY539","v":{"v":-25621832.120000005,"d":"-25,621,832.12"}}]
[]
[null,"Bajo protesta de decir verdad declaramos que los Estados Financieros y sus notas, son razonablemente correctos y son responsabilidad del emisor."]
[]
[]
[]
[]
[{"$nulls":47}," "]
[{"$nulls":15},{"$f":"Validacion!A7","v":"LIC. JOSE HERIBERTO GARCIA MURILLO"},{"$nulls":31},{"$f":"Validacion!A9","v":"LAE BRUNO GERMAN ENCISO GUILLEN"}]
[]
[{"$nulls":15},"Presidente Municipal o Títular del ente público",{"$nulls":31},"Encargado de la Hacienda Pública Municipal o\n Responsable de las finanzas del ente público"]

{"sheet":"F6A","index":21,"n_rows":70,"n_cols":51,"rows_kept":70,"merged":[[0,0,0,50],[1,0,1,50],[2,0,2,50],[3,0,3,50],[4,1,4,48],[14,1,14,48],[23,1,23,48],[56,1,56,48],[57,1,57,48],[63,15,63,31],[63,47,63,50],[64,15,65,31],[64,47,65,50],[66,15,67,31],[66,47,67,50],[69,22,72,41]]}
["MUNICIPIO IXTLAHUACÁN DE LOS MEMBRILLOS"]
["Estado de Actividades"]
["DEL 1° DE ENERO AL 31 DE ENERO DE 2026"]
["(Cifras en pesos)"]
[null,"Concepto",{"$nulls":47},{"$f":"Validacion!F185","v":2026},{"$f":"Validacion!F186","v":2025}]
[null,"INGRESOS Y OTROS BENEFICIOS"]
[null,"    Ingresos de Gestión",{"$nulls":47},{"$f":"AX8+AX9+AX10+AX11+AX12+AX13+AX14","v":{"v":11618942.64,"d":"11,618,942.64"}},{"$f":"AY8+AY9+AY10+AY11+AY12+AY13+AY14","v":{"v":104942611.5,"d":"104,942,611.50"}}]
[null,"        Impuestos",{"$nulls":47},{"$f":"Balanza!H199","v":{"v":7919529.54,"d":"7,919,529.54"}},{"$f":"Balanza!D199","v":{"v":51909718.15,"d":"51,909,718.15"}}]
[null,"        Cuotas y Aportaciones de Seguridad Social",{"$nulls":47},{"$f":"Balanza!H220","v":{"v":0,"d":"0.00"}},{"$f":"Balanza!D220","v":{"v":0,"d":"0.00"}}]
[null,"        Contribuciones de Mejoras",{"$nulls":47},{"$f":"Balanza!H226","v":{"v":0,"d":"0.00"}},{"$f":"Balanza!D226","v":{"v":0,"d":"0.00"}}]
[null,"        Derechos",{"$nulls":47},{"$f":"Balanza!H231","v":{"v":3506678.6100000003,"d":"3,506,678.61"}},{"$f":"Balanza!D231","v":{"v":43986432.300000004,"d":"43,986,432.30"}}]
[null,"        Productos",{"$nulls":47},{"$f":"Balanza!H263","v":{"v":72792.36,"d":"72,792.36"}},{"$f":"Balanza!D263","v":{"v":563407.4600000001,"d":"563,407.46"}}]
[null,"        Aprovechamientos",{"$nulls":47},{"$f":"Balanza!H272","v":{"v":119942.13,"d":"119,942.13"}},{"$f":"Balanza!D272","v":{"v":8483053.59,"d":"8,483,053.59"}}]
[null,"        Ingresos por Venta de Bienes y Prestación de Servicios",{"$nulls":47},{"$f":"Balanza!H293","v":{"v":0,"d":"0.00"}},{"$f":"Balanza!D293","v":{"v":0,"d":"0.00"}}]
[null,"Participaciones, Aportaciones, Convenios, Incentivos Derivados de la Colaboración Fiscal, Fondos Distintos de Aportaciones, Transferencias, Asignaciones, Subsidios y Subvenciones, y Pensiones y Jubilaciones",{"$nulls":47},{"$f":"AX16+AX17","v":{"v":18446220.95,"d":"18,446,220.95"}},{"$f":"AY16+AY17","v":{"v":227303887,"d":"227,303,887.00"}}]
[null,"    Participaciones, Aportaciones, Convenios, Incentivos Derivados de la Colaboración Fiscal y Fondos Distintos de Aportaciones",{"$nulls":47},{"$f":"Balanza!H309","v":{"v":18446220.95,"d":"18,446,220.95"}},{"$f":"Balanza!D309","v":{"v":227303887,"d":"227,303,887.00"}}]
[null,"    Transferencias, Asignaciones, Subsidios y Subvenciones, Pensiones y Jubilaciones",{"$nulls":47},{"$f":"Balanza!H342","v":{"v":0,"d":"0.00"}},{"$f":"Balanza!D342","v":{"v":0,"d":"0.00"}}]
[null,"    Otros Ingresos y Beneficios",{"$nulls":47},{"$f":"AX19+AX20+AX21+AX22+AX23","v":{"v":0,"d":"0.00"}},{"$f":"AY19+AY20+AY21+AY22+AY23","v":{"v":0,"d":"0.00"}}]
[null,"    Ingresos Financieros",{"$nulls":47},{"$f":"Balanza!H357","v":{"v":0,"d":"0.00"}},{"$f":"Balanza!D357","v":{"v":0,"d":"0.00"}}]
[null,"    Incremento por Variación de Inventarios",{"$nulls":47},{"$f":"Balanza!H362","v":{"v":0,"d":"0.00"}},{"$f":"Balanza!D362","v":{"v":0,"d":"0.00"}}]
[null,"    Disminución del Exceso de Estimaciones por Pérdida o Deterioro u Obsolescencia",{"$nulls":47},{"$f":"Balanza!H368","v":{"v":0,"d":"0.00"}},{"$f":"Balanza!D368","v":{"v":0,"d":"0.00"}}]
[null,"    Disminución del Exceso de Provisiones",{"$nulls":47},{"$f":"Balanza!H371","v":{"v":0,"d":"0.00"}},{"$f":"Balanza!D371","v":{"v":0,"d":"0.00"}}]
[null,"    Otros Ingresos y Beneficios Varios",{"$nulls":47},{"$f":"Balanza!H374","v":{"v":0,"d":"0.00"}},{"$f":"Balanza!D374","v":{"v":0,"d":"0.00"}}]
[null,"Total de Ingresos y Otros Beneficios",{"$nulls":47},{"$f":"AX7+AX15+AX18","v":{"v":30065163.59,"d":"30,065,163.59"}},{"$f":"AY7+AY15+AY18","v":{"v":332246498.5,"d":"332,246,498.50"}}]
[null,"GASTOS Y OTRAS PÉRDIDAS"]
[null,"   Gastos de Funcionamiento",{"$nulls":47},{"$f":"AX27+AX28+AX29","v":{"v":18353177.630000003,"d":"18,353,177.63"}},{"$f":"AY27+AY28+AY29","v":{"v":246352434.60999998,"d":"246,352,434.61"}}]
[null,"    Servicios Personales",{"$nulls":47},{"$f":"Balanza!G392","v":{"v":6852124.45,"d":"6,852,124.45"}},{"$f":"Balanza!C392","v":{"v":88011042.47,"d":"88,011,042.47"}}]
[null,"    Materiales y Suministros",{"$nulls":47},{"$f":"Balanza!G427","v":{"v":4157409.64,"d":"4,157,409.64"}},{"$f":"Balanza!C427","v":{"v":70314648.38999999,"d":"70,314,648.39"}}]
[null,"    Servicios Generales",{"$nulls":47},{"$f":"Balanza!G492","v":{"v":7343643.540000001,"d":"7,343,643.54"}},{"$f":"Balanza!C492","v":{"v":88026743.75,"d":"88,026,743.75"}}]
[null,"   Transferencias, Asignaciones, Subsidios y Otras ayudas",{"$nulls":47},{"$f":"AX31+AX32+AX33+AX34+AX35+AX36+AX37+AX38+AX39","v":{"v":1295370.3699999999,"d":"1,295,370.37"}},{"$f":"AY31+AY32+AY33+AY34+AY35+AY36+AY37+AY38+AY39","v":{"v":29835636.169999998,"d":"29,835,636.17"}}]
[null,"    Transferencias Internas y Asignaciones al Sector Público",{"$nulls":47},{"$f":"Balanza!G578","v":{"v":0,"d":"0.00"}},{"$f":"Balanza!C578","v":{"v":0,"d":"0.00"}}]
[null,"    Transferencias al Resto del Sector Público",{"$nulls":47},{"$f":"Balanza!G590","v":{"v":101005.58,"d":"101,005.58"}},{"$f":"Balanza!C590","v":{"v":1733957.61,"d":"1,733,957.61"}}]
[null,"    Subsidios y Subvenciones",{"$nulls":47},{"$f":"Balanza!G598","v":{"v":1083635.2,"d":"1,083,635.20"}},{"$f":"Balanza!C598","v":{"v":14663614.36,"d":"14,663,614.36"}}]
[null,"    Ayudas Sociales",{"$nulls":47},{"$f":"Balanza!G610","v":{"v":103596.39,"d":"103,596.39"}},{"$f":"Balanza!C610","v":{"v":13352465.8,"d":"13,352,465.80"}}]
[null,"    Pensiones y Jubilaciones",{"$nulls":47},{"$f":"Balanza!G623","v":{"v":7133.2,"d":"7,133.20"}},{"$f":"Balanza!C623","v":{"v":85598.4,"d":"85,598.40"}}]
[null,"    Transferencias a Fideicomisos, Mandatos y Contratos Análogos",{"$nulls":47},{"$f":"Balanza!G630","v":{"v":0,"d":"0.00"}},{"$f":"Balanza!C630","v":{"v":0,"d":"0.00"}}]
[null,"    Transferencias a la Seguridad Social",{"$nulls":47},{"$f":"Balanza!G640","v":{"v":0,"d":"0.00"}},{"$f":"Balanza!C640","v":{"v":0,"d":"0.00"}}]
[null,"    Donativos",{"$nulls":47},{"$f":"Balanza!G643","v":{"v":0,"d":"0.00"}},{"$f":"Balanza!C643","v":{"v":0,"d":"0.00"}}]
[null,"    Transferencias al Exterior",{"$nulls":47},{"$f":"Balanza!G654","v":{"v":0,"d":"0.00"}},{"$f":"Balanza!C654","v":{"v":0,"d":"0.00"}}]
[null,"  Participaciones y Aportaciones",{"$nulls":47},{"$f":"AX41+AX42+AX43","v":{"v":0,"d":"0.00"}},{"$f":"AY41+AY42+AY43","v":{"v":0,"d":"0.00"}}]
[null,"    Participaciones",{"$nulls":47},{"$f":"Balanza!G661","v":{"v":0,"d":"0.00"}},{"$f":"Balanza!C661","v":{"v":0,"d":"0.00"}}]
[null,"    Aportaciones",{"$nulls":47},{"$f":"Balanza!G670","v":{"v":0,"d":"0.00"}},{"$f":"Balanza!C670","v":{"v":0,"d":"0.00"}}]
[null,"    Convenios",{"$nulls":47},{"$f":"Balanza!G678","v":{"v":0,"d":"0.00"}},{"$f":"Balanza!C678","v":{"v":0,"d":"0.00"}}]
[null,"  Intereses, Comisiones y Otros gastos de la Deuda Pública",{"$nulls":47},{"$f":"AX45+AX46+AX47+AX48+AX49","v":{"v":238466.34,"d":"238,466.34"}},{"$f":"AY45+AY46+AY47+AY48+AY49","v":{"v":3046714.94,"d":"3,046,714.94"}}]
[null,"    Intereses de la Deuda Pública",{"$nulls":47},{"$f":"Balanza!G685","v":{"v":238466.34,"d":"238,466.34"}},{"$f":"Balanza!C685","v":{"v":3046714.94,"d":"3,046,714.94"}}]
[null,"    Comisiones de la Deuda Pública",{"$nulls":47},{"$f":"Balanza!G696","v":{"v":0,"d":"0.00"}},{"$f":"Balanza!C696","v":{"v":0,"d":"0.00"}}]
[null,"    Gastos de la Deuda Pública",{"$nulls":47},{"$f":"Balanza!G701","v":{"v":0,"d":"0.00"}},{"$f":"Balanza!C701","v":{"v":0,"d":"0.00"}}]
[null,"    Costos por Coberturas",{"$nulls":47},{"$f":"Balanza!G706","v":{"v":0,"d":"0.00"}},{"$f":"Balanza!C706","v":{"v":0,"d":"0.00"}}]
[null,"    Apoyos Financieros",{"$nulls":47},{"$f":"Balanza!G709","v":{"v":0,"d":"0.00"}},{"$f":"Balanza!C709","v":{"v":0,"d":"0.00"}}]
[null,"  Otros Gastos y Pérdidas Extraordinarias",{"$nulls":47},{"$f":"AX51+AX52+AX53+AX54","v":{"v":0,"d":"0.00"}},{"$f":"AY51+AY52+AY53+AY54","v":{"v":0,"d":"0.00"}}]
[null,"    Estimaciones, Depreciaciones, Deterioro, Obsolescencia y Amortizaciones",{"$nulls":47},{"$f":"Balanza!G715","v":{"v":0,"d":"0.00"}},{"$f":"Balanza!C715","v":{"v":0,"d":"0.00"}}]
[null,"    Provisiones",{"$nulls":47},{"$f":"Balanza!G724","v":{"v":0,"d":"0.00"}},{"$f":"Balanza!C724","v":{"v":0,"d":"0.00"}}]
[null,"    Disminución de Inventarios",{"$nulls":47},{"$f":"Balanza!G727","v":{"v":0,"d":"0.00"}},{"$f":"Balanza!C727","v":{"v":0,"d":"0.00"}}]
[null,"    Otros Gastos",{"$nulls":47},{"$f":"Balanza!G737","v":{"v":0,"d":"0.00"}},{"$f":"Balanza!C737","v":{"v":0,"d":"0.00"}}]
[null,"  Inversión Pública",{"$nulls":47},{"$f":"AX56","v":{"v":0,"d":"0.00"}},{"$f":"AY56","v":{"v":78633544.9,"d":"78,633,544.90"}}]
[null,"    Inversión Pública no Capitalizable",{"$nulls":47},{"$f":"Balanza!G748","v":{"v":0,"d":"0.00"}},{"$f":"Balanza!C748","v":{"v":78633544.9,"d":"78,633,544.90"}}]
[null,"Total de Gastos y Otras Perdidas",{"$nulls":47},{"$f":"AX26+AX30+AX40+AX44+AX50+AX55","v":{"v":19887014.340000004,"d":"19,887,014.34"}},{"$f":"AY26+AY30+AY40+AY44+AY50+AY55","v":{"v":357868330.62,"d":"357,868,330.62"}}]
[null,"Resultado del Ejercicio (Ahorro/Desahorro)",{"$nulls":47},{"$f":"AX24-AX57","v":{"v":10178149.249999996,"d":"10,178,149.25"}},{"$f":"AY24-AY57","v":{"v":-25621832.120000005,"d":"-25,621,832.12"}}]
[]
[null,"Bajo protesta de decir verdad declaramos que los Estados Financieros y sus notas, son razonablemente correctos y son responsabilidad del emisor."]
[]
[]
[]
[{"$nulls":47}," "]
[{"$nulls":15},"LIC. JOSE HERIBERTO GARCIA MURILLO",{"$nulls":31},"LAE BRUNO GERMAN ENCISO GUILLEN"]
[]
[{"$nulls":15},"PRESIDENTE MUNICIPAL",{"$nulls":31},"ENCARGADO DE LA HACIENDA MUNICIPAL"]
[]
[]
[{"$nulls":22},"ASEJ2026-01-31-03-2026-1"]

{"sheet":"F2","index":22,"n_rows":42,"n_cols":7,"rows_kept":42,"hidden":true,"merged":[[0,0,0,6],[1,0,1,6],[2,0,2,6],[3,0,3,6],[5,0,5,1],[9,0,9,1],[15,0,15,1],[18,0,18,1],[19,0,19,1],[23,0,23,1],[29,0,29,1],[32,0,32,1],[39,1,40,1],[39,3,40,6],[41,1,42,1],[41,3,42,6]]}
[{"$f":"\"Nombre del Ente Público: \"&Validacion!A2","v":"Nombre del Ente Público: Ixtlahuacán de los Membrillos"}]
["Estado de Variación en la Hacienda Pública"]
[{"$f":"'F6'!A3","v":"DEL 1° DE ENERO AL 31 DE ENERO DE 2026"}]
["(Cifras en pesos)"]
[null,"Concepto","Hacienda Pública / Patrimonio Contribuido","Hacienda Pública/Patrimonio Generado de Ejercicios Anteriores","Hacienda Pública/Patrimonio Generado del Ejercicio","Exceso o Insuficiencia en la Actualización de la Hacienda Pública/Patrimonio","Total"]
[{"$f":"\"Hacienda Pública/Patrimonio Contribuido Neto de \"&Validacion!F186","v":"Hacienda Pública/Patrimonio Contribuido Neto de 2025"},null,{"$f":"SUM(C7:C9)","v":{"v":0,"d":"0.00"}},{"$nulls":3},{"$f":"SUM(C6:F6)","v":{"v":0,"d":"0.00"}}]
[null,"Aportaciones",{"$f":"Balanza!D175","v":{"v":0,"d":"0.00"}},{"$nulls":3},{"$f":"SUM(C7:F7)","v":{"v":0,"d":"0.00"}}]
[null,"Donaciones de Capital",{"$f":"Balanza!D176","v":{"v":0,"d":"0.00"}},{"$nulls":3},{"$f":"SUM(C8:F8)","v":{"v":0,"d":"0.00"}}]
[null,"Actualización de la Hacienda Pública/Patrimonio",{"$f":"Balanza!D177","v":{"v":0,"d":"0.00"}},{"$nulls":3},{"v":0,"d":"0.00"}]
[{"$f":"\"Hacienda Pública/Patrimonio Generado Neto de \"&Validacion!F186","v":"Hacienda Pública/Patrimonio Generado Neto de 2025"},null,null,{"$f":"SUM(D12:D15)","v":{"v":407655860.59,"d":"407,655,860.59"}},{"$f":"SUM(E11)","v":{"v":-25621832.120000005,"d":"-25,621,832.12"}},null,{"v":382034028.46999997,"d":"382,034,028.47"}]
[null,"Resultado del Ejercicio (Ahorro/Desahorro)",null,null,{"$f":"Balanza!D179","v":{"v":-25621832.120000005,"d":"-25,621,832.12"}},null,{"v":-25621832.120000005,"d":"-25,621,832.12"}]
[null,"Resultados de Ejercicios Anteriores",null,{"$f":"Balanza!D180","v":{"v":407655860.59,"d":"407,655,860.59"}},null,null,{"v":407655860.59,"d":"407,655,860.59"}]
[null,"Revalúos",null,{"$f":"Balanza!D181","v":{"v":0,"d":"0.00"}},null,null,{"v":0,"d":"0.00"}]
[null,"Reservas",null,{"$f":"Balanza!D186","v":{"v":0,"d":"0.00"}},null,null,{"v":0,"d":"0.00"}]
[null,"Rectificaciones de Resultados de Ejercicios Anteriores",null,{"$f":"Balanza!D190","v":{"v":0,"d":"0.00"}},null,null,{"v":0,"d":"0.00"}]
[{"$f":"\"Exceso o Insuficiencia en la Actualización de la Hacienda Pública/Patrimonio Neto de \"&Validacion!F186","v":"Exceso o Insuficiencia en la Actualización de la Hacienda Pública/Patrimonio Neto de 2025"},{"$nulls":4},{"$f":"SUM(F17:F18)","v":{"v":0,"d":"0.00"}},{"v":0,"d":"0.00"}]
[null,"Resultado por Posición Monetaria ",{"$nulls":3},{"$f":"Balanza!D195","v":{"v":0,"d":"0.00"}},{"v":0,"d":"0.00"}]
[null,"Resultado por Tenencia de Activos no Monetarios",{"$nulls":3},{"$f":"Balanza!D196","v":{"v":0,"d":"0.00"}},{"v":0,"d":"0.00"}]
[{"$f":"\"Hacienda Pública/Patrimonio Neto Final de \"&Validacion!F186","v":"Hacienda Pública/Patrimonio Neto Final de 2025"},null,{"$f":"C6","v":{"v":0,"d":"0.00"}},{"$f":"D10","v":{"v":407655860.59,"d":"407,655,860.59"}},{"$f":"E10","v":{"v":-25621832.120000005,"d":"-25,621,832.12"}},{"$f":"F16","v":{"v":0,"d":"0.00"}},{"v":382034028.46999997,"d":"382,034,028.47"}]
[{"$f":"\"Cambios en la Hacienda Pública/Patrimonio Contribuido Neto de \"&Validacion!F185","v":"Cambios en la Hacienda Pública/Patrimonio Contribuido Neto de 2026"},null,{"$f":"SUM(C21:C23)","v":{"v":0,"d":"0.00"}},{"$nulls":3},{"v":0,"d":"0.00"}]
[null,"Aportaciones",{"$f":"Balanza!F175-Balanza!E175","v":{"v":0,"d":"0.00"}},{"$nulls":3},{"v":0,"d":"0.00"}]
[null,"Donaciones de Capital",{"$f":"Balanza!F176-Balanza!E176","v":{"v":0,"d":"0.00"}},{"$nulls":3},{"v":0,"d":"0.00"}]
[null,"Actualización de la Hacienda Pública/Patrimonio",{"$f":"Balanza!F177-Balanza!E177","v":{"v":0,"d":"0.00"}},{"$nulls":3},{"v":0,"d":"0.00"}]
[{"$f":"\"Variaciones de la Hacienda Pública/Patrimonio Generado Neto de \"&Validacion!F185","v":"Variaciones de la Hacienda Pública/Patrimonio Generado Neto de 2026"},null,null,{"$f":"SUM(D26)","v":{"v":-25621832.119999945,"d":"-25,621,832.12"}},{"$f":"SUM(E25:E29)","v":{"v":35799981.370000005,"d":"35,799,981.37"}},null,{"v":10178149.25000006,"d":"10,178,149.25"}]
[null,"Resultado del Ejercicio (Ahorro/Desahorro)",null,null,{"$f":"Balanza!H179","v":{"v":10178149.25,"d":"10,178,149.25"}},null,{"v":10178149.25,"d":"10,178,149.25"}]
[null,"Resultados de Ejercicios Anteriores",null,{"$f":"Balanza!H180-Balanza!D180","v":{"v":-25621832.119999945,"d":"-25,621,832.12"}},{"$f":"(Balanza!D179)*-1","v":{"v":25621832.120000005,"d":"25,621,832.12"}},null,{"v":5.9604644775390625E-8,"d":"0.00"}]
[null,"Revalúos",null,null,{"$f":"Balanza!F181-Balanza!E181","v":{"v":0,"d":"0.00"}},null,{"v":0,"d":"0.00"}]
[null,"Reservas",null,null,{"$f":"Balanza!F186-Balanza!E186","v":{"v":0,"d":"0.00"}},null,{"v":0,"d":"0.00"}]
[null,"Rectificaciones de Resultados de Ejercicios Anteriores",null,null,{"$f":"Balanza!F190-Balanza!E190","v":{"v":0,"d":"0.00"}},null,{"v":0,"d":"0.00"}]
[{"$f":"\"Cambios en el Exceso o Insuficiencia en la Actualización de la Hacienda Pública/Patrimonio Neto de \"&Validacion!F185","v":"Cambios en el Exceso o Insuficiencia en la Actualización de la Hacienda Pública/Patrimonio Neto de 2026"},{"$nulls":4},{"$f":"SUM(F31:F32)","v":{"v":0,"d":"0.00"}},{"v":0,"d":"0.00"}]
[null,"Resultados por Posición Monetaria ",{"$nulls":3},{"$f":"Balanza!F195-Balanza!E195","v":{"v":0,"d":"0.00"}},{"v":0,"d":"0.00"}]
[null,"Resultados por Tenencia de Activos no Monetarios ",{"$nulls":3},{"$f":"Balanza!F196-Balanza!E196","v":{"v":0,"d":"0.00"}},{"v":0,"d":"0.00"}]
[{"$f":"\"Hacienda Pública/Patrimonio Neto Final de \"&Validacion!F185","v":"Hacienda Pública/Patrimonio Neto Final de 2026"},null,{"$f":"C19+C20","v":{"v":0,"d":"0.00"}},{"$f":"D19+D24","v":{"v":382034028.47,"d":"382,034,028.47"}},{"$f":"E19+E24","v":{"v":10178149.25,"d":"10,178,149.25"}},{"$f":"F19+F30","v":{"v":0,"d":"0.00"}},{"v":392212177.72,"d":"392,212,177.72"}]
[]
[null,"Bajo protesta de decir verdad declaramos que los Estados Financieros y sus notas, son razonablemente correctos y son responsabilidad del emisor."]
[]
[]
[]
[]
[null,{"$f":"Validacion!A7","v":"LIC. JOSE HERIBERTO GARCIA MURILLO"},null,{"$f":"Validacion!A9","v":"LAE BRUNO GERMAN ENCISO GUILLEN"}]
[]
[null,"Presidente Municipal o titular del ente público",null,"Encargado de la Hacienda Municipal o Responsable\nde las finanzas del ente público"]

{"sheet":"F4A1","index":23,"n_rows":32,"n_cols":3,"rows_kept":32,"hidden":true,"merged":[[0,0,0,3],[1,0,1,3],[2,0,2,3],[3,0,3,3],[4,0,4,1],[4,2,4,3],[5,0,5,1],[5,2,5,3],[6,2,6,3],[7,2,7,3],[8,2,8,3],[9,2,9,3],[10,2,10,3],[11,2,11,3],[12,2,12,3],[13,2,13,3],[14,2,14,3],[15,2,15,3],[16,2,16,3],[17,2,17,3],[19,0,20,3],[23,1,24,1],[25,1,26,1],[29,1,30,1],[31,1,32,1]]}
[{"$f":"\"Nombre del Ente Público: \"&Validacion!A2","v":"Nombre del Ente Público: Ixtlahuacán de los Membrillos"}]
["Conciliación entre los Ingresos Presupuestarios y Contables"]
[{"$f":"'F6'!A3","v":"DEL 1° DE ENERO AL 31 DE ENERO DE 2026"}]
["(Cifras en pesos)"]
["Concepto",null,{"$f":"Validacion!F185","v":2026}]
["1. Total de Ingresos Presupuestarios",null,{"$f":"'F7'!F17","v":{"v":0,"d":"0.00"}}]
["2. Más Ingresos Contables No Presupuestarios",null,{"$f":"SUM(C8:D13)","v":{"v":0,"d":"0.00"}}]
[null,"2.1 Ingresos Financieros",{"$f":"'F6'!AX162","v":{"v":0,"d":"0.00"}}]
[null,"2.2 Incremento por Variación de Inventarios",{"$f":"'F6'!AX165","v":{"v":0,"d":"0.00"}}]
[null,"2.3 Disminución del Exceso de Estimaciones por Pérdida o Deterioro u Obsolescencia",{"$f":"'F6'!AX171","v":{"v":0,"d":"0.00"}}]
[null,"2.4 Disminución del Exceso de Provisiones",{"$f":"'F6'!AX173","v":{"v":0,"d":"0.00"}}]
[null,"2.5 Otros Ingresos y Beneficios Varios",{"$f":"'F6'!AX175","v":{"v":0,"d":"0.00"}}]
[null,"2.6 Otros Ingresos Contables No Presupuestarios",{"v":0,"d":"0.00"}]
["3. Menos Ingresos Presupuestarios No Contables",null,{"$f":"SUM(C15:D17)","v":{"v":0,"d":"0.00"}}]
[null,"3.1 Aprovechamientos Patrimoniales",{"$f":"F7A!F39","v":{"v":0,"d":"0.00"}}]
[null,"3.2 Ingresos Derivados de Financiamientos",{"$f":"'F7'!F16","v":{"v":0,"d":"0.00"}}]
[null,"3.3 Otros Ingresos Presupuestarios No Contables",{"v":0,"d":"0.00"}]
["4. Total de Ingresos Contables",null,{"$f":"C6+C7-C14","v":{"v":0,"d":"0.00"}}]
[]
["Bajo protesta de decir verdad declaramos que los Estados Financieros y sus notas, son razonablemente correctos y son responsabilidad del emisor."]
[]
[]
[]
[null,{"$f":"Validacion!A7","v":"LIC. JOSE HERIBERTO GARCIA MURILLO"}]
[]
[null,"Presidente Municipal o titular del ente público"]
[]
[]
[]
[null,{"$f":"Validacion!A9","v":"LAE BRUNO GERMAN ENCISO GUILLEN"}]
[]
[null,"Encargado de la Hacienda Municipal\no Responsable de las finanzas del ente público"]

{"sheet":"F4A2","index":24,"n_rows":51,"n_cols":3,"rows_kept":51,"hidden":true,"merged":[[0,0,0,3],[1,0,1,3],[2,0,2,3],[3,0,3,3],[4,0,4,1],[4,2,4,3],[5,0,5,1],[5,2,5,3],[6,2,6,3],[7,2,7,3],[8,2,8,3],[9,2,9,3],[10,2,10,3],[11,2,11,3],[12,2,12,3],[13,2,13,3],[14,2,14,3],[15,2,15,3],[16,2,16,3],[17,2,17,3],[18,2,18,3],[19,2,19,3],[20,2,20,3],[21,2,21,3],[22,2,22,3],[23,2,23,3],[24,2,24,3],[25,2,25,3],[26,2,26,3],[27,2,27,3],[28,2,28,3],[29,2,29,3],[30,2,30,3],[31,2,31,3],[32,2,32,3],[33,2,33,3],[34,2,34,3],[35,2,35,3],[36,2,36,3],[38,0,39,3],[42,1,43,1],[44,1,45,1],[48,1,49,1],[50,1,51,1]]}
[{"$f":"\"Nombre del Ente Público: \"&Validacion!A2","v":"Nombre del Ente Público: Ixtlahuacán de los Membrillos"}]
["Conciliación entre los Egresos Presupuestarios y los Gastos Contables"]
[{"$f":"'F6'!A3","v":"DEL 1° DE ENERO AL 31 DE ENERO DE 2026"}]
["(Cifras en pesos)"]
["Concepto",null,{"$f":"Validacion!F185","v":2026}]
["1. Total de Egresos Presupuestarios",null,{"$f":"'F8'!F80","v":{"v":0,"d":"0.00"}}]
["2. Menos Egresos Presupuestarios No Contables",null,{"$f":"SUM(C8:C28)","v":{"v":0,"d":"0.00"}}]
[null,"2.1 Materias Primas y Materiales de Producción y Comercialización",{"v":0,"d":"0.00"}]
[null,"2.2 Materiales y Suministros",{"v":0,"d":"0.00"}]
[null,"2.3 Mobiliario y Equipo de Administración",{"$f":"'F8'!F47","v":{"v":0,"d":"0.00"}}]
[null,"2.4 Mobiliario y Equipo Educacional y Recreativo",{"$f":"'F8'!F48","v":{"v":0,"d":"0.00"}}]
[null,"2.5 Equipo e Instrumental Médico y de Laboratorio",{"$f":"'F8'!F49","v":{"v":0,"d":"0.00"}}]
[null,"2.6 Vehículos y Equipo de Transporte",{"$f":"'F8'!F50","v":{"v":0,"d":"0.00"}}]
[null,"2.7 Equipo de Defensa y Seguridad",{"$f":"'F8'!F51","v":{"v":0,"d":"0.00"}}]
[null,"2.8 Maquinaria, Otros Equipos y Herramientas",{"$f":"'F8'!F52","v":{"v":0,"d":"0.00"}}]
[null,"2.9 Activos Biológicos",{"$f":"'F8'!F53","v":{"v":0,"d":"0.00"}}]
[null,"2.10 Bienes Inmuebles",{"$f":"'F8'!F54","v":{"v":0,"d":"0.00"}}]
[null,"2.11 Activos Intangibles",{"$f":"'F8'!F55","v":{"v":0,"d":"0.00"}}]
[null,"2.12 Obra Pública en Bienes de Dominio Público",{"$f":"'F8'!F57","v":{"v":0,"d":"0.00"}}]
[null,"2.13 Obra Pública en Bienes Propios",{"$f":"'F8'!F58","v":{"v":0,"d":"0.00"}}]
[null,"2.14 Acciones y Participaciones de Capital",{"$f":"'F8'!F62","v":{"v":0,"d":"0.00"}}]
[null,"2.15 Compra de Títulos y Valores",{"$f":"'F8'!F63","v":{"v":0,"d":"0.00"}}]
[null,"2.16 Concesión de Préstamos",{"$f":"'F8'!F64","v":{"v":0,"d":"0.00"}}]
[null,"2.17 Inversiones en Fideicomisos, Mandatos y Otros Análogos",{"$f":"'F8'!F65","v":{"v":0,"d":"0.00"}}]
[null,"2.18 Provisiones para Contingencias y Otras Erogaciones Especiales",{"$f":"'F8'!F67","v":{"v":0,"d":"0.00"}}]
[null,"2.19 Amortización de la Deuda Pública",{"$f":"'F8'!F73","v":{"v":0,"d":"0.00"}}]
[null,"2.20 Adeudos de Ejercicios Fiscales Anteriores (ADEFAS)",{"$f":"'F8'!F79","v":{"v":0,"d":"0.00"}}]
[null,"2.21 Otros Egresos Presupuestales No Contables",{"v":0,"d":"0.00"}]
["3. Más Gastos Contables No Presupuestales",null,{"$f":"SUM(C30:C36)","v":{"v":0,"d":"0.00"}}]
[null,"3.1 Estimaciones, Depreciaciones, Deterioros, Obsolescencia y Amortizaciones",{"$f":"'F6'!AX508","v":{"v":0,"d":"0.00"}}]
[null,"3.2 Previsiones",{"$f":"'F6'!AX517","v":{"v":0,"d":"0.00"}}]
[null,"3.3 Disminución de Inventarios",{"$f":"'F6'!AX520","v":{"v":0,"d":"0.00"}}]
[null,"3.4 Otros gastos",{"$f":"'F6'!AX526","v":{"v":0,"d":"0.00"}}]
[null,"3.5 Inversión Pública no Capitalizable",{"$f":"'F6'!AX537","v":{"v":0,"d":"0.00"}}]
[null,"3.6 Materiales y Suministros (consumos)",{"v":0,"d":"0.00"}]
[null,"3.7 Otros Gastos Contables No Presupuestarios",{"v":0,"d":"0.00"}]
["4. Total de Gastos Contables",null,{"$f":"C6-C7+C29","v":{"v":0,"d":"0.00"}}]
[]
["Bajo protesta de decir verdad declaramos que los Estados Financieros y sus notas, son razonablemente correctos y son responsabilidad del emisor."]
[]
[]
[]
[null,{"$f":"Validacion!A7","v":"LIC. JOSE HERIBERTO GARCIA MURILLO"}]
[]
[null,"Presidente Municipal o titular del ente público"]
[]
[]
[]
[null,{"$f":"Validacion!A9","v":"LAE BRUNO GERMAN ENCISO GUILLEN"}]
[]
[null,"Encargado de la Hacienda Municipal\no Responsable de las finanzas del ente público"]

{"sheet":"F5","index":25,"n_rows":34,"n_cols":9,"rows_kept":34,"hidden":true,"merged":[[0,0,0,8],[1,0,1,8],[2,0,2,8],[3,0,3,8],[4,0,4,3],[25,3,27,8],[31,3,32,3],[31,5,32,7],[33,3,34,3],[33,5,34,7]]}
[{"$f":"\"Nombre del Ente Público: \"&Validacion!A2","v":"Nombre del Ente Público: Ixtlahuacán de los Membrillos"}]
["Estado Analítico del Activo"]
[{"$f":"'F6'!A3","v":"DEL 1° DE ENERO AL 31 DE ENERO DE 2026"}]
["(Cifras en pesos)"]
["Concepto",{"$nulls":3},"Saldo Inicial","Cargos del Periodo","Abonos del Periodo","Saldo Final","Variación del Periodo"]
["ACTIVO",{"$nulls":3},{"$f":"E7+E15","v":{"v":417980303.08,"d":"417,980,303.08"}},{"$f":"F7+F15","v":{"v":37480969.76,"d":"37,480,969.76"}},{"v":27589231.89,"d":"27,589,231.89"},{"$f":"E6+F6-G6","v":{"v":427872040.95,"d":"427,872,040.95"}},{"$f":"ROUND(H6-E6,2)","v":{"v":9891737.87,"d":"9,891,737.87"}}]
[null,"Activo Circulante",null,null,{"$f":"SUM(E8:E14)","v":{"v":12633909.97,"d":"12,633,909.97"}},{"$f":"SUM(F8:F14)","v":{"v":35828635.26,"d":"35,828,635.26"}},{"v":26304763.240000002,"d":"26,304,763.24"},{"$f":"E7+F7-G7","v":{"v":22157781.989999995,"d":"22,157,781.99"}},{"$f":"H7-E7","v":{"v":9523872.019999994,"d":"9,523,872.02"}}]
[null,null,"Efectivo y Equivalentes",null,{"$f":"Balanza!C5","v":{"v":2739418.71,"d":"2,739,418.71"}},{"$f":"Balanza!E5","v":{"v":33436784.6,"d":"33,436,784.60"}},{"$f":"Balanza!F5","v":{"v":24735095.76,"d":"24,735,095.76"}},{"v":11441107.55,"d":"11,441,107.55"},{"v":8701688.84,"d":"8,701,688.84"}]
[null,null,"Derechos a Recibir Efectivo o Equivalentes",null,{"$f":"Balanza!C13","v":{"v":4312934.560000001,"d":"4,312,934.56"}},{"$f":"Balanza!E13","v":{"v":1831530.4,"d":"1,831,530.40"}},{"$f":"Balanza!F13","v":{"v":1388447.48,"d":"1,388,447.48"}},{"v":4756017.48,"d":"4,756,017.48"},{"v":443082.919999999,"d":"443,082.92"}]
[null,null,"Derechos a Recibir Bienes o Servicios",null,{"$f":"Balanza!C21","v":{"v":5581556.699999999,"d":"5,581,556.70"}},{"$f":"Balanza!E21","v":{"v":560320.26,"d":"560,320.26"}},{"$f":"Balanza!F21","v":{"v":181220,"d":"181,220.00"}},{"v":5960656.959999999,"d":"5,960,656.96"},{"v":379100.2599999998,"d":"379,100.26"}]
[null,null,"Inventarios",null,{"$f":"Balanza!C27","v":{"v":0,"d":"0.00"}},{"$f":"Balanza!E27","v":{"v":0,"d":"0.00"}},{"$f":"Balanza!F27","v":{"v":0,"d":"0.00"}},{"v":0,"d":"0.00"},{"v":0,"d":"0.00"}]
[null,null,"Almacenes",null,{"$f":"Balanza!C33","v":{"v":0,"d":"0.00"}},{"$f":"Balanza!E33","v":{"v":0,"d":"0.00"}},{"$f":"Balanza!F33","v":{"v":0,"d":"0.00"}},{"v":0,"d":"0.00"},{"v":0,"d":"0.00"}]
[null,null,"Estimación por Pérdida o Deterioro de Activos Circulantes",null,{"$f":"Balanza!C35","v":{"v":0,"d":"0.00"}},{"$f":"Balanza!E35","v":{"v":0,"d":"0.00"}},{"$f":"Balanza!F35","v":{"v":0,"d":"0.00"}},{"v":0,"d":"0.00"},{"v":0,"d":"0.00"}]
[null,null,"Otros Activos Circulantes",null,{"$f":"Balanza!C38","v":{"v":0,"d":"0.00"}},{"$f":"Balanza!E38","v":{"v":0,"d":"0.00"}},{"$f":"Balanza!F38","v":{"v":0,"d":"0.00"}},{"v":0,"d":"0.00"},{"v":0,"d":"0.00"}]
[null,"Activo No Circulante",null,null,{"$f":"SUM(E16:E24)","v":{"v":405346393.10999995,"d":"405,346,393.11"}},{"$f":"SUM(F16:F24)","v":{"v":1652334.5,"d":"1,652,334.50"}},{"v":1284468.65,"d":"1,284,468.65"},{"v":405714258.96,"d":"405,714,258.96"},{"v":367865.85000002384,"d":"367,865.85"}]
[null,null,"Inversiones Financieras a Largo Plazo",null,{"$f":"Balanza!C44","v":{"v":0,"d":"0.00"}},{"$f":"Balanza!E44","v":{"v":1325031,"d":"1,325,031.00"}},{"$f":"Balanza!F44","v":{"v":1284468.65,"d":"1,284,468.65"}},{"v":40562.35000000009,"d":"40,562.35"},{"v":40562.35000000009,"d":"40,562.35"}]
[null,null,"Derechos a Recibir Efectivo o Equivalentes a Largo Plazo",null,{"$f":"Balanza!C49","v":{"v":0,"d":"0.00"}},{"$f":"Balanza!E49","v":{"v":0,"d":"0.00"}},{"$f":"Balanza!F49","v":{"v":0,"d":"0.00"}},{"v":0,"d":"0.00"},{"v":0,"d":"0.00"}]
[null,null,"Bienes Inmuebles, Infraestructura y Construcciones en Proceso",null,{"$f":"Balanza!C55","v":{"v":366636307.45,"d":"366,636,307.45"}},{"$f":"Balanza!E55","v":{"v":279743.5,"d":"279,743.50"}},{"$f":"Balanza!F55","v":{"v":0,"d":"0.00"}},{"v":366916050.95,"d":"366,916,050.95"},{"v":279743.5,"d":"279,743.50"}]
[null,null,"Bienes Muebles",null,{"$f":"Balanza!C63","v":{"v":54303320.760000005,"d":"54,303,320.76"}},{"$f":"Balanza!E63","v":{"v":47560,"d":"47,560.00"}},{"$f":"Balanza!F63","v":{"v":0,"d":"0.00"}},{"v":54350880.760000005,"d":"54,350,880.76"},{"v":47560,"d":"47,560.00"}]
[null,null,"Activos Intangibles",null,{"$f":"Balanza!C72","v":{"v":2757222.7,"d":"2,757,222.70"}},{"$f":"Balanza!E72","v":{"v":0,"d":"0.00"}},{"$f":"Balanza!F72","v":{"v":0,"d":"0.00"}},{"$f":"E20+F20-G20","v":{"v":2757222.7,"d":"2,757,222.70"}},{"$f":"H20-E20","v":{"v":0,"d":"0.00"}}]
[null,null,"Depreciación, Deterioro y Amortización Acumulada de Bienes",null,{"$f":"(Balanza!D78)*-1","v":{"v":-18350457.8,"d":"-18,350,457.80"}},{"$f":"Balanza!E78","v":{"v":0,"d":"0.00"}},{"$f":"Balanza!F78","v":{"v":0,"d":"0.00"}},{"v":-18350457.8,"d":"-18,350,457.80"},{"v":0,"d":"0.00"}]
[null,null,"Activos Diferidos",null,{"$f":"Balanza!C84","v":{"v":0,"d":"0.00"}},{"$f":"Balanza!E84","v":{"v":0,"d":"0.00"}},{"$f":"Balanza!F84","v":{"v":0,"d":"0.00"}},{"v":0,"d":"0.00"},{"v":0,"d":"0.00"}]
[null,null,"Estimación por Pérdida o Deterioro de Activos no Circulantes",null,{"$f":"Balanza!C91","v":{"v":0,"d":"0.00"}},{"$f":"Balanza!E91","v":{"v":0,"d":"0.00"}},{"$f":"Balanza!F91","v":{"v":0,"d":"0.00"}},{"v":0,"d":"0.00"},{"v":0,"d":"0.00"}]
[null,null,"Otros Activos no Circulantes",null,{"$f":"Balanza!C97","v":{"v":0,"d":"0.00"}},{"$f":"Balanza!E97","v":{"v":0,"d":"0.00"}},{"$f":"Balanza!F97","v":{"v":0,"d":"0.00"}},{"v":0,"d":"0.00"},{"v":0,"d":"0.00"}]
[]
[{"$nulls":3},"Bajo protesta de decir verdad declaramos que los Estados Financieros y sus notas, son razonablemente correctos y son resposabilidad del emisor."]
[]
[]
[]
[]
[]
[{"$nulls":3},{"$f":"Validacion!A7","v":"LIC. JOSE HERIBERTO GARCIA MURILLO"},null,{"$f":"Validacion!A9","v":"LAE BRUNO GERMAN ENCISO GUILLEN"}]
[]
[{"$nulls":3},"Presidente Municipal o titular del ente público",null,"Encargado de la Hacienda Municipal o Responsable de las finanzas del ente público"]

{"sheet":"F7A","index":26,"n_rows":78,"n_cols":8,"rows_kept":78,"hidden":true,"merged":[[0,0,0,7],[1,0,1,7],[2,0,2,7],[4,0,5,1],[4,2,4,6],[4,7,5,7],[51,0,51,1],[75,1,76,1],[75,4,76,7],[77,1,78,1],[77,4,78,7]]}
[{"$f":"Validacion!A2","v":"Ixtlahuacán de los Membrillos"}]
["Informe Analítico del Clasificador por Rubro de Ingresos"]
[{"$f":"'F6'!A3","v":"DEL 1° DE ENERO AL 31 DE ENERO DE 2026"}]
[]
["Rubro de ingresos",null,"Ingresos",{"$nulls":4},"Diferencia"]
[null,null,"Estimado","Apliación / (Reducción) ","Modificado","Devengado","Recaudado"]
["Impuestos",null,{"$f":"SUM(C8:C16)","v":{"v":0,"d":"0.00"}},{"$f":"SUM(D8:D16)","v":{"v":0,"d":"0.00"}},{"$f":"C7+D7","v":{"v":0,"d":"0.00"}},{"$f":"SUM(F8:F16)","v":{"v":0,"d":"0.00"}},{"$f":"SUM(G8:G16)","v":{"v":0,"d":"0.00"}},{"$f":"G7-C7","v":{"v":0,"d":"0.00"}}]
[null,"Impuestos sobre los ingresos",{"$f":"Balanza!G798","v":{"v":0,"d":"0.00"}},{"$f":"Balanza!G986","v":{"v":0,"d":"0.00"}},{"$f":"C8+D8","v":{"v":0,"d":"0.00"}},{"$f":"Balanza!F1080","v":{"v":0,"d":"0.00"}},{"$f":"Balanza!H1174","v":{"v":0,"d":"0.00"}},{"$f":"G8-C8","v":{"v":0,"d":"0.00"}}]
[null,"Impuestos sobre patrimonio",{"$f":"Balanza!G799","v":{"v":0,"d":"0.00"}},{"$f":"Balanza!G987","v":{"v":0,"d":"0.00"}},{"$f":"C9+D9","v":{"v":0,"d":"0.00"}},{"$f":"Balanza!F1081","v":{"v":0,"d":"0.00"}},{"$f":"Balanza!H1175","v":{"v":0,"d":"0.00"}},{"v":0,"d":"0.00"}]
[null,"Impuestos sobre la producción, el consumo y las transacciones",{"$f":"Balanza!G800","v":{"v":0,"d":"0.00"}},{"$f":"Balanza!G988","v":{"v":0,"d":"0.00"}},{"v":0,"d":"0.00"},{"$f":"Balanza!F1082","v":{"v":0,"d":"0.00"}},{"$f":"Balanza!H1176","v":{"v":0,"d":"0.00"}},{"v":0,"d":"0.00"}]
[null,"Impuestos al comercio exterior",{"$f":"Balanza!G801","v":{"v":0,"d":"0.00"}},{"$f":"Balanza!G989","v":{"v":0,"d":"0.00"}},{"v":0,"d":"0.00"},{"$f":"Balanza!F1083","v":{"v":0,"d":"0.00"}},{"$f":"Balanza!H1177","v":{"v":0,"d":"0.00"}},{"v":0,"d":"0.00"}]
[null,"Impuestos sobre nóminas y asimilables",{"$f":"Balanza!G802","v":{"v":0,"d":"0.00"}},{"$f":"Balanza!G990","v":{"v":0,"d":"0.00"}},{"v":0,"d":"0.00"},{"$f":"Balanza!F1084","v":{"v":0,"d":"0.00"}},{"$f":"Balanza!H1178","v":{"v":0,"d":"0.00"}},{"v":0,"d":"0.00"}]
[null,"Impuestos ecológicos",{"$f":"Balanza!G803","v":{"v":0,"d":"0.00"}},{"$f":"Balanza!G991","v":{"v":0,"d":"0.00"}},{"v":0,"d":"0.00"},{"$f":"Balanza!F1085","v":{"v":0,"d":"0.00"}},{"$f":"Balanza!H1179","v":{"v":0,"d":"0.00"}},{"v":0,"d":"0.00"}]
[null,"Accesorios",{"$f":"Balanza!G804","v":{"v":0,"d":"0.00"}},{"$f":"Balanza!G992","v":{"v":0,"d":"0.00"}},{"v":0,"d":"0.00"},{"$f":"Balanza!F1086","v":{"v":0,"d":"0.00"}},{"$f":"Balanza!H1180","v":{"v":0,"d":"0.00"}},{"v":0,"d":"0.00"}]
[null,"Otros impuestos",{"$f":"Balanza!G805","v":{"v":0,"d":"0.00"}},{"$f":"Balanza!G993","v":{"v":0,"d":"0.00"}},{"v":0,"d":"0.00"},{"$f":"Balanza!F1087","v":{"v":0,"d":"0.00"}},{"$f":"Balanza!H1181","v":{"v":0,"d":"0.00"}},{"v":0,"d":"0.00"}]
[null,"Impuestos no comprendidos en la ley de ingresos vigente, causados en ejercicios fiscales anteriores pendientes de liquidar o pago",{"$f":"Balanza!G806","v":{"v":0,"d":"0.00"}},{"$f":"Balanza!G994","v":{"v":0,"d":"0.00"}},{"v":0,"d":"0.00"},{"$f":"Balanza!F1088","v":{"v":0,"d":"0.00"}},{"$f":"Balanza!H1182","v":{"v":0,"d":"0.00"}},{"v":0,"d":"0.00"}]
["Cuotas y aportaciones de seguridad social",null,{"$f":"SUM(C18:C22)","v":{"v":0,"d":"0.00"}},{"$f":"SUM(D18:D22)","v":{"v":0,"d":"0.00"}},{"v":0,"d":"0.00"},{"$f":"SUM(F18:F22)","v":{"v":0,"d":"0.00"}},{"$f":"SUM(G18:G22)","v":{"v":0,"d":"0.00"}},{"v":0,"d":"0.00"}]
[null,"Aportaciones para fondos de vivienda",{"$f":"Balanza!G808","v":{"v":0,"d":"0.00"}},{"$f":"Balanza!G996","v":{"v":0,"d":"0.00"}},{"v":0,"d":"0.00"},{"$f":"Balanza!F1090","v":{"v":0,"d":"0.00"}},{"$f":"Balanza!H1184","v":{"v":0,"d":"0.00"}},{"v":0,"d":"0.00"}]
[null,"Cuotas para la seguridad social",{"$f":"Balanza!G809","v":{"v":0,"d":"0.00"}},{"$f":"Balanza!G997","v":{"v":0,"d":"0.00"}},{"$f":"C19+D19","v":{"v":0,"d":"0.00"}},{"$f":"Balanza!F1091","v":{"v":0,"d":"0.00"}},{"$f":"Balanza!H1185","v":{"v":0,"d":"0.00"}},{"$f":"G19-C19","v":{"v":0,"d":"0.00"}}]
[null,"Cuotas de ahorro para el retiro",{"$f":"Balanza!G810","v":{"v":0,"d":"0.00"}},{"$f":"Balanza!G998","v":{"v":0,"d":"0.00"}},{"$f":"C20+D20","v":{"v":0,"d":"0.00"}},{"$f":"Balanza!F1092","v":{"v":0,"d":"0.00"}},{"$f":"Balanza!H1186","v":{"v":0,"d":"0.00"}},{"$f":"G20-C20","v":{"v":0,"d":"0.00"}}]
[null,"Otras cuotas y aportaciones para la seguridad social",{"$f":"Balanza!G811","v":{"v":0,"d":"0.00"}},{"$f":"Balanza!G999","v":{"v":0,"d":"0.00"}},{"$f":"C21+D21","v":{"v":0,"d":"0.00"}},{"$f":"Balanza!F1093","v":{"v":0,"d":"0.00"}},{"$f":"Balanza!H1187","v":{"v":0,"d":"0.00"}},{"$f":"G21-C21","v":{"v":0,"d":"0.00"}}]
[null,"Accesorios de cuotas y aportaciones de seguridad social",{"$f":"Balanza!G812","v":{"v":0,"d":"0.00"}},{"$f":"Balanza!G1000","v":{"v":0,"d":"0.00"}},{"$f":"C22+D22","v":{"v":0,"d":"0.00"}},{"$f":"Balanza!F1094","v":{"v":0,"d":"0.00"}},{"$f":"Balanza!H1188","v":{"v":0,"d":"0.00"}},{"$f":"G22-C22","v":{"v":0,"d":"0.00"}}]
["Contribuciones de mejora",null,{"$f":"SUM(C24:C25)","v":{"v":0,"d":"0.00"}},{"$f":"SUM(D24:D25)","v":{"v":0,"d":"0.00"}},{"v":0,"d":"0.00"},{"$f":"SUM(F24:F25)","v":{"v":0,"d":"0.00"}},{"$f":"SUM(G24:G25)","v":{"v":0,"d":"0.00"}},{"v":0,"d":"0.00"}]
[null,"Contribuciones de mejoras por obras públicas",{"$f":"Balanza!G814","v":{"v":0,"d":"0.00"}},{"$f":"Balanza!G1002","v":{"v":0,"d":"0.00"}},{"v":0,"d":"0.00"},{"$f":"Balanza!F1096","v":{"v":0,"d":"0.00"}},{"$f":"Balanza!H1190","v":{"v":0,"d":"0.00"}},{"v":0,"d":"0.00"}]
[null,"Contribuciones de mejoras no comprendidas en la ley de ingresos vigente, causadas en ejercicios fiscales anteriores pendientes de liquidación o pago",{"$f":"Balanza!G815","v":{"v":0,"d":"0.00"}},{"$f":"Balanza!G1003","v":{"v":0,"d":"0.00"}},{"v":0,"d":"0.00"},{"$f":"Balanza!F1097","v":{"v":0,"d":"0.00"}},{"$f":"Balanza!H1191","v":{"v":0,"d":"0.00"}},{"v":0,"d":"0.00"}]
["Derechos",null,{"$f":"SUM(C27:C32)","v":{"v":0,"d":"0.00"}},{"$f":"SUM(D27:D32)","v":{"v":0,"d":"0.00"}},{"v":0,"d":"0.00"},{"$f":"SUM(F27:F32)","v":{"v":0,"d":"0.00"}},{"$f":"SUM(G27:G32)","v":{"v":0,"d":"0.00"}},{"v":0,"d":"0.00"}]
[null,"Derechos por el uso, goce, aprovechamiento o explotación de bienes de dominio público",{"$f":"Balanza!G817","v":{"v":0,"d":"0.00"}},{"$f":"Balanza!G1005","v":{"v":0,"d":"0.00"}},{"v":0,"d":"0.00"},{"$f":"Balanza!F1099","v":{"v":0,"d":"0.00"}},{"$f":"Balanza!H1193","v":{"v":0,"d":"0.00"}},{"v":0,"d":"0.00"}]
[null,"Derecho a los hidrocarburos (derogado)",{"$f":"Balanza!G818","v":{"v":0,"d":"0.00"}},{"$f":"Balanza!G1006","v":{"v":0,"d":"0.00"}},{"v":0,"d":"0.00"},{"$f":"Balanza!F1100","v":{"v":0,"d":"0.00"}},{"$f":"Balanza!H1194","v":{"v":0,"d":"0.00"}},{"v":0,"d":"0.00"}]
[null,"Derechos por prestación de servicios",{"$f":"Balanza!G819","v":{"v":0,"d":"0.00"}},{"$f":"Balanza!G1007","v":{"v":0,"d":"0.00"}},{"v":0,"d":"0.00"},{"$f":"Balanza!F1101","v":{"v":0,"d":"0.00"}},{"$f":"Balanza!H1195","v":{"v":0,"d":"0.00"}},{"v":0,"d":"0.00"}]
[null,"Otros derechos",{"$f":"Balanza!G820","v":{"v":0,"d":"0.00"}},{"$f":"Balanza!G1008","v":{"v":0,"d":"0.00"}},{"v":0,"d":"0.00"},{"$f":"Balanza!F1102","v":{"v":0,"d":"0.00"}},{"$f":"Balanza!H1196","v":{"v":0,"d":"0.00"}},{"v":0,"d":"0.00"}]
[null,"Accesorios",{"$f":"Balanza!G821","v":{"v":0,"d":"0.00"}},{"$f":"Balanza!G1009","v":{"v":0,"d":"0.00"}},{"v":0,"d":"0.00"},{"$f":"Balanza!F1103","v":{"v":0,"d":"0.00"}},{"$f":"Balanza!H1197","v":{"v":0,"d":"0.00"}},{"v":0,"d":"0.00"}]
[null,"Derechos no comprendidos en la ley de ingresos vigente, causados en ejercicios fiscales anteriores pendientes de liquidación o pago",{"$f":"Balanza!G822","v":{"v":0,"d":"0.00"}},{"$f":"Balanza!G1010","v":{"v":0,"d":"0.00"}},{"v":0,"d":"0.00"},{"$f":"Balanza!F1104","v":{"v":0,"d":"0.00"}},{"$f":"Balanza!H1198","v":{"v":0,"d":"0.00"}},{"v":0,"d":"0.00"}]
["Productos",null,{"$f":"SUM(C34:C36)","v":{"v":0,"d":"0.00"}},{"$f":"SUM(D34:D36)","v":{"v":0,"d":"0.00"}},{"v":0,"d":"0.00"},{"$f":"SUM(F34:F36)","v":{"v":0,"d":"0.00"}},{"$f":"SUM(G34:G36)","v":{"v":0,"d":"0.00"}},{"v":0,"d":"0.00"}]
[null,"Productos",{"$f":"Balanza!G824","v":{"v":0,"d":"0.00"}},{"$f":"Balanza!G1012","v":{"v":0,"d":"0.00"}},{"v":0,"d":"0.00"},{"$f":"Balanza!F1106","v":{"v":0,"d":"0.00"}},{"$f":"Balanza!H1200","v":{"v":0,"d":"0.00"}},{"v":0,"d":"0.00"}]
[null,"Productos de capital (derogado)",{"$f":"Balanza!G825","v":{"v":0,"d":"0.00"}},{"$f":"Balanza!G1013","v":{"v":0,"d":"0.00"}},{"v":0,"d":"0.00"},{"$f":"Balanza!F1107","v":{"v":0,"d":"0.00"}},{"$f":"Balanza!H1201","v":{"v":0,"d":"0.00"}},{"v":0,"d":"0.00"}]
[null,"Productos no comprendidos en la ley de ingresos vigente, causados en ejercicios fiscales anteriores pendientes de liquidación o pago",{"$f":"Balanza!G826","v":{"v":0,"d":"0.00"}},{"$f":"Balanza!G1014","v":{"v":0,"d":"0.00"}},{"v":0,"d":"0.00"},{"$f":"Balanza!F1108","v":{"v":0,"d":"0.00"}},{"$f":"Balanza!H1202","v":{"v":0,"d":"0.00"}},{"v":0,"d":"0.00"}]
["Aprovechamientos",null,{"$f":"SUM(C38:C41)","v":{"v":0,"d":"0.00"}},{"$f":"SUM(D38:D41)","v":{"v":0,"d":"0.00"}},{"v":0,"d":"0.00"},{"$f":"SUM(F38:F41)","v":{"v":0,"d":"0.00"}},{"$f":"SUM(G38:G41)","v":{"v":0,"d":"0.00"}},{"v":0,"d":"0.00"}]
[null,"Aprovechamientos",{"$f":"Balanza!G828","v":{"v":0,"d":"0.00"}},{"$f":"Balanza!G1016","v":{"v":0,"d":"0.00"}},{"v":0,"d":"0.00"},{"$f":"Balanza!F1110","v":{"v":0,"d":"0.00"}},{"$f":"Balanza!H1204","v":{"v":0,"d":"0.00"}},{"v":0,"d":"0.00"}]
[null,"Aprovechamientos patrimoniales",{"$f":"Balanza!G829","v":{"v":0,"d":"0.00"}},{"$f":"Balanza!G1017","v":{"v":0,"d":"0.00"}},{"v":0,"d":"0.00"},{"$f":"Balanza!F1111","v":{"v":0,"d":"0.00"}},{"$f":"Balanza!H1205","v":{"v":0,"d":"0.00"}},{"v":0,"d":"0.00"}]
[null,"Accesorios de aprovechamientos",{"$f":"Balanza!G830","v":{"v":0,"d":"0.00"}},{"$f":"Balanza!G1018","v":{"v":0,"d":"0.00"}},{"v":0,"d":"0.00"},{"$f":"Balanza!F1112","v":{"v":0,"d":"0.00"}},{"$f":"Balanza!H1206","v":{"v":0,"d":"0.00"}},{"v":0,"d":"0.00"}]
[null,"Aprovechamientos no comprendidos en la ley de ingresos vigente, causados en ejercicios fiscales anteriores pendientes de liquidación o pago",{"$f":"Balanza!G831","v":{"v":0,"d":"0.00"}},{"$f":"Balanza!G1019","v":{"v":0,"d":"0.00"}},{"v":0,"d":"0.00"},{"$f":"Balanza!F1113","v":{"v":0,"d":"0.00"}},{"$f":"Balanza!H1207","v":{"v":0,"d":"0.00"}},{"v":0,"d":"0.00"}]
["Ingresos por venta de bienes, prestación de servicios y otros ingresos",null,{"$f":"SUM(C43:C51)","v":{"v":0,"d":"0.00"}},{"$f":"SUM(D43:D51)","v":{"v":0,"d":"0.00"}},{"v":0,"d":"0.00"},{"$f":"SUM(F43:F51)","v":{"v":0,"d":"0.00"}},{"$f":"SUM(G43:G51)","v":{"v":0,"d":"0.00"}},{"v":0,"d":"0.00"}]
[null,"Ingresos por venta de bienes y prestación de servicios de instituciones públicas de seguridad social",{"$f":"Balanza!G833","v":{"v":0,"d":"0.00"}},{"$f":"Balanza!G1021","v":{"v":0,"d":"0.00"}},{"v":0,"d":"0.00"},{"$f":"Balanza!F1115","v":{"v":0,"d":"0.00"}},{"$f":"Balanza!H1209","v":{"v":0,"d":"0.00"}},{"v":0,"d":"0.00"}]
[null,"Ingresos por venta de bienes y prestación de servicios de empresas productivas del estado",{"$f":"Balanza!G834","v":{"v":0,"d":"0.00"}},{"$f":"Balanza!G1022","v":{"v":0,"d":"0.00"}},{"v":0,"d":"0.00"},{"$f":"Balanza!F1116","v":{"v":0,"d":"0.00"}},{"$f":"Balanza!H1210","v":{"v":0,"d":"0.00"}},{"v":0,"d":"0.00"}]
[null,"Ingresos por venta de bienes y prestación de servicios de entidades paraestatales y fideicomisos no empresariales y no financieros",{"$f":"Balanza!G835","v":{"v":0,"d":"0.00"}},{"$f":"Balanza!G1023","v":{"v":0,"d":"0.00"}},{"v":0,"d":"0.00"},{"$f":"Balanza!F1117","v":{"v":0,"d":"0.00"}},{"$f":"Balanza!H1211","v":{"v":0,"d":"0.00"}},{"v":0,"d":"0.00"}]
[null,"Ingresos por venta de bienes y prestación de servicios de entidades paraestatales empresariales y no financieros con participación estatal mayoritaria",{"$f":"Balanza!G836","v":{"v":0,"d":"0.00"}},{"$f":"Balanza!G1024","v":{"v":0,"d":"0.00"}},{"v":0,"d":"0.00"},{"$f":"Balanza!F1118","v":{"v":0,"d":"0.00"}},{"$f":"Balanza!H1212","v":{"v":0,"d":"0.00"}},{"v":0,"d":"0.00"}]
[null,"Ingresos por venta de bienes y prestación de servicios de entidades paraestatales empresariales financieras monetarias con participación estatal mayoritaria",{"$f":"Balanza!G837","v":{"v":0,"d":"0.00"}},{"$f":"Balanza!G1025","v":{"v":0,"d":"0.00"}},{"v":0,"d":"0.00"},{"$f":"Balanza!F1119","v":{"v":0,"d":"0.00"}},{"$f":"Balanza!H1213","v":{"v":0,"d":"0.00"}},{"v":0,"d":"0.00"}]
[null,"Ingresos por venta de bienes y prestación de servicios de entidades paraestatales empresariales financieras no monetarias con participación estatal mayoritaria",{"$f":"Balanza!G838","v":{"v":0,"d":"0.00"}},{"$f":"Balanza!G1026","v":{"v":0,"d":"0.00"}},{"v":0,"d":"0.00"},{"$f":"Balanza!F1120","v":{"v":0,"d":"0.00"}},{"$f":"Balanza!H1214","v":{"v":0,"d":"0.00"}},{"v":0,"d":"0.00"}]
[null,"Ingresos por venta de bienes y prestación de servicios de fideicomisos financieros públicos con participación estatal mayoritaria",{"$f":"Balanza!G839","v":{"v":0,"d":"0.00"}},{"$f":"Balanza!G1027","v":{"v":0,"d":"0.00"}},{"v":0,"d":"0.00"},{"$f":"Balanza!F1121","v":{"v":0,"d":"0.00"}},{"$f":"Balanza!H1215","v":{"v":0,"d":"0.00"}},{"v":0,"d":"0.00"}]
[null,"Ingresos por venta de bienes y prestación de servicios de los poderes legislativo y judicial, y de los órganos autónomos",{"$f":"Balanza!G840","v":{"v":0,"d":"0.00"}},{"$f":"Balanza!G1028","v":{"v":0,"d":"0.00"}},{"v":0,"d":"0.00"},{"$f":"Balanza!F1122","v":{"v":0,"d":"0.00"}},{"$f":"Balanza!H1216","v":{"v":0,"d":"0.00"}},{"v":0,"d":"0.00"}]
[null,"Otros ingresos",{"$f":"Balanza!G841","v":{"v":0,"d":"0.00"}},{"$f":"Balanza!G1029","v":{"v":0,"d":"0.00"}},{"v":0,"d":"0.00"},{"$f":"Balanza!F1123","v":{"v":0,"d":"0.00"}},{"$f":"Balanza!H1217","v":{"v":0,"d":"0.00"}},{"v":0,"d":"0.00"}]
["Participaciones, aportaciones, convenios, incentivos derivados de la colaboración fiscal y fondos distintos de aportaciones",null,{"$f":"SUM(C53:C57)","v":{"v":0,"d":"0.00"}},{"$f":"SUM(D53:D57)","v":{"v":0,"d":"0.00"}},{"v":0,"d":"0.00"},{"$f":"SUM(F53:F57)","v":{"v":0,"d":"0.00"}},{"$f":"SUM(G53:G57)","v":{"v":0,"d":"0.00"}},{"v":0,"d":"0.00"}]
[null,"Participaciones",{"$f":"Balanza!G843","v":{"v":0,"d":"0.00"}},{"$f":"Balanza!G1031","v":{"v":0,"d":"0.00"}},{"v":0,"d":"0.00"},{"$f":"Balanza!F1125","v":{"v":0,"d":"0.00"}},{"$f":"Balanza!H1219","v":{"v":0,"d":"0.00"}},{"v":0,"d":"0.00"}]
[null,"Aportaciones",{"$f":"Balanza!G856","v":{"v":0,"d":"0.00"}},{"$f":"Balanza!G1044","v":{"v":0,"d":"0.00"}},{"v":0,"d":"0.00"},{"$f":"Balanza!F1138","v":{"v":0,"d":"0.00"}},{"$f":"Balanza!H1232","v":{"v":0,"d":"0.00"}},{"v":0,"d":"0.00"}]
[null,"Convenios",{"$f":"SUM(Balanza!G859:G860)","v":{"v":0,"d":"0.00"}},{"$f":"SUM(Balanza!G1047:G1048)","v":{"v":0,"d":"0.00"}},{"v":0,"d":"0.00"},{"$f":"SUM(Balanza!F1141:F1142)","v":{"v":0,"d":"0.00"}},{"$f":"SUM(Balanza!H1235:H1236)","v":{"v":0,"d":"0.00"}},{"v":0,"d":"0.00"}]
[null,"Incentivos derivados de la colaboración fiscal",{"$f":"Balanza!G865","v":{"v":0,"d":"0.00"}},{"$f":"Balanza!G1053","v":{"v":0,"d":"0.00"}},{"v":0,"d":"0.00"},{"$f":"Balanza!F1147","v":{"v":0,"d":"0.00"}},{"$f":"Balanza!H1241","v":{"v":0,"d":"0.00"}},{"v":0,"d":"0.00"}]
[null,"Fondos distintos de aportaciones",{"$f":"Balanza!G871","v":{"v":0,"d":"0.00"}},{"$f":"Balanza!G1059","v":{"v":0,"d":"0.00"}},{"v":0,"d":"0.00"},{"$f":"Balanza!F1153","v":{"v":0,"d":"0.00"}},{"$f":"Balanza!H1247","v":{"v":0,"d":"0.00"}},{"v":0,"d":"0.00"}]
["Transferencias, asignaciones, subsidios y subvenciones, y pensiones y jubilaciones",null,{"$f":"SUM(C59:C65)","v":{"v":0,"d":"0.00"}},{"$f":"SUM(D59:D65)","v":{"v":0,"d":"0.00"}},{"v":0,"d":"0.00"},{"$f":"SUM(F59:F65)","v":{"v":0,"d":"0.00"}},{"$f":"SUM(G59:G65)","v":{"v":0,"d":"0.00"}},{"v":0,"d":"0.00"}]
[null,"Transferencias y asignaciones",{"$f":"SUM(Balanza!G875:G876)","v":{"v":0,"d":"0.00"}},{"$f":"SUM(Balanza!G1063:G1064)","v":{"v":0,"d":"0.00"}},{"v":0,"d":"0.00"},{"$f":"SUM(Balanza!F1157:F1158)","v":{"v":0,"d":"0.00"}},{"$f":"SUM(Balanza!H1251:H1252)","v":{"v":0,"d":"0.00"}},{"v":0,"d":"0.00"}]
[null,"Transferencias al resto del sector público (derogado)",{"$f":"Balanza!G877","v":{"v":0,"d":"0.00"}},{"$f":"Balanza!G1065","v":{"v":0,"d":"0.00"}},{"v":0,"d":"0.00"},{"$f":"Balanza!F1159","v":{"v":0,"d":"0.00"}},{"$f":"Balanza!H1253","v":{"v":0,"d":"0.00"}},{"v":0,"d":"0.00"}]
[null,"Subsidios y subvenciones",{"$f":"SUM(Balanza!G878:G879)","v":{"v":0,"d":"0.00"}},{"$f":"SUM(Balanza!G1066:G1067)","v":{"v":0,"d":"0.00"}},{"v":0,"d":"0.00"},{"$f":"SUM(Balanza!F1160:F1161)","v":{"v":0,"d":"0.00"}},{"$f":"SUM(Balanza!H1254:H1255)","v":{"v":0,"d":"0.00"}},{"v":0,"d":"0.00"}]
[null,"Ayudas sociales (derogado)",{"$f":"Balanza!G880","v":{"v":0,"d":"0.00"}},{"$f":"Balanza!G1068","v":{"v":0,"d":"0.00"}},{"v":0,"d":"0.00"},{"$f":"Balanza!F1162","v":{"v":0,"d":"0.00"}},{"$f":"Balanza!H1256","v":{"v":0,"d":"0.00"}},{"v":0,"d":"0.00"}]
[null,"Pensiones y jubilaciones",{"$f":"Balanza!G881","v":{"v":0,"d":"0.00"}},{"$f":"Balanza!G1069","v":{"v":0,"d":"0.00"}},{"v":0,"d":"0.00"},{"$f":"Balanza!F1163","v":{"v":0,"d":"0.00"}},{"$f":"Balanza!H1257","v":{"v":0,"d":"0.00"}},{"v":0,"d":"0.00"}]
[null,"Transferencias a fideicomisos, mandatos y análogos (derogado)",{"$f":"Balanza!G882","v":{"v":0,"d":"0.00"}},{"$f":"Balanza!G1070","v":{"v":0,"d":"0.00"}},{"v":0,"d":"0.00"},{"$f":"Balanza!F1164","v":{"v":0,"d":"0.00"}},{"$f":"Balanza!H1258","v":{"v":0,"d":"0.00"}},{"v":0,"d":"0.00"}]
[null,"Transferencias del fondo mexicano del petróleo para la estabilización y el desarrollo",{"$f":"Balanza!G883","v":{"v":0,"d":"0.00"}},{"$f":"Balanza!G1071","v":{"v":0,"d":"0.00"}},{"v":0,"d":"0.00"},{"$f":"Balanza!F1165","v":{"v":0,"d":"0.00"}},{"$f":"Balanza!H1259","v":{"v":0,"d":"0.00"}},{"v":0,"d":"0.00"}]
["Ingresos derivados de financiamiento",null,{"$f":"SUM(C67:C69)","v":{"v":0,"d":"0.00"}},{"$f":"SUM(D67:D69)","v":{"v":0,"d":"0.00"}},{"v":0,"d":"0.00"},{"$f":"SUM(F67:F69)","v":{"v":0,"d":"0.00"}},{"$f":"SUM(G67:G69)","v":{"v":0,"d":"0.00"}},{"v":0,"d":"0.00"}]
[null,"Endeudamiento interno",{"$f":"Balanza!G885","v":{"v":0,"d":"0.00"}},{"$f":"Balanza!G1073","v":{"v":0,"d":"0.00"}},{"v":0,"d":"0.00"},{"$f":"Balanza!F1167","v":{"v":0,"d":"0.00"}},{"$f":"Balanza!H1261","v":{"v":0,"d":"0.00"}},{"$f":"G67-C67","v":{"v":0,"d":"0.00"}}]
[null,"Endeudamiento externo",{"$f":"Balanza!G886","v":{"v":0,"d":"0.00"}},{"$f":"Balanza!G1074","v":{"v":0,"d":"0.00"}},{"$f":"C68+D68","v":{"v":0,"d":"0.00"}},{"$f":"Balanza!F1168","v":{"v":0,"d":"0.00"}},{"$f":"Balanza!H1262","v":{"v":0,"d":"0.00"}},{"v":0,"d":"0.00"}]
[null,"Financiamiento interno",{"$f":"Balanza!G887","v":{"v":0,"d":"0.00"}},{"$f":"Balanza!G1075","v":{"v":0,"d":"0.00"}},{"v":0,"d":"0.00"},{"$f":"Balanza!F1169","v":{"v":0,"d":"0.00"}},{"$f":"Balanza!H1263","v":{"v":0,"d":"0.00"}},{"v":0,"d":"0.00"}]
[null,"TOTAL",{"$f":"SUM(C7+C17+C23+C26+C33+C37+C52+C58+C66+C42)","v":{"v":0,"d":"0.00"}},{"$f":"SUM(D7+D17+D23+D26+D33+D37+D52+D58+D66+D42)","v":{"v":0,"d":"0.00"}},{"v":0,"d":"0.00"},{"$f":"SUM(F7+F17+F23+F26+F33+F37+F52+F58+F66+F42)","v":{"v":0,"d":"0.00"}},{"$f":"SUM(G7+G17+G23+G26+G33+G37+G52+G58+G66+G42)","v":{"v":0,"d":"0.00"}}]
[]
["Bajo protesta de decir verdad declaramos que los Estados Financieros y sus notas, son razonablemente correctos y son responsabilidad del emisor."]
[]
[]
[]
[null,{"$f":"Validacion!A9","v":"LAE BRUNO GERMAN ENCISO GUILLEN"},null,null,{"$f":"Validacion!A11","v":"ENERO"}]
[]
[null,"Presidente Municipal o Titular del ente público",null,null,"Encargado de la Hacienda Municipal\n o Responsable de las finanzas del ente público"]

{"sheet":"F7B","index":27,"n_rows":76,"n_cols":8,"rows_kept":76,"hidden":true,"merged":[[0,0,0,7],[1,0,1,7],[2,0,2,7],[3,0,3,7],[4,0,5,1],[4,2,4,6],[4,7,5,7],[38,0,38,1],[58,0,58,1],[60,0,60,1],[63,0,63,1],[69,0,70,7],[73,1,74,2],[73,4,74,7],[75,1,76,2],[75,4,76,7]]}
[{"$f":"\"NOMBRE DEL ENTE PÚBLICO: \"&Validacion!A2","v":"NOMBRE DEL ENTE PÚBLICO: Ixtlahuacán de los Membrillos"}]
["Estado Analítico de Ingresos Detallado - LDF"]
[{"$f":"'F6'!A3","v":"DEL 1° DE ENERO AL 31 DE ENERO DE 2026"}]
["(PESOS)"]
["Concepto",null,"Ingreso",{"$nulls":4},"Diferencia"]
[null,null,"Estimado","Ampliaciónes/ (Reducciones)","Modificado","Devengado","Recaudado"]
["Ingresos de Libre Disposición"]
["A. Impuestos",null,{"$f":"Balanza!G797","v":{"v":0,"d":"0.00"}},{"$f":"Balanza!G985","v":{"v":0,"d":"0.00"}},{"$f":"C8+D8","v":{"v":0,"d":"0.00"}},{"$f":"Balanza!F1079","v":{"v":0,"d":"0.00"}},{"$f":"Balanza!H1173","v":{"v":0,"d":"0.00"}},{"$f":"G8-C8","v":{"v":0,"d":"0.00"}}]
["B. Cuotas y Aportaciones de Seguridad Social ",null,{"$f":"Balanza!G807","v":{"v":0,"d":"0.00"}},{"$f":"Balanza!G995","v":{"v":0,"d":"0.00"}},{"$f":"C9+D9","v":{"v":0,"d":"0.00"}},{"$f":"Balanza!F1089","v":{"v":0,"d":"0.00"}},{"$f":"Balanza!H1183","v":{"v":0,"d":"0.00"}},{"$f":"G9-C9","v":{"v":0,"d":"0.00"}}]
["C. Contribuciones de Mejoras ",null,{"$f":"Balanza!G813","v":{"v":0,"d":"0.00"}},{"$f":"Balanza!G1001","v":{"v":0,"d":"0.00"}},{"v":0,"d":"0.00"},{"$f":"Balanza!F1095","v":{"v":0,"d":"0.00"}},{"$f":"Balanza!H1189","v":{"v":0,"d":"0.00"}},{"v":0,"d":"0.00"}]
["D. Derechos",null,{"$f":"Balanza!G816","v":{"v":0,"d":"0.00"}},{"$f":"Balanza!G1004","v":{"v":0,"d":"0.00"}},{"v":0,"d":"0.00"},{"$f":"Balanza!F1098","v":{"v":0,"d":"0.00"}},{"$f":"Balanza!H1192","v":{"v":0,"d":"0.00"}},{"v":0,"d":"0.00"}]
["E. Productos",null,{"$f":"Balanza!G823","v":{"v":0,"d":"0.00"}},{"$f":"Balanza!G1011","v":{"v":0,"d":"0.00"}},{"v":0,"d":"0.00"},{"$f":"Balanza!F1105","v":{"v":0,"d":"0.00"}},{"$f":"Balanza!H1199","v":{"v":0,"d":"0.00"}},{"v":0,"d":"0.00"}]
["F. Aprovechamientos",null,{"$f":"Balanza!G827","v":{"v":0,"d":"0.00"}},{"$f":"Balanza!G1015","v":{"v":0,"d":"0.00"}},{"v":0,"d":"0.00"},{"$f":"Balanza!F1109","v":{"v":0,"d":"0.00"}},{"$f":"Balanza!H1203","v":{"v":0,"d":"0.00"}},{"v":0,"d":"0.00"}]
["G. Ingresos por Ventas de Bienes y Prestación de Servicios ",null,{"$f":"Balanza!G832","v":{"v":0,"d":"0.00"}},{"$f":"Balanza!G1020","v":{"v":0,"d":"0.00"}},{"v":0,"d":"0.00"},{"$f":"Balanza!F1114","v":{"v":0,"d":"0.00"}},{"$f":"Balanza!H1208","v":{"v":0,"d":"0.00"}},{"v":0,"d":"0.00"}]
["H. Participaciones",null,{"$f":"SUM(C16:C26)","v":{"v":0,"d":"0.00"}},{"v":0,"d":"0.00"},{"v":0,"d":"0.00"},{"v":0,"d":"0.00"},{"v":0,"d":"0.00"},{"v":0,"d":"0.00"}]
[null,"h1) Fondo General de Participaciones",{"$f":"Balanza!G844","v":{"v":0,"d":"0.00"}},{"$f":"Balanza!G1032","v":{"v":0,"d":"0.00"}},{"v":0,"d":"0.00"},{"$f":"Balanza!F1126","v":{"v":0,"d":"0.00"}},{"$f":"Balanza!H1220","v":{"v":0,"d":"0.00"}},{"$f":"G16-C16","v":{"v":0,"d":"0.00"}}]
[null,"h2) Fondo de Fomento Municipal",{"$f":"Balanza!G845","v":{"v":0,"d":"0.00"}},{"$f":"Balanza!G1033","v":{"v":0,"d":"0.00"}},{"v":0,"d":"0.00"},{"$f":"Balanza!F1127","v":{"v":0,"d":"0.00"}},{"$f":"Balanza!H1221","v":{"v":0,"d":"0.00"}},{"v":0,"d":"0.00"}]
[null,"h3) Fondo de Fiscalización y Recaudación",{"$f":"Balanza!G846","v":{"v":0,"d":"0.00"}},{"$f":"Balanza!G1034","v":{"v":0,"d":"0.00"}},{"v":0,"d":"0.00"},{"$f":"Balanza!F1128","v":{"v":0,"d":"0.00"}},{"$f":"Balanza!H1222","v":{"v":0,"d":"0.00"}},{"v":0,"d":"0.00"}]
[null,"h4) Fondo de Compensación",{"$f":"Balanza!G847","v":{"v":0,"d":"0.00"}},{"$f":"Balanza!G1035","v":{"v":0,"d":"0.00"}},{"v":0,"d":"0.00"},{"$f":"Balanza!F1129","v":{"v":0,"d":"0.00"}},{"$f":"Balanza!H1223","v":{"v":0,"d":"0.00"}},{"v":0,"d":"0.00"}]
[null,"h5) Fondo de Extracción de Hidrocarburos",{"$f":"Balanza!G848","v":{"v":0,"d":"0.00"}},{"$f":"Balanza!G1036","v":{"v":0,"d":"0.00"}},{"v":0,"d":"0.00"},{"$f":"Balanza!F1130","v":{"v":0,"d":"0.00"}},{"$f":"Balanza!H1224","v":{"v":0,"d":"0.00"}},{"v":0,"d":"0.00"}]
[null,"h6) Impuesto Especial Sobre Producción y Servicios",{"$f":"Balanza!G849","v":{"v":0,"d":"0.00"}},{"$f":"Balanza!G1037","v":{"v":0,"d":"0.00"}},{"v":0,"d":"0.00"},{"$f":"Balanza!F1131","v":{"v":0,"d":"0.00"}},{"$f":"Balanza!H1225","v":{"v":0,"d":"0.00"}},{"v":0,"d":"0.00"}]
[null,"h7) 0.136% de la Recaudación Federal Participable",{"$f":"Balanza!G850","v":{"v":0,"d":"0.00"}},{"$f":"Balanza!G1038","v":{"v":0,"d":"0.00"}},{"v":0,"d":"0.00"},{"$f":"Balanza!F1132","v":{"v":0,"d":"0.00"}},{"$f":"Balanza!H1226","v":{"v":0,"d":"0.00"}},{"v":0,"d":"0.00"}]
[null,"h8) 3.17% Sobre Extracción de Petróleo",{"$f":"Balanza!G851","v":{"v":0,"d":"0.00"}},{"$f":"Balanza!G1039","v":{"v":0,"d":"0.00"}},{"v":0,"d":"0.00"},{"$f":"Balanza!F1133","v":{"v":0,"d":"0.00"}},{"$f":"Balanza!H1227","v":{"v":0,"d":"0.00"}},{"v":0,"d":"0.00"}]
[null,"h9) Gasolinas y Diésel",{"$f":"Balanza!G852","v":{"v":0,"d":"0.00"}},{"$f":"Balanza!G1040","v":{"v":0,"d":"0.00"}},{"v":0,"d":"0.00"},{"$f":"Balanza!F1134","v":{"v":0,"d":"0.00"}},{"$f":"Balanza!H1228","v":{"v":0,"d":"0.00"}},{"v":0,"d":"0.00"}]
[null,"h10) Fondo de Impuesto Sobre la Renta",{"$f":"Balanza!G853","v":{"v":0,"d":"0.00"}},{"$f":"Balanza!G1041","v":{"v":0,"d":"0.00"}},{"v":0,"d":"0.00"},{"$f":"Balanza!F1135","v":{"v":0,"d":"0.00"}},{"$f":"Balanza!H1229","v":{"v":0,"d":"0.00"}},{"v":0,"d":"0.00"}]
[null,"h11) Fondo de Estabilización de los Ingresos de las Entidades Federativas",{"$f":"Balanza!G854","v":{"v":0,"d":"0.00"}},{"$f":"Balanza!G1042","v":{"v":0,"d":"0.00"}},{"v":0,"d":"0.00"},{"$f":"Balanza!F1136","v":{"v":0,"d":"0.00"}},{"$f":"Balanza!H1230","v":{"v":0,"d":"0.00"}},{"v":0,"d":"0.00"}]
["I. Incentivos Derivados de la Colaboración Fiscal",null,{"$f":"SUM(C28:C32)","v":{"v":0,"d":"0.00"}},{"v":0,"d":"0.00"},{"v":0,"d":"0.00"},{"v":0,"d":"0.00"},{"v":0,"d":"0.00"},{"v":0,"d":"0.00"}]
[null,"i1) Tenencia o Uso de Vehículos",{"$f":"Balanza!G866","v":{"v":0,"d":"0.00"}},{"$f":"Balanza!G1054","v":{"v":0,"d":"0.00"}},{"v":0,"d":"0.00"},{"$f":"Balanza!F1148","v":{"v":0,"d":"0.00"}},{"$f":"Balanza!H1242","v":{"v":0,"d":"0.00"}},{"$f":"G28-C28","v":{"v":0,"d":"0.00"}}]
[null,"i2) Fondo de Compensación ISAN",{"$f":"Balanza!G867","v":{"v":0,"d":"0.00"}},{"$f":"Balanza!G1055","v":{"v":0,"d":"0.00"}},{"v":0,"d":"0.00"},{"$f":"Balanza!F1149","v":{"v":0,"d":"0.00"}},{"$f":"Balanza!H1243","v":{"v":0,"d":"0.00"}},{"v":0,"d":"0.00"}]
[null,"i3) Impuesto Sobre Automóviles Nuevos",{"$f":"Balanza!G868","v":{"v":0,"d":"0.00"}},{"$f":"Balanza!G1056","v":{"v":0,"d":"0.00"}},{"v":0,"d":"0.00"},{"$f":"Balanza!F1150","v":{"v":0,"d":"0.00"}},{"$f":"Balanza!H1244","v":{"v":0,"d":"0.00"}},{"v":0,"d":"0.00"}]
[null,"i4) Fondo de Compensación de Repecos-Intermedios",{"$f":"Balanza!G869","v":{"v":0,"d":"0.00"}},{"$f":"Balanza!G1057","v":{"v":0,"d":"0.00"}},{"v":0,"d":"0.00"},{"$f":"Balanza!F1151","v":{"v":0,"d":"0.00"}},{"$f":"Balanza!H1245","v":{"v":0,"d":"0.00"}},{"v":0,"d":"0.00"}]
[null,"i5) Otros Incentivos Económicos",{"$f":"Balanza!G870","v":{"v":0,"d":"0.00"}},{"$f":"Balanza!G1058","v":{"v":0,"d":"0.00"}},{"v":0,"d":"0.00"},{"$f":"Balanza!F1152","v":{"v":0,"d":"0.00"}},{"$f":"Balanza!H1246","v":{"v":0,"d":"0.00"}},{"v":0,"d":"0.00"}]
["J. Transferencias y Asignaciones",null,{"$f":"Balanza!G875+Balanza!G883","v":{"v":0,"d":"0.00"}},{"$f":"Balanza!G1063+Balanza!G1071","v":{"v":0,"d":"0.00"}},{"v":0,"d":"0.00"},{"$f":"Balanza!F1157+Balanza!F1165","v":{"v":0,"d":"0.00"}},{"$f":"Balanza!H1251+Balanza!H1259","v":{"v":0,"d":"0.00"}},{"$f":"C33-G33","v":{"v":0,"d":"0.00"}}]
["K. Convenios",null,{"$f":"C35","v":{"v":0,"d":"0.00"}},{"$f":"D35","v":{"v":0,"d":"0.00"}},{"$f":"E35","v":{"v":0,"d":"0.00"}},{"$f":"F35","v":{"v":0,"d":"0.00"}},{"$f":"G35","v":{"v":0,"d":"0.00"}},{"$f":"G34-C34","v":{"v":0,"d":"0.00"}}]
[null,"k1) Otros Convenios y Subsidios",{"$f":"Balanza!G859+Balanza!G878","v":{"v":0,"d":"0.00"}},{"$f":"Balanza!G1047+Balanza!G1066","v":{"v":0,"d":"0.00"}},{"v":0,"d":"0.00"},{"$f":"Balanza!F1141+Balanza!F1160","v":{"v":0,"d":"0.00"}},{"$f":"Balanza!H1235+Balanza!H1254","v":{"v":0,"d":"0.00"}},{"$f":"G35-C35","v":{"v":0,"d":"0.00"}}]
["L. Otros Ingresos de Libre Disposición",null,{"$f":"SUM(C37:C38)","v":{"v":0,"d":"0.00"}},{"v":0,"d":"0.00"},{"v":0,"d":"0.00"},{"v":0,"d":"0.00"},{"v":0,"d":"0.00"},{"v":0,"d":"0.00"}]
[null,"l1) Participaciones en Ingresos Locales",{"$f":"Balanza!G855","v":{"v":0,"d":"0.00"}},{"$f":"Balanza!G1043","v":{"v":0,"d":"0.00"}},{"v":0,"d":"0.00"},{"$f":"Balanza!F1137","v":{"v":0,"d":"0.00"}},{"$f":"Balanza!H1231","v":{"v":0,"d":"0.00"}},{"$f":"G37-C37","v":{"v":0,"d":"0.00"}}]
[null,"i2) Otros Ingresos de Libre Disposición",{"$f":"Balanza!G881","v":{"v":0,"d":"0.00"}},{"$f":"Balanza!G1069","v":{"v":0,"d":"0.00"}},{"v":0,"d":"0.00"},{"$f":"Balanza!F1163","v":{"v":0,"d":"0.00"}},{"$f":"Balanza!H1257","v":{"v":0,"d":"0.00"}},{"v":0,"d":"0.00"}]
["I. Total de Ingresos de Libre Disposición",null,{"$f":"C8+C9+C10+C11+C12+C13+C14+C15+C27+C33+C34+C36","v":{"v":0,"d":"0.00"}},{"v":0,"d":"0.00"},{"v":0,"d":"0.00"},{"v":0,"d":"0.00"},{"v":0,"d":"0.00"},{"$f":"G39-C39","v":{"v":0,"d":"0.00"}}]
["Ingresos Excedentes de Ingresos de Libre Disposición",{"$nulls":6},{"$f":"H8+H9+H10+H11+H12+H13+H14+H15+H27+H33+H34+H36","v":{"v":0,"d":"0.00"}}]
["Transferencias Federales Etiquetadas"]
["A. Aportaciones",null,{"$f":"SUM(C43:C50)","v":{"v":0,"d":"0.00"}},{"v":0,"d":"0.00"},{"v":0,"d":"0.00"},{"v":0,"d":"0.00"},{"v":0,"d":"0.00"},{"v":0,"d":"0.00"}]
[null,"a1) Fondo de Aportaciones para la Nómina Educativa y Gasto Operativo",{"v":0,"d":"0.00"},{"v":0,"d":"0.00"},{"$f":"C43+D43","v":{"v":0,"d":"0.00"}},{"v":0,"d":"0.00"},{"v":0,"d":"0.00"},{"$f":"G43-C43","v":{"v":0,"d":"0.00"}}]
[null,"a2) Fondo de Aportaciones para los Servicios de Salud",{"v":0,"d":"0.00"},{"v":0,"d":"0.00"},{"v":0,"d":"0.00"},{"v":0,"d":"0.00"},{"v":0,"d":"0.00"},{"v":0,"d":"0.00"}]
[null,"a3) Fondo de Aportaciones para la Infraestructura Social",{"$f":"Balanza!G857","v":{"v":0,"d":"0.00"}},{"$f":"Balanza!G1045","v":{"v":0,"d":"0.00"}},{"v":0,"d":"0.00"},{"$f":"Balanza!F1139","v":{"v":0,"d":"0.00"}},{"$f":"Balanza!H1233","v":{"v":0,"d":"0.00"}},{"v":0,"d":"0.00"}]
[null,"a4) Fondo de Aportaciones para el Fortalecimiento de los Municipios y de las Demarcaciones Territoriales del Distrito Federal",{"$f":"Balanza!G858","v":{"v":0,"d":"0.00"}},{"$f":"Balanza!G1046","v":{"v":0,"d":"0.00"}},{"v":0,"d":"0.00"},{"$f":"Balanza!F1140","v":{"v":0,"d":"0.00"}},{"$f":"Balanza!H1234","v":{"v":0,"d":"0.00"}},{"v":0,"d":"0.00"}]
[null,"a5) Fondo de Aportaciones Múltiples",{"v":0,"d":"0.00"},{"v":0,"d":"0.00"},{"v":0,"d":"0.00"},{"v":0,"d":"0.00"},{"v":0,"d":"0.00"},{"v":0,"d":"0.00"}]
[null,"a6) Fondo de Aportaciones para la Educación Tecnológica y de Adultos",{"v":0,"d":"0.00"},{"v":0,"d":"0.00"},{"v":0,"d":"0.00"},{"v":0,"d":"0.00"},{"v":0,"d":"0.00"},{"v":0,"d":"0.00"}]
[null,"a7) Fondo de Aportaciones para la Seguridad Pública de los Estados y del Distrito Federal",{"v":0,"d":"0.00"},{"v":0,"d":"0.00"},{"v":0,"d":"0.00"},{"v":0,"d":"0.00"},{"v":0,"d":"0.00"},{"v":0,"d":"0.00"}]
[null,"a8) Fondo de Aportaciones para el Fortalecimiento de las Entidades Federativas",{"v":0,"d":"0.00"},{"v":0,"d":"0.00"},{"v":0,"d":"0.00"},{"v":0,"d":"0.00"},{"v":0,"d":"0.00"},{"v":0,"d":"0.00"}]
["B. Convenios",null,{"$f":"SUM(C52:C55)","v":{"v":0,"d":"0.00"}},{"$f":"SUM(D52:D55)","v":{"v":0,"d":"0.00"}},{"v":0,"d":"0.00"},{"v":0,"d":"0.00"},{"v":0,"d":"0.00"},{"v":0,"d":"0.00"}]
[null,"b1) Convenios de Protección Social en Salud",{"$f":"Balanza!G861","v":{"v":0,"d":"0.00"}},{"$f":"Balanza!G1049","v":{"v":0,"d":"0.00"}},{"v":0,"d":"0.00"},{"$f":"Balanza!F1143","v":{"v":0,"d":"0.00"}},{"$f":"Balanza!H1237","v":{"v":0,"d":"0.00"}},{"v":0,"d":"0.00"}]
[null,"b2) Convenios de Descentralización",{"$f":"Balanza!G862","v":{"v":0,"d":"0.00"}},{"$f":"Balanza!G1050","v":{"v":0,"d":"0.00"}},{"v":0,"d":"0.00"},{"$f":"Balanza!F1144","v":{"v":0,"d":"0.00"}},{"$f":"Balanza!H1238","v":{"v":0,"d":"0.00"}},{"v":0,"d":"0.00"}]
[null,"b3) Convenios de Reasignación",{"$f":"Balanza!G863","v":{"v":0,"d":"0.00"}},{"$f":"Balanza!G1051","v":{"v":0,"d":"0.00"}},{"v":0,"d":"0.00"},{"$f":"Balanza!F1145","v":{"v":0,"d":"0.00"}},{"$f":"Balanza!H1239","v":{"v":0,"d":"0.00"}},{"v":0,"d":"0.00"}]
[null,"b4) Otros Convenios y Subsidios",{"$f":"Balanza!G864","v":{"v":0,"d":"0.00"}},{"$f":"Balanza!G1052","v":{"v":0,"d":"0.00"}},{"v":0,"d":"0.00"},{"$f":"Balanza!F1146","v":{"v":0,"d":"0.00"}},{"$f":"Balanza!H1240","v":{"v":0,"d":"0.00"}},{"v":0,"d":"0.00"}]
["C. Fondos Distintos de Aportaciones",null,{"$f":"C57+C58","v":{"v":0,"d":"0.00"}},{"$f":"D57+D58","v":{"v":0,"d":"0.00"}},{"v":0,"d":"0.00"},{"v":0,"d":"0.00"},{"v":0,"d":"0.00"},{"v":0,"d":"0.00"}]
[null,"c1) Fondo para Entidades Federativas y Municipios Productores de Hidrocarburos",{"$f":"Balanza!G872","v":{"v":0,"d":"0.00"}},{"$f":"Balanza!G1060","v":{"v":0,"d":"0.00"}},{"v":0,"d":"0.00"},{"$f":"Balanza!F1154","v":{"v":0,"d":"0.00"}},{"$f":"Balanza!H1248","v":{"v":0,"d":"0.00"}},{"v":0,"d":"0.00"}]
[null,"c2) Fondo Minero",{"$f":"Balanza!G873","v":{"v":0,"d":"0.00"}},{"$f":"Balanza!G1061","v":{"v":0,"d":"0.00"}},{"v":0,"d":"0.00"},{"$f":"Balanza!F1155","v":{"v":0,"d":"0.00"}},{"$f":"Balanza!H1249","v":{"v":0,"d":"0.00"}},{"v":0,"d":"0.00"}]
["D. Transferencias, Asignaciones, Subsidios y Subvenciones, y Pensiones y Jubilaciones",null,{"$f":"Balanza!G876+Balanza!G879","v":{"v":0,"d":"0.00"}},{"$f":"Balanza!G1064+Balanza!G1067","v":{"v":0,"d":"0.00"}},{"v":0,"d":"0.00"},{"$f":"Balanza!F1158+Balanza!F1161","v":{"v":0,"d":"0.00"}},{"$f":"Balanza!H1252+Balanza!H1255","v":{"v":0,"d":"0.00"}},{"v":0,"d":"0.00"}]
["E. Otras Transferencias Federales Etiquetadas",null,{"v":0,"d":"0.00"},{"v":0,"d":"0.00"},{"v":0,"d":"0.00"},{"v":0,"d":"0.00"},{"v":0,"d":"0.00"},{"v":0,"d":"0.00"}]
["II. Total de Transferencias Federales Etiquetadas",null,{"$f":"C42+C51+C56+C59+C60","v":{"v":0,"d":"0.00"}},{"$f":"D42+D51+D56+D59+D60","v":{"v":0,"d":"0.00"}},{"v":0,"d":"0.00"},{"v":0,"d":"0.00"},{"v":0,"d":"0.00"},{"v":0,"d":"0.00"}]
["III. Ingresos Derivados de Financiamientos"]
[null,"A. Ingresos Derivados de Financiamientos",{"$f":"C68","v":{"v":0,"d":"0.00"}},{"$f":"D68","v":{"v":0,"d":"0.00"}},{"v":0,"d":"0.00"},{"$f":"F68","v":{"v":0,"d":"0.00"}},{"$f":"G68","v":{"v":0,"d":"0.00"}},{"v":0,"d":"0.00"}]
["IV. Total de Ingresos ",null,{"$f":"C39+C61+C63","v":{"v":0,"d":"0.00"}},{"$f":"D39+D61+D63","v":{"v":0,"d":"0.00"}},{"v":0,"d":"0.00"},{"v":0,"d":"0.00"},{"v":0,"d":"0.00"},{"$f":"H39+H61+H63","v":{"v":0,"d":"0.00"}}]
["Datos Informativos"]
[null,"1. Ingresos Derivados de Financiamientos con Fuente de Pago de Ingresos de Libre Disposición",{"$f":"Balanza!G888","v":{"v":0,"d":"0.00"}},{"$f":"Balanza!G1076","v":{"v":0,"d":"0.00"}},{"v":0,"d":"0.00"},{"$f":"Balanza!F1170","v":{"v":0,"d":"0.00"}},{"$f":"Balanza!H1264","v":{"v":0,"d":"0.00"}},{"v":0,"d":"0.00"}]
[null,"2. Ingresos Derivados de Financiamientos con Fuente de Pago de Transferencias Federales Etiquetadas",{"$f":"Balanza!G889","v":{"v":0,"d":"0.00"}},{"$f":"Balanza!G1077","v":{"v":0,"d":"0.00"}},{"v":0,"d":"0.00"},{"$f":"Balanza!F1171","v":{"v":0,"d":"0.00"}},{"$f":"Balanza!H1265","v":{"v":0,"d":"0.00"}},{"v":0,"d":"0.00"}]
[null,"3. Ingresos Derivados de Financiamientos",{"$f":"SUM(C66:C67)","v":{"v":0,"d":"0.00"}},{"v":0,"d":"0.00"},{"v":0,"d":"0.00"},{"v":0,"d":"0.00"},{"v":0,"d":"0.00"},{"v":0,"d":"0.00"}]
[]
["Bajo protesta de decir verdad declaramos que los Estados Financieros y sus notas, son razonablemente correctos y son responsabilidad del emisor."]
[]
[]
[]
[null,{"$f":"Validacion!A7","v":"LIC. JOSE HERIBERTO GARCIA MURILLO"},null,null,{"$f":"Validacion!A9","v":"LAE BRUNO GERMAN ENCISO GUILLEN"}]
[]
[null,"Presidente Municipal o Titular del ente público",null,null,"Encargado de la Hacienda Municipal\n o Responsable de las finanzas del ente público"]

{"sheet":"F8","index":28,"n_rows":86,"n_cols":8,"rows_kept":86,"hidden":true,"merged":[[0,0,0,7],[1,0,1,7],[2,0,2,7],[3,0,3,7],[4,0,4,7],[5,0,6,1],[5,2,5,6],[5,7,6,7],[83,1,84,1],[83,3,84,6],[85,1,86,1],[85,3,86,6]]}
[{"$f":"\"Nombre del Ente Público: \"&Validacion!A2","v":"Nombre del Ente Público: Ixtlahuacán de los Membrillos"}]
["Estado Analítico del Ejercicio del Prespuesto de Egresos"]
["Clasificación por Objeto del Gasto (Capítulo y Concepto)"]
[{"$f":"'F6'!A3","v":"DEL 1° DE ENERO AL 31 DE ENERO DE 2026"}]
["(Cifras en Pesos)"]
["Concepto",null,"Egresos",{"$nulls":4},"Subejercicio"]
[null,null,"Aprobado","Ampliaciones/ (Reducciones)","Modificado","Devengado","Pagado"]
["Servicios Personales",null,{"$f":"SUM(C9:C15)","v":{"v":0,"d":"0.00"}},{"$f":"SUM(D9:D15)","v":{"v":0,"d":"0.00"}},{"$f":"C8+D8","v":{"v":0,"d":"0.00"}},{"$f":"SUM(F9:F15)","v":{"v":0,"d":"0.00"}},{"$f":"SUM(G9:G15)","v":{"v":0,"d":"0.00"}},{"$f":"E8-F8","v":{"v":0,"d":"0.00"}}]
[null,"Remuneraciones al Personal de Carácter Permanente",{"$f":"SUM(Balanza!H1269:H1270)","v":{"v":0,"d":"0.00"}},{"$f":"SUM(Balanza!H1541:H1542)","v":{"v":0,"d":"0.00"}},{"$f":"C9+D9","v":{"v":0,"d":"0.00"}},{"$f":"SUM(Balanza!E1813:E1814)","v":{"v":0,"d":"0.00"}},{"$f":"SUM(Balanza!G2085:G2086)","v":{"v":0,"d":"0.00"}},{"$f":"E9-F9","v":{"v":0,"d":"0.00"}}]
[null,"Remuneraciones al Personal de Carácter Transitorio",{"$f":"SUM(Balanza!H1271:H1272)","v":{"v":0,"d":"0.00"}},{"$f":"SUM(Balanza!H1543:H1544)","v":{"v":0,"d":"0.00"}},{"v":0,"d":"0.00"},{"$f":"SUM(Balanza!E1815:E1816)","v":{"v":0,"d":"0.00"}},{"$f":"SUM(Balanza!G2087:G2088)","v":{"v":0,"d":"0.00"}},{"v":0,"d":"0.00"}]
[null,"Remuneraciones Adicionales y Especiales",{"$f":"SUM(Balanza!H1273:H1274)","v":{"v":0,"d":"0.00"}},{"$f":"SUM(Balanza!H1545:H1546)","v":{"v":0,"d":"0.00"}},{"v":0,"d":"0.00"},{"$f":"SUM(Balanza!E1817:E1818)","v":{"v":0,"d":"0.00"}},{"$f":"SUM(Balanza!G2089:G2090)","v":{"v":0,"d":"0.00"}},{"v":0,"d":"0.00"}]
[null,"Seguridad Social",{"$f":"SUM(Balanza!H1275:H1276)","v":{"v":0,"d":"0.00"}},{"$f":"SUM(Balanza!H1547:H1548)","v":{"v":0,"d":"0.00"}},{"v":0,"d":"0.00"},{"$f":"SUM(Balanza!E1819:E1820)","v":{"v":0,"d":"0.00"}},{"$f":"SUM(Balanza!G2091:G2092)","v":{"v":0,"d":"0.00"}},{"v":0,"d":"0.00"}]
[null,"Otras Prestaciones Sociales y Económicas",{"$f":"SUM(Balanza!H1277:H1278)","v":{"v":0,"d":"0.00"}},{"$f":"SUM(Balanza!H1549:H1550)","v":{"v":0,"d":"0.00"}},{"v":0,"d":"0.00"},{"$f":"SUM(Balanza!E1821:E1822)","v":{"v":0,"d":"0.00"}},{"$f":"SUM(Balanza!G2093:G2094)","v":{"v":0,"d":"0.00"}},{"v":0,"d":"0.00"}]
[null,"Previsiones",{"$f":"SUM(Balanza!H1279:H1280)","v":{"v":0,"d":"0.00"}},{"$f":"SUM(Balanza!H1551:H1552)","v":{"v":0,"d":"0.00"}},{"v":0,"d":"0.00"},{"$f":"SUM(Balanza!E1823:E1824)","v":{"v":0,"d":"0.00"}},{"$f":"SUM(Balanza!G2095:G2096)","v":{"v":0,"d":"0.00"}},{"v":0,"d":"0.00"}]
[null,"Pago de Estímulos a Servidores Públicos",{"$f":"SUM(Balanza!H1281:H1282)","v":{"v":0,"d":"0.00"}},{"$f":"SUM(Balanza!H1553:H1554)","v":{"v":0,"d":"0.00"}},{"v":0,"d":"0.00"},{"$f":"SUM(Balanza!E1825:E1826)","v":{"v":0,"d":"0.00"}},{"$f":"SUM(Balanza!G2097:G2098)","v":{"v":0,"d":"0.00"}},{"v":0,"d":"0.00"}]
["Materiales y Suministros",null,{"$f":"SUM(C17:C25)","v":{"v":0,"d":"0.00"}},{"$f":"SUM(D17:D25)","v":{"v":0,"d":"0.00"}},{"v":0,"d":"0.00"},{"$f":"SUM(F17:F25)","v":{"v":0,"d":"0.00"}},{"$f":"SUM(G17:G25)","v":{"v":0,"d":"0.00"}},{"v":0,"d":"0.00"}]
[null,"Materiales de Administración, Emisión de Documentos y Artículos Oficiales",{"$f":"SUM(Balanza!H1284:H1285)","v":{"v":0,"d":"0.00"}},{"$f":"SUM(Balanza!H1556:H1557)","v":{"v":0,"d":"0.00"}},{"v":0,"d":"0.00"},{"$f":"SUM(Balanza!E1828:E1829)","v":{"v":0,"d":"0.00"}},{"$f":"SUM(Balanza!G2100:G2101)","v":{"v":0,"d":"0.00"}},{"v":0,"d":"0.00"}]
[null,"Alimentos y Utensilios",{"$f":"SUM(Balanza!H1286:H1287)","v":{"v":0,"d":"0.00"}},{"$f":"SUM(Balanza!H1558:H1559)","v":{"v":0,"d":"0.00"}},{"v":0,"d":"0.00"},{"$f":"SUM(Balanza!E1830:E1831)","v":{"v":0,"d":"0.00"}},{"$f":"SUM(Balanza!G2102:G2103)","v":{"v":0,"d":"0.00"}},{"v":0,"d":"0.00"}]
[null,"Materias Primas y Materiales de Producción y Comercialización",{"$f":"SUM(Balanza!H1288:H1289)","v":{"v":0,"d":"0.00"}},{"$f":"SUM(Balanza!H1560:H1561)","v":{"v":0,"d":"0.00"}},{"v":0,"d":"0.00"},{"$f":"SUM(Balanza!E1832:E1833)","v":{"v":0,"d":"0.00"}},{"$f":"SUM(Balanza!G2104:G2105)","v":{"v":0,"d":"0.00"}},{"v":0,"d":"0.00"}]
[null,"Materiales y Artículos de Construcción y de Reparación",{"$f":"SUM(Balanza!H1290:H1291)","v":{"v":0,"d":"0.00"}},{"$f":"SUM(Balanza!H1562:H1563)","v":{"v":0,"d":"0.00"}},{"v":0,"d":"0.00"},{"$f":"SUM(Balanza!E1834:E1835)","v":{"v":0,"d":"0.00"}},{"$f":"SUM(Balanza!G2106:G2107)","v":{"v":0,"d":"0.00"}},{"v":0,"d":"0.00"}]
[null,"Productos Químicos, Farmacéuticos y de Laboratorio",{"$f":"SUM(Balanza!H1292:H1293)","v":{"v":0,"d":"0.00"}},{"$f":"SUM(Balanza!H1564:H1565)","v":{"v":0,"d":"0.00"}},{"v":0,"d":"0.00"},{"$f":"SUM(Balanza!E1836:E1837)","v":{"v":0,"d":"0.00"}},{"$f":"SUM(Balanza!G2108:G2109)","v":{"v":0,"d":"0.00"}},{"v":0,"d":"0.00"}]
[null,"Combustibles, Lubricantes y Aditivos",{"$f":"SUM(Balanza!H1294:H1295)","v":{"v":0,"d":"0.00"}},{"$f":"SUM(Balanza!H1566:H1567)","v":{"v":0,"d":"0.00"}},{"v":0,"d":"0.00"},{"$f":"SUM(Balanza!E1838:E1839)","v":{"v":0,"d":"0.00"}},{"$f":"SUM(Balanza!G2110:G2111)","v":{"v":0,"d":"0.00"}},{"v":0,"d":"0.00"}]
[null,"Vestuario, Blancos, Prendas de Protección y Artículos Deportivos",{"$f":"SUM(Balanza!H1296:H1297)","v":{"v":0,"d":"0.00"}},{"$f":"SUM(Balanza!H1568:H1569)","v":{"v":0,"d":"0.00"}},{"v":0,"d":"0.00"},{"$f":"SUM(Balanza!E1840:E1841)","v":{"v":0,"d":"0.00"}},{"$f":"SUM(Balanza!G2112:G2113)","v":{"v":0,"d":"0.00"}},{"v":0,"d":"0.00"}]
[null,"Materiales y Suministros para Seguridad",{"$f":"SUM(Balanza!H1298:H1299)","v":{"v":0,"d":"0.00"}},{"$f":"SUM(Balanza!H1570:H1571)","v":{"v":0,"d":"0.00"}},{"v":0,"d":"0.00"},{"$f":"SUM(Balanza!E1842:E1843)","v":{"v":0,"d":"0.00"}},{"$f":"SUM(Balanza!G2114:G2115)","v":{"v":0,"d":"0.00"}},{"v":0,"d":"0.00"}]
[null,"Herramientas, Refacciones y Accesorios Menores",{"$f":"SUM(Balanza!H1300:H1301)","v":{"v":0,"d":"0.00"}},{"$f":"SUM(Balanza!H1572:H1573)","v":{"v":0,"d":"0.00"}},{"v":0,"d":"0.00"},{"$f":"SUM(Balanza!E1844:E1845)","v":{"v":0,"d":"0.00"}},{"$f":"SUM(Balanza!G2116:G2117)","v":{"v":0,"d":"0.00"}},{"v":0,"d":"0.00"}]
["Servicios Generales",null,{"$f":"SUM(C27:C35)","v":{"v":0,"d":"0.00"}},{"$f":"SUM(D27:D35)","v":{"v":0,"d":"0.00"}},{"v":0,"d":"0.00"},{"$f":"SUM(F27:F35)","v":{"v":0,"d":"0.00"}},{"$f":"SUM(G27:G35)","v":{"v":0,"d":"0.00"}},{"v":0,"d":"0.00"}]
[null,"Servicios Básicos",{"$f":"SUM(Balanza!H1303:H1304)","v":{"v":0,"d":"0.00"}},{"$f":"SUM(Balanza!H1575:H1576)","v":{"v":0,"d":"0.00"}},{"v":0,"d":"0.00"},{"$f":"SUM(Balanza!E1847:E1848)","v":{"v":0,"d":"0.00"}},{"$f":"SUM(Balanza!G2119:G2120)","v":{"v":0,"d":"0.00"}},{"v":0,"d":"0.00"}]
[null,"Servicios de Arrendamiento",{"$f":"SUM(Balanza!H1305:H1306)","v":{"v":0,"d":"0.00"}},{"$f":"SUM(Balanza!H1577:H1578)","v":{"v":0,"d":"0.00"}},{"v":0,"d":"0.00"},{"$f":"SUM(Balanza!E1849:E1850)","v":{"v":0,"d":"0.00"}},{"$f":"SUM(Balanza!G2121:G2122)","v":{"v":0,"d":"0.00"}},{"v":0,"d":"0.00"}]
[null,"Servicios Profesionales, Científicos, Técnicos y Otros Servicios",{"$f":"SUM(Balanza!H1307:H1308)","v":{"v":0,"d":"0.00"}},{"$f":"SUM(Balanza!H1579:H1580)","v":{"v":0,"d":"0.00"}},{"v":0,"d":"0.00"},{"$f":"SUM(Balanza!E1851:E1852)","v":{"v":0,"d":"0.00"}},{"$f":"SUM(Balanza!G2123:G2124)","v":{"v":0,"d":"0.00"}},{"v":0,"d":"0.00"}]
[null,"Servicios Financieros, Bancarios y Comerciales",{"$f":"SUM(Balanza!H1309:H1310)","v":{"v":0,"d":"0.00"}},{"$f":"SUM(Balanza!H1581:H1582)","v":{"v":0,"d":"0.00"}},{"v":0,"d":"0.00"},{"$f":"SUM(Balanza!E1853:E1854)","v":{"v":0,"d":"0.00"}},{"$f":"SUM(Balanza!G2125:G2126)","v":{"v":0,"d":"0.00"}},{"v":0,"d":"0.00"}]
[null,"Servicios de Instalación, Reparación, Mantenimiento y Conservación",{"$f":"SUM(Balanza!H1311:H1312)","v":{"v":0,"d":"0.00"}},{"$f":"SUM(Balanza!H1583:H1584)","v":{"v":0,"d":"0.00"}},{"v":0,"d":"0.00"},{"$f":"SUM(Balanza!E1855:E1856)","v":{"v":0,"d":"0.00"}},{"$f":"SUM(Balanza!G2127:G2128)","v":{"v":0,"d":"0.00"}},{"v":0,"d":"0.00"}]
[null,"Servicios de Comunicación Social y Publicidad",{"$f":"SUM(Balanza!H1313:H1314)","v":{"v":0,"d":"0.00"}},{"$f":"SUM(Balanza!H1585:H1586)","v":{"v":0,"d":"0.00"}},{"v":0,"d":"0.00"},{"$f":"SUM(Balanza!E1857:E1858)","v":{"v":0,"d":"0.00"}},{"$f":"SUM(Balanza!G2129:G2130)","v":{"v":0,"d":"0.00"}},{"v":0,"d":"0.00"}]
[null,"Servicios de Traslado y Viáticos",{"$f":"SUM(Balanza!H1315:H1316)","v":{"v":0,"d":"0.00"}},{"$f":"SUM(Balanza!H1587:H1588)","v":{"v":0,"d":"0.00"}},{"v":0,"d":"0.00"},{"$f":"SUM(Balanza!E1859:E1860)","v":{"v":0,"d":"0.00"}},{"$f":"SUM(Balanza!G2131:G2132)","v":{"v":0,"d":"0.00"}},{"v":0,"d":"0.00"}]
[null,"Servicios Oficiales",{"$f":"SUM(Balanza!H1317:H1318)","v":{"v":0,"d":"0.00"}},{"$f":"SUM(Balanza!H1589:H1590)","v":{"v":0,"d":"0.00"}},{"v":0,"d":"0.00"},{"$f":"SUM(Balanza!E1861:E1862)","v":{"v":0,"d":"0.00"}},{"$f":"SUM(Balanza!G2133:G2134)","v":{"v":0,"d":"0.00"}},{"v":0,"d":"0.00"}]
[null,"Otros Servicios Generales",{"$f":"SUM(Balanza!H1319:H1320)","v":{"v":0,"d":"0.00"}},{"$f":"SUM(Balanza!H1591:H1592)","v":{"v":0,"d":"0.00"}},{"v":0,"d":"0.00"},{"$f":"SUM(Balanza!E1863:E1864)","v":{"v":0,"d":"0.00"}},{"$f":"SUM(Balanza!G2135:G2136)","v":{"v":0,"d":"0.00"}},{"v":0,"d":"0.00"}]
["Transferencias, Asignaciones, Subsidios y Otras Ayudas",null,{"$f":"SUM(C37:C45)","v":{"v":0,"d":"0.00"}},{"$f":"SUM(D37:D45)","v":{"v":0,"d":"0.00"}},{"v":0,"d":"0.00"},{"$f":"SUM(F37:F45)","v":{"v":0,"d":"0.00"}},{"$f":"SUM(G37:G45)","v":{"v":0,"d":"0.00"}},{"v":0,"d":"0.00"}]
[null,"Transferencias Internas y Asignaciones al Sector Público",{"$f":"SUM(Balanza!H1322:H1323)","v":{"v":0,"d":"0.00"}},{"$f":"SUM(Balanza!H1594:H1595)","v":{"v":0,"d":"0.00"}},{"v":0,"d":"0.00"},{"$f":"SUM(Balanza!E1866:E1867)","v":{"v":0,"d":"0.00"}},{"$f":"SUM(Balanza!G2138:G2139)","v":{"v":0,"d":"0.00"}},{"v":0,"d":"0.00"}]
[null,"Transferencias al Resto del Sector Público",{"$f":"SUM(Balanza!H1324:H1325)","v":{"v":0,"d":"0.00"}},{"$f":"SUM(Balanza!H1596:H1597)","v":{"v":0,"d":"0.00"}},{"v":0,"d":"0.00"},{"$f":"SUM(Balanza!E1868:E1869)","v":{"v":0,"d":"0.00"}},{"$f":"SUM(Balanza!G2140:G2141)","v":{"v":0,"d":"0.00"}},{"v":0,"d":"0.00"}]
[null,"Subsidios y Subvenciones",{"$f":"SUM(Balanza!H1326:H1327)","v":{"v":0,"d":"0.00"}},{"$f":"SUM(Balanza!H1598:H1599)","v":{"v":0,"d":"0.00"}},{"v":0,"d":"0.00"},{"$f":"SUM(Balanza!E1870:E1871)","v":{"v":0,"d":"0.00"}},{"$f":"SUM(Balanza!G2142:G2143)","v":{"v":0,"d":"0.00"}},{"v":0,"d":"0.00"}]
[null,"Ayudas Sociales",{"$f":"SUM(Balanza!H1328:H1329)","v":{"v":0,"d":"0.00"}},{"$f":"SUM(Balanza!H1600:H1601)","v":{"v":0,"d":"0.00"}},{"v":0,"d":"0.00"},{"$f":"SUM(Balanza!E1872:E1873)","v":{"v":0,"d":"0.00"}},{"$f":"SUM(Balanza!G2144:G2145)","v":{"v":0,"d":"0.00"}},{"v":0,"d":"0.00"}]
[null,"Pensiones y Jubilaciones",{"$f":"SUM(Balanza!H1330:H1331)","v":{"v":0,"d":"0.00"}},{"$f":"SUM(Balanza!H1602:H1603)","v":{"v":0,"d":"0.00"}},{"v":0,"d":"0.00"},{"$f":"SUM(Balanza!E1874:E1875)","v":{"v":0,"d":"0.00"}},{"$f":"SUM(Balanza!G2146:G2147)","v":{"v":0,"d":"0.00"}},{"v":0,"d":"0.00"}]
[null,"Transferencias a Fideicomisos, Mandatos y Otros Análogos",{"$f":"SUM(Balanza!H1332:H1333)","v":{"v":0,"d":"0.00"}},{"$f":"SUM(Balanza!H1604:H1605)","v":{"v":0,"d":"0.00"}},{"v":0,"d":"0.00"},{"$f":"SUM(Balanza!E1876:E1877)","v":{"v":0,"d":"0.00"}},{"$f":"SUM(Balanza!G2148:G2149)","v":{"v":0,"d":"0.00"}},{"v":0,"d":"0.00"}]
[null,"Transferencias a la Seguridad Social",{"$f":"SUM(Balanza!H1334:H1335)","v":{"v":0,"d":"0.00"}},{"$f":"SUM(Balanza!H1606:H1607)","v":{"v":0,"d":"0.00"}},{"v":0,"d":"0.00"},{"$f":"SUM(Balanza!E1878:E1879)","v":{"v":0,"d":"0.00"}},{"$f":"SUM(Balanza!G2150:G2151)","v":{"v":0,"d":"0.00"}},{"v":0,"d":"0.00"}]
[null,"Donativos",{"$f":"SUM(Balanza!H1336:H1337)","v":{"v":0,"d":"0.00"}},{"$f":"SUM(Balanza!H1608:H1609)","v":{"v":0,"d":"0.00"}},{"v":0,"d":"0.00"},{"$f":"SUM(Balanza!E1880:E1881)","v":{"v":0,"d":"0.00"}},{"$f":"SUM(Balanza!G2152:G2153)","v":{"v":0,"d":"0.00"}},{"v":0,"d":"0.00"}]
[null,"Transferencias al Exterior",{"$f":"SUM(Balanza!H1338:H1339)","v":{"v":0,"d":"0.00"}},{"$f":"SUM(Balanza!H1610:H1611)","v":{"v":0,"d":"0.00"}},{"v":0,"d":"0.00"},{"$f":"SUM(Balanza!E1882:E1883)","v":{"v":0,"d":"0.00"}},{"$f":"SUM(Balanza!G2154:G2155)","v":{"v":0,"d":"0.00"}},{"v":0,"d":"0.00"}]
["Bienes Muebles, Inmuebles e Intangibles",null,{"$f":"SUM(C47:C55)","v":{"v":0,"d":"0.00"}},{"$f":"SUM(D47:D55)","v":{"v":0,"d":"0.00"}},{"v":0,"d":"0.00"},{"$f":"SUM(F47:F55)","v":{"v":0,"d":"0.00"}},{"$f":"SUM(G47:G55)","v":{"v":0,"d":"0.00"}},{"v":0,"d":"0.00"}]
[null,"Mobiliario y Equipo de Administración",{"$f":"SUM(Balanza!H1341:H1342)","v":{"v":0,"d":"0.00"}},{"$f":"SUM(Balanza!H1613:H1614)","v":{"v":0,"d":"0.00"}},{"v":0,"d":"0.00"},{"$f":"SUM(Balanza!E1885:E1886)","v":{"v":0,"d":"0.00"}},{"$f":"SUM(Balanza!G2157:G2158)","v":{"v":0,"d":"0.00"}},{"v":0,"d":"0.00"}]
[null,"Mobiliario y Equipo Educacional y Recreativo",{"$f":"SUM(Balanza!H1343:H1344)","v":{"v":0,"d":"0.00"}},{"$f":"SUM(Balanza!H1615:H1616)","v":{"v":0,"d":"0.00"}},{"v":0,"d":"0.00"},{"$f":"SUM(Balanza!E1887:E1888)","v":{"v":0,"d":"0.00"}},{"$f":"SUM(Balanza!G2159:G2160)","v":{"v":0,"d":"0.00"}},{"v":0,"d":"0.00"}]
[null,"Equipo e Instrumental Médico y de Laboratorio",{"$f":"SUM(Balanza!H1345:H1346)","v":{"v":0,"d":"0.00"}},{"$f":"SUM(Balanza!H1617:H1618)","v":{"v":0,"d":"0.00"}},{"v":0,"d":"0.00"},{"$f":"SUM(Balanza!E1889:E1890)","v":{"v":0,"d":"0.00"}},{"$f":"SUM(Balanza!G2161:G2162)","v":{"v":0,"d":"0.00"}},{"v":0,"d":"0.00"}]
[null,"Vehículos y Equipo de Transporte",{"$f":"SUM(Balanza!H1347:H1348)","v":{"v":0,"d":"0.00"}},{"$f":"SUM(Balanza!H1619:H1620)","v":{"v":0,"d":"0.00"}},{"v":0,"d":"0.00"},{"$f":"SUM(Balanza!E1891:E1892)","v":{"v":0,"d":"0.00"}},{"$f":"SUM(Balanza!G2163:G2164)","v":{"v":0,"d":"0.00"}},{"v":0,"d":"0.00"}]
[null,"Equipo de Defensa y Seguridad",{"$f":"SUM(Balanza!H1349:H1350)","v":{"v":0,"d":"0.00"}},{"$f":"SUM(Balanza!H1621:H1622)","v":{"v":0,"d":"0.00"}},{"v":0,"d":"0.00"},{"$f":"SUM(Balanza!E1893:E1894)","v":{"v":0,"d":"0.00"}},{"$f":"SUM(Balanza!G2165:G2166)","v":{"v":0,"d":"0.00"}},{"v":0,"d":"0.00"}]
[null,"Maquinaria, Otros Equipos y Herramientas",{"$f":"SUM(Balanza!H1351:H1352)","v":{"v":0,"d":"0.00"}},{"$f":"SUM(Balanza!H1623:H1624)","v":{"v":0,"d":"0.00"}},{"v":0,"d":"0.00"},{"$f":"SUM(Balanza!E1895:E1896)","v":{"v":0,"d":"0.00"}},{"$f":"SUM(Balanza!G2167:G2168)","v":{"v":0,"d":"0.00"}},{"v":0,"d":"0.00"}]
[null,"Activos Biológicos",{"$f":"SUM(Balanza!H1353:H1354)","v":{"v":0,"d":"0.00"}},{"$f":"SUM(Balanza!H1625:H1626)","v":{"v":0,"d":"0.00"}},{"v":0,"d":"0.00"},{"$f":"SUM(Balanza!E1897:E1898)","v":{"v":0,"d":"0.00"}},{"$f":"SUM(Balanza!G2169:G2170)","v":{"v":0,"d":"0.00"}},{"v":0,"d":"0.00"}]
[null,"Bienes Inmuebles",{"$f":"SUM(Balanza!H1355:H1356)","v":{"v":0,"d":"0.00"}},{"$f":"SUM(Balanza!H1627:H1628)","v":{"v":0,"d":"0.00"}},{"v":0,"d":"0.00"},{"$f":"SUM(Balanza!E1899:E1900)","v":{"v":0,"d":"0.00"}},{"$f":"SUM(Balanza!G2171:G2172)","v":{"v":0,"d":"0.00"}},{"v":0,"d":"0.00"}]
[null,"Activos Intangibles",{"$f":"SUM(Balanza!H1357:H1358)","v":{"v":0,"d":"0.00"}},{"$f":"SUM(Balanza!H1629:H1630)","v":{"v":0,"d":"0.00"}},{"v":0,"d":"0.00"},{"$f":"SUM(Balanza!E1901:E1902)","v":{"v":0,"d":"0.00"}},{"$f":"SUM(Balanza!G2173:G2174)","v":{"v":0,"d":"0.00"}},{"v":0,"d":"0.00"}]
["Inversión Pública",null,{"$f":"SUM(C57:C59)","v":{"v":0,"d":"0.00"}},{"$f":"SUM(D57:D59)","v":{"v":0,"d":"0.00"}},{"v":0,"d":"0.00"},{"$f":"SUM(F57:F59)","v":{"v":0,"d":"0.00"}},{"$f":"SUM(G57:G59)","v":{"v":0,"d":"0.00"}},{"v":0,"d":"0.00"}]
[null,"Obra Pública en Bienes de Dominio Público",{"$f":"SUM(Balanza!H1360:H1361)","v":{"v":0,"d":"0.00"}},{"$f":"SUM(Balanza!H1632:H1633)","v":{"v":0,"d":"0.00"}},{"v":0,"d":"0.00"},{"$f":"SUM(Balanza!E1904:E1905)","v":{"v":0,"d":"0.00"}},{"$f":"SUM(Balanza!G2176:G2177)","v":{"v":0,"d":"0.00"}},{"v":0,"d":"0.00"}]
[null,"Obra Pública en Bienes Propios",{"$f":"SUM(Balanza!H1362:H1363)","v":{"v":0,"d":"0.00"}},{"$f":"SUM(Balanza!H1634:H1635)","v":{"v":0,"d":"0.00"}},{"v":0,"d":"0.00"},{"$f":"SUM(Balanza!E1906:E1907)","v":{"v":0,"d":"0.00"}},{"$f":"SUM(Balanza!G2178:G2179)","v":{"v":0,"d":"0.00"}},{"v":0,"d":"0.00"}]
[null,"Proyectos Productivos y Acciones de Fomento",{"$f":"SUM(Balanza!H1364:H1365)","v":{"v":0,"d":"0.00"}},{"$f":"SUM(Balanza!H1636:H1637)","v":{"v":0,"d":"0.00"}},{"v":0,"d":"0.00"},{"$f":"SUM(Balanza!E1908:E1909)","v":{"v":0,"d":"0.00"}},{"$f":"SUM(Balanza!G2180:G2181)","v":{"v":0,"d":"0.00"}},{"v":0,"d":"0.00"}]
["Inversiones Financieras y Otras Provisiones",null,{"$f":"SUM(C61:C67)","v":{"v":0,"d":"0.00"}},{"$f":"SUM(D61:D67)","v":{"v":0,"d":"0.00"}},{"v":0,"d":"0.00"},{"$f":"SUM(F61:F67)","v":{"v":0,"d":"0.00"}},{"$f":"SUM(G61:G67)","v":{"v":0,"d":"0.00"}},{"v":0,"d":"0.00"}]
[null,"Inversiones para el Fomento de Actividades Productivas",{"$f":"SUM(Balanza!H1367:H1368)","v":{"v":0,"d":"0.00"}},{"$f":"SUM(Balanza!H1639:H1640)","v":{"v":0,"d":"0.00"}},{"v":0,"d":"0.00"},{"$f":"SUM(Balanza!E1911:E1912)","v":{"v":0,"d":"0.00"}},{"$f":"SUM(Balanza!G2183:G2184)","v":{"v":0,"d":"0.00"}},{"v":0,"d":"0.00"}]
[null,"Acciones y Participaciones de Capital",{"$f":"SUM(Balanza!H1369:H1370)","v":{"v":0,"d":"0.00"}},{"$f":"SUM(Balanza!H1641:H1642)","v":{"v":0,"d":"0.00"}},{"v":0,"d":"0.00"},{"$f":"SUM(Balanza!E1913:E1914)","v":{"v":0,"d":"0.00"}},{"$f":"SUM(Balanza!G2185:G2186)","v":{"v":0,"d":"0.00"}},{"v":0,"d":"0.00"}]
[null,"Compra de Títulos y Valores",{"$f":"SUM(Balanza!H1371:H1372)","v":{"v":0,"d":"0.00"}},{"$f":"SUM(Balanza!H1643:H1644)","v":{"v":0,"d":"0.00"}},{"v":0,"d":"0.00"},{"$f":"SUM(Balanza!E1915:E1916)","v":{"v":0,"d":"0.00"}},{"$f":"SUM(Balanza!G2187:G2188)","v":{"v":0,"d":"0.00"}},{"v":0,"d":"0.00"}]
[null,"Concesión de Préstamos",{"$f":"SUM(Balanza!H1373:H1374)","v":{"v":0,"d":"0.00"}},{"$f":"SUM(Balanza!H1645:H1646)","v":{"v":0,"d":"0.00"}},{"v":0,"d":"0.00"},{"$f":"SUM(Balanza!E1917:E1918)","v":{"v":0,"d":"0.00"}},{"$f":"SUM(Balanza!G2189:G2190)","v":{"v":0,"d":"0.00"}},{"v":0,"d":"0.00"}]
[null,"Inversiones en Fideicomisos, Mandatos y Otros Análogos",{"$f":"SUM(Balanza!H1375:H1376)","v":{"v":0,"d":"0.00"}},{"$f":"SUM(Balanza!H1647:H1648)","v":{"v":0,"d":"0.00"}},{"v":0,"d":"0.00"},{"$f":"SUM(Balanza!E1919:E1920)","v":{"v":0,"d":"0.00"}},{"$f":"SUM(Balanza!G2191:G2192)","v":{"v":0,"d":"0.00"}},{"v":0,"d":"0.00"}]
[null,"Otras Inversiones Financieras",{"$f":"SUM(Balanza!H1377:H1378)","v":{"v":0,"d":"0.00"}},{"$f":"SUM(Balanza!H1649:H1650)","v":{"v":0,"d":"0.00"}},{"v":0,"d":"0.00"},{"$f":"SUM(Balanza!E1921:E1922)","v":{"v":0,"d":"0.00"}},{"$f":"SUM(Balanza!G2193:G2194)","v":{"v":0,"d":"0.00"}},{"v":0,"d":"0.00"}]
[null,"Provisiones para Contingencias y Otras Erogaciones Especiales",{"$f":"SUM(Balanza!H1379:H1380)","v":{"v":0,"d":"0.00"}},{"$f":"SUM(Balanza!H1651:H1652)","v":{"v":0,"d":"0.00"}},{"v":0,"d":"0.00"},{"$f":"SUM(Balanza!E1923:E1924)","v":{"v":0,"d":"0.00"}},{"$f":"SUM(Balanza!G2195:G2196)","v":{"v":0,"d":"0.00"}},{"v":0,"d":"0.00"}]
["Participaciones y Aportaciones",null,{"$f":"SUM(C69:C71)","v":{"v":0,"d":"0.00"}},{"$f":"SUM(D69:D71)","v":{"v":0,"d":"0.00"}},{"v":0,"d":"0.00"},{"$f":"SUM(F69:F71)","v":{"v":0,"d":"0.00"}},{"$f":"SUM(G69:G71)","v":{"v":0,"d":"0.00"}},{"v":0,"d":"0.00"}]
[null,"Participaciones",{"$f":"SUM(Balanza!H1382:H1383)","v":{"v":0,"d":"0.00"}},{"$f":"SUM(Balanza!H1654:H1655)","v":{"v":0,"d":"0.00"}},{"v":0,"d":"0.00"},{"$f":"SUM(Balanza!E1926:E1927)","v":{"v":0,"d":"0.00"}},{"$f":"SUM(Balanza!G2198:G2199)","v":{"v":0,"d":"0.00"}},{"v":0,"d":"0.00"}]
[null,"Aportaciones",{"$f":"SUM(Balanza!H1384:H1385)","v":{"v":0,"d":"0.00"}},{"$f":"SUM(Balanza!H1656:H1657)","v":{"v":0,"d":"0.00"}},{"v":0,"d":"0.00"},{"$f":"SUM(Balanza!E1928:E1929)","v":{"v":0,"d":"0.00"}},{"$f":"SUM(Balanza!G2200:G2201)","v":{"v":0,"d":"0.00"}},{"v":0,"d":"0.00"}]
[null,"Convenios",{"$f":"SUM(Balanza!H1386:H1387)","v":{"v":0,"d":"0.00"}},{"$f":"SUM(Balanza!H1658:H1659)","v":{"v":0,"d":"0.00"}},{"v":0,"d":"0.00"},{"$f":"SUM(Balanza!E1930:E1931)","v":{"v":0,"d":"0.00"}},{"$f":"SUM(Balanza!G2202:G2203)","v":{"v":0,"d":"0.00"}},{"v":0,"d":"0.00"}]
["Deuda Pública",null,{"$f":"SUM(C73:C79)","v":{"v":0,"d":"0.00"}},{"$f":"SUM(D73:D79)","v":{"v":0,"d":"0.00"}},{"v":0,"d":"0.00"},{"$f":"SUM(F73:F79)","v":{"v":0,"d":"0.00"}},{"$f":"SUM(G73:G79)","v":{"v":0,"d":"0.00"}},{"v":0,"d":"0.00"}]
[null,"Amortización de la Deuda Pública",{"$f":"SUM(Balanza!H1389:H1390)","v":{"v":0,"d":"0.00"}},{"$f":"SUM(Balanza!H1661:H1662)","v":{"v":0,"d":"0.00"}},{"$f":"C73+D73","v":{"v":0,"d":"0.00"}},{"$f":"SUM(Balanza!E1933:E1934)","v":{"v":0,"d":"0.00"}},{"$f":"SUM(Balanza!G2205:G2206)","v":{"v":0,"d":"0.00"}},{"$f":"E73-F73","v":{"v":0,"d":"0.00"}}]
[null,"Intereses de la Deuda Pública",{"$f":"SUM(Balanza!H1391:H1392)","v":{"v":0,"d":"0.00"}},{"$f":"SUM(Balanza!H1663:H1664)","v":{"v":0,"d":"0.00"}},{"v":0,"d":"0.00"},{"$f":"SUM(Balanza!E1935:E1936)","v":{"v":0,"d":"0.00"}},{"$f":"SUM(Balanza!G2207:G2208)","v":{"v":0,"d":"0.00"}},{"v":0,"d":"0.00"}]
[null,"Comisiones de la Deuda Pública",{"$f":"SUM(Balanza!H1393:H1394)","v":{"v":0,"d":"0.00"}},{"$f":"SUM(Balanza!H1665:H1666)","v":{"v":0,"d":"0.00"}},{"v":0,"d":"0.00"},{"$f":"SUM(Balanza!E1937:E1938)","v":{"v":0,"d":"0.00"}},{"$f":"SUM(Balanza!G2209:G2210)","v":{"v":0,"d":"0.00"}},{"v":0,"d":"0.00"}]
[null,"Gastos de la Deuda Pública",{"$f":"SUM(Balanza!H1395:H1396)","v":{"v":0,"d":"0.00"}},{"$f":"SUM(Balanza!H1667:H1668)","v":{"v":0,"d":"0.00"}},{"v":0,"d":"0.00"},{"$f":"SUM(Balanza!E1939:E1940)","v":{"v":0,"d":"0.00"}},{"$f":"SUM(Balanza!G2211:G2212)","v":{"v":0,"d":"0.00"}},{"v":0,"d":"0.00"}]
[null,"Costo por Coberturas",{"$f":"SUM(Balanza!H1397:H1398)","v":{"v":0,"d":"0.00"}},{"$f":"SUM(Balanza!H1669:H1670)","v":{"v":0,"d":"0.00"}},{"v":0,"d":"0.00"},{"$f":"SUM(Balanza!E1941:E1942)","v":{"v":0,"d":"0.00"}},{"$f":"SUM(Balanza!G2213:G2214)","v":{"v":0,"d":"0.00"}},{"v":0,"d":"0.00"}]
[null,"Apoyos Financieros",{"$f":"SUM(Balanza!H1399:H1400)","v":{"v":0,"d":"0.00"}},{"$f":"SUM(Balanza!H1671:H1672)","v":{"v":0,"d":"0.00"}},{"v":0,"d":"0.00"},{"$f":"SUM(Balanza!E1943:E1944)","v":{"v":0,"d":"0.00"}},{"$f":"SUM(Balanza!G2215:G2216)","v":{"v":0,"d":"0.00"}},{"v":0,"d":"0.00"}]
[null,"Adeudos de Ejercicios Fiscales Anteriores (Adefas)",{"$f":"SUM(Balanza!H1401:H1402)","v":{"v":0,"d":"0.00"}},{"$f":"SUM(Balanza!H1673:H1674)","v":{"v":0,"d":"0.00"}},{"v":0,"d":"0.00"},{"$f":"SUM(Balanza!E1945:E1946)","v":{"v":0,"d":"0.00"}},{"$f":"SUM(Balanza!G2217:G2218)","v":{"v":0,"d":"0.00"}},{"v":0,"d":"0.00"}]
[null,"Total del Egreso",{"$f":"C8+C16+C26+C36+C46+C56+C60+C68+C72","v":{"v":0,"d":"0.00"}},{"v":0,"d":"0.00"},{"v":0,"d":"0.00"},{"v":0,"d":"0.00"},{"v":0,"d":"0.00"},{"v":0,"d":"0.00"}]
[]
[null,"Bajo protesta de decir verdad declaramos que los Estados Financieros y sus notas, son razonablemente correctos y son responsabilidad del emisor."]
[]
[null,{"$f":"Validacion!A7","v":"LIC. JOSE HERIBERTO GARCIA MURILLO"},null,{"$f":"Validacion!A9","v":"LAE BRUNO GERMAN ENCISO GUILLEN"}]
[]
[null,"Presidente Municipal o titular del ente público",null,"Encargado de la Hacienda Municipal\n o Responsable de las finanzas del ente público"]

{"sheet":"F8B","index":29,"n_rows":163,"n_cols":9,"rows_kept":163,"hidden":true,"merged":[[0,1,0,8],[1,1,1,8],[2,1,2,8],[3,1,3,8],[4,1,5,2],[4,3,4,7],[4,8,5,8],[160,2,161,2],[160,5,161,7],[162,2,163,2],[162,5,163,7]]}
[null,{"$f":"\"NOMBRE DEL ENTE PÚBLICO: \"&Validacion!A2","v":"NOMBRE DEL ENTE PÚBLICO: Ixtlahuacán de los Membrillos"}]
[null,"Estado Analítico del Ejercicio del Presupuesto de Egresos Detallado - LDF\nClasificación por Objeto del Gasto (Capítulo y Concepto)"]
[null,{"$f":"'F6'!A3","v":"DEL 1° DE ENERO AL 31 DE ENERO DE 2026"}]
[null,"(PESOS)"]
[null,"Concepto",null,"Egresos",{"$nulls":4},"Subejercicio"]
[{"$nulls":3},"Aprobado","Ampliaciones/ (Reducciones)","Modificado","Devengado","Pagado"]
["I","Gasto No Etiquetado",null,{"$f":"D8+D16+D26+D36+D46+D56+D60+D68+D72","v":{"v":0,"d":"0.00"}},{"$f":"E8+E16+E26+E36+E46+E56+E60+E68+E72","v":{"v":0,"d":"0.00"}},{"v":0,"d":"0.00"},{"v":0,"d":"0.00"},{"v":0,"d":"0.00"},{"$f":"I8+I16+I26+I36+I46+I56+I60+I68+I72","v":{"v":0,"d":"0.00"}}]
[null,"A","Servicios Personales",{"$f":"SUM(D9:D15)","v":{"v":0,"d":"0.00"}},{"$f":"SUM(E9:E15)","v":{"v":0,"d":"0.00"}},{"$f":"D8+E8","v":{"v":0,"d":"0.00"}},{"$f":"SUM(G9:G15)","v":{"v":0,"d":"0.00"}},{"$f":"SUM(H9:H15)","v":{"v":0,"d":"0.00"}},{"$f":"F8-G8","v":{"v":0,"d":"0.00"}}]
[null,null,"a1) Remuneraciones al Personal de Carácter Permanente",{"$f":"Balanza!H1269","v":{"v":0,"d":"0.00"}},{"$f":"Balanza!H1541","v":{"v":0,"d":"0.00"}},{"$f":"D9+E9","v":{"v":0,"d":"0.00"}},{"$f":"Balanza!E1813","v":{"v":0,"d":"0.00"}},{"$f":"Balanza!G2085","v":{"v":0,"d":"0.00"}},{"$f":"F9-G9","v":{"v":0,"d":"0.00"}}]
[null,null,"a2) Remuneraciones al Personal de Carácter Transitorio",{"$f":"Balanza!H1271","v":{"v":0,"d":"0.00"}},{"$f":"Balanza!H1543","v":{"v":0,"d":"0.00"}},{"v":0,"d":"0.00"},{"$f":"Balanza!E1815","v":{"v":0,"d":"0.00"}},{"$f":"Balanza!G2087","v":{"v":0,"d":"0.00"}},{"v":0,"d":"0.00"}]
[null,null,"a3) Remuneraciones Adicionales Especiales",{"$f":"Balanza!H1273","v":{"v":0,"d":"0.00"}},{"$f":"Balanza!H1545","v":{"v":0,"d":"0.00"}},{"v":0,"d":"0.00"},{"$f":"Balanza!E1817","v":{"v":0,"d":"0.00"}},{"$f":"Balanza!G2089","v":{"v":0,"d":"0.00"}},{"v":0,"d":"0.00"}]
[null,null,"a4) Seguridad Social",{"$f":"Balanza!H1275","v":{"v":0,"d":"0.00"}},{"$f":"Balanza!H1547","v":{"v":0,"d":"0.00"}},{"v":0,"d":"0.00"},{"$f":"Balanza!E1819","v":{"v":0,"d":"0.00"}},{"$f":"Balanza!G2091","v":{"v":0,"d":"0.00"}},{"v":0,"d":"0.00"}]
[null,null,"a5) Otras Prestaciones Sociales y Económicas",{"$f":"Balanza!H1277","v":{"v":0,"d":"0.00"}},{"$f":"Balanza!H1549","v":{"v":0,"d":"0.00"}},{"v":0,"d":"0.00"},{"$f":"Balanza!E1821","v":{"v":0,"d":"0.00"}},{"$f":"Balanza!G2093","v":{"v":0,"d":"0.00"}},{"v":0,"d":"0.00"}]
[null,null,"a6) Previsiones",{"$f":"Balanza!H1279","v":{"v":0,"d":"0.00"}},{"$f":"Balanza!H1551","v":{"v":0,"d":"0.00"}},{"v":0,"d":"0.00"},{"$f":"Balanza!E1823","v":{"v":0,"d":"0.00"}},{"$f":"Balanza!G2095","v":{"v":0,"d":"0.00"}},{"v":0,"d":"0.00"}]
[null,null,"a7) Pago de Estímulos a Servidores Públicos",{"$f":"Balanza!H1281","v":{"v":0,"d":"0.00"}},{"$f":"Balanza!H1553","v":{"v":0,"d":"0.00"}},{"v":0,"d":"0.00"},{"$f":"Balanza!E1825","v":{"v":0,"d":"0.00"}},{"$f":"Balanza!G2097","v":{"v":0,"d":"0.00"}},{"v":0,"d":"0.00"}]
[null,"B","Materiales y Suministros",{"$f":"SUM(D17:D25)","v":{"v":0,"d":"0.00"}},{"$f":"SUM(E17:E25)","v":{"v":0,"d":"0.00"}},{"v":0,"d":"0.00"},{"$f":"SUM(G17:G25)","v":{"v":0,"d":"0.00"}},{"$f":"SUM(H17:H25)","v":{"v":0,"d":"0.00"}},{"v":0,"d":"0.00"}]
[null,null,"b1) Materiales de Administración, Emisión de Documentos y Artículos Oficiales",{"$f":"Balanza!H1284","v":{"v":0,"d":"0.00"}},{"$f":"Balanza!H1556","v":{"v":0,"d":"0.00"}},{"v":0,"d":"0.00"},{"$f":"Balanza!E1828","v":{"v":0,"d":"0.00"}},{"$f":"Balanza!G2100","v":{"v":0,"d":"0.00"}},{"v":0,"d":"0.00"}]
[null,null,"b2) Alimentos y Utensilios",{"$f":"Balanza!H1286","v":{"v":0,"d":"0.00"}},{"$f":"Balanza!H1558","v":{"v":0,"d":"0.00"}},{"v":0,"d":"0.00"},{"$f":"Balanza!E1830","v":{"v":0,"d":"0.00"}},{"$f":"Balanza!G2102","v":{"v":0,"d":"0.00"}},{"v":0,"d":"0.00"}]
[null,null,"b3) Materias Primas y Materiales de Producción y Comercialización",{"$f":"Balanza!H1288","v":{"v":0,"d":"0.00"}},{"$f":"Balanza!H1560","v":{"v":0,"d":"0.00"}},{"v":0,"d":"0.00"},{"$f":"Balanza!E1832","v":{"v":0,"d":"0.00"}},{"$f":"Balanza!G2104","v":{"v":0,"d":"0.00"}},{"v":0,"d":"0.00"}]
[null,null,"b4) Materiales y Artículos de Construcción y de Reparación",{"$f":"Balanza!H1290","v":{"v":0,"d":"0.00"}},{"$f":"Balanza!H1562","v":{"v":0,"d":"0.00"}},{"v":0,"d":"0.00"},{"$f":"Balanza!E1834","v":{"v":0,"d":"0.00"}},{"$f":"Balanza!G2106","v":{"v":0,"d":"0.00"}},{"v":0,"d":"0.00"}]
[null,null,"b5) Productos Químicos, Farmacéuticos y de Laboratorio",{"$f":"Balanza!H1292","v":{"v":0,"d":"0.00"}},{"$f":"Balanza!H1564","v":{"v":0,"d":"0.00"}},{"v":0,"d":"0.00"},{"$f":"Balanza!E1836","v":{"v":0,"d":"0.00"}},{"$f":"Balanza!G2108","v":{"v":0,"d":"0.00"}},{"v":0,"d":"0.00"}]
[null,null,"b6) Combustibles, Lubricantes y Aditivos",{"$f":"Balanza!H1294","v":{"v":0,"d":"0.00"}},{"$f":"Balanza!H1566","v":{"v":0,"d":"0.00"}},{"v":0,"d":"0.00"},{"$f":"Balanza!E1838","v":{"v":0,"d":"0.00"}},{"$f":"Balanza!G2110","v":{"v":0,"d":"0.00"}},{"v":0,"d":"0.00"}]
[null,null,"b7) Vestuario, Blancos, Prendas de Protección y Artículos Deportivos",{"$f":"Balanza!H1296","v":{"v":0,"d":"0.00"}},{"$f":"Balanza!H1568","v":{"v":0,"d":"0.00"}},{"v":0,"d":"0.00"},{"$f":"Balanza!E1840","v":{"v":0,"d":"0.00"}},{"$f":"Balanza!G2112","v":{"v":0,"d":"0.00"}},{"v":0,"d":"0.00"}]
[null,null,"b8) Materiales y Suministros Para Seguridad",{"$f":"Balanza!H1298","v":{"v":0,"d":"0.00"}},{"$f":"Balanza!H1570","v":{"v":0,"d":"0.00"}},{"v":0,"d":"0.00"},{"$f":"Balanza!E1842","v":{"v":0,"d":"0.00"}},{"$f":"Balanza!G2114","v":{"v":0,"d":"0.00"}},{"v":0,"d":"0.00"}]
[null,null,"b9) Herramientas, Refacciones y Accesorios Menores",{"$f":"Balanza!H1300","v":{"v":0,"d":"0.00"}},{"$f":"Balanza!H1572","v":{"v":0,"d":"0.00"}},{"v":0,"d":"0.00"},{"$f":"Balanza!E1844","v":{"v":0,"d":"0.00"}},{"$f":"Balanza!G2116","v":{"v":0,"d":"0.00"}},{"v":0,"d":"0.00"}]
[null,"C","Servicios Generales",{"$f":"SUM(D27:D35)","v":{"v":0,"d":"0.00"}},{"$f":"SUM(E27:E35)","v":{"v":0,"d":"0.00"}},{"v":0,"d":"0.00"},{"$f":"SUM(G27:G35)","v":{"v":0,"d":"0.00"}},{"$f":"SUM(H27:H35)","v":{"v":0,"d":"0.00"}},{"v":0,"d":"0.00"}]
[null,null,"c1) Servicios Básicos",{"$f":"Balanza!H1303","v":{"v":0,"d":"0.00"}},{"$f":"Balanza!H1575","v":{"v":0,"d":"0.00"}},{"v":0,"d":"0.00"},{"$f":"Balanza!E1847","v":{"v":0,"d":"0.00"}},{"$f":"Balanza!G2119","v":{"v":0,"d":"0.00"}},{"v":0,"d":"0.00"}]
[null,null,"c2) Servicios de Arrendamiento",{"$f":"Balanza!H1305","v":{"v":0,"d":"0.00"}},{"$f":"Balanza!H1577","v":{"v":0,"d":"0.00"}},{"v":0,"d":"0.00"},{"$f":"Balanza!E1849","v":{"v":0,"d":"0.00"}},{"$f":"Balanza!G2121","v":{"v":0,"d":"0.00"}},{"v":0,"d":"0.00"}]
[null,null,"c3) Servicios Profesionales, Científicos, Técnicos y Otros Servicios",{"$f":"Balanza!H1307","v":{"v":0,"d":"0.00"}},{"$f":"Balanza!H1579","v":{"v":0,"d":"0.00"}},{"v":0,"d":"0.00"},{"$f":"Balanza!E1851","v":{"v":0,"d":"0.00"}},{"$f":"Balanza!G2123","v":{"v":0,"d":"0.00"}},{"v":0,"d":"0.00"}]
[null,null,"c4) Servicios Financieros, Bancarios y Comerciales",{"$f":"Balanza!H1309","v":{"v":0,"d":"0.00"}},{"$f":"Balanza!H1581","v":{"v":0,"d":"0.00"}},{"v":0,"d":"0.00"},{"$f":"Balanza!E1853","v":{"v":0,"d":"0.00"}},{"$f":"Balanza!G2125","v":{"v":0,"d":"0.00"}},{"v":0,"d":"0.00"}]
[null,null,"c5) Servicios de Instalación, Reparación, Mantenimiento y Conservación",{"$f":"Balanza!H1311","v":{"v":0,"d":"0.00"}},{"$f":"Balanza!H1583","v":{"v":0,"d":"0.00"}},{"v":0,"d":"0.00"},{"$f":"Balanza!E1855","v":{"v":0,"d":"0.00"}},{"$f":"Balanza!G2127","v":{"v":0,"d":"0.00"}},{"v":0,"d":"0.00"}]
[null,null,"c6) Servicios de Comunicación Social y Publicidad",{"$f":"Balanza!H1313","v":{"v":0,"d":"0.00"}},{"$f":"Balanza!H1585","v":{"v":0,"d":"0.00"}},{"v":0,"d":"0.00"},{"$f":"Balanza!E1857","v":{"v":0,"d":"0.00"}},{"$f":"Balanza!G2129","v":{"v":0,"d":"0.00"}},{"v":0,"d":"0.00"}]
[null,null,"c7) Servicios de Traslado y Viáticos",{"$f":"Balanza!H1315","v":{"v":0,"d":"0.00"}},{"$f":"Balanza!H1587","v":{"v":0,"d":"0.00"}},{"v":0,"d":"0.00"},{"$f":"Balanza!E1859","v":{"v":0,"d":"0.00"}},{"$f":"Balanza!G2131","v":{"v":0,"d":"0.00"}},{"v":0,"d":"0.00"}]
[null,null,"c8) Servicios Oficiales",{"$f":"Balanza!H1317","v":{"v":0,"d":"0.00"}},{"$f":"Balanza!H1589","v":{"v":0,"d":"0.00"}},{"v":0,"d":"0.00"},{"$f":"Balanza!E1861","v":{"v":0,"d":"0.00"}},{"$f":"Balanza!G2133","v":{"v":0,"d":"0.00"}},{"v":0,"d":"0.00"}]
[null,null,"c9) Otros Servicios Generales",{"$f":"Balanza!H1319","v":{"v":0,"d":"0.00"}},{"$f":"Balanza!H1591","v":{"v":0,"d":"0.00"}},{"v":0,"d":"0.00"},{"$f":"Balanza!E1863","v":{"v":0,"d":"0.00"}},{"$f":"Balanza!G2135","v":{"v":0,"d":"0.00"}},{"v":0,"d":"0.00"}]
[null,"D","Transferencias, Asignaciones, Subsidios y Otras Ayudas",{"$f":"SUM(D37:D45)","v":{"v":0,"d":"0.00"}},{"$f":"SUM(E37:E45)","v":{"v":0,"d":"0.00"}},{"v":0,"d":"0.00"},{"$f":"SUM(G37:G45)","v":{"v":0,"d":"0.00"}},{"$f":"SUM(H37:H45)","v":{"v":0,"d":"0.00"}},{"v":0,"d":"0.00"}]
[null,null,"d1) Transferencias Internas y Asignaciones al Sector Público",{"$f":"Balanza!H1322","v":{"v":0,"d":"0.00"}},{"$f":"Balanza!H1594","v":{"v":0,"d":"0.00"}},{"v":0,"d":"0.00"},{"$f":"Balanza!E1866","v":{"v":0,"d":"0.00"}},{"$f":"Balanza!G2138","v":{"v":0,"d":"0.00"}},{"v":0,"d":"0.00"}]
[null,null,"d2) Transferencias al Resto del Sector Público",{"$f":"Balanza!H1324","v":{"v":0,"d":"0.00"}},{"$f":"Balanza!H1596","v":{"v":0,"d":"0.00"}},{"v":0,"d":"0.00"},{"$f":"Balanza!E1868","v":{"v":0,"d":"0.00"}},{"$f":"Balanza!G2140","v":{"v":0,"d":"0.00"}},{"v":0,"d":"0.00"}]
[null,null,"d3) Subsidios y Subvenciones",{"$f":"Balanza!H1326","v":{"v":0,"d":"0.00"}},{"$f":"Balanza!H1598","v":{"v":0,"d":"0.00"}},{"v":0,"d":"0.00"},{"$f":"Balanza!E1870","v":{"v":0,"d":"0.00"}},{"$f":"Balanza!G2142","v":{"v":0,"d":"0.00"}},{"v":0,"d":"0.00"}]
[null,null,"d4) Ayudas Sociales",{"$f":"Balanza!H1328","v":{"v":0,"d":"0.00"}},{"$f":"Balanza!H1600","v":{"v":0,"d":"0.00"}},{"v":0,"d":"0.00"},{"$f":"Balanza!E1872","v":{"v":0,"d":"0.00"}},{"$f":"Balanza!G2144","v":{"v":0,"d":"0.00"}},{"v":0,"d":"0.00"}]
[null,null,"d5) Pensiones y Jubilaciones",{"$f":"Balanza!H1330","v":{"v":0,"d":"0.00"}},{"$f":"Balanza!H1602","v":{"v":0,"d":"0.00"}},{"v":0,"d":"0.00"},{"$f":"Balanza!E1874","v":{"v":0,"d":"0.00"}},{"$f":"Balanza!G2146","v":{"v":0,"d":"0.00"}},{"v":0,"d":"0.00"}]
[null,null,"d6) Transferencias a Fideicomisos, Mandatos y Otros Análogos",{"$f":"Balanza!H1332","v":{"v":0,"d":"0.00"}},{"$f":"Balanza!H1604","v":{"v":0,"d":"0.00"}},{"v":0,"d":"0.00"},{"$f":"Balanza!E1876","v":{"v":0,"d":"0.00"}},{"$f":"Balanza!G2148","v":{"v":0,"d":"0.00"}},{"v":0,"d":"0.00"}]
[null,null,"d7) Transferencias a la Seguridad Social",{"$f":"Balanza!H1334","v":{"v":0,"d":"0.00"}},{"$f":"Balanza!H1606","v":{"v":0,"d":"0.00"}},{"v":0,"d":"0.00"},{"$f":"Balanza!E1878","v":{"v":0,"d":"0.00"}},{"$f":"Balanza!G2150","v":{"v":0,"d":"0.00"}},{"v":0,"d":"0.00"}]
[null,null,"d8) Donativos",{"$f":"Balanza!H1336","v":{"v":0,"d":"0.00"}},{"$f":"Balanza!H1608","v":{"v":0,"d":"0.00"}},{"v":0,"d":"0.00"},{"$f":"Balanza!E1880","v":{"v":0,"d":"0.00"}},{"$f":"Balanza!G2152","v":{"v":0,"d":"0.00"}},{"v":0,"d":"0.00"}]
[null,null,"d9) Transferencias al Exterior",{"$f":"Balanza!H1338","v":{"v":0,"d":"0.00"}},{"$f":"Balanza!H1610","v":{"v":0,"d":"0.00"}},{"v":0,"d":"0.00"},{"$f":"Balanza!E1882","v":{"v":0,"d":"0.00"}},{"$f":"Balanza!G2154","v":{"v":0,"d":"0.00"}},{"v":0,"d":"0.00"}]
[null,"E","Bienes Muebles, Inmuebles e Intangibles",{"$f":"SUM(D47:D55)","v":{"v":0,"d":"0.00"}},{"$f":"SUM(E47:E55)","v":{"v":0,"d":"0.00"}},{"v":0,"d":"0.00"},{"$f":"SUM(G47:G55)","v":{"v":0,"d":"0.00"}},{"$f":"SUM(H47:H55)","v":{"v":0,"d":"0.00"}},{"v":0,"d":"0.00"}]
[null,null,"e1) Mobiliario y Equipo de Administración",{"$f":"Balanza!H1341","v":{"v":0,"d":"0.00"}},{"$f":"Balanza!H1613","v":{"v":0,"d":"0.00"}},{"v":0,"d":"0.00"},{"$f":"Balanza!E1885","v":{"v":0,"d":"0.00"}},{"$f":"Balanza!G2157","v":{"v":0,"d":"0.00"}},{"v":0,"d":"0.00"}]
[null,null,"e2) Mobiliario y Equipo Educacional y Recreativo",{"$f":"Balanza!H1343","v":{"v":0,"d":"0.00"}},{"$f":"Balanza!H1615","v":{"v":0,"d":"0.00"}},{"v":0,"d":"0.00"},{"$f":"Balanza!E1887","v":{"v":0,"d":"0.00"}},{"$f":"Balanza!G2159","v":{"v":0,"d":"0.00"}},{"v":0,"d":"0.00"}]
[null,null,"e3) Equipo Instrumental Médico y de Laboratorio",{"$f":"Balanza!H1345","v":{"v":0,"d":"0.00"}},{"$f":"Balanza!H1617","v":{"v":0,"d":"0.00"}},{"v":0,"d":"0.00"},{"$f":"Balanza!E1889","v":{"v":0,"d":"0.00"}},{"$f":"Balanza!G2161","v":{"v":0,"d":"0.00"}},{"v":0,"d":"0.00"}]
[null,null,"e4) Vehículos y Equipo de Transporte",{"$f":"Balanza!H1347","v":{"v":0,"d":"0.00"}},{"$f":"Balanza!H1619","v":{"v":0,"d":"0.00"}},{"v":0,"d":"0.00"},{"$f":"Balanza!E1891","v":{"v":0,"d":"0.00"}},{"$f":"Balanza!G2163","v":{"v":0,"d":"0.00"}},{"v":0,"d":"0.00"}]
[null,null,"e5) Equipo de Defensa y Seguridad",{"$f":"Balanza!H1349","v":{"v":0,"d":"0.00"}},{"$f":"Balanza!H1621","v":{"v":0,"d":"0.00"}},{"v":0,"d":"0.00"},{"$f":"Balanza!E1893","v":{"v":0,"d":"0.00"}},{"$f":"Balanza!G2165","v":{"v":0,"d":"0.00"}},{"v":0,"d":"0.00"}]
[null,null,"e6) Maquinaria, Otros Equipos y Herramientas",{"$f":"Balanza!H1351","v":{"v":0,"d":"0.00"}},{"$f":"Balanza!H1623","v":{"v":0,"d":"0.00"}},{"v":0,"d":"0.00"},{"$f":"Balanza!E1895","v":{"v":0,"d":"0.00"}},{"$f":"Balanza!G2167","v":{"v":0,"d":"0.00"}},{"v":0,"d":"0.00"}]
[null,null,"e7) Activos Biológicos",{"$f":"Balanza!H1353","v":{"v":0,"d":"0.00"}},{"$f":"Balanza!H1625","v":{"v":0,"d":"0.00"}},{"v":0,"d":"0.00"},{"$f":"Balanza!E1897","v":{"v":0,"d":"0.00"}},{"$f":"Balanza!G2169","v":{"v":0,"d":"0.00"}},{"v":0,"d":"0.00"}]
[null,null,"e8) Bienes Inmuebles",{"$f":"Balanza!H1355","v":{"v":0,"d":"0.00"}},{"$f":"Balanza!H1627","v":{"v":0,"d":"0.00"}},{"v":0,"d":"0.00"},{"$f":"Balanza!E1899","v":{"v":0,"d":"0.00"}},{"$f":"Balanza!G2171","v":{"v":0,"d":"0.00"}},{"v":0,"d":"0.00"}]
[null,null,"e9) Activos Intangibles",{"$f":"Balanza!H1357","v":{"v":0,"d":"0.00"}},{"$f":"Balanza!H1629","v":{"v":0,"d":"0.00"}},{"v":0,"d":"0.00"},{"$f":"Balanza!E1901","v":{"v":0,"d":"0.00"}},{"$f":"Balanza!G2173","v":{"v":0,"d":"0.00"}},{"v":0,"d":"0.00"}]
[null,"F","Inversión Pública",{"$f":"SUM(D57:D59)","v":{"v":0,"d":"0.00"}},{"$f":"SUM(E57:E59)","v":{"v":0,"d":"0.00"}},{"v":0,"d":"0.00"},{"$f":"SUM(G57:G59)","v":{"v":0,"d":"0.00"}},{"$f":"SUM(H57:H59)","v":{"v":0,"d":"0.00"}},{"v":0,"d":"0.00"}]
[null,null,"f1) Obra Pública en Bienes de Dominio Público",{"$f":"Balanza!H1360","v":{"v":0,"d":"0.00"}},{"$f":"Balanza!H1632","v":{"v":0,"d":"0.00"}},{"v":0,"d":"0.00"},{"$f":"Balanza!E1904","v":{"v":0,"d":"0.00"}},{"$f":"Balanza!G2176","v":{"v":0,"d":"0.00"}},{"v":0,"d":"0.00"}]
[null,null,"f2) Obra Pública en Bienes Propios",{"$f":"Balanza!H1362","v":{"v":0,"d":"0.00"}},{"$f":"Balanza!H1634","v":{"v":0,"d":"0.00"}},{"v":0,"d":"0.00"},{"$f":"Balanza!E1906","v":{"v":0,"d":"0.00"}},{"$f":"Balanza!G2178","v":{"v":0,"d":"0.00"}},{"v":0,"d":"0.00"}]
[null,null,"f3) Proyectos Productivos y Acciones de Fomento",{"$f":"Balanza!H1364","v":{"v":0,"d":"0.00"}},{"$f":"Balanza!H1636","v":{"v":0,"d":"0.00"}},{"v":0,"d":"0.00"},{"$f":"Balanza!E1908","v":{"v":0,"d":"0.00"}},{"$f":"Balanza!G2180","v":{"v":0,"d":"0.00"}},{"v":0,"d":"0.00"}]
[null,"G","Inversiones Financieras y Otras Provisiones",{"$f":"SUM(D61:D67)","v":{"v":0,"d":"0.00"}},{"$f":"SUM(E61:E67)","v":{"v":0,"d":"0.00"}},{"v":0,"d":"0.00"},{"$f":"SUM(G61:G67)","v":{"v":0,"d":"0.00"}},{"$f":"SUM(H61:H67)","v":{"v":0,"d":"0.00"}},{"v":0,"d":"0.00"}]
[null,null,"g1) Inversiones Para el Fomento de Actividades Productivas",{"$f":"Balanza!H1367","v":{"v":0,"d":"0.00"}},{"$f":"Balanza!H1639","v":{"v":0,"d":"0.00"}},{"v":0,"d":"0.00"},{"$f":"Balanza!E1911","v":{"v":0,"d":"0.00"}},{"$f":"Balanza!G2183","v":{"v":0,"d":"0.00"}},{"v":0,"d":"0.00"}]
[null,null,"g2) Acciones y Participaciones de Capital",{"$f":"Balanza!H1369","v":{"v":0,"d":"0.00"}},{"$f":"Balanza!H1641","v":{"v":0,"d":"0.00"}},{"v":0,"d":"0.00"},{"$f":"Balanza!E1913","v":{"v":0,"d":"0.00"}},{"$f":"Balanza!G2185","v":{"v":0,"d":"0.00"}},{"v":0,"d":"0.00"}]
[null,null,"g3) Compra de Títulos y Valores",{"$f":"Balanza!H1371","v":{"v":0,"d":"0.00"}},{"$f":"Balanza!H1643","v":{"v":0,"d":"0.00"}},{"v":0,"d":"0.00"},{"$f":"Balanza!E1915","v":{"v":0,"d":"0.00"}},{"$f":"Balanza!G2187","v":{"v":0,"d":"0.00"}},{"v":0,"d":"0.00"}]
[null,null,"g4 ) Concesión de Préstamos",{"$f":"Balanza!H1373","v":{"v":0,"d":"0.00"}},{"$f":"Balanza!H1645","v":{"v":0,"d":"0.00"}},{"v":0,"d":"0.00"},{"$f":"Balanza!E1917","v":{"v":0,"d":"0.00"}},{"$f":"Balanza!G2189","v":{"v":0,"d":"0.00"}},{"v":0,"d":"0.00"}]
[null,null,"g5) Inversiones en Fideicomisos, Mandatos y Otros Análogos\n       Fideicomisos de Desastres Naturales (Informativo)",{"$f":"Balanza!H1375","v":{"v":0,"d":"0.00"}},{"$f":"Balanza!H1647","v":{"v":0,"d":"0.00"}},{"v":0,"d":"0.00"},{"$f":"Balanza!E1919","v":{"v":0,"d":"0.00"}},{"$f":"Balanza!G2191","v":{"v":0,"d":"0.00"}},{"v":0,"d":"0.00"}]
[null,null,"g6) Otras Inversiones Financieras",{"$f":"Balanza!H1377","v":{"v":0,"d":"0.00"}},{"$f":"Balanza!H1649","v":{"v":0,"d":"0.00"}},{"v":0,"d":"0.00"},{"$f":"Balanza!E1921","v":{"v":0,"d":"0.00"}},{"$f":"Balanza!G2193","v":{"v":0,"d":"0.00"}},{"v":0,"d":"0.00"}]
[null,null,"g7) Provisiones para Contingencias y Otras Erogaciones Especiales",{"$f":"Balanza!H1379","v":{"v":0,"d":"0.00"}},{"$f":"Balanza!H1651","v":{"v":0,"d":"0.00"}},{"v":0,"d":"0.00"},{"$f":"Balanza!E1923","v":{"v":0,"d":"0.00"}},{"$f":"Balanza!G2195","v":{"v":0,"d":"0.00"}},{"v":0,"d":"0.00"}]
[null,"H","Participaciones y Aportaciones",{"$f":"SUM(D69:D71)","v":{"v":0,"d":"0.00"}},{"$f":"SUM(E69:E71)","v":{"v":0,"d":"0.00"}},{"v":0,"d":"0.00"},{"$f":"SUM(G69:G71)","v":{"v":0,"d":"0.00"}},{"$f":"SUM(H69:H71)","v":{"v":0,"d":"0.00"}},{"v":0,"d":"0.00"}]
[null,null,"h1) Participaciones",{"$f":"Balanza!H1382","v":{"v":0,"d":"0.00"}},{"$f":"Balanza!H1654","v":{"v":0,"d":"0.00"}},{"v":0,"d":"0.00"},{"$f":"Balanza!E1926","v":{"v":0,"d":"0.00"}},{"$f":"Balanza!G2198","v":{"v":0,"d":"0.00"}},{"v":0,"d":"0.00"}]
[null,null,"h2) Aportaciones",{"$f":"Balanza!H1384","v":{"v":0,"d":"0.00"}},{"$f":"Balanza!H1656","v":{"v":0,"d":"0.00"}},{"v":0,"d":"0.00"},{"$f":"Balanza!E1928","v":{"v":0,"d":"0.00"}},{"$f":"Balanza!G2200","v":{"v":0,"d":"0.00"}},{"v":0,"d":"0.00"}]
[null,null,"h3) Convenios",{"$f":"Balanza!H1386","v":{"v":0,"d":"0.00"}},{"$f":"Balanza!H1658","v":{"v":0,"d":"0.00"}},{"v":0,"d":"0.00"},{"$f":"Balanza!E1930","v":{"v":0,"d":"0.00"}},{"$f":"Balanza!G2202","v":{"v":0,"d":"0.00"}},{"v":0,"d":"0.00"}]
[null,"I","Deuda Pública",{"$f":"SUM(D73:D79)","v":{"v":0,"d":"0.00"}},{"$f":"SUM(E73:E79)","v":{"v":0,"d":"0.00"}},{"v":0,"d":"0.00"},{"$f":"SUM(G73:G79)","v":{"v":0,"d":"0.00"}},{"$f":"SUM(H73:H79)","v":{"v":0,"d":"0.00"}},{"v":0,"d":"0.00"}]
[null,null,"i1) Amortización de la Deuda Pública",{"$f":"Balanza!H1389","v":{"v":0,"d":"0.00"}},{"$f":"Balanza!H1661","v":{"v":0,"d":"0.00"}},{"$f":"D73+E73","v":{"v":0,"d":"0.00"}},{"$f":"Balanza!E1933","v":{"v":0,"d":"0.00"}},{"$f":"Balanza!G2205","v":{"v":0,"d":"0.00"}},{"$f":"F73-G73","v":{"v":0,"d":"0.00"}}]
[null,null,"i2) Intereses de la Deuda Pública",{"$f":"Balanza!H1391","v":{"v":0,"d":"0.00"}},{"$f":"Balanza!H1663","v":{"v":0,"d":"0.00"}},{"v":0,"d":"0.00"},{"$f":"Balanza!E1935","v":{"v":0,"d":"0.00"}},{"$f":"Balanza!G2207","v":{"v":0,"d":"0.00"}},{"v":0,"d":"0.00"}]
[null,null,"i3) Comisiones de la Deuda Pública",{"$f":"Balanza!H1393","v":{"v":0,"d":"0.00"}},{"$f":"Balanza!H1665","v":{"v":0,"d":"0.00"}},{"v":0,"d":"0.00"},{"$f":"Balanza!E1937","v":{"v":0,"d":"0.00"}},{"$f":"Balanza!G2209","v":{"v":0,"d":"0.00"}},{"v":0,"d":"0.00"}]
[null,null,"i4) Gastos de la Deuda Pública",{"$f":"Balanza!H1395","v":{"v":0,"d":"0.00"}},{"$f":"Balanza!H1667","v":{"v":0,"d":"0.00"}},{"v":0,"d":"0.00"},{"$f":"Balanza!E1939","v":{"v":0,"d":"0.00"}},{"$f":"Balanza!G2211","v":{"v":0,"d":"0.00"}},{"v":0,"d":"0.00"}]
[null,null,"i5) Costo por Coberturas",{"$f":"Balanza!H1397","v":{"v":0,"d":"0.00"}},{"$f":"Balanza!H1669","v":{"v":0,"d":"0.00"}},{"v":0,"d":"0.00"},{"$f":"Balanza!E1941","v":{"v":0,"d":"0.00"}},{"$f":"Balanza!G2213","v":{"v":0,"d":"0.00"}},{"v":0,"d":"0.00"}]
[null,null,"i6) Apoyos Financieros",{"$f":"Balanza!H1399","v":{"v":0,"d":"0.00"}},{"$f":"Balanza!H1671","v":{"v":0,"d":"0.00"}},{"v":0,"d":"0.00"},{"$f":"Balanza!E1943","v":{"v":0,"d":"0.00"}},{"$f":"Balanza!G2215","v":{"v":0,"d":"0.00"}},{"v":0,"d":"0.00"}]
[null,null,"i7) Adeudos de Ejercicios Fiscales Anteriores (ADEFAS)",{"$f":"Balanza!H1401","v":{"v":0,"d":"0.00"}},{"$f":"Balanza!H1673","v":{"v":0,"d":"0.00"}},{"v":0,"d":"0.00"},{"$f":"Balanza!E1945","v":{"v":0,"d":"0.00"}},{"$f":"Balanza!G2217","v":{"v":0,"d":"0.00"}},{"v":0,"d":"0.00"}]
[]
["II","Gasto Etiquetado",null,{"$f":"D82+D90+D100+D110+D120+D130+D134+D142+D146","v":{"v":0,"d":"0.00"}},{"$f":"E82+E90+E100+E110+E120+E130+E134+E142+E146","v":{"v":0,"d":"0.00"}},{"v":0,"d":"0.00"},{"v":0,"d":"0.00"},{"v":0,"d":"0.00"},{"$f":"I82+I90+I100+I110+I120+I130+I134+I142+I146","v":{"v":0,"d":"0.00"}}]
[null,"A","Servicios Personales",{"$f":"SUM(D83:D89)","v":{"v":0,"d":"0.00"}},{"$f":"SUM(E83:E89)","v":{"v":0,"d":"0.00"}},{"$f":"D82+E82","v":{"v":0,"d":"0.00"}},{"$f":"SUM(G83:G89)","v":{"v":0,"d":"0.00"}},{"v":0,"d":"0.00"},{"$f":"F82-G82","v":{"v":0,"d":"0.00"}}]
[null,null,"a1) Remuneraciones al Personal de Carácter Permanente",{"$f":"Balanza!H1270","v":{"v":0,"d":"0.00"}},{"$f":"Balanza!H1542","v":{"v":0,"d":"0.00"}},{"v":0,"d":"0.00"},{"$f":"Balanza!E1814","v":{"v":0,"d":"0.00"}},{"$f":"Balanza!G2086","v":{"v":0,"d":"0.00"}},{"$f":"F83-G83","v":{"v":0,"d":"0.00"}}]
[null,null,"a2) Remuneraciones al Personal de Carácter Transitorio",{"$f":"Balanza!H1272","v":{"v":0,"d":"0.00"}},{"$f":"Balanza!H1544","v":{"v":0,"d":"0.00"}},{"v":0,"d":"0.00"},{"$f":"Balanza!E1816","v":{"v":0,"d":"0.00"}},{"$f":"Balanza!G2088","v":{"v":0,"d":"0.00"}},{"v":0,"d":"0.00"}]
[null,null,"a3) Remuneraciones Adicionales y Especiales",{"$f":"Balanza!H1274","v":{"v":0,"d":"0.00"}},{"$f":"Balanza!H1546","v":{"v":0,"d":"0.00"}},{"v":0,"d":"0.00"},{"$f":"Balanza!E1818","v":{"v":0,"d":"0.00"}},{"$f":"Balanza!G2090","v":{"v":0,"d":"0.00"}},{"v":0,"d":"0.00"}]
[null,null,"a4) Seguridad Social",{"$f":"Balanza!H1276","v":{"v":0,"d":"0.00"}},{"$f":"Balanza!H1548","v":{"v":0,"d":"0.00"}},{"v":0,"d":"0.00"},{"$f":"Balanza!E1820","v":{"v":0,"d":"0.00"}},{"$f":"Balanza!G2092","v":{"v":0,"d":"0.00"}},{"v":0,"d":"0.00"}]
[null,null,"a5) Otras Prestaciones Sociales y Económicas",{"$f":"Balanza!H1278","v":{"v":0,"d":"0.00"}},{"$f":"Balanza!H1550","v":{"v":0,"d":"0.00"}},{"v":0,"d":"0.00"},{"$f":"Balanza!E1822","v":{"v":0,"d":"0.00"}},{"$f":"Balanza!G2094","v":{"v":0,"d":"0.00"}},{"v":0,"d":"0.00"}]
[null,null,"a6) Previsiones",{"$f":"Balanza!H1280","v":{"v":0,"d":"0.00"}},{"$f":"Balanza!H1552","v":{"v":0,"d":"0.00"}},{"v":0,"d":"0.00"},{"$f":"Balanza!E1824","v":{"v":0,"d":"0.00"}},{"$f":"Balanza!G2096","v":{"v":0,"d":"0.00"}},{"v":0,"d":"0.00"}]
[null,null,"a7) Pago de Estímulos a Servidores Públicos",{"$f":"Balanza!H1282","v":{"v":0,"d":"0.00"}},{"$f":"Balanza!H1554","v":{"v":0,"d":"0.00"}},{"v":0,"d":"0.00"},{"$f":"Balanza!E1826","v":{"v":0,"d":"0.00"}},{"$f":"Balanza!G2098","v":{"v":0,"d":"0.00"}},{"v":0,"d":"0.00"}]
[null,"B","Materiales Y Suministros",{"$f":"SUM(D91:D99)","v":{"v":0,"d":"0.00"}},{"$f":"SUM(E91:E99)","v":{"v":0,"d":"0.00"}},{"v":0,"d":"0.00"},{"$f":"SUM(G91:G99)","v":{"v":0,"d":"0.00"}},{"$f":"SUM(H91:H99)","v":{"v":0,"d":"0.00"}},{"v":0,"d":"0.00"}]
[null,null,"b1) Materiales de Administración, Emisión de Documentos y Artículos Oficiales",{"$f":"Balanza!H1285","v":{"v":0,"d":"0.00"}},{"$f":"Balanza!H1557","v":{"v":0,"d":"0.00"}},{"v":0,"d":"0.00"},{"$f":"Balanza!E1829","v":{"v":0,"d":"0.00"}},{"$f":"Balanza!G2101","v":{"v":0,"d":"0.00"}},{"v":0,"d":"0.00"}]
[null,null,"b2) Alimentos y Utensilios",{"$f":"Balanza!H1287","v":{"v":0,"d":"0.00"}},{"$f":"Balanza!H1559","v":{"v":0,"d":"0.00"}},{"v":0,"d":"0.00"},{"$f":"Balanza!E1831","v":{"v":0,"d":"0.00"}},{"$f":"Balanza!G2103","v":{"v":0,"d":"0.00"}},{"v":0,"d":"0.00"}]
[null,null,"b3) Materias Primas y Materiales de Producción y Comercialización",{"$f":"Balanza!H1289","v":{"v":0,"d":"0.00"}},{"$f":"Balanza!H1561","v":{"v":0,"d":"0.00"}},{"v":0,"d":"0.00"},{"$f":"Balanza!E1833","v":{"v":0,"d":"0.00"}},{"$f":"Balanza!G2105","v":{"v":0,"d":"0.00"}},{"v":0,"d":"0.00"}]
[null,null,"b4) Materiales y Artículos de Construcción y de Reparación",{"$f":"Balanza!H1291","v":{"v":0,"d":"0.00"}},{"$f":"Balanza!H1563","v":{"v":0,"d":"0.00"}},{"v":0,"d":"0.00"},{"$f":"Balanza!E1835","v":{"v":0,"d":"0.00"}},{"$f":"Balanza!G2107","v":{"v":0,"d":"0.00"}},{"v":0,"d":"0.00"}]
[null,null,"b5) Productos Químicos, Farmacéuticos y de Laboratorio",{"$f":"Balanza!H1293","v":{"v":0,"d":"0.00"}},{"$f":"Balanza!H1565","v":{"v":0,"d":"0.00"}},{"v":0,"d":"0.00"},{"$f":"Balanza!E1837","v":{"v":0,"d":"0.00"}},{"$f":"Balanza!G2109","v":{"v":0,"d":"0.00"}},{"v":0,"d":"0.00"}]
[null,null,"b6) Combustibles, Lubricantes y Aditivos",{"$f":"Balanza!H1295","v":{"v":0,"d":"0.00"}},{"$f":"Balanza!H1567","v":{"v":0,"d":"0.00"}},{"v":0,"d":"0.00"},{"$f":"Balanza!E1839","v":{"v":0,"d":"0.00"}},{"$f":"Balanza!G2111","v":{"v":0,"d":"0.00"}},{"v":0,"d":"0.00"}]
[null,null,"b7) Vestuario, Blancos, Prendas de Protección y Artículos Deportivos",{"$f":"Balanza!H1297","v":{"v":0,"d":"0.00"}},{"$f":"Balanza!H1569","v":{"v":0,"d":"0.00"}},{"v":0,"d":"0.00"},{"$f":"Balanza!E1841","v":{"v":0,"d":"0.00"}},{"$f":"Balanza!G2113","v":{"v":0,"d":"0.00"}},{"v":0,"d":"0.00"}]
[null,null,"b8) Materiales y Suministros Para Seguridad",{"$f":"Balanza!H1299","v":{"v":0,"d":"0.00"}},{"$f":"Balanza!H1571","v":{"v":0,"d":"0.00"}},{"v":0,"d":"0.00"},{"$f":"Balanza!E1843","v":{"v":0,"d":"0.00"}},{"$f":"Balanza!G2115","v":{"v":0,"d":"0.00"}},{"v":0,"d":"0.00"}]
[null,null,"b9) Herramientas, Refacciones y Accesorios Menores",{"$f":"Balanza!H1301","v":{"v":0,"d":"0.00"}},{"$f":"Balanza!H1573","v":{"v":0,"d":"0.00"}},{"v":0,"d":"0.00"},{"$f":"Balanza!E1845","v":{"v":0,"d":"0.00"}},{"$f":"Balanza!G2117","v":{"v":0,"d":"0.00"}},{"v":0,"d":"0.00"}]
[null,"C","Servicios Generales",{"$f":"SUM(D101:D109)","v":{"v":0,"d":"0.00"}},{"$f":"SUM(E101:E109)","v":{"v":0,"d":"0.00"}},{"v":0,"d":"0.00"},{"$f":"SUM(G101:G109)","v":{"v":0,"d":"0.00"}},{"v":0,"d":"0.00"},{"v":0,"d":"0.00"}]
[null,null,"c1) Servicios Básicos",{"$f":"Balanza!H1304","v":{"v":0,"d":"0.00"}},{"$f":"Balanza!H1576","v":{"v":0,"d":"0.00"}},{"v":0,"d":"0.00"},{"$f":"Balanza!E1848","v":{"v":0,"d":"0.00"}},{"$f":"Balanza!G2120","v":{"v":0,"d":"0.00"}},{"v":0,"d":"0.00"}]
[null,null,"c2) Servicios de Arrendamiento",{"$f":"Balanza!H1306","v":{"v":0,"d":"0.00"}},{"$f":"Balanza!H1578","v":{"v":0,"d":"0.00"}},{"v":0,"d":"0.00"},{"$f":"Balanza!E1850","v":{"v":0,"d":"0.00"}},{"$f":"Balanza!G2122","v":{"v":0,"d":"0.00"}},{"v":0,"d":"0.00"}]
[null,null,"c3) Servicios Profesionales, Científicos, Técnicos y Otros Servicios",{"$f":"Balanza!H1308","v":{"v":0,"d":"0.00"}},{"$f":"Balanza!H1580","v":{"v":0,"d":"0.00"}},{"v":0,"d":"0.00"},{"$f":"Balanza!E1852","v":{"v":0,"d":"0.00"}},{"$f":"Balanza!G2124","v":{"v":0,"d":"0.00"}},{"v":0,"d":"0.00"}]
[null,null,"c4) Servicios Financieros, Bancarios y Comerciales",{"$f":"Balanza!H1310","v":{"v":0,"d":"0.00"}},{"$f":"Balanza!H1582","v":{"v":0,"d":"0.00"}},{"v":0,"d":"0.00"},{"$f":"Balanza!E1854","v":{"v":0,"d":"0.00"}},{"$f":"Balanza!G2126","v":{"v":0,"d":"0.00"}},{"v":0,"d":"0.00"}]
[null,null,"c5) Servicios de Instalación, Reparación, Mantenimiento y Conservación",{"$f":"Balanza!H1312","v":{"v":0,"d":"0.00"}},{"$f":"Balanza!H1584","v":{"v":0,"d":"0.00"}},{"v":0,"d":"0.00"},{"$f":"Balanza!E1856","v":{"v":0,"d":"0.00"}},{"$f":"Balanza!G2128","v":{"v":0,"d":"0.00"}},{"v":0,"d":"0.00"}]
[null,null,"c6) Servicios de Comunicación Social y Publicidad",{"$f":"Balanza!H1314","v":{"v":0,"d":"0.00"}},{"$f":"Balanza!H1586","v":{"v":0,"d":"0.00"}},{"v":0,"d":"0.00"},{"$f":"Balanza!E1858","v":{"v":0,"d":"0.00"}},{"$f":"Balanza!G2130","v":{"v":0,"d":"0.00"}},{"v":0,"d":"0.00"}]
[null,null,"c7) Servicios de Traslado y Viáticos",{"$f":"Balanza!H1316","v":{"v":0,"d":"0.00"}},{"$f":"Balanza!H1588","v":{"v":0,"d":"0.00"}},{"v":0,"d":"0.00"},{"$f":"Balanza!E1860","v":{"v":0,"d":"0.00"}},{"$f":"Balanza!G2132","v":{"v":0,"d":"0.00"}},{"v":0,"d":"0.00"}]
[null,null,"c8) Servicios Oficiales",{"$f":"Balanza!H1318","v":{"v":0,"d":"0.00"}},{"$f":"Balanza!H1590","v":{"v":0,"d":"0.00"}},{"v":0,"d":"0.00"},{"$f":"Balanza!E1862","v":{"v":0,"d":"0.00"}},{"$f":"Balanza!G2134","v":{"v":0,"d":"0.00"}},{"v":0,"d":"0.00"}]
[null,null,"c9) Otros Servicios Generales",{"$f":"Balanza!H1320","v":{"v":0,"d":"0.00"}},{"$f":"Balanza!H1592","v":{"v":0,"d":"0.00"}},{"v":0,"d":"0.00"},{"$f":"Balanza!E1864","v":{"v":0,"d":"0.00"}},{"$f":"Balanza!G2136","v":{"v":0,"d":"0.00"}},{"v":0,"d":"0.00"}]
[null,"D","Transferencias, Asignaciones, Subsidios Y Otras Ayudas",{"$f":"SUM(D111:D119)","v":{"v":0,"d":"0.00"}},{"$f":"SUM(E111:E119)","v":{"v":0,"d":"0.00"}},{"v":0,"d":"0.00"},{"$f":"SUM(G111:G119)","v":{"v":0,"d":"0.00"}},{"$f":"SUM(H111:H119)","v":{"v":0,"d":"0.00"}},{"v":0,"d":"0.00"}]
[null,null,"d1) Transferencias Internas y Asignaciones al Sector Público",{"$f":"Balanza!H1323","v":{"v":0,"d":"0.00"}},{"$f":"Balanza!H1595","v":{"v":0,"d":"0.00"}},{"v":0,"d":"0.00"},{"$f":"Balanza!E1867","v":{"v":0,"d":"0.00"}},{"$f":"Balanza!G2139","v":{"v":0,"d":"0.00"}},{"v":0,"d":"0.00"}]
[null,null,"d2) Transferencias al Resto del Sector Público",{"$f":"Balanza!H1325","v":{"v":0,"d":"0.00"}},{"$f":"Balanza!H1597","v":{"v":0,"d":"0.00"}},{"v":0,"d":"0.00"},{"$f":"Balanza!E1869","v":{"v":0,"d":"0.00"}},{"$f":"Balanza!G2141","v":{"v":0,"d":"0.00"}},{"v":0,"d":"0.00"}]
[null,null,"d3) Subsidios y Subvenciones",{"$f":"Balanza!H1327","v":{"v":0,"d":"0.00"}},{"$f":"Balanza!H1599","v":{"v":0,"d":"0.00"}},{"v":0,"d":"0.00"},{"$f":"Balanza!E1871","v":{"v":0,"d":"0.00"}},{"$f":"Balanza!G2143","v":{"v":0,"d":"0.00"}},{"v":0,"d":"0.00"}]
[null,null,"d4) Ayudas Sociales",{"$f":"Balanza!H1329","v":{"v":0,"d":"0.00"}},{"$f":"Balanza!H1601","v":{"v":0,"d":"0.00"}},{"v":0,"d":"0.00"},{"$f":"Balanza!E1873","v":{"v":0,"d":"0.00"}},{"$f":"Balanza!G2145","v":{"v":0,"d":"0.00"}},{"v":0,"d":"0.00"}]
[null,null,"d5) Pensiones y Jubilaciones",{"$f":"Balanza!H1331","v":{"v":0,"d":"0.00"}},{"$f":"Balanza!H1603","v":{"v":0,"d":"0.00"}},{"v":0,"d":"0.00"},{"$f":"Balanza!E1875","v":{"v":0,"d":"0.00"}},{"$f":"Balanza!G2147","v":{"v":0,"d":"0.00"}},{"v":0,"d":"0.00"}]
[null,null,"d6) Transferencias a Fideicomisos, Mandatos y Otros Análogos",{"$f":"Balanza!H1333","v":{"v":0,"d":"0.00"}},{"$f":"Balanza!H1605","v":{"v":0,"d":"0.00"}},{"v":0,"d":"0.00"},{"$f":"Balanza!E1877","v":{"v":0,"d":"0.00"}},{"$f":"Balanza!G2149","v":{"v":0,"d":"0.00"}},{"v":0,"d":"0.00"}]
[null,null,"d7) Transferencias a la Seguridad Social",{"$f":"Balanza!H1335","v":{"v":0,"d":"0.00"}},{"$f":"Balanza!H1607","v":{"v":0,"d":"0.00"}},{"v":0,"d":"0.00"},{"$f":"Balanza!E1879","v":{"v":0,"d":"0.00"}},{"$f":"Balanza!G2151","v":{"v":0,"d":"0.00"}},{"v":0,"d":"0.00"}]
[null,null,"d8) Donativos",{"$f":"Balanza!H1337","v":{"v":0,"d":"0.00"}},{"$f":"Balanza!H1609","v":{"v":0,"d":"0.00"}},{"v":0,"d":"0.00"},{"$f":"Balanza!E1881","v":{"v":0,"d":"0.00"}},{"$f":"Balanza!G2153","v":{"v":0,"d":"0.00"}},{"v":0,"d":"0.00"}]
[null,null,"d9) Transferencias al Exterior",{"$f":"Balanza!H1339","v":{"v":0,"d":"0.00"}},{"$f":"Balanza!H1611","v":{"v":0,"d":"0.00"}},{"v":0,"d":"0.00"},{"$f":"Balanza!E1883","v":{"v":0,"d":"0.00"}},{"$f":"Balanza!G2155","v":{"v":0,"d":"0.00"}},{"v":0,"d":"0.00"}]
[null,"E","Bienes Muebles, Inmuebles E Intangibles",{"$f":"SUM(D121:D129)","v":{"v":0,"d":"0.00"}},{"$f":"SUM(E121:E129)","v":{"v":0,"d":"0.00"}},{"v":0,"d":"0.00"},{"$f":"SUM(G121:G129)","v":{"v":0,"d":"0.00"}},{"v":0,"d":"0.00"},{"v":0,"d":"0.00"}]
[null,null,"e1) Mobiliario y Equipo de Administración",{"$f":"Balanza!H1342","v":{"v":0,"d":"0.00"}},{"$f":"Balanza!H1614","v":{"v":0,"d":"0.00"}},{"v":0,"d":"0.00"},{"$f":"Balanza!E1886","v":{"v":0,"d":"0.00"}},{"$f":"Balanza!G2158","v":{"v":0,"d":"0.00"}},{"v":0,"d":"0.00"}]
[null,null,"e2) Mobiliario y Equipo Educacional y Recreativo",{"$f":"Balanza!H1344","v":{"v":0,"d":"0.00"}},{"$f":"Balanza!H1616","v":{"v":0,"d":"0.00"}},{"v":0,"d":"0.00"},{"$f":"Balanza!E1888","v":{"v":0,"d":"0.00"}},{"$f":"Balanza!G2160","v":{"v":0,"d":"0.00"}},{"v":0,"d":"0.00"}]
[null,null,"e3) Equipo e Instrumental Médico y de Laboratorio",{"$f":"Balanza!H1346","v":{"v":0,"d":"0.00"}},{"$f":"Balanza!H1618","v":{"v":0,"d":"0.00"}},{"v":0,"d":"0.00"},{"$f":"Balanza!E1890","v":{"v":0,"d":"0.00"}},{"$f":"Balanza!G2162","v":{"v":0,"d":"0.00"}},{"v":0,"d":"0.00"}]
[null,null,"e4) Vehículos y Equipo de Transporte",{"$f":"Balanza!H1348","v":{"v":0,"d":"0.00"}},{"$f":"Balanza!H1620","v":{"v":0,"d":"0.00"}},{"v":0,"d":"0.00"},{"$f":"Balanza!E1892","v":{"v":0,"d":"0.00"}},{"$f":"Balanza!G2164","v":{"v":0,"d":"0.00"}},{"v":0,"d":"0.00"}]
[null,null,"e5) Equipo de Defensa y Seguridad",{"$f":"Balanza!H1350","v":{"v":0,"d":"0.00"}},{"$f":"Balanza!H1622","v":{"v":0,"d":"0.00"}},{"v":0,"d":"0.00"},{"$f":"Balanza!E1894","v":{"v":0,"d":"0.00"}},{"$f":"Balanza!G2166","v":{"v":0,"d":"0.00"}},{"v":0,"d":"0.00"}]
[null,null,"e6) Maquinaria, Otros Equipos y Herramientas",{"$f":"Balanza!H1352","v":{"v":0,"d":"0.00"}},{"$f":"Balanza!H1624","v":{"v":0,"d":"0.00"}},{"v":0,"d":"0.00"},{"$f":"Balanza!E1896","v":{"v":0,"d":"0.00"}},{"$f":"Balanza!G2168","v":{"v":0,"d":"0.00"}},{"v":0,"d":"0.00"}]
[null,null,"e7) Activos Biológicos",{"$f":"Balanza!H1354","v":{"v":0,"d":"0.00"}},{"$f":"Balanza!H1626","v":{"v":0,"d":"0.00"}},{"v":0,"d":"0.00"},{"$f":"Balanza!E1898","v":{"v":0,"d":"0.00"}},{"$f":"Balanza!G2170","v":{"v":0,"d":"0.00"}},{"v":0,"d":"0.00"}]
[null,null,"e8) Bienes Inmuebles",{"$f":"Balanza!H1356","v":{"v":0,"d":"0.00"}},{"$f":"Balanza!H1628","v":{"v":0,"d":"0.00"}},{"v":0,"d":"0.00"},{"$f":"Balanza!E1900","v":{"v":0,"d":"0.00"}},{"$f":"Balanza!G2172","v":{"v":0,"d":"0.00"}},{"v":0,"d":"0.00"}]
[null,null,"e9) Activos Intangibles",{"$f":"Balanza!H1358","v":{"v":0,"d":"0.00"}},{"$f":"Balanza!H1630","v":{"v":0,"d":"0.00"}},{"v":0,"d":"0.00"},{"$f":"Balanza!E1902","v":{"v":0,"d":"0.00"}},{"$f":"Balanza!G2174","v":{"v":0,"d":"0.00"}},{"v":0,"d":"0.00"}]
[null,"F","Inversión Pública",{"$f":"SUM(D131:D133)","v":{"v":0,"d":"0.00"}},{"$f":"SUM(E131:E133)","v":{"v":0,"d":"0.00"}},{"v":0,"d":"0.00"},{"$f":"SUM(G131:G133)","v":{"v":0,"d":"0.00"}},{"v":0,"d":"0.00"},{"v":0,"d":"0.00"}]
[null,null,"f1) Obra Pública en Bienes de Dominio Público",{"$f":"Balanza!H1361","v":{"v":0,"d":"0.00"}},{"$f":"Balanza!H1633","v":{"v":0,"d":"0.00"}},{"v":0,"d":"0.00"},{"$f":"Balanza!E1905","v":{"v":0,"d":"0.00"}},{"$f":"Balanza!G2177","v":{"v":0,"d":"0.00"}},{"v":0,"d":"0.00"}]
[null,null,"f2) Obra Pública en Bienes Propios",{"$f":"Balanza!H1363","v":{"v":0,"d":"0.00"}},{"$f":"Balanza!H1635","v":{"v":0,"d":"0.00"}},{"v":0,"d":"0.00"},{"$f":"Balanza!E1907","v":{"v":0,"d":"0.00"}},{"$f":"Balanza!G2179","v":{"v":0,"d":"0.00"}},{"v":0,"d":"0.00"}]
[null,null,"f3) Proyectos Productivos y Acciones de Fomento",{"$f":"Balanza!H1365","v":{"v":0,"d":"0.00"}},{"$f":"Balanza!H1637","v":{"v":0,"d":"0.00"}},{"v":0,"d":"0.00"},{"$f":"Balanza!E1909","v":{"v":0,"d":"0.00"}},{"$f":"Balanza!G2181","v":{"v":0,"d":"0.00"}},{"v":0,"d":"0.00"}]
[null,"G","Inversiones Financieras Y Otras Provisiones",{"$f":"SUM(D135:D141)","v":{"v":0,"d":"0.00"}},{"$f":"SUM(E135:E141)","v":{"v":0,"d":"0.00"}},{"v":0,"d":"0.00"},{"$f":"SUM(G135:G141)","v":{"v":0,"d":"0.00"}},{"$f":"SUM(H135:H141)","v":{"v":0,"d":"0.00"}},{"v":0,"d":"0.00"}]
[null,null,"g1) Inversiones Para el Fomento de Actividades Productivas",{"$f":"Balanza!H1368","v":{"v":0,"d":"0.00"}},{"$f":"Balanza!H1640","v":{"v":0,"d":"0.00"}},{"v":0,"d":"0.00"},{"$f":"Balanza!E1912","v":{"v":0,"d":"0.00"}},{"$f":"Balanza!G2184","v":{"v":0,"d":"0.00"}},{"v":0,"d":"0.00"}]
[null,null,"g2) Acciones y Participaciones de Capital",{"$f":"Balanza!H1370","v":{"v":0,"d":"0.00"}},{"$f":"Balanza!H1642","v":{"v":0,"d":"0.00"}},{"v":0,"d":"0.00"},{"$f":"Balanza!E1914","v":{"v":0,"d":"0.00"}},{"$f":"Balanza!G2186","v":{"v":0,"d":"0.00"}},{"v":0,"d":"0.00"}]
[null,null,"g3) Compra de Títulos y Valores",{"$f":"Balanza!H1372","v":{"v":0,"d":"0.00"}},{"$f":"Balanza!H1644","v":{"v":0,"d":"0.00"}},{"v":0,"d":"0.00"},{"$f":"Balanza!E1916","v":{"v":0,"d":"0.00"}},{"$f":"Balanza!G2188","v":{"v":0,"d":"0.00"}},{"v":0,"d":"0.00"}]
[null,null,"g4 ) Concesión de Préstamos",{"$f":"Balanza!H1374","v":{"v":0,"d":"0.00"}},{"$f":"Balanza!H1646","v":{"v":0,"d":"0.00"}},{"v":0,"d":"0.00"},{"$f":"Balanza!E1918","v":{"v":0,"d":"0.00"}},{"$f":"Balanza!G2190","v":{"v":0,"d":"0.00"}},{"v":0,"d":"0.00"}]
[null,null,"g5) Inversiones en Fideicomisos, Mandatos y Otros Análogos\n       Fideicomisos de Desastres Naturales (Informativo)",{"$f":"Balanza!H1376","v":{"v":0,"d":"0.00"}},{"$f":"Balanza!H1647","v":{"v":0,"d":"0.00"}},{"v":0,"d":"0.00"},{"$f":"Balanza!E1920","v":{"v":0,"d":"0.00"}},{"$f":"Balanza!G2192","v":{"v":0,"d":"0.00"}},{"v":0,"d":"0.00"}]
[null,null,"g6) Otras Inversiones Financieras",{"$f":"Balanza!H1378","v":{"v":0,"d":"0.00"}},{"$f":"Balanza!H1650","v":{"v":0,"d":"0.00"}},{"v":0,"d":"0.00"},{"$f":"Balanza!E1922","v":{"v":0,"d":"0.00"}},{"$f":"Balanza!G2194","v":{"v":0,"d":"0.00"}},{"v":0,"d":"0.00"}]
[null,null,"g7) Provisiones para Contingencias y Otras Erogaciones Especiales",{"$f":"Balanza!H1380","v":{"v":0,"d":"0.00"}},{"$f":"Balanza!H1652","v":{"v":0,"d":"0.00"}},{"v":0,"d":"0.00"},{"$f":"Balanza!E1924","v":{"v":0,"d":"0.00"}},{"$f":"Balanza!G2196","v":{"v":0,"d":"0.00"}},{"v":0,"d":"0.00"}]
[null,"H","Participaciones Y Aportaciones",{"$f":"SUM(D143:D145)","v":{"v":0,"d":"0.00"}},{"$f":"SUM(E143:E145)","v":{"v":0,"d":"0.00"}},{"v":0,"d":"0.00"},{"$f":"SUM(G143:G145)","v":{"v":0,"d":"0.00"}},{"v":0,"d":"0.00"},{"v":0,"d":"0.00"}]
[null,null,"h1) Participaciones",{"$f":"Balanza!H1383","v":{"v":0,"d":"0.00"}},{"$f":"Balanza!H1655","v":{"v":0,"d":"0.00"}},{"v":0,"d":"0.00"},{"$f":"Balanza!E1927","v":{"v":0,"d":"0.00"}},{"$f":"Balanza!G2199","v":{"v":0,"d":"0.00"}},{"v":0,"d":"0.00"}]
[null,null,"h2) Aportaciones",{"$f":"Balanza!H1385","v":{"v":0,"d":"0.00"}},{"$f":"Balanza!H1657","v":{"v":0,"d":"0.00"}},{"v":0,"d":"0.00"},{"$f":"Balanza!E1929","v":{"v":0,"d":"0.00"}},{"$f":"Balanza!G2201","v":{"v":0,"d":"0.00"}},{"v":0,"d":"0.00"}]
[null,null,"h3) Convenios",{"$f":"Balanza!H1387","v":{"v":0,"d":"0.00"}},{"$f":"Balanza!H1659","v":{"v":0,"d":"0.00"}},{"v":0,"d":"0.00"},{"$f":"Balanza!E1931","v":{"v":0,"d":"0.00"}},{"$f":"Balanza!G2203","v":{"v":0,"d":"0.00"}},{"v":0,"d":"0.00"}]
[null,"I","Deuda Pública",{"$f":"SUM(D147:D153)","v":{"v":0,"d":"0.00"}},{"$f":"SUM(E147:E153)","v":{"v":0,"d":"0.00"}},{"$f":"D146+E146","v":{"v":0,"d":"0.00"}},{"$f":"SUM(G147:G153)","v":{"v":0,"d":"0.00"}},{"v":0,"d":"0.00"},{"v":0,"d":"0.00"}]
[null,null,"i1) Amortización de la Deuda Pública",{"$f":"Balanza!H1390","v":{"v":0,"d":"0.00"}},{"$f":"Balanza!H1662","v":{"v":0,"d":"0.00"}},{"v":0,"d":"0.00"},{"$f":"Balanza!E1934","v":{"v":0,"d":"0.00"}},{"$f":"Balanza!G2206","v":{"v":0,"d":"0.00"}},{"$f":"F147-G147","v":{"v":0,"d":"0.00"}}]
[null,null,"i2) Intereses de la Deuda Pública",{"$f":"Balanza!H1392","v":{"v":0,"d":"0.00"}},{"$f":"Balanza!H1664","v":{"v":0,"d":"0.00"}},{"v":0,"d":"0.00"},{"$f":"Balanza!E1936","v":{"v":0,"d":"0.00"}},{"$f":"Balanza!G2208","v":{"v":0,"d":"0.00"}},{"v":0,"d":"0.00"}]
[null,null,"i3) Comisiones de la Deuda Pública",{"$f":"Balanza!H1394","v":{"v":0,"d":"0.00"}},{"$f":"Balanza!H1666","v":{"v":0,"d":"0.00"}},{"v":0,"d":"0.00"},{"$f":"Balanza!E1938","v":{"v":0,"d":"0.00"}},{"$f":"Balanza!G2210","v":{"v":0,"d":"0.00"}},{"v":0,"d":"0.00"}]
[null,null,"i4) Gastos de la Deuda Pública",{"$f":"Balanza!H1396","v":{"v":0,"d":"0.00"}},{"$f":"Balanza!H1668","v":{"v":0,"d":"0.00"}},{"v":0,"d":"0.00"},{"$f":"Balanza!E1940","v":{"v":0,"d":"0.00"}},{"$f":"Balanza!G2212","v":{"v":0,"d":"0.00"}},{"v":0,"d":"0.00"}]
[null,null,"i5) Costo por Coberturas",{"$f":"Balanza!H1398","v":{"v":0,"d":"0.00"}},{"$f":"Balanza!H1670","v":{"v":0,"d":"0.00"}},{"v":0,"d":"0.00"},{"$f":"Balanza!E1942","v":{"v":0,"d":"0.00"}},{"$f":"Balanza!G2214","v":{"v":0,"d":"0.00"}},{"v":0,"d":"0.00"}]
[null,null,"i6) Apoyos Financieros",{"$f":"Balanza!H1400","v":{"v":0,"d":"0.00"}},{"$f":"Balanza!H1672","v":{"v":0,"d":"0.00"}},{"v":0,"d":"0.00"},{"$f":"Balanza!E1944","v":{"v":0,"d":"0.00"}},{"$f":"Balanza!G2216","v":{"v":0,"d":"0.00"}},{"v":0,"d":"0.00"}]
[null,null,"i7) Adeudos de Ejercicios Fiscales Anteriores (ADEFAS)",{"$f":"Balanza!H1402","v":{"v":0,"d":"0.00"}},{"$f":"Balanza!H1674","v":{"v":0,"d":"0.00"}},{"v":0,"d":"0.00"},{"$f":"Balanza!E1946","v":{"v":0,"d":"0.00"}},{"$f":"Balanza!G2218","v":{"v":0,"d":"0.00"}},{"v":0,"d":"0.00"}]
[]
[null,"III. Total de Egresos",null,{"$f":"D7+D81","v":{"v":0,"d":"0.00"}},{"$f":"E7+E81","v":{"v":0,"d":"0.00"}},{"v":0,"d":"0.00"},{"v":0,"d":"0.00"},{"v":0,"d":"0.00"},{"$f":"F155-G155","v":{"v":0,"d":"0.00"}}]
[]
[null,"Bajo protesta de decir verdad declaramos que los Estados Financieros y sus notas, son razonablemente correctos y son responsabilidad del emisor."]
[]
[]
[]
[null,null,{"$f":"Validacion!A7","v":"LIC. JOSE HERIBERTO GARCIA MURILLO"},null,null,{"$f":"Validacion!A9","v":"LAE BRUNO GERMAN ENCISO GUILLEN"}]
[]
[null,null,"Presidente Municipal o titular del ente público",null,null,"Encargado de la Hacienda Municipal o\nResponsable de las finanzas del ente público"]

{"sheet":"F12","index":30,"n_rows":37,"n_cols":8,"rows_kept":37,"hidden":true,"merged":[[0,0,0,7],[1,0,1,7],[2,0,2,7],[3,0,3,7],[4,0,5,1],[4,2,4,7],[13,0,13,1],[18,0,19,1],[18,2,18,7],[34,1,35,1],[34,3,35,5],[36,1,37,1],[36,3,37,5]]}
[{"$f":"Validacion!A2","v":"Ixtlahuacán de los Membrillos"}]
["Flujo Contable de Ingresos y Egresos"]
[{"$f":"'F6'!A3","v":"DEL 1° DE ENERO AL 31 DE ENERO DE 2026"}]
["(Cifras en pesos)"]
["TÍTULO",null,"INGRESO"]
[null,null,"ESTIMADO","AMPLIACIÓN Y REDUCCIÓN","MODIFICADO","DEVENGADO","AVANCE FINANCIERO","PENDIENTE DE INGRESAR"]
["Impuestos",null,{"$f":"Balanza!G797","v":{"v":0,"d":"0.00"}},{"$f":"Balanza!G985","v":{"v":0,"d":"0.00"}},{"$f":"C7+D7","v":{"v":0,"d":"0.00"}},{"$f":"Balanza!F1079","v":{"v":0,"d":"0.00"}},{"$f":"IF(E7=0,0,F7/E7)","v":{"v":0,"d":"0.00%"}},{"$f":"1-G7","v":{"v":1,"d":"100.00%"}}]
["Cuotas y aportaciones de seguridad social",null,{"$f":"Balanza!G807","v":{"v":0,"d":"0.00"}},{"$f":"Balanza!G995","v":{"v":0,"d":"0.00"}},{"$f":"C8+D8","v":{"v":0,"d":"0.00"}},{"$f":"Balanza!F1089","v":{"v":0,"d":"0.00"}},{"$f":"IF(E8=0,0,F8/E8)","v":{"v":0,"d":"0.00%"}},{"$f":"1-G8","v":{"v":1,"d":"100.00%"}}]
["Contribuciones de mejora",null,{"$f":"Balanza!G813","v":{"v":0,"d":"0.00"}},{"$f":"Balanza!G1001","v":{"v":0,"d":"0.00"}},{"v":0,"d":"0.00"},{"$f":"Balanza!F1095","v":{"v":0,"d":"0.00"}},{"v":0,"d":"0.00%"},{"v":1,"d":"100.00%"}]
["Derechos",null,{"$f":"Balanza!G816","v":{"v":0,"d":"0.00"}},{"$f":"Balanza!G1004","v":{"v":0,"d":"0.00"}},{"v":0,"d":"0.00"},{"$f":"Balanza!F1098","v":{"v":0,"d":"0.00"}},{"v":0,"d":"0.00%"},{"v":1,"d":"100.00%"}]
["Productos",null,{"$f":"Balanza!G823","v":{"v":0,"d":"0.00"}},{"$f":"Balanza!G1011","v":{"v":0,"d":"0.00"}},{"v":0,"d":"0.00"},{"$f":"Balanza!F1105","v":{"v":0,"d":"0.00"}},{"v":0,"d":"0.00%"},{"v":1,"d":"100.00%"}]
["Aprovechamientos",null,{"$f":"Balanza!G827","v":{"v":0,"d":"0.00"}},{"$f":"Balanza!G1015","v":{"v":0,"d":"0.00"}},{"v":0,"d":"0.00"},{"$f":"Balanza!F1109","v":{"v":0,"d":"0.00"}},{"v":0,"d":"0.00%"},{"v":1,"d":"100.00%"}]
["Ingresos por venta de bienes, prestación de servicios y otros ingresos",null,{"$f":"Balanza!G832","v":{"v":0,"d":"0.00"}},{"$f":"Balanza!G1020","v":{"v":0,"d":"0.00"}},{"v":0,"d":"0.00"},{"$f":"Balanza!F1114","v":{"v":0,"d":"0.00"}},{"v":0,"d":"0.00%"},{"v":1,"d":"100.00%"}]
["Participaciones, aportaciones, convenios, incentivos derivados de la colaboración fiscal y fondos distintos de aportaciones",null,{"$f":"Balanza!G842","v":{"v":0,"d":"0.00"}},{"$f":"Balanza!G1030","v":{"v":0,"d":"0.00"}},{"v":0,"d":"0.00"},{"$f":"Balanza!F1124","v":{"v":0,"d":"0.00"}},{"v":0,"d":"0.00%"},{"v":1,"d":"100.00%"}]
["Transferencias, asignaciones, subsidios y subvenciones, y pensiones y jubilaciones",null,{"$f":"Balanza!G874","v":{"v":0,"d":"0.00"}},{"$f":"Balanza!G1062","v":{"v":0,"d":"0.00"}},{"v":0,"d":"0.00"},{"$f":"Balanza!F1156","v":{"v":0,"d":"0.00"}},{"v":0,"d":"0.00%"},{"v":1,"d":"100.00%"}]
["Ingresos derivados de financiamiento",null,{"$f":"Balanza!G884","v":{"v":0,"d":"0.00"}},{"$f":"Balanza!G1072","v":{"v":0,"d":"0.00"}},{"v":0,"d":"0.00"},{"$f":"Balanza!F1166","v":{"v":0,"d":"0.00"}},{"v":0,"d":"0.00%"},{"v":1,"d":"100.00%"}]
[null,"TOTAL",{"$f":"SUM(C7:C16)","v":{"v":0,"d":"0.00"}},{"$f":"SUM(D7:D16)","v":{"v":0,"d":"0.00"}},{"$f":"SUM(E7:E16)","v":{"v":0,"d":"0.00"}},{"$f":"SUM(F7:F16)","v":{"v":0,"d":"0.00"}},{"$f":"IF(E17=0,0,F17/E17)","v":{"v":0,"d":"0.00%"}},{"v":1,"d":"100.00%"}]
[]
["CAPÍTULO",null,"EGRESOS"]
[null,null,"APROBADO","AMPLIACIONES/ (REDUCCIONES)","MODIFICADO","DEVENGADO","AVANCE FINANCIERO","PENDIENTE POR EJERCER"]
["Servicios personales",null,{"$f":"Balanza!H1268","v":{"v":0,"d":"0.00"}},{"$f":"Balanza!H1540","v":{"v":0,"d":"0.00"}},{"$f":"C21+D21","v":{"v":0,"d":"0.00"}},{"$f":"Balanza!E1812","v":{"v":0,"d":"0.00"}},{"$f":"IF(E21=0,0,F21/E21)","v":{"v":0,"d":"0.00%"}},{"$f":"1-G21","v":{"v":1,"d":"100.00%"}}]
["Materiales y suministros",null,{"$f":"Balanza!H1283","v":{"v":0,"d":"0.00"}},{"$f":"Balanza!H1555","v":{"v":0,"d":"0.00"}},{"$f":"C22+D22","v":{"v":0,"d":"0.00"}},{"$f":"Balanza!E1827","v":{"v":0,"d":"0.00"}},{"$f":"IF(E22=0,0,F22/E22)","v":{"v":0,"d":"0.00%"}},{"$f":"1-G22","v":{"v":1,"d":"100.00%"}}]
["Servicios generales",null,{"$f":"Balanza!H1302","v":{"v":0,"d":"0.00"}},{"$f":"Balanza!H1574","v":{"v":0,"d":"0.00"}},{"v":0,"d":"0.00"},{"$f":"Balanza!E1846","v":{"v":0,"d":"0.00"}},{"v":0,"d":"0.00%"},{"v":1,"d":"100.00%"}]
["Transferencias, asignaciones, subsidios y otras ayudas",null,{"$f":"Balanza!H1321","v":{"v":0,"d":"0.00"}},{"$f":"Balanza!H1593","v":{"v":0,"d":"0.00"}},{"v":0,"d":"0.00"},{"$f":"Balanza!E1865","v":{"v":0,"d":"0.00"}},{"v":0,"d":"0.00%"},{"v":1,"d":"100.00%"}]
["Bienes muebles, inmuebles e intangibles",null,{"$f":"Balanza!H1340","v":{"v":0,"d":"0.00"}},{"$f":"Balanza!H1612","v":{"v":0,"d":"0.00"}},{"v":0,"d":"0.00"},{"$f":"Balanza!E1884","v":{"v":0,"d":"0.00"}},{"v":0,"d":"0.00%"},{"v":1,"d":"100.00%"}]
["Inversión pública",null,{"$f":"Balanza!H1359","v":{"v":0,"d":"0.00"}},{"$f":"Balanza!H1631","v":{"v":0,"d":"0.00"}},{"v":0,"d":"0.00"},{"$f":"Balanza!E1903","v":{"v":0,"d":"0.00"}},{"v":0,"d":"0.00%"},{"v":1,"d":"100.00%"}]
["Inversiones financieras y otras provisiones",null,{"$f":"Balanza!H1366","v":{"v":0,"d":"0.00"}},{"$f":"Balanza!H1638","v":{"v":0,"d":"0.00"}},{"v":0,"d":"0.00"},{"$f":"Balanza!E1910","v":{"v":0,"d":"0.00"}},{"v":0,"d":"0.00%"},{"v":1,"d":"100.00%"}]
["Participaciones y aportaciones",null,{"$f":"Balanza!H1381","v":{"v":0,"d":"0.00"}},{"$f":"Balanza!H1653","v":{"v":0,"d":"0.00"}},{"v":0,"d":"0.00"},{"$f":"Balanza!E1925","v":{"v":0,"d":"0.00"}},{"v":0,"d":"0.00%"},{"v":1,"d":"100.00%"}]
["Deuda pública",null,{"$f":"Balanza!H1388","v":{"v":0,"d":"0.00"}},{"$f":"Balanza!H1660","v":{"v":0,"d":"0.00"}},{"v":0,"d":"0.00"},{"$f":"Balanza!E1932","v":{"v":0,"d":"0.00"}},{"v":0,"d":"0.00%"},{"v":1,"d":"100.00%"}]
[null,"TOTAL",{"$f":"SUM(C21:C29)","v":{"v":0,"d":"0.00"}},{"$f":"SUM(D21:D29)","v":{"v":0,"d":"0.00"}},{"$f":"SUM(E21:E29)","v":{"v":0,"d":"0.00"}},{"$f":"SUM(F21:F29)","v":{"v":0,"d":"0.00"}},{"$f":"IF(E30=0,0,F30/E30)","v":{"v":0,"d":"0.00%"}},{"v":1,"d":"100.00%"}]
[]
["Bajo protesta de decir verdad declaramos que los Estados Financieros y sus notas, son razonablemente correctos y son responsabilidad del emisor."]
[]
[]
[null,{"$f":"Validacion!A7","v":"LIC. JOSE HERIBERTO GARCIA MURILLO"},null,{"$f":"Validacion!A9","v":"LAE BRUNO GERMAN ENCISO GUILLEN"}]
[]
[null,"Presidente Municipal o titular del ente público",null,"Encargado de la Hacienda Municipal\no Responsable de las finanzas del ente público"]

{"sheet":"F16","index":31,"n_rows":70,"n_cols":6,"rows_kept":70,"hidden":true,"merged":[[0,0,0,5],[1,0,1,5],[2,0,2,5],[3,0,3,3],[4,0,4,3],[5,0,5,3],[7,2,7,3],[8,2,8,3],[9,2,9,3],[10,2,10,3],[11,2,11,3],[12,2,12,3],[13,2,13,3],[15,2,15,3],[16,2,16,3],[17,2,17,3],[18,2,18,3],[19,2,19,3],[20,2,20,3],[21,2,21,3],[22,2,22,3],[23,2,23,3],[24,0,24,3],[26,2,26,3],[27,2,27,3],[28,2,28,3],[29,2,29,3],[30,2,30,3],[31,2,31,3],[32,2,32,3],[33,2,33,3],[35,2,35,3],[36,2,36,3],[37,2,37,3],[38,2,38,3],[39,2,39,3],[40,2,40,3],[41,0,41,3],[43,2,43,3],[44,2,44,3],[45,2,45,3],[47,2,47,3],[48,2,48,3],[49,2,49,3],[50,2,50,3],[51,2,51,3],[53,2,53,3],[54,2,54,3],[56,0,58,5],[61,3,62,3],[63,3,64,3],[63,4,63,5],[67,3,68,3],[69,3,70,3]]}
[{"$f":"\"Nombre del Ente Público: \"&Validacion!A2","v":"Nombre del Ente Público: Ixtlahuacán de los Membrillos"}]
["Estado de Cambios en la Situación Financiera"]
[{"$f":"'F6'!A3","v":"DEL 1° DE ENERO AL 31 DE ENERO DE 2026"}]
["                                                               (Cifras en Pesos)",{"$nulls":3},{"$f":"E6+E25+E42","v":{"v":36649004.940000005,"d":"36,649,004.94"}},{"$f":"F6+F25+F42","v":{"v":36649004.939999945,"d":"36,649,004.94"}}]
["Concepto",{"$nulls":3},"Origen","Aplicación"]
["ACTIVO",{"$nulls":3},{"$f":"ROUND(E7+E15,2)","v":{"v":0,"d":"0.00"}},{"$f":"ROUND(F7+F15,2)","v":{"v":9891737.87,"d":"9,891,737.87"}}]
[null,"Activo Circulante",null,null,{"$f":"SUM(E8:E14)","v":{"v":0,"d":"0.00"}},{"$f":"SUM(F8:F14)","v":{"v":9523872.02,"d":"9,523,872.02"}}]
[null,null,"Efectivo y equivalentes",null,{"$f":"IF('F1'!AG8>'F1'!AF8,'F1'!AG8-'F1'!AF8,0)","v":{"v":0,"d":"0.00"}},{"$f":"IF('F1'!AF8>'F1'!AG8,'F1'!AF8-'F1'!AG8,0)","v":{"v":8701688.84,"d":"8,701,688.84"}}]
[null,null,"Derechos a Recibir Efectivo o Equivalentes",null,{"$f":"IF('F1'!AG16>'F1'!AF16,'F1'!AG16-'F1'!AF16,0)","v":{"v":0,"d":"0.00"}},{"$f":"IF('F1'!AF16>'F1'!AG16,'F1'!AF16-'F1'!AG16,0)","v":{"v":443082.91999999713,"d":"443,082.92"}}]
[null,null,"Derechos a Recibir Bienes o Servicios",null,{"$f":"IF('F1'!AG24>'F1'!AF24,'F1'!AG24-'F1'!AF24,0)","v":{"v":0,"d":"0.00"}},{"$f":"IF('F1'!AF24>'F1'!AG24,'F1'!AF24-'F1'!AG24,0)","v":{"v":379100.2600000007,"d":"379,100.26"}}]
[null,null,"Inventarios ",null,{"$f":"IF('F1'!AG30>'F1'!AF30,'F1'!AG30-'F1'!AF30,0)","v":{"v":0,"d":"0.00"}},{"$f":"IF('F1'!AF30>'F1'!AG30,'F1'!AF30-'F1'!AG30,0)","v":{"v":0,"d":"0.00"}}]
[null,null,"Almacenes",null,{"$f":"IF('F1'!AG36>'F1'!AF36,'F1'!AG36-'F1'!AF36,0)","v":{"v":0,"d":"0.00"}},{"$f":"IF('F1'!AF36>'F1'!AG36,'F1'!AF36-'F1'!AG36,0)","v":{"v":0,"d":"0.00"}}]
[null,null,"Estimación por Pérdida o Deterioro de Activos Circulantes",null,{"$f":"IF('F1'!AG38>'F1'!AF38,'F1'!AG38-'F1'!AF38,0)","v":{"v":0,"d":"0.00"}},{"$f":"IF('F1'!AF38>'F1'!AG38,'F1'!AF38-'F1'!AG38,0)","v":{"v":0,"d":"0.00"}}]
[null,null,"Otros Activos Circulantes",null,{"$f":"IF('F1'!AG41>'F1'!AF41,'F1'!AG41-'F1'!AF41,0)","v":{"v":0,"d":"0.00"}},{"$f":"IF('F1'!AF41>'F1'!AG41,'F1'!AF41-'F1'!AG41,0)","v":{"v":0,"d":"0.00"}}]
[null,"Activo No Circulante",null,null,{"$f":"SUM(E16:E24)","v":{"v":0,"d":"0.00"}},{"$f":"SUM(F16:F24)","v":{"v":367865.85,"d":"367,865.85"}}]
[null,null,"Inversiones Financieras a Largo Plazo",null,{"$f":"IF('F1'!AG48>'F1'!AF48,'F1'!AG48-'F1'!AF48,0)","v":{"v":0,"d":"0.00"}},{"$f":"IF('F1'!AF48>'F1'!AG48,'F1'!AF48-'F1'!AG48,0)","v":{"v":40562.35,"d":"40,562.35"}}]
[null,null,"Derechos a Recibir Efectivo o Equivalentes a Largo Plazo",null,{"$f":"IF('F1'!AG53>'F1'!AF53,'F1'!AG53-'F1'!AF53,0)","v":{"v":0,"d":"0.00"}},{"$f":"IF('F1'!AF53>'F1'!AG53,'F1'!AF53-'F1'!AG53,0)","v":{"v":0,"d":"0.00"}}]
[null,null,"Bienes Inmuebles, Infraestructura y Construcciones en Proceso",null,{"$f":"IF('F1'!AG59>'F1'!AF59,'F1'!AG59-'F1'!AF59,0)","v":{"v":0,"d":"0.00"}},{"$f":"IF('F1'!AF59>'F1'!AG59,'F1'!AF59-'F1'!AG59,0)","v":{"v":279743.5,"d":"279,743.50"}}]
[null,null,"Bienes Muebles",null,{"$f":"IF('F1'!AG67>'F1'!AF67,'F1'!AG67-'F1'!AF67,0)","v":{"v":0,"d":"0.00"}},{"$f":"IF('F1'!AF67>'F1'!AG67,'F1'!AF67-'F1'!AG67,0)","v":{"v":47560,"d":"47,560.00"}}]
[null,null,"Activos Intangibles",null,{"$f":"IF('F1'!AG76>'F1'!AF76,'F1'!AG76-'F1'!AF76,0)","v":{"v":0,"d":"0.00"}},{"$f":"IF('F1'!AF76>'F1'!AG76,'F1'!AF76-'F1'!AG76,0)","v":{"v":0,"d":"0.00"}}]
[null,null,"Depreciación, Deterioro y Amortización Acumulada de Bienes",null,{"$f":"IF('F1'!AG82>'F1'!AF82,'F1'!AG82-'F1'!AF82,0)","v":{"v":0,"d":"0.00"}},{"$f":"IF('F1'!AF82>'F1'!AG82,'F1'!AF82-'F1'!AG82,0)","v":{"v":0,"d":"0.00"}}]
[null,null,"Activos Diferidos",null,{"$f":"IF('F1'!AG88>'F1'!AF88,'F1'!AG88-'F1'!AF88,0)","v":{"v":0,"d":"0.00"}},{"$f":"IF('F1'!AF88>'F1'!AG88,'F1'!AF88-'F1'!AG88,0)","v":{"v":0,"d":"0.00"}}]
[null,null,"Estimación por Pérdida o Deterioro de Activos no Circulantes",null,{"$f":"IF('F1'!AG95>'F1'!AF95,'F1'!AG95-'F1'!AF95,0)","v":{"v":0,"d":"0.00"}},{"$f":"IF('F1'!AF95>'F1'!AG95,'F1'!AF95-'F1'!AG95,0)","v":{"v":0,"d":"0.00"}}]
[null,null,"Otros Activos no Circulantes",null,{"$f":"IF('F1'!AG101>'F1'!AF101,'F1'!AG101-'F1'!AF101,0)","v":{"v":0,"d":"0.00"}},{"$f":"IF('F1'!AF101>'F1'!AG101,'F1'!AF101-'F1'!AG101,0)","v":{"v":0,"d":"0.00"}}]
["PASIVO",{"$nulls":3},{"$f":"E26+E35","v":{"v":849023.57,"d":"849,023.57"}},{"$f":"F26+F35","v":{"v":1135434.950000003,"d":"1,135,434.95"}}]
[null,"Pasivo Circulante",null,null,{"$f":"SUM(E27:E34)","v":{"v":849023.57,"d":"849,023.57"}},{"$f":"SUM(F27:F34)","v":{"v":214826.41000000015,"d":"214,826.41"}}]
[null,null,"Cuentas por Pagar a Corto Plazo",null,{"$f":"IF('F1'!BM8>'F1'!BN8,'F1'!BM8-'F1'!BN8,0)","v":{"v":0,"d":"0.00"}},{"$f":"IF('F1'!BN8>'F1'!BM8,'F1'!BN8-'F1'!BM8,0)","v":{"v":214826.41000000015,"d":"214,826.41"}}]
[null,null,"Documentos por Pagar a Corto Plazo",null,{"$f":"IF('F1'!BM18>'F1'!BN18,'F1'!BM18-'F1'!BN18,0)","v":{"v":0,"d":"0.00"}},{"$f":"IF('F1'!BN18>'F1'!BM18,'F1'!BN18-'F1'!BM18,0)","v":{"v":0,"d":"0.00"}}]
[null,null,"Porción a Corto Plazo de la Deuda Pública a Largo Plazo",null,{"$f":"IF('F1'!BM22>'F1'!BN22,'F1'!BM22-'F1'!BN22,0)","v":{"v":849023.57,"d":"849,023.57"}},{"$f":"IF('F1'!BN22>'F1'!BM22,'F1'!BN22-'F1'!BM22,0)","v":{"v":0,"d":"0.00"}}]
[null,null,"Títulos y Valores a Corto Plazo",null,{"$f":"IF('F1'!BM26>'F1'!BN26,'F1'!BM26-'F1'!BN26,0)","v":{"v":0,"d":"0.00"}},{"$f":"IF('F1'!BN26>'F1'!BM26,'F1'!BN26-'F1'!BM26,0)","v":{"v":0,"d":"0.00"}}]
[null,null,"Pasivos Diferidos a Corto Plazo",null,{"$f":"IF('F1'!BM29>'F1'!BN29,'F1'!BM29-'F1'!BN29,0)","v":{"v":0,"d":"0.00"}},{"$f":"IF('F1'!BN29>'F1'!BM29,'F1'!BN29-'F1'!BM29,0)","v":{"v":0,"d":"0.00"}}]
[null,null,"Fondos y Bienes de Terceros en Garantía y/o Administración a Corto Plazo",null,{"$f":"IF('F1'!BM33>'F1'!BN33,'F1'!BM33-'F1'!BN33,0)","v":{"v":0,"d":"0.00"}},{"$f":"IF('F1'!BN33>'F1'!BM33,'F1'!BN33-'F1'!BM33,0)","v":{"v":0,"d":"0.00"}}]
[null,null,"Provisiones a Corto Plazo",null,{"$f":"IF('F1'!BM40>'F1'!BN40,'F1'!BM40-'F1'!BN40,0)","v":{"v":0,"d":"0.00"}},{"$f":"IF('F1'!BN40>'F1'!BM40,'F1'!BN40-'F1'!BM40,0)","v":{"v":0,"d":"0.00"}}]
[null,null,"Otros Pasivos a Corto Plazo",null,{"$f":"IF('F1'!BM44>'F1'!BN44,'F1'!BM44-'F1'!BN44,0)","v":{"v":0,"d":"0.00"}},{"$f":"IF('F1'!BN44>'F1'!BM44,'F1'!BN44-'F1'!BM44,0)","v":{"v":0,"d":"0.00"}}]
[null,"Pasivo No Circulante",null,null,{"$f":"SUM(E36:E41)","v":{"v":0,"d":"0.00"}},{"$f":"SUM(F36:F41)","v":{"v":920608.5400000028,"d":"920,608.54"}}]
[null,null,"Cuentas por Pagar a Largo Plazo",null,{"$f":"IF('F1'!BM50>'F1'!BN50,'F1'!BM50-'F1'!BN50,0)","v":{"v":0,"d":"0.00"}},{"$f":"IF('F1'!BN50>'F1'!BM50,'F1'!BN50-'F1'!BM50,0)","v":{"v":0,"d":"0.00"}}]
[null,null,"Documentos por Pagar a Largo Plazo",null,{"$f":"IF('F1'!BM53>'F1'!BN53,'F1'!BM53-'F1'!BN53,0)","v":{"v":0,"d":"0.00"}},{"$f":"IF('F1'!BN53>'F1'!BM53,'F1'!BN53-'F1'!BM53,0)","v":{"v":0,"d":"0.00"}}]
[null,null,"Deuda Pública a Largo Plazo",null,{"$f":"IF('F1'!BM57>'F1'!BN57,'F1'!BM57-'F1'!BN57,0)","v":{"v":0,"d":"0.00"}},{"$f":"IF('F1'!BN57>'F1'!BM57,'F1'!BN57-'F1'!BM57,0)","v":{"v":920608.5400000028,"d":"920,608.54"}}]
[null,null,"Pasivos Diferidos a Largo Plazo",null,{"$f":"IF('F1'!BM63>'F1'!BN63,'F1'!BM63-'F1'!BN63,0)","v":{"v":0,"d":"0.00"}},{"$f":"IF('F1'!BN63>'F1'!BM63,'F1'!BN63-'F1'!BM63,0)","v":{"v":0,"d":"0.00"}}]
[null,null,"Fondos y Bienes de Terceros en Garantía y/o en Administración a Largo Plazo",null,{"$f":"IF('F1'!BM67>'F1'!BN67,'F1'!BM67-'F1'!BN67,0)","v":{"v":0,"d":"0.00"}},{"$f":"IF('F1'!BN67>'F1'!BM67,'F1'!BN67-'F1'!BM67,0)","v":{"v":0,"d":"0.00"}}]
[null,null,"Provisiones a Largo Plazo",null,{"$f":"IF('F1'!BM74>'F1'!BN74,'F1'!BM74-'F1'!BN74,0)","v":{"v":0,"d":"0.00"}},{"$f":"IF('F1'!BN74>'F1'!BM74,'F1'!BN74-'F1'!BM74,0)","v":{"v":0,"d":"0.00"}}]
["HACIENDA PÚBLICA/PATRIMONIO",{"$nulls":3},{"$f":"E43+E47+E53","v":{"v":35799981.370000005,"d":"35,799,981.37"}},{"$f":"F43+F47+F53","v":{"v":25621832.119999945,"d":"25,621,832.12"}}]
[null,"Hacienda Pública/Patrimonio Contribuido",null,null,{"$f":"SUM(E44:E46)","v":{"v":0,"d":"0.00"}},{"$f":"SUM(F44:F46)","v":{"v":0,"d":"0.00"}}]
[null,null,"Aportaciones",null,{"$f":"IF('F1'!BM83>'F1'!BN83,'F1'!BM83-'F1'!BN83,0)","v":{"v":0,"d":"0.00"}},{"$f":"IF('F1'!BN83>'F1'!BM83,'F1'!BN83-'F1'!BM83,0)","v":{"v":0,"d":"0.00"}}]
[null,null,"Donaciones de Capital",null,{"$f":"IF('F1'!BM84>'F1'!BN84,'F1'!BM84-'F1'!BN84,0)","v":{"v":0,"d":"0.00"}},{"$f":"IF('F1'!BN84>'F1'!BM84,'F1'!BN84-'F1'!BM84,0)","v":{"v":0,"d":"0.00"}}]
[null,null,"Actualización de la Hacienda Pública/Patrimonio",null,{"$f":"IF('F1'!BM85>'F1'!BN85,'F1'!BM85-'F1'!BN85,0)","v":{"v":0,"d":"0.00"}},{"$f":"IF('F1'!BN85>'F1'!BM85,'F1'!BN85-'F1'!BM85,0)","v":{"v":0,"d":"0.00"}}]
[null,"Hacienda Pública/Patrimonio Generado",null,null,{"$f":"SUM(E48:E52)","v":{"v":35799981.370000005,"d":"35,799,981.37"}},{"$f":"SUM(F48:F52)","v":{"v":25621832.119999945,"d":"25,621,832.12"}}]
[null,null,"Resultado del Ejercicio (Ahorro/Desahorro)",null,{"$f":"IF('F1'!BM87>'F1'!BN87,'F1'!BM87-'F1'!BN87,0)","v":{"v":35799981.370000005,"d":"35,799,981.37"}},{"$f":"IF('F1'!BN87>'F1'!BM87,'F1'!BN87-'F1'!BM87,0)","v":{"v":0,"d":"0.00"}}]
[null,null,"Resultados de Ejercicios Anteriores",null,{"$f":"IF('F1'!BM88>'F1'!BN88,'F1'!BM88-'F1'!BN88,0)","v":{"v":0,"d":"0.00"}},{"$f":"IF('F1'!BN88>'F1'!BM88,'F1'!BN88-'F1'!BM88,0)","v":{"v":25621832.119999945,"d":"25,621,832.12"}}]
[null,null,"Revalúos",null,{"$f":"IF('F1'!BM89>'F1'!BN89,'F1'!BM89-'F1'!BN89,0)","v":{"v":0,"d":"0.00"}},{"$f":"IF('F1'!BN89>'F1'!BM89,'F1'!BN89-'F1'!BM89,0)","v":{"v":0,"d":"0.00"}}]
[null,null,"Reservas",null,{"$f":"IF('F1'!BM94>'F1'!BN94,'F1'!BM94-'F1'!BN94,0)","v":{"v":0,"d":"0.00"}},{"$f":"IF('F1'!BN94>'F1'!BM94,'F1'!BN94-'F1'!BM94,0)","v":{"v":0,"d":"0.00"}}]
[null,null,"Rectificaciones de Resultados de Ejercicios Anteriores",null,{"$f":"IF('F1'!BM98>'F1'!BN98,'F1'!BM98-'F1'!BN98,0)","v":{"v":0,"d":"0.00"}},{"$f":"IF('F1'!BN98>'F1'!BM98,'F1'!BN98-'F1'!BM98,0)","v":{"v":0,"d":"0.00"}}]
[null,"Exceso o Insuficiencia en la Actualización de la Hacienda Pública/Patrimonio",null,null,{"$f":"SUM(E54:E55)","v":{"v":0,"d":"0.00"}},{"$f":"SUM(F54:F55)","v":{"v":0,"d":"0.00"}}]
[null,null,"Resultado por Posición Monetaria",null,{"$f":"IF('F1'!BM103>'F1'!BN103,'F1'!BM103-'F1'!BN103,0)","v":{"v":0,"d":"0.00"}},{"$f":"IF('F1'!BN103>'F1'!BM103,'F1'!BN103-'F1'!BM103,0)","v":{"v":0,"d":"0.00"}}]
[null,null,"Resultado por Tenencia de Activos no Monetarios",null,{"$f":"IF('F1'!BM104>'F1'!BN104,'F1'!BM104-'F1'!BN104,0)","v":{"v":0,"d":"0.00"}},{"$f":"IF('F1'!BN104>'F1'!BM104,'F1'!BN104-'F1'!BM104,0)","v":{"v":0,"d":"0.00"}}]
[]
["Bajo protesta de decir verdad declaramos que los Estados Financieros y sus notas, son razonablemente correctos y son responsabilidad del emisor."]
[]
[]
[]
[]
[{"$nulls":3},{"$f":"Validacion!A7","v":"LIC. JOSE HERIBERTO GARCIA MURILLO"}]
[]
[{"$nulls":3},"Presidente Municipal o titular del ente público"]
[]
[]
[]
[{"$nulls":3},{"$f":"Validacion!A9","v":"LAE BRUNO GERMAN ENCISO GUILLEN"}]
[]
[{"$nulls":3},"Encargado de la Hacienda Municipal o Responsable\nde las finanzas del ente público"]

{"sheet":"F17","index":32,"n_rows":22,"n_cols":8,"rows_kept":22,"hidden":true,"merged":[[0,0,0,7],[1,0,1,7],[2,0,2,7],[3,0,3,7],[4,0,4,7],[5,0,6,1],[5,2,5,6],[5,7,6,7],[7,0,7,1],[8,0,8,1],[9,0,9,1],[10,0,10,1],[11,0,11,1],[12,0,12,1],[14,0,15,7],[19,1,20,3],[19,5,20,7],[21,1,22,3],[21,5,22,7]]}
[{"$f":"\"Nombre del Ente Público: \"&Validacion!A2","v":"Nombre del Ente Público: Ixtlahuacán de los Membrillos"}]
["Estado Analítico del Ejercicio del Presupuesto de Egresos"]
["Clasificación Económica (por Tipo de Gasto)"]
[{"$f":"'F6'!A3","v":"DEL 1° DE ENERO AL 31 DE ENERO DE 2026"}]
["(Cifras en pesos)"]
["Concepto",null,"Egresos",{"$nulls":4},"Subejercicio"]
[null,null,"Aprobado","Ampliaciones/ (Reducciones)","Modificado","Devengado","Pagado"]
["Gasto Corriente",null,{"$f":"'F8'!C8+'F8'!C16+'F8'!C26+'F8'!C36-'F8'!C41+'F8'!C70+'F8'!C71+SUM('F8'!C74:'F8'!C78)+'F8'!C67","v":{"v":0,"d":"0.00"}},{"$f":"'F8'!D8+'F8'!D16+'F8'!D26+'F8'!D36-'F8'!D41+'F8'!D70+'F8'!D71+SUM('F8'!D74:'F8'!D78)+'F8'!D67","v":{"v":0,"d":"0.00"}},{"$f":"C8+D8","v":{"v":0,"d":"0.00"}},{"$f":"'F8'!F8+'F8'!F16+'F8'!F26+'F8'!F36-'F8'!F41+'F8'!F70+'F8'!F71+SUM('F8'!F74:'F8'!F78)+'F8'!F67","v":{"v":0,"d":"0.00"}},{"$f":"'F8'!G8+'F8'!G16+'F8'!G26+'F8'!G36-'F8'!G41+'F8'!G70+'F8'!G71+SUM('F8'!G74:'F8'!G78)+'F8'!G67","v":{"v":0,"d":"0.00"}},{"$f":"E8-F8","v":{"v":0,"d":"0.00"}}]
["Gasto de Capital",null,{"$f":"'F8'!C46+'F8'!C56+'F8'!C60-'F8'!C67","v":{"v":0,"d":"0.00"}},{"$f":"'F8'!D46+'F8'!D56+'F8'!D60-'F8'!D67","v":{"v":0,"d":"0.00"}},{"$f":"C9+D9","v":{"v":0,"d":"0.00"}},{"$f":"'F8'!F46+'F8'!F56+'F8'!F60-'F8'!F67","v":{"v":0,"d":"0.00"}},{"$f":"'F8'!G46+'F8'!G56+'F8'!G60-'F8'!G67","v":{"v":0,"d":"0.00"}},{"$f":"E9-F9","v":{"v":0,"d":"0.00"}}]
["Amortización de la Deuda y Disminución de Pasivos",null,{"$f":"'F8'!C73+'F8'!C79","v":{"v":0,"d":"0.00"}},{"$f":"'F8'!D73+'F8'!D79","v":{"v":0,"d":"0.00"}},{"v":0,"d":"0.00"},{"$f":"'F8'!F73+'F8'!F79","v":{"v":0,"d":"0.00"}},{"$f":"'F8'!F73+'F8'!G79","v":{"v":0,"d":"0.00"}},{"v":0,"d":"0.00"}]
["Pensiones y Jubilaciones",null,{"$f":"'F8'!C41","v":{"v":0,"d":"0.00"}},{"$f":"'F8'!D41","v":{"v":0,"d":"0.00"}},{"v":0,"d":"0.00"},{"$f":"'F8'!F41","v":{"v":0,"d":"0.00"}},{"$f":"'F8'!G41","v":{"v":0,"d":"0.00"}},{"v":0,"d":"0.00"}]
["Participaciones",null,{"$f":"'F8'!C69","v":{"v":0,"d":"0.00"}},{"$f":"'F8'!D69","v":{"v":0,"d":"0.00"}},{"v":0,"d":"0.00"},{"$f":"'F8'!F69","v":{"v":0,"d":"0.00"}},{"$f":"'F8'!G69","v":{"v":0,"d":"0.00"}},{"v":0,"d":"0.00"}]
["Total del Egreso",null,{"$f":"SUM(C8:C12)","v":{"v":0,"d":"0.00"}},{"$f":"SUM(D8:D12)","v":{"v":0,"d":"0.00"}},{"v":0,"d":"0.00"},{"$f":"SUM(F8:F12)","v":{"v":0,"d":"0.00"}},{"$f":"SUM(G8:G12)","v":{"v":0,"d":"0.00"}},{"$f":"SUM(H8:H12)","v":{"v":0,"d":"0.00"}}]
[]
["Bajo protesta de decir verdad declaramos que los Estados Financieros y sus notas, son razonablemente correctos y son responsabilidad del emisor."]
[]
[]
[]
[]
[null,{"$f":"Validacion!A7","v":"LIC. JOSE HERIBERTO GARCIA MURILLO"},{"$nulls":3},{"$f":"Validacion!A9","v":"LAE BRUNO GERMAN ENCISO GUILLEN"}]
[]
[null,"Presidente Municipal o titular del ente público",{"$nulls":3},"Encargado de la Hacienda Municipal\n o Responsable de las finanzas del ente público"]

{"sheet":"F19","index":33,"n_rows":47,"n_cols":8,"rows_kept":47,"hidden":true,"merged":[[0,0,0,7],[1,0,1,7],[2,0,2,7],[3,0,3,7],[4,0,4,7],[5,0,6,1],[5,2,5,6],[5,7,6,7],[7,0,7,1],[16,0,16,1],[24,0,24,1],[34,0,34,1],[39,0,39,1],[44,1,45,1],[44,3,45,6],[46,1,47,1],[46,3,47,6]]}
[{"$f":"\"Nombre del Ente Público: \"&Validacion!A2","v":"Nombre del Ente Público: Ixtlahuacán de los Membrillos"}]
["Estado Analítico del Ejercicio del Presupuesto de Egresos"]
["Clasificación Funcional (Finalidad y Función)"]
[{"$f":"'F6'!A3","v":"DEL 1° DE ENERO AL 31 DE ENERO DE 2026"}]
["(Cifras en Pesos)"]
["Concepto",null,"Egresos",{"$nulls":4},"Subejercicio"]
[null,null,"Aprobado","Ampliaciones/ (Reducciones)","Modificado","Devengado","Pagado"]
["Gobierno",null,{"$f":"SUM(C9:C16)","v":{"v":0,"d":"0.00"}},{"$f":"SUM(D9:D16)","v":{"v":0,"d":"0.00"}},{"$f":"C8+D8","v":{"v":0,"d":"0.00"}},{"$f":"SUM(F9:F16)","v":{"v":0,"d":"0.00"}},{"v":0,"d":"0.00"},{"$f":"E8-F8","v":{"v":0,"d":"0.00"}}]
[null,"Legislación",{"$f":"F19A!D10+F19A!D44","v":{"v":0,"d":"0.00"}},{"$f":"F19A!E10+F19A!E44","v":{"v":0,"d":"0.00"}},{"$f":"C9+D9","v":{"v":0,"d":"0.00"}},{"$f":"F19A!G10+F19A!G44","v":{"v":0,"d":"0.00"}},{"$f":"F19A!H10+F19A!H44","v":{"v":0,"d":"0.00"}},{"$f":"E9-F9","v":{"v":0,"d":"0.00"}}]
[null,"Justicia",{"$f":"F19A!D11+F19A!D45","v":{"v":0,"d":"0.00"}},{"$f":"F19A!E11+F19A!E45","v":{"v":0,"d":"0.00"}},{"v":0,"d":"0.00"},{"$f":"F19A!G11+F19A!G45","v":{"v":0,"d":"0.00"}},{"$f":"F19A!H11+F19A!H45","v":{"v":0,"d":"0.00"}},{"v":0,"d":"0.00"}]
[null,"Coordinación de la Política de Gobierno",{"$f":"F19A!D12+F19A!D46","v":{"v":0,"d":"0.00"}},{"$f":"F19A!E12+F19A!E46","v":{"v":0,"d":"0.00"}},{"v":0,"d":"0.00"},{"$f":"F19A!G12+F19A!G46","v":{"v":0,"d":"0.00"}},{"$f":"F19A!H12+F19A!H46","v":{"v":0,"d":"0.00"}},{"v":0,"d":"0.00"}]
[null,"Relaciones Exteriores",{"$f":"F19A!D13+F19A!D47","v":{"v":0,"d":"0.00"}},{"$f":"F19A!E13+F19A!E47","v":{"v":0,"d":"0.00"}},{"v":0,"d":"0.00"},{"$f":"F19A!G13+F19A!G47","v":{"v":0,"d":"0.00"}},{"$f":"F19A!H13+F19A!H47","v":{"v":0,"d":"0.00"}},{"v":0,"d":"0.00"}]
[null,"Asuntos Financieros y Hacendarios",{"$f":"F19A!D14+F19A!D48","v":{"v":0,"d":"0.00"}},{"$f":"F19A!E14+F19A!E48","v":{"v":0,"d":"0.00"}},{"v":0,"d":"0.00"},{"$f":"F19A!G14+F19A!G48","v":{"v":0,"d":"0.00"}},{"$f":"F19A!H14+F19A!H48","v":{"v":0,"d":"0.00"}},{"v":0,"d":"0.00"}]
[null,"Seguridad Nacional",{"$f":"F19A!D15+F19A!D49","v":{"v":0,"d":"0.00"}},{"$f":"F19A!E15+F19A!E49","v":{"v":0,"d":"0.00"}},{"v":0,"d":"0.00"},{"$f":"F19A!G15+F19A!G49","v":{"v":0,"d":"0.00"}},{"$f":"F19A!H15+F19A!H49","v":{"v":0,"d":"0.00"}},{"v":0,"d":"0.00"}]
[null,"Asuntos de Orden Público y de Seguridad Interior",{"$f":"F19A!D16+F19A!D50","v":{"v":0,"d":"0.00"}},{"$f":"F19A!E16+F19A!E50","v":{"v":0,"d":"0.00"}},{"v":0,"d":"0.00"},{"$f":"F19A!G16+F19A!G50","v":{"v":0,"d":"0.00"}},{"$f":"F19A!H16+F19A!H50","v":{"v":0,"d":"0.00"}},{"v":0,"d":"0.00"}]
[null,"Otros Servicios Generales",{"$f":"F19A!D17+F19A!D51","v":{"v":0,"d":"0.00"}},{"$f":"F19A!E17+F19A!E51","v":{"v":0,"d":"0.00"}},{"v":0,"d":"0.00"},{"$f":"F19A!G17+F19A!G51","v":{"v":0,"d":"0.00"}},{"$f":"F19A!H17+F19A!H51","v":{"v":0,"d":"0.00"}},{"v":0,"d":"0.00"}]
["Desarrollo Social",null,{"$f":"SUM(C18:C24)","v":{"v":0,"d":"0.00"}},{"$f":"SUM(D18:D24)","v":{"v":0,"d":"0.00"}},{"v":0,"d":"0.00"},{"$f":"SUM(F18:F24)","v":{"v":0,"d":"0.00"}},{"v":0,"d":"0.00"},{"v":0,"d":"0.00"}]
[null,"Protección Ambiental",{"$f":"F19A!D19+F19A!D53","v":{"v":0,"d":"0.00"}},{"$f":"F19A!E19+F19A!E53","v":{"v":0,"d":"0.00"}},{"$f":"C18+D18","v":{"v":0,"d":"0.00"}},{"$f":"F19A!G19+F19A!G53","v":{"v":0,"d":"0.00"}},{"$f":"F19A!H19+F19A!H53","v":{"v":0,"d":"0.00"}},{"v":0,"d":"0.00"}]
[null,"Vivienda y Servicios a la Comunidad",{"$f":"F19A!D20+F19A!D54","v":{"v":0,"d":"0.00"}},{"$f":"F19A!E20+F19A!E54","v":{"v":0,"d":"0.00"}},{"v":0,"d":"0.00"},{"$f":"F19A!G20+F19A!G54","v":{"v":0,"d":"0.00"}},{"$f":"F19A!H20+F19A!H54","v":{"v":0,"d":"0.00"}},{"v":0,"d":"0.00"}]
[null,"Salud",{"$f":"F19A!D21+F19A!D55","v":{"v":0,"d":"0.00"}},{"$f":"F19A!E21+F19A!E55","v":{"v":0,"d":"0.00"}},{"v":0,"d":"0.00"},{"$f":"F19A!G21+F19A!G55","v":{"v":0,"d":"0.00"}},{"$f":"F19A!H21+F19A!H55","v":{"v":0,"d":"0.00"}},{"v":0,"d":"0.00"}]
[null,"Recreación, Cultura y Otras Manifestaciones Sociales",{"$f":"F19A!D22+F19A!D56","v":{"v":0,"d":"0.00"}},{"$f":"F19A!E22+F19A!E56","v":{"v":0,"d":"0.00"}},{"v":0,"d":"0.00"},{"$f":"F19A!G22+F19A!G56","v":{"v":0,"d":"0.00"}},{"$f":"F19A!H22+F19A!H56","v":{"v":0,"d":"0.00"}},{"v":0,"d":"0.00"}]
[null,"Educación",{"$f":"F19A!D23+F19A!D57","v":{"v":0,"d":"0.00"}},{"$f":"F19A!E23+F19A!E57","v":{"v":0,"d":"0.00"}},{"v":0,"d":"0.00"},{"$f":"F19A!G23+F19A!G57","v":{"v":0,"d":"0.00"}},{"$f":"F19A!H23+F19A!H57","v":{"v":0,"d":"0.00"}},{"v":0,"d":"0.00"}]
[null,"Protección Social",{"$f":"F19A!D24+F19A!D58","v":{"v":0,"d":"0.00"}},{"$f":"F19A!E24+F19A!E58","v":{"v":0,"d":"0.00"}},{"v":0,"d":"0.00"},{"$f":"F19A!G24+F19A!G58","v":{"v":0,"d":"0.00"}},{"$f":"F19A!H24+F19A!H58","v":{"v":0,"d":"0.00"}},{"v":0,"d":"0.00"}]
[null,"Otros Asuntos Sociales",{"$f":"F19A!D25+F19A!D59","v":{"v":0,"d":"0.00"}},{"$f":"F19A!E25+F19A!E59","v":{"v":0,"d":"0.00"}},{"v":0,"d":"0.00"},{"$f":"F19A!G25+F19A!G59","v":{"v":0,"d":"0.00"}},{"$f":"F19A!H25+F19A!H59","v":{"v":0,"d":"0.00"}},{"v":0,"d":"0.00"}]
["Desarrollo Económico",null,{"$f":"SUM(C26:C34)","v":{"v":0,"d":"0.00"}},{"$f":"SUM(D26:D34)","v":{"v":0,"d":"0.00"}},{"v":0,"d":"0.00"},{"$f":"SUM(F26:F34)","v":{"v":0,"d":"0.00"}},{"v":0,"d":"0.00"},{"v":0,"d":"0.00"}]
[null,"Asuntos Económicos, Comerciales y Laborales en General",{"$f":"F19A!D27+F19A!D61","v":{"v":0,"d":"0.00"}},{"$f":"F19A!E27+F19A!E61","v":{"v":0,"d":"0.00"}},{"$f":"C26+D26","v":{"v":0,"d":"0.00"}},{"$f":"F19A!G27+F19A!G61","v":{"v":0,"d":"0.00"}},{"$f":"F19A!H27+F19A!H61","v":{"v":0,"d":"0.00"}},{"v":0,"d":"0.00"}]
[null,"Agropecuaria, Silvicultura, Pesca y Caza",{"$f":"F19A!D28+F19A!D62","v":{"v":0,"d":"0.00"}},{"$f":"F19A!E28+F19A!E62","v":{"v":0,"d":"0.00"}},{"v":0,"d":"0.00"},{"$f":"F19A!G28+F19A!G62","v":{"v":0,"d":"0.00"}},{"$f":"F19A!H28+F19A!H62","v":{"v":0,"d":"0.00"}},{"v":0,"d":"0.00"}]
[null,"Combustibles y Energía",{"$f":"F19A!D29+F19A!D63","v":{"v":0,"d":"0.00"}},{"$f":"F19A!E29+F19A!E63","v":{"v":0,"d":"0.00"}},{"v":0,"d":"0.00"},{"$f":"F19A!G29+F19A!G63","v":{"v":0,"d":"0.00"}},{"$f":"F19A!H29+F19A!H63","v":{"v":0,"d":"0.00"}},{"v":0,"d":"0.00"}]
[null,"Minería, Manufacturas y Construcción",{"$f":"F19A!D30+F19A!D64","v":{"v":0,"d":"0.00"}},{"$f":"F19A!E30+F19A!E64","v":{"v":0,"d":"0.00"}},{"v":0,"d":"0.00"},{"$f":"F19A!G30+F19A!G64","v":{"v":0,"d":"0.00"}},{"$f":"F19A!H30+F19A!H64","v":{"v":0,"d":"0.00"}},{"v":0,"d":"0.00"}]
[null,"Transporte",{"$f":"F19A!D31+F19A!D65","v":{"v":0,"d":"0.00"}},{"$f":"F19A!E31+F19A!E65","v":{"v":0,"d":"0.00"}},{"v":0,"d":"0.00"},{"$f":"F19A!G31+F19A!G65","v":{"v":0,"d":"0.00"}},{"$f":"F19A!H31+F19A!H65","v":{"v":0,"d":"0.00"}},{"v":0,"d":"0.00"}]
[null,"Comunicaciones",{"$f":"F19A!D32+F19A!D66","v":{"v":0,"d":"0.00"}},{"$f":"F19A!E32+F19A!E66","v":{"v":0,"d":"0.00"}},{"v":0,"d":"0.00"},{"$f":"F19A!G32+F19A!G66","v":{"v":0,"d":"0.00"}},{"$f":"F19A!H32+F19A!H66","v":{"v":0,"d":"0.00"}},{"v":0,"d":"0.00"}]
[null,"Turismo",{"$f":"F19A!D33+F19A!D67","v":{"v":0,"d":"0.00"}},{"$f":"F19A!E33+F19A!E67","v":{"v":0,"d":"0.00"}},{"v":0,"d":"0.00"},{"$f":"F19A!G33+F19A!G67","v":{"v":0,"d":"0.00"}},{"$f":"F19A!H33+F19A!H67","v":{"v":0,"d":"0.00"}},{"v":0,"d":"0.00"}]
[null,"Ciencia, Tecnología e Innovación",{"$f":"F19A!D34+F19A!D68","v":{"v":0,"d":"0.00"}},{"$f":"F19A!E34+F19A!E68","v":{"v":0,"d":"0.00"}},{"v":0,"d":"0.00"},{"$f":"F19A!G34+F19A!G68","v":{"v":0,"d":"0.00"}},{"$f":"F19A!H34+F19A!H68","v":{"v":0,"d":"0.00"}},{"v":0,"d":"0.00"}]
[null,"Otras Industrias y Otros Asuntos Económicos",{"$f":"F19A!D35+F19A!D69","v":{"v":0,"d":"0.00"}},{"$f":"F19A!E35+F19A!E69","v":{"v":0,"d":"0.00"}},{"v":0,"d":"0.00"},{"$f":"F19A!G35+F19A!G69","v":{"v":0,"d":"0.00"}},{"$f":"F19A!H35+F19A!H69","v":{"v":0,"d":"0.00"}},{"v":0,"d":"0.00"}]
["Otras no Clasificadas en Funciones Anteriores",null,{"$f":"SUM(C36:C39)","v":{"v":0,"d":"0.00"}},{"$f":"SUM(D36:D39)","v":{"v":0,"d":"0.00"}},{"v":0,"d":"0.00"},{"$f":"SUM(F36:F39)","v":{"v":0,"d":"0.00"}},{"$f":"SUM(G36:G39)","v":{"v":0,"d":"0.00"}},{"v":0,"d":"0.00"}]
[null,"Transacciones de la Deuda Publica / Costo Financiero de la Deuda",{"$f":"F19A!D37+F19A!D71","v":{"v":0,"d":"0.00"}},{"$f":"F19A!E37+F19A!E71","v":{"v":0,"d":"0.00"}},{"$f":"C36+D36","v":{"v":0,"d":"0.00"}},{"$f":"F19A!G37+F19A!G71","v":{"v":0,"d":"0.00"}},{"$f":"F19A!H37+F19A!H71","v":{"v":0,"d":"0.00"}},{"v":0,"d":"0.00"}]
[null,"Transferencias, Participaciones y Aportaciones entre diferentes Niveles y Ordenes de Gobierno",{"$f":"F19A!D38+F19A!D72","v":{"v":0,"d":"0.00"}},{"$f":"F19A!E38+F19A!E72","v":{"v":0,"d":"0.00"}},{"v":0,"d":"0.00"},{"$f":"F19A!G38+F19A!G72","v":{"v":0,"d":"0.00"}},{"$f":"F19A!H38+F19A!H72","v":{"v":0,"d":"0.00"}},{"v":0,"d":"0.00"}]
[null,"Saneamiento del Sistema Financiero",{"$f":"F19A!D39+F19A!D73","v":{"v":0,"d":"0.00"}},{"$f":"F19A!E39+F19A!E73","v":{"v":0,"d":"0.00"}},{"v":0,"d":"0.00"},{"$f":"F19A!G39+F19A!G73","v":{"v":0,"d":"0.00"}},{"$f":"F19A!H39+F19A!H73","v":{"v":0,"d":"0.00"}},{"v":0,"d":"0.00"}]
[null,"Adeudos de Ejercicios Fiscales Anteriores",{"$f":"F19A!D40+F19A!D74","v":{"v":0,"d":"0.00"}},{"$f":"F19A!E40+F19A!E74","v":{"v":0,"d":"0.00"}},{"v":0,"d":"0.00"},{"$f":"F19A!G40+F19A!G74","v":{"v":0,"d":"0.00"}},{"$f":"F19A!H40+F19A!H74","v":{"v":0,"d":"0.00"}},{"v":0,"d":"0.00"}]
["   Total del Egreso",null,{"$f":"C8+C17+C25+C35","v":{"v":0,"d":"0.00"}},{"$f":"D8+D17+D25+D35","v":{"v":0,"d":"0.00"}},{"v":0,"d":"0.00"},{"$f":"F8+F17+F25+F35","v":{"v":0,"d":"0.00"}},{"$f":"G8+G17+G25+G35","v":{"v":0,"d":"0.00"}},{"v":0,"d":"0.00"}]
[]
["Bajo protesta de decir verdad declaramos que los Estados Financieros y sus notas, son razonablemente correctos y son responsabilidad del emisor."]
[]
[]
[null,{"$f":"Validacion!A7","v":"LIC. JOSE HERIBERTO GARCIA MURILLO"},null,{"$f":"Validacion!A9","v":"LAE BRUNO GERMAN ENCISO GUILLEN"}]
[]
[null,"Presidente Municipal o titular del ente público",null,"Encargado de la Hacienda Municipal\n o Responsable de las finanzas del ente público"]